Workbook

Sheet 1.Spieltag
A4: 1. Spieltag | C4: Frankfurt | F4: Union Berlin | I4: Gladbach | L4: Wolfsburg | O4: Bochum | R4: Augsburg | U4: Dortmund | X4: Stuttgart | AA4: 1.FC Köln
AG5: G E S A M T W E R T U N G
C6: München | F6: Hertha BSC | I6: Hoffenheim | L6: Bremen | O6: Mainz | R6: Freiburg | U6: Leverkusen | X6: Leipzig | AA6: Schalke 04 | AG6: Punkte | AH6: Punkte | AI6: Platz | AJ6: Gesamt | AK6: Platz | AL6: PUNKTEVERTEILUNG
A7: PLATZ | B7: ERGEBNISSE=> | C7: 1 | D7: 6 | E7: Pkt. | F7: 3 | G7: 1 | H7: Pkt. | I7: 3 | J7: 1 | K7: Pkt. | L7: 2 | M7: 2 | N7: Pkt. | O7: 1 | P7: 2 | Q7: Pkt. | R7: 0 | S7: 4 | T7: Pkt. | U7: 1 | V7: 0 | W7: Pkt. | X7: 1 | Y7: 1 | Z7: Pkt. | AA7: 3 | AB7: 1 | AC7: Pkt. | AG7: Spieltag | AH7: bisher | AI7: bisher | AJ7: Punkte | AL7: richtige Tendenz | AO7: 2
A8: =AK8 -> 10 | B8: Enjoi | C8: 1 | D8: 4 | E8: =IF(OR(EXACT($C$7,C8)*(EXACT($D$7,D8)))=TRUE,$AO$9,IF(($D$7-$C$7=D8-C8),$AO$8,IF(OR(EXACT($C$7>$D$7,C8>D8)*EXACT($C$7=$D$7,C8=D8)*EXACT($C$7<$D$7,C8<D8)),$AO$7,0))) -> 2 | F8: 2 | G8: 1 | H8: =IF(OR(EXACT($F$7,F8)*(EXACT($G$7,G8)))=TRUE,$AO$9,IF(($G$7-$F$7=G8-F8),$AO$8,IF(OR(EXACT($F$7>$G$7,F8>G8)*EXACT($F$7=$G$7,F8=G8)*EXACT($F$7<$G$7,F8<G8)),$AO$7,0))) -> 2 | I8: 1 | J8: 0 | K8: =IF(OR(EXACT($I$7,I8)*(EXACT($J$7,J8)))=TRUE,$AO$9,IF(($J$7-$I$7=J8-I8),$AO$8,IF(OR(EXACT($I$7>$J$7,I8>J8)*EXACT($I$7=$J$7,I8=J8)*EXACT($I$7<$J$7,I8<J8)),$AO$7,0))) -> 2 | L8: 2 | M8: 1 | N8: =IF(OR(EXACT($L$7,L8)*(EXACT($M$7,M8)))=TRUE,$AO$9,IF(($M$7-$L$7=M8-L8),$AO$8,IF(OR(EXACT($L$7>$M$7,L8>M8)*EXACT($L$7=$M$7,L8=M8)*EXACT($L$7<$M$7,L8<M8)),$AO$7,0))) -> 0 | O8: 1 | P8: 1 | Q8: =IF(OR(EXACT($O$7,O8)*(EXACT($P$7,P8)))=TRUE,$AO$9,IF(($P$7-$O$7=P8-O8),$AO$8,IF(OR(EXACT($O$7>$P$7,O8>P8)*EXACT($O$7=$P$7,O8=P8)*EXACT($O$7<$P$7,O8<P8)),$AO$7,0))) -> 0 | R8: 1 | S8: 3 | T8: =IF(OR(EXACT($R$7,R8)*(EXACT($S$7,S8)))=TRUE,$AO$9,IF(($S$7-$R$7=S8-R8),$AO$8,IF(OR(EXACT($R$7>$S$7,R8>S8)*EXACT($R$7=$S$7,R8=S8)*EXACT($R$7<$S$7,R8<S8)),$AO$7,0))) -> 2 | U8: 4 | V8: 1 | W8: =IF(OR(EXACT($U$7,U8)*(EXACT($V$7,V8)))=TRUE,$AO$9,IF(($V$7-$U$7=V8-U8),$AO$8,IF(OR(EXACT($U$7>$V$7,U8>V8)*EXACT($U$7=$V$7,U8=V8)*EXACT($U$7<$V$7,U8<V8)),$AO$7,0))) -> 2 | X8: 0 | Y8: 3 | Z8: =IF(OR(EXACT($X$7,X8)*(EXACT($Y$7,Y8)))=TRUE,$AO$9,IF(($Y$7-$X$7=Y8-X8),$AO$8,IF(OR(EXACT($X$7>$Y$7,X8>Y8)*EXACT($X$7=$Y$7,X8=Y8)*EXACT($X$7<$Y$7,X8<Y8)),$AO$7,0))) -> 0 | AA8: 1 | AB8: 2 | AC8: =IF(OR(EXACT($AA$7,AA8)*(EXACT($AB$7,AB8)))=TRUE,$AO$9,IF(($AB$7-$AA$7=AB8-AA8),$AO$8,IF(OR(EXACT($AA$7>$AB$7,AA8>AB8)*EXACT($AA$7=$AB$7,AA8=AB8)*EXACT($AA$7<$AB$7,AA8<AB8)),$AO$7,0)))*4 -> 0 | AG8: =E8+K8+Q8+T8+N8+H8+W8+Z8+AC8+AF8 -> 10 | AJ8: =AG8+AH8 -> 10 | AK8: =RANK(AJ8,$AJ$8:$AJ$27) -> 10 | AL8: richtige Tend. + korr. Torabst. | AO8: 3
A9: =AK9 -> 12 | B9: FlorianS04 | C9: 1 | D9: 2 | E9: =IF(OR(EXACT($C$7,C9)*(EXACT($D$7,D9)))=TRUE,$AO$9,IF(($D$7-$C$7=D9-C9),$AO$8,IF(OR(EXACT($C$7>$D$7,C9>D9)*EXACT($C$7=$D$7,C9=D9)*EXACT($C$7<$D$7,C9<D9)),$AO$7,0))) -> 2 | F9: 2 | G9: 1 | H9: =IF(OR(EXACT($F$7,F9)*(EXACT($G$7,G9)))=TRUE,$AO$9,IF(($G$7-$F$7=G9-F9),$AO$8,IF(OR(EXACT($F$7>$G$7,F9>G9)*EXACT($F$7=$G$7,F9=G9)*EXACT($F$7<$G$7,F9<G9)),$AO$7,0))) -> 2 | I9: 1 | J9: 1 | K9: =IF(OR(EXACT($I$7,I9)*(EXACT($J$7,J9)))=TRUE,$AO$9,IF(($J$7-$I$7=J9-I9),$AO$8,IF(OR(EXACT($I$7>$J$7,I9>J9)*EXACT($I$7=$J$7,I9=J9)*EXACT($I$7<$J$7,I9<J9)),$AO$7,0))) -> 0 | L9: 2 | M9: 1 | N9: =IF(OR(EXACT($L$7,L9)*(EXACT($M$7,M9)))=TRUE,$AO$9,IF(($M$7-$L$7=M9-L9),$AO$8,IF(OR(EXACT($L$7>$M$7,L9>M9)*EXACT($L$7=$M$7,L9=M9)*EXACT($L$7<$M$7,L9<M9)),$AO$7,0))) -> 0 | O9: 0 | P9: 0 | Q9: =IF(OR(EXACT($O$7,O9)*(EXACT($P$7,P9)))=TRUE,$AO$9,IF(($P$7-$O$7=P9-O9),$AO$8,IF(OR(EXACT($O$7>$P$7,O9>P9)*EXACT($O$7=$P$7,O9=P9)*EXACT($O$7<$P$7,O9<P9)),$AO$7,0))) -> 0 | R9: 1 | S9: 2 | T9: =IF(OR(EXACT($R$7,R9)*(EXACT($S$7,S9)))=TRUE,$AO$9,IF(($S$7-$R$7=S9-R9),$AO$8,IF(OR(EXACT($R$7>$S$7,R9>S9)*EXACT($R$7=$S$7,R9=S9)*EXACT($R$7<$S$7,R9<S9)),$AO$7,0))) -> 2 | U9: 2 | V9: 1 | W9: =IF(OR(EXACT($U$7,U9)*(EXACT($V$7,V9)))=TRUE,$AO$9,IF(($V$7-$U$7=V9-U9),$AO$8,IF(OR(EXACT($U$7>$V$7,U9>V9)*EXACT($U$7=$V$7,U9=V9)*EXACT($U$7<$V$7,U9<V9)),$AO$7,0))) -> 3 | X9: 1 | Y9: 3 | Z9: =IF(OR(EXACT($X$7,X9)*(EXACT($Y$7,Y9)))=TRUE,$AO$9,IF(($Y$7-$X$7=Y9-X9),$AO$8,IF(OR(EXACT($X$7>$Y$7,X9>Y9)*EXACT($X$7=$Y$7,X9=Y9)*EXACT($X$7<$Y$7,X9<Y9)),$AO$7,0))) -> 0 | AA9: 0 | AB9: 1 | AC9: =IF(OR(EXACT($AA$7,AA9)*(EXACT($AB$7,AB9)))=TRUE,$AO$9,IF(($AB$7-$AA$7=AB9-AA9),$AO$8,IF(OR(EXACT($AA$7>$AB$7,AA9>AB9)*EXACT($AA$7=$AB$7,AA9=AB9)*EXACT($AA$7<$AB$7,AA9<AB9)),$AO$7,0)))*4 -> 0 | AG9: =E9+K9+Q9+T9+N9+H9+W9+Z9+AC9+AF9 -> 9 | AJ9: =AG9+AH9 -> 9 | AK9: =RANK(AJ9,$AJ$8:$AJ$27) -> 12 | AL9: richtiges Ergebnis | AO9: 5
A10: =AK10 -> 7 | B10: Franzi04 | C10: 1 | D10: 3 | E10: =IF(OR(EXACT($C$7,C10)*(EXACT($D$7,D10)))=TRUE,$AO$9,IF(($D$7-$C$7=D10-C10),$AO$8,IF(OR(EXACT($C$7>$D$7,C10>D10)*EXACT($C$7=$D$7,C10=D10)*EXACT($C$7<$D$7,C10<D10)),$AO$7,0))) -> 2 | F10: 2 | G10: 1 | H10: =IF(OR(EXACT($F$7,F10)*(EXACT($G$7,G10)))=TRUE,$AO$9,IF(($G$7-$F$7=G10-F10),$AO$8,IF(OR(EXACT($F$7>$G$7,F10>G10)*EXACT($F$7=$G$7,F10=G10)*EXACT($F$7<$G$7,F10<G10)),$AO$7,0))) -> 2 | I10: 2 | J10: 1 | K10: =IF(OR(EXACT($I$7,I10)*(EXACT($J$7,J10)))=TRUE,$AO$9,IF(($J$7-$I$7=J10-I10),$AO$8,IF(OR(EXACT($I$7>$J$7,I10>J10)*EXACT($I$7=$J$7,I10=J10)*EXACT($I$7<$J$7,I10<J10)),$AO$7,0))) -> 2 | L10: 2 | M10: 0 | N10: =IF(OR(EXACT($L$7,L10)*(EXACT($M$7,M10)))=TRUE,$AO$9,IF(($M$7-$L$7=M10-L10),$AO$8,IF(OR(EXACT($L$7>$M$7,L10>M10)*EXACT($L$7=$M$7,L10=M10)*EXACT($L$7<$M$7,L10<M10)),$AO$7,0))) -> 0 | O10: 2 | P10: 2 | Q10: =IF(OR(EXACT($O$7,O10)*(EXACT($P$7,P10)))=TRUE,$AO$9,IF(($P$7-$O$7=P10-O10),$AO$8,IF(OR(EXACT($O$7>$P$7,O10>P10)*EXACT($O$7=$P$7,O10=P10)*EXACT($O$7<$P$7,O10<P10)),$AO$7,0))) -> 0 | R10: 1 | S10: 2 | T10: =IF(OR(EXACT($R$7,R10)*(EXACT($S$7,S10)))=TRUE,$AO$9,IF(($S$7-$R$7=S10-R10),$AO$8,IF(OR(EXACT($R$7>$S$7,R10>S10)*EXACT($R$7=$S$7,R10=S10)*EXACT($R$7<$S$7,R10<S10)),$AO$7,0))) -> 2 | U10: 2 | V10: 1 | W10: =IF(OR(EXACT($U$7,U10)*(EXACT($V$7,V10)))=TRUE,$AO$9,IF(($V$7-$U$7=V10-U10),$AO$8,IF(OR(EXACT($U$7>$V$7,U10>V10)*EXACT($U$7=$V$7,U10=V10)*EXACT($U$7<$V$7,U10<V10)),$AO$7,0))) -> 3 | X10: 0 | Y10: 3 | Z10: =IF(OR(EXACT($X$7,X10)*(EXACT($Y$7,Y10)))=TRUE,$AO$9,IF(($Y$7-$X$7=Y10-X10),$AO$8,IF(OR(EXACT($X$7>$Y$7,X10>Y10)*EXACT($X$7=$Y$7,X10=Y10)*EXACT($X$7<$Y$7,X10<Y10)),$AO$7,0))) -> 0 | AA10: 1 | AB10: 2 | AC10: =IF(OR(EXACT($AA$7,AA10)*(EXACT($AB$7,AB10)))=TRUE,$AO$9,IF(($AB$7-$AA$7=AB10-AA10),$AO$8,IF(OR(EXACT($AA$7>$AB$7,AA10>AB10)*EXACT($AA$7=$AB$7,AA10=AB10)*EXACT($AA$7<$AB$7,AA10<AB10)),$AO$7,0)))*4 -> 0 | AG10: =E10+K10+Q10+T10+N10+H10+W10+Z10+AC10+AF10 -> 11 | AJ10: =AG10+AH10 -> 11 | AK10: =RANK(AJ10,$AJ$8:$AJ$27) -> 7
A11: =AK11 -> 1 | B11: jupp04 | C11: 1 | D11: 3 | E11: =IF(OR(EXACT($C$7,C11)*(EXACT($D$7,D11)))=TRUE,$AO$9,IF(($D$7-$C$7=D11-C11),$AO$8,IF(OR(EXACT($C$7>$D$7,C11>D11)*EXACT($C$7=$D$7,C11=D11)*EXACT($C$7<$D$7,C11<D11)),$AO$7,0))) -> 2 | F11: 2 | G11: 1 | H11: =IF(OR(EXACT($F$7,F11)*(EXACT($G$7,G11)))=TRUE,$AO$9,IF(($G$7-$F$7=G11-F11),$AO$8,IF(OR(EXACT($F$7>$G$7,F11>G11)*EXACT($F$7=$G$7,F11=G11)*EXACT($F$7<$G$7,F11<G11)),$AO$7,0))) -> 2 | I11: 1 | J11: 2 | K11: =IF(OR(EXACT($I$7,I11)*(EXACT($J$7,J11)))=TRUE,$AO$9,IF(($J$7-$I$7=J11-I11),$AO$8,IF(OR(EXACT($I$7>$J$7,I11>J11)*EXACT($I$7=$J$7,I11=J11)*EXACT($I$7<$J$7,I11<J11)),$AO$7,0))) -> 0 | L11: 2 | M11: 2 | N11: =IF(OR(EXACT($L$7,L11)*(EXACT($M$7,M11)))=TRUE,$AO$9,IF(($M$7-$L$7=M11-L11),$AO$8,IF(OR(EXACT($L$7>$M$7,L11>M11)*EXACT($L$7=$M$7,L11=M11)*EXACT($L$7<$M$7,L11<M11)),$AO$7,0))) -> 5 | O11: 1 | P11: 2 | Q11: =IF(OR(EXACT($O$7,O11)*(EXACT($P$7,P11)))=TRUE,$AO$9,IF(($P$7-$O$7=P11-O11),$AO$8,IF(OR(EXACT($O$7>$P$7,O11>P11)*EXACT($O$7=$P$7,O11=P11)*EXACT($O$7<$P$7,O11<P11)),$AO$7,0))) -> 5 | R11: 1 | S11: 2 | T11: =IF(OR(EXACT($R$7,R11)*(EXACT($S$7,S11)))=TRUE,$AO$9,IF(($S$7-$R$7=S11-R11),$AO$8,IF(OR(EXACT($R$7>$S$7,R11>S11)*EXACT($R$7=$S$7,R11=S11)*EXACT($R$7<$S$7,R11<S11)),$AO$7,0))) -> 2 | U11: 3 | V11: 2 | W11: =IF(OR(EXACT($U$7,U11)*(EXACT($V$7,V11)))=TRUE,$AO$9,IF(($V$7-$U$7=V11-U11),$AO$8,IF(OR(EXACT($U$7>$V$7,U11>V11)*EXACT($U$7=$V$7,U11=V11)*EXACT($U$7<$V$7,U11<V11)),$AO$7,0))) -> 3 | X11: 0 | Y11: 2 | Z11: =IF(OR(EXACT($X$7,X11)*(EXACT($Y$7,Y11)))=TRUE,$AO$9,IF(($Y$7-$X$7=Y11-X11),$AO$8,IF(OR(EXACT($X$7>$Y$7,X11>Y11)*EXACT($X$7=$Y$7,X11=Y11)*EXACT($X$7<$Y$7,X11<Y11)),$AO$7,0))) -> 0 | AA11: 1 | AB11: 2 | AC11: =IF(OR(EXACT($AA$7,AA11)*(EXACT($AB$7,AB11)))=TRUE,$AO$9,IF(($AB$7-$AA$7=AB11-AA11),$AO$8,IF(OR(EXACT($AA$7>$AB$7,AA11>AB11)*EXACT($AA$7=$AB$7,AA11=AB11)*EXACT($AA$7<$AB$7,AA11<AB11)),$AO$7,0)))*4 -> 0 | AG11: =E11+K11+Q11+T11+N11+H11+W11+Z11+AC11+AF11 -> 19 | AJ11: =AG11+AH11 -> 19 | AK11: =RANK(AJ11,$AJ$8:$AJ$27) -> 1
A12: =AK12 -> 10 | B12: Lola04 | C12: 1 | D12: 2 | E12: =IF(OR(EXACT($C$7,C12)*(EXACT($D$7,D12)))=TRUE,$AO$9,IF(($D$7-$C$7=D12-C12),$AO$8,IF(OR(EXACT($C$7>$D$7,C12>D12)*EXACT($C$7=$D$7,C12=D12)*EXACT($C$7<$D$7,C12<D12)),$AO$7,0))) -> 2 | F12: 2 | G12: 0 | H12: =IF(OR(EXACT($F$7,F12)*(EXACT($G$7,G12)))=TRUE,$AO$9,IF(($G$7-$F$7=G12-F12),$AO$8,IF(OR(EXACT($F$7>$G$7,F12>G12)*EXACT($F$7=$G$7,F12=G12)*EXACT($F$7<$G$7,F12<G12)),$AO$7,0))) -> 3 | I12: 1 | J12: 1 | K12: =IF(OR(EXACT($I$7,I12)*(EXACT($J$7,J12)))=TRUE,$AO$9,IF(($J$7-$I$7=J12-I12),$AO$8,IF(OR(EXACT($I$7>$J$7,I12>J12)*EXACT($I$7=$J$7,I12=J12)*EXACT($I$7<$J$7,I12<J12)),$AO$7,0))) -> 0 | L12: 2 | M12: 1 | N12: =IF(OR(EXACT($L$7,L12)*(EXACT($M$7,M12)))=TRUE,$AO$9,IF(($M$7-$L$7=M12-L12),$AO$8,IF(OR(EXACT($L$7>$M$7,L12>M12)*EXACT($L$7=$M$7,L12=M12)*EXACT($L$7<$M$7,L12<M12)),$AO$7,0))) -> 0 | O12: 1 | P12: 1 | Q12: =IF(OR(EXACT($O$7,O12)*(EXACT($P$7,P12)))=TRUE,$AO$9,IF(($P$7-$O$7=P12-O12),$AO$8,IF(OR(EXACT($O$7>$P$7,O12>P12)*EXACT($O$7=$P$7,O12=P12)*EXACT($O$7<$P$7,O12<P12)),$AO$7,0))) -> 0 | R12: 1 | S12: 2 | T12: =IF(OR(EXACT($R$7,R12)*(EXACT($S$7,S12)))=TRUE,$AO$9,IF(($S$7-$R$7=S12-R12),$AO$8,IF(OR(EXACT($R$7>$S$7,R12>S12)*EXACT($R$7=$S$7,R12=S12)*EXACT($R$7<$S$7,R12<S12)),$AO$7,0))) -> 2 | U12: 2 | V12: 1 | W12: =IF(OR(EXACT($U$7,U12)*(EXACT($V$7,V12)))=TRUE,$AO$9,IF(($V$7-$U$7=V12-U12),$AO$8,IF(OR(EXACT($U$7>$V$7,U12>V12)*EXACT($U$7=$V$7,U12=V12)*EXACT($U$7<$V$7,U12<V12)),$AO$7,0))) -> 3 | X12: 1 | Y12: 3 | Z12: =IF(OR(EXACT($X$7,X12)*(EXACT($Y$7,Y12)))=TRUE,$AO$9,IF(($Y$7-$X$7=Y12-X12),$AO$8,IF(OR(EXACT($X$7>$Y$7,X12>Y12)*EXACT($X$7=$Y$7,X12=Y12)*EXACT($X$7<$Y$7,X12<Y12)),$AO$7,0))) -> 0 | AA12: 0 | AB12: 0 | AC12: =IF(OR(EXACT($AA$7,AA12)*(EXACT($AB$7,AB12)))=TRUE,$AO$9,IF(($AB$7-$AA$7=AB12-AA12),$AO$8,IF(OR(EXACT($AA$7>$AB$7,AA12>AB12)*EXACT($AA$7=$AB$7,AA12=AB12)*EXACT($AA$7<$AB$7,AA12<AB12)),$AO$7,0)))*2 -> 0 | AG12: =E12+K12+Q12+T12+N12+H12+W12+Z12+AC12+AF12 -> 10 | AJ12: =AG12+AH12 -> 10 | AK12: =RANK(AJ12,$AJ$8:$AJ$27) -> 10
A13: =AK13 -> 18 | B13: Master1 | C13: 2 | D13: 3 | E13: =IF(OR(EXACT($C$7,C13)*(EXACT($D$7,D13)))=TRUE,$AO$9,IF(($D$7-$C$7=D13-C13),$AO$8,IF(OR(EXACT($C$7>$D$7,C13>D13)*EXACT($C$7=$D$7,C13=D13)*EXACT($C$7<$D$7,C13<D13)),$AO$7,0))) -> 2 | F13: 1 | G13: 1 | H13: =IF(OR(EXACT($F$7,F13)*(EXACT($G$7,G13)))=TRUE,$AO$9,IF(($G$7-$F$7=G13-F13),$AO$8,IF(OR(EXACT($F$7>$G$7,F13>G13)*EXACT($F$7=$G$7,F13=G13)*EXACT($F$7<$G$7,F13<G13)),$AO$7,0))) -> 0 | I13: 3 | J13: 2 | K13: =IF(OR(EXACT($I$7,I13)*(EXACT($J$7,J13)))=TRUE,$AO$9,IF(($J$7-$I$7=J13-I13),$AO$8,IF(OR(EXACT($I$7>$J$7,I13>J13)*EXACT($I$7=$J$7,I13=J13)*EXACT($I$7<$J$7,I13<J13)),$AO$7,0))) -> 2 | L13: 3 | M13: 1 | N13: =IF(OR(EXACT($L$7,L13)*(EXACT($M$7,M13)))=TRUE,$AO$9,IF(($M$7-$L$7=M13-L13),$AO$8,IF(OR(EXACT($L$7>$M$7,L13>M13)*EXACT($L$7=$M$7,L13=M13)*EXACT($L$7<$M$7,L13<M13)),$AO$7,0))) -> 0 | O13: 1 | P13: 1 | Q13: =IF(OR(EXACT($O$7,O13)*(EXACT($P$7,P13)))=TRUE,$AO$9,IF(($P$7-$O$7=P13-O13),$AO$8,IF(OR(EXACT($O$7>$P$7,O13>P13)*EXACT($O$7=$P$7,O13=P13)*EXACT($O$7<$P$7,O13<P13)),$AO$7,0))) -> 0 | R13: 1 | S13: 2 | T13: =IF(OR(EXACT($R$7,R13)*(EXACT($S$7,S13)))=TRUE,$AO$9,IF(($S$7-$R$7=S13-R13),$AO$8,IF(OR(EXACT($R$7>$S$7,R13>S13)*EXACT($R$7=$S$7,R13=S13)*EXACT($R$7<$S$7,R13<S13)),$AO$7,0))) -> 2 | U13: 2 | V13: 2 | W13: =IF(OR(EXACT($U$7,U13)*(EXACT($V$7,V13)))=TRUE,$AO$9,IF(($V$7-$U$7=V13-U13),$AO$8,IF(OR(EXACT($U$7>$V$7,U13>V13)*EXACT($U$7=$V$7,U13=V13)*EXACT($U$7<$V$7,U13<V13)),$AO$7,0))) -> 0 | X13: 1 | Y13: 3 | Z13: =IF(OR(EXACT($X$7,X13)*(EXACT($Y$7,Y13)))=TRUE,$AO$9,IF(($Y$7-$X$7=Y13-X13),$AO$8,IF(OR(EXACT($X$7>$Y$7,X13>Y13)*EXACT($X$7=$Y$7,X13=Y13)*EXACT($X$7<$Y$7,X13<Y13)),$AO$7,0))) -> 0 | AA13: 1 | AB13: 2 | AC13: =IF(OR(EXACT($AA$7,AA13)*(EXACT($AB$7,AB13)))=TRUE,$AO$9,IF(($AB$7-$AA$7=AB13-AA13),$AO$8,IF(OR(EXACT($AA$7>$AB$7,AA13>AB13)*EXACT($AA$7=$AB$7,AA13=AB13)*EXACT($AA$7<$AB$7,AA13<AB13)),$AO$7,0)))*4 -> 0 | AG13: =E13+K13+Q13+T13+N13+H13+W13+Z13+AC13+AF13 -> 6 | AJ13: =AG13+AH13 -> 6 | AK13: =RANK(AJ13,$AJ$8:$AJ$27) -> 18
A14: =AK14 -> 14 | B14: MB AC Norbert | C14: 2 | D14: 1 | E14: =IF(OR(EXACT($C$7,C14)*(EXACT($D$7,D14)))=TRUE,$AO$9,IF(($D$7-$C$7=D14-C14),$AO$8,IF(OR(EXACT($C$7>$D$7,C14>D14)*EXACT($C$7=$D$7,C14=D14)*EXACT($C$7<$D$7,C14<D14)),$AO$7,0))) -> 0 | F14: 2 | G14: 0 | H14: =IF(OR(EXACT($F$7,F14)*(EXACT($G$7,G14)))=TRUE,$AO$9,IF(($G$7-$F$7=G14-F14),$AO$8,IF(OR(EXACT($F$7>$G$7,F14>G14)*EXACT($F$7=$G$7,F14=G14)*EXACT($F$7<$G$7,F14<G14)),$AO$7,0))) -> 3 | I14: 0 | J14: 1 | K14: =IF(OR(EXACT($I$7,I14)*(EXACT($J$7,J14)))=TRUE,$AO$9,IF(($J$7-$I$7=J14-I14),$AO$8,IF(OR(EXACT($I$7>$J$7,I14>J14)*EXACT($I$7=$J$7,I14=J14)*EXACT($I$7<$J$7,I14<J14)),$AO$7,0))) -> 0 | L14: 2 | M14: 1 | N14: =IF(OR(EXACT($L$7,L14)*(EXACT($M$7,M14)))=TRUE,$AO$9,IF(($M$7-$L$7=M14-L14),$AO$8,IF(OR(EXACT($L$7>$M$7,L14>M14)*EXACT($L$7=$M$7,L14=M14)*EXACT($L$7<$M$7,L14<M14)),$AO$7,0))) -> 0 | O14: 0 | P14: 1 | Q14: =IF(OR(EXACT($O$7,O14)*(EXACT($P$7,P14)))=TRUE,$AO$9,IF(($P$7-$O$7=P14-O14),$AO$8,IF(OR(EXACT($O$7>$P$7,O14>P14)*EXACT($O$7=$P$7,O14=P14)*EXACT($O$7<$P$7,O14<P14)),$AO$7,0))) -> 3 | R14: 1 | S14: 2 | T14: =IF(OR(EXACT($R$7,R14)*(EXACT($S$7,S14)))=TRUE,$AO$9,IF(($S$7-$R$7=S14-R14),$AO$8,IF(OR(EXACT($R$7>$S$7,R14>S14)*EXACT($R$7=$S$7,R14=S14)*EXACT($R$7<$S$7,R14<S14)),$AO$7,0))) -> 2 | U14: 0 | V14: 2 | W14: =IF(OR(EXACT($U$7,U14)*(EXACT($V$7,V14)))=TRUE,$AO$9,IF(($V$7-$U$7=V14-U14),$AO$8,IF(OR(EXACT($U$7>$V$7,U14>V14)*EXACT($U$7=$V$7,U14=V14)*EXACT($U$7<$V$7,U14<V14)),$AO$7,0))) -> 0 | X14: 1 | Y14: 3 | Z14: =IF(OR(EXACT($X$7,X14)*(EXACT($Y$7,Y14)))=TRUE,$AO$9,IF(($Y$7-$X$7=Y14-X14),$AO$8,IF(OR(EXACT($X$7>$Y$7,X14>Y14)*EXACT($X$7=$Y$7,X14=Y14)*EXACT($X$7<$Y$7,X14<Y14)),$AO$7,0))) -> 0 | AA14: 1 | AB14: 3 | AC14: =IF(OR(EXACT($AA$7,AA14)*(EXACT($AB$7,AB14)))=TRUE,$AO$9,IF(($AB$7-$AA$7=AB14-AA14),$AO$8,IF(OR(EXACT($AA$7>$AB$7,AA14>AB14)*EXACT($AA$7=$AB$7,AA14=AB14)*EXACT($AA$7<$AB$7,AA14<AB14)),$AO$7,0)))*4 -> 0 | AG14: =E14+K14+Q14+T14+N14+H14+W14+Z14+AC14+AF14 -> 8 | AJ14: =AG14+AH14 -> 8 | AK14: =RANK(AJ14,$AJ$8:$AJ$27) -> 14
A15: =AK15 -> 7 | B15: Mike04 | C15: 0 | D15: 2 | E15: =IF(OR(EXACT($C$7,C15)*(EXACT($D$7,D15)))=TRUE,$AO$9,IF(($D$7-$C$7=D15-C15),$AO$8,IF(OR(EXACT($C$7>$D$7,C15>D15)*EXACT($C$7=$D$7,C15=D15)*EXACT($C$7<$D$7,C15<D15)),$AO$7,0))) -> 2 | F15: 2 | G15: 1 | H15: =IF(OR(EXACT($F$7,F15)*(EXACT($G$7,G15)))=TRUE,$AO$9,IF(($G$7-$F$7=G15-F15),$AO$8,IF(OR(EXACT($F$7>$G$7,F15>G15)*EXACT($F$7=$G$7,F15=G15)*EXACT($F$7<$G$7,F15<G15)),$AO$7,0))) -> 2 | I15: 2 | J15: 0 | K15: =IF(OR(EXACT($I$7,I15)*(EXACT($J$7,J15)))=TRUE,$AO$9,IF(($J$7-$I$7=J15-I15),$AO$8,IF(OR(EXACT($I$7>$J$7,I15>J15)*EXACT($I$7=$J$7,I15=J15)*EXACT($I$7<$J$7,I15<J15)),$AO$7,0))) -> 3 | L15: 2 | M15: 0 | N15: =IF(OR(EXACT($L$7,L15)*(EXACT($M$7,M15)))=TRUE,$AO$9,IF(($M$7-$L$7=M15-L15),$AO$8,IF(OR(EXACT($L$7>$M$7,L15>M15)*EXACT($L$7=$M$7,L15=M15)*EXACT($L$7<$M$7,L15<M15)),$AO$7,0))) -> 0 | O15: 1 | P15: 0 | Q15: =IF(OR(EXACT($O$7,O15)*(EXACT($P$7,P15)))=TRUE,$AO$9,IF(($P$7-$O$7=P15-O15),$AO$8,IF(OR(EXACT($O$7>$P$7,O15>P15)*EXACT($O$7=$P$7,O15=P15)*EXACT($O$7<$P$7,O15<P15)),$AO$7,0))) -> 0 | R15: 1 | S15: 11 | T15: =IF(OR(EXACT($R$7,R15)*(EXACT($S$7,S15)))=TRUE,$AO$9,IF(($S$7-$R$7=S15-R15),$AO$8,IF(OR(EXACT($R$7>$S$7,R15>S15)*EXACT($R$7=$S$7,R15=S15)*EXACT($R$7<$S$7,R15<S15)),$AO$7,0))) -> 2 | U15: 2 | V15: 0 | W15: =IF(OR(EXACT($U$7,U15)*(EXACT($V$7,V15)))=TRUE,$AO$9,IF(($V$7-$U$7=V15-U15),$AO$8,IF(OR(EXACT($U$7>$V$7,U15>V15)*EXACT($U$7=$V$7,U15=V15)*EXACT($U$7<$V$7,U15<V15)),$AO$7,0))) -> 2 | X15: 0 | Y15: 2 | Z15: =IF(OR(EXACT($X$7,X15)*(EXACT($Y$7,Y15)))=TRUE,$AO$9,IF(($Y$7-$X$7=Y15-X15),$AO$8,IF(OR(EXACT($X$7>$Y$7,X15>Y15)*EXACT($X$7=$Y$7,X15=Y15)*EXACT($X$7<$Y$7,X15<Y15)),$AO$7,0))) -> 0 | AA15: 0 | AB15: 2 | AC15: =IF(OR(EXACT($AA$7,AA15)*(EXACT($AB$7,AB15)))=TRUE,$AO$9,IF(($AB$7-$AA$7=AB15-AA15),$AO$8,IF(OR(EXACT($AA$7>$AB$7,AA15>AB15)*EXACT($AA$7=$AB$7,AA15=AB15)*EXACT($AA$7<$AB$7,AA15<AB15)),$AO$7,0)))*4 -> 0 | AG15: =E15+K15+Q15+T15+N15+H15+W15+Z15+AC15+AF15 -> 11 | AJ15: =AG15+AH15 -> 11 | AK15: =RANK(AJ15,$AJ$8:$AJ$27) -> 7
A16: =AK16 -> 6 | B16: Nico1904 | C16: 0 | D16: 3 | E16: =IF(OR(EXACT($C$7,C16)*(EXACT($D$7,D16)))=TRUE,$AO$9,IF(($D$7-$C$7=D16-C16),$AO$8,IF(OR(EXACT($C$7>$D$7,C16>D16)*EXACT($C$7=$D$7,C16=D16)*EXACT($C$7<$D$7,C16<D16)),$AO$7,0))) -> 2 | F16: 2 | G16: 1 | H16: =IF(OR(EXACT($F$7,F16)*(EXACT($G$7,G16)))=TRUE,$AO$9,IF(($G$7-$F$7=G16-F16),$AO$8,IF(OR(EXACT($F$7>$G$7,F16>G16)*EXACT($F$7=$G$7,F16=G16)*EXACT($F$7<$G$7,F16<G16)),$AO$7,0))) -> 2 | I16: 3 | J16: 1 | K16: =IF(OR(EXACT($I$7,I16)*(EXACT($J$7,J16)))=TRUE,$AO$9,IF(($J$7-$I$7=J16-I16),$AO$8,IF(OR(EXACT($I$7>$J$7,I16>J16)*EXACT($I$7=$J$7,I16=J16)*EXACT($I$7<$J$7,I16<J16)),$AO$7,0))) -> 5 | L16: 2 | M16: 1 | N16: =IF(OR(EXACT($L$7,L16)*(EXACT($M$7,M16)))=TRUE,$AO$9,IF(($M$7-$L$7=M16-L16),$AO$8,IF(OR(EXACT($L$7>$M$7,L16>M16)*EXACT($L$7=$M$7,L16=M16)*EXACT($L$7<$M$7,L16<M16)),$AO$7,0))) -> 0 | O16: 1 | P16: 1 | Q16: =IF(OR(EXACT($O$7,O16)*(EXACT($P$7,P16)))=TRUE,$AO$9,IF(($P$7-$O$7=P16-O16),$AO$8,IF(OR(EXACT($O$7>$P$7,O16>P16)*EXACT($O$7=$P$7,O16=P16)*EXACT($O$7<$P$7,O16<P16)),$AO$7,0))) -> 0 | R16: 1 | S16: 2 | T16: =IF(OR(EXACT($R$7,R16)*(EXACT($S$7,S16)))=TRUE,$AO$9,IF(($S$7-$R$7=S16-R16),$AO$8,IF(OR(EXACT($R$7>$S$7,R16>S16)*EXACT($R$7=$S$7,R16=S16)*EXACT($R$7<$S$7,R16<S16)),$AO$7,0))) -> 2 | U16: 2 | V16: 0 | W16: =IF(OR(EXACT($U$7,U16)*(EXACT($V$7,V16)))=TRUE,$AO$9,IF(($V$7-$U$7=V16-U16),$AO$8,IF(OR(EXACT($U$7>$V$7,U16>V16)*EXACT($U$7=$V$7,U16=V16)*EXACT($U$7<$V$7,U16<V16)),$AO$7,0))) -> 2 | X16: 1 | Y16: 3 | Z16: =IF(OR(EXACT($X$7,X16)*(EXACT($Y$7,Y16)))=TRUE,$AO$9,IF(($Y$7-$X$7=Y16-X16),#REF!,IF(OR(EXACT($X$7>$Y$7,X16>Y16)*EXACT($X$7=$Y$7,X16=Y16)*EXACT($X$7<$Y$7,X16<Y16)),$AO$7,0))) -> 0 | AA16: 0 | AB16: 1 | AC16: =IF(OR(EXACT($AA$7,AA16)*(EXACT($AB$7,AB16)))=TRUE,$AO$9,IF(($AB$7-$AA$7=AB16-AA16),$AO$8,IF(OR(EXACT($AA$7>$AB$7,AA16>AB16)*EXACT($AA$7=$AB$7,AA16=AB16)*EXACT($AA$7<$AB$7,AA16<AB16)),$AO$7,0)))*4 -> 0 | AG16: =E16+K16+Q16+T16+N16+H16+W16+Z16+AC16+AF16 -> 13 | AJ16: =AG16+AH16 -> 13 | AK16: =RANK(AJ16,$AJ$8:$AJ$27) -> 6
A17: =AK17 -> 4 | B17: Reinhold | C17: 1 | D17: 2 | E17: =IF(OR(EXACT($C$7,C17)*(EXACT($D$7,D17)))=TRUE,$AO$9,IF(($D$7-$C$7=D17-C17),$AO$8,IF(OR(EXACT($C$7>$D$7,C17>D17)*EXACT($C$7=$D$7,C17=D17)*EXACT($C$7<$D$7,C17<D17)),$AO$7,0))) -> 2 | F17: 2 | G17: 0 | H17: =IF(OR(EXACT($F$7,F17)*(EXACT($G$7,G17)))=TRUE,$AO$9,IF(($G$7-$F$7=G17-F17),$AO$8,IF(OR(EXACT($F$7>$G$7,F17>G17)*EXACT($F$7=$G$7,F17=G17)*EXACT($F$7<$G$7,F17<G17)),$AO$7,0))) -> 3 | I17: 1 | J17: 0 | K17: =IF(OR(EXACT($I$7,I17)*(EXACT($J$7,J17)))=TRUE,$AO$9,IF(($J$7-$I$7=J17-I17),$AO$8,IF(OR(EXACT($I$7>$J$7,I17>J17)*EXACT($I$7=$J$7,I17=J17)*EXACT($I$7<$J$7,I17<J17)),$AO$7,0))) -> 2 | L17: 2 | M17: 2 | N17: =IF(OR(EXACT($L$7,L17)*(EXACT($M$7,M17)))=TRUE,$AO$9,IF(($M$7-$L$7=M17-L17),$AO$8,IF(OR(EXACT($L$7>$M$7,L17>M17)*EXACT($L$7=$M$7,L17=M17)*EXACT($L$7<$M$7,L17<M17)),$AO$7,0))) -> 5 | O17: 4 | P17: 1 | Q17: =IF(OR(EXACT($O$7,O17)*(EXACT($P$7,P17)))=TRUE,$AO$9,IF(($P$7-$O$7=P17-O17),$AO$8,IF(OR(EXACT($O$7>$P$7,O17>P17)*EXACT($O$7=$P$7,O17=P17)*EXACT($O$7<$P$7,O17<P17)),$AO$7,0))) -> 0 | R17: 1 | S17: 2 | T17: =IF(OR(EXACT($R$7,R17)*(EXACT($S$7,S17)))=TRUE,$AO$9,IF(($S$7-$R$7=S17-R17),$AO$8,IF(OR(EXACT($R$7>$S$7,R17>S17)*EXACT($R$7=$S$7,R17=S17)*EXACT($R$7<$S$7,R17<S17)),$AO$7,0))) -> 2 | U17: 2 | V17: 2 | W17: =IF(OR(EXACT($U$7,U17)*(EXACT($V$7,V17)))=TRUE,$AO$9,IF(($V$7-$U$7=V17-U17),$AO$8,IF(OR(EXACT($U$7>$V$7,U17>V17)*EXACT($U$7=$V$7,U17=V17)*EXACT($U$7<$V$7,U17<V17)),$AO$7,0))) -> 0 | X17: 1 | Y17: 3 | Z17: =IF(OR(EXACT($X$7,X17)*(EXACT($Y$7,Y17)))=TRUE,$AO$9,IF(($Y$7-$X$7=Y17-X17),#REF!,IF(OR(EXACT($X$7>$Y$7,X17>Y17)*EXACT($X$7=$Y$7,X17=Y17)*EXACT($X$7<$Y$7,X17<Y17)),$AO$7,0))) -> 0 | AA17: 1 | AB17: 3 | AC17: =IF(OR(EXACT($AA$7,AA17)*(EXACT($AB$7,AB17)))=TRUE,$AO$9,IF(($AB$7-$AA$7=AB17-AA17),$AO$8,IF(OR(EXACT($AA$7>$AB$7,AA17>AB17)*EXACT($AA$7=$AB$7,AA17=AB17)*EXACT($AA$7<$AB$7,AA17<AB17)),$AO$7,0)))*4 -> 0 | AG17: =E17+K17+Q17+T17+N17+H17+W17+Z17+AC17+AF17 -> 14 | AJ17: =AG17+AH17 -> 14 | AK17: =RANK(AJ17,$AJ$8:$AJ$27) -> 4
A18: =AK18 -> 4 | B18: Ricardo04 | C18: 1 | D18: 3 | E18: =IF(OR(EXACT($C$7,C18)*(EXACT($D$7,D18)))=TRUE,$AO$9,IF(($D$7-$C$7=D18-C18),$AO$8,IF(OR(EXACT($C$7>$D$7,C18>D18)*EXACT($C$7=$D$7,C18=D18)*EXACT($C$7<$D$7,C18<D18)),$AO$7,0))) -> 2 | F18: 2 | G18: 0 | H18: =IF(OR(EXACT($F$7,F18)*(EXACT($G$7,G18)))=TRUE,$AO$9,IF(($G$7-$F$7=G18-F18),$AO$8,IF(OR(EXACT($F$7>$G$7,F18>G18)*EXACT($F$7=$G$7,F18=G18)*EXACT($F$7<$G$7,F18<G18)),$AO$7,0))) -> 3 | I18: 3 | J18: 1 | K18: =IF(OR(EXACT($I$7,I18)*(EXACT($J$7,J18)))=TRUE,$AO$9,IF(($J$7-$I$7=J18-I18),$AO$8,IF(OR(EXACT($I$7>$J$7,I18>J18)*EXACT($I$7=$J$7,I18=J18)*EXACT($I$7<$J$7,I18<J18)),$AO$7,0))) -> 5 | L18: 2 | M18: 1 | N18: =IF(OR(EXACT($L$7,L18)*(EXACT($M$7,M18)))=TRUE,$AO$9,IF(($M$7-$L$7=M18-L18),$AO$8,IF(OR(EXACT($L$7>$M$7,L18>M18)*EXACT($L$7=$M$7,L18=M18)*EXACT($L$7<$M$7,L18<M18)),$AO$7,0))) -> 0 | O18: 1 | P18: 1 | Q18: =IF(OR(EXACT($O$7,O18)*(EXACT($P$7,P18)))=TRUE,$AO$9,IF(($P$7-$O$7=P18-O18),$AO$8,IF(OR(EXACT($O$7>$P$7,O18>P18)*EXACT($O$7=$P$7,O18=P18)*EXACT($O$7<$P$7,O18<P18)),$AO$7,0))) -> 0 | R18: 1 | S18: 2 | T18: =IF(OR(EXACT($R$7,R18)*(EXACT($S$7,S18)))=TRUE,$AO$9,IF(($S$7-$R$7=S18-R18),$AO$8,IF(OR(EXACT($R$7>$S$7,R18>S18)*EXACT($R$7=$S$7,R18=S18)*EXACT($R$7<$S$7,R18<S18)),$AO$7,0))) -> 2 | U18: 3 | V18: 1 | W18: =IF(OR(EXACT($U$7,U18)*(EXACT($V$7,V18)))=TRUE,$AO$9,IF(($V$7-$U$7=V18-U18),$AO$8,IF(OR(EXACT($U$7>$V$7,U18>V18)*EXACT($U$7=$V$7,U18=V18)*EXACT($U$7<$V$7,U18<V18)),$AO$7,0))) -> 2 | X18: 1 | Y18: 3 | Z18: =IF(OR(EXACT($X$7,X18)*(EXACT($Y$7,Y18)))=TRUE,$AO$9,IF(($Y$7-$X$7=Y18-X18),$AO$8,IF(OR(EXACT($X$7>$Y$7,X18>Y18)*EXACT($X$7=$Y$7,X18=Y18)*EXACT($X$7<$Y$7,X18<Y18)),$AO$7,0))) -> 0 | AA18: 1 | AB18: 2 | AC18: =IF(OR(EXACT($AA$7,AA18)*(EXACT($AB$7,AB18)))=TRUE,$AO$9,IF(($AB$7-$AA$7=AB18-AA18),$AO$8,IF(OR(EXACT($AA$7>$AB$7,AA18>AB18)*EXACT($AA$7=$AB$7,AA18=AB18)*EXACT($AA$7<$AB$7,AA18<AB18)),$AO$7,0)))*4 -> 0 | AG18: =E18+K18+Q18+T18+N18+H18+W18+Z18+AC18+AF18 -> 14 | AJ18: =AG18+AH18 -> 14 | AK18: =RANK(AJ18,$AJ$8:$AJ$27) -> 4
A19: =AK19 -> 14 | B19: Sascha | C19: 2 | D19: 3 | E19: =IF(OR(EXACT($C$7,C19)*(EXACT($D$7,D19)))=TRUE,$AO$9,IF(($D$7-$C$7=D19-C19),$AO$8,IF(OR(EXACT($C$7>$D$7,C19>D19)*EXACT($C$7=$D$7,C19=D19)*EXACT($C$7<$D$7,C19<D19)),$AO$7,0))) -> 2 | F19: 1 | G19: 1 | H19: =IF(OR(EXACT($F$7,F19)*(EXACT($G$7,G19)))=TRUE,$AO$9,IF(($G$7-$F$7=G19-F19),$AO$8,IF(OR(EXACT($F$7>$G$7,F19>G19)*EXACT($F$7=$G$7,F19=G19)*EXACT($F$7<$G$7,F19<G19)),$AO$7,0))) -> 0 | I19: 2 | J19: 1 | K19: =IF(OR(EXACT($I$7,I19)*(EXACT($J$7,J19)))=TRUE,$AO$9,IF(($J$7-$I$7=J19-I19),$AO$8,IF(OR(EXACT($I$7>$J$7,I19>J19)*EXACT($I$7=$J$7,I19=J19)*EXACT($I$7<$J$7,I19<J19)),$AO$7,0))) -> 2 | L19: 1 | M19: 0 | N19: =IF(OR(EXACT($L$7,L19)*(EXACT($M$7,M19)))=TRUE,$AO$9,IF(($M$7-$L$7=M19-L19),$AO$8,IF(OR(EXACT($L$7>$M$7,L19>M19)*EXACT($L$7=$M$7,L19=M19)*EXACT($L$7<$M$7,L19<M19)),$AO$7,0))) -> 0 | O19: 0 | P19: 0 | Q19: =IF(OR(EXACT($O$7,O19)*(EXACT($P$7,P19)))=TRUE,$AO$9,IF(($P$7-$O$7=P19-O19),$AO$8,IF(OR(EXACT($O$7>$P$7,O19>P19)*EXACT($O$7=$P$7,O19=P19)*EXACT($O$7<$P$7,O19<P19)),$AO$7,0))) -> 0 | R19: 1 | S19: 2 | T19: =IF(OR(EXACT($R$7,R19)*(EXACT($S$7,S19)))=TRUE,$AO$9,IF(($S$7-$R$7=S19-R19),$AO$8,IF(OR(EXACT($R$7>$S$7,R19>S19)*EXACT($R$7=$S$7,R19=S19)*EXACT($R$7<$S$7,R19<S19)),$AO$7,0))) -> 2 | U19: 3 | V19: 1 | W19: =IF(OR(EXACT($U$7,U19)*(EXACT($V$7,V19)))=TRUE,$AO$9,IF(($V$7-$U$7=V19-U19),$AO$8,IF(OR(EXACT($U$7>$V$7,U19>V19)*EXACT($U$7=$V$7,U19=V19)*EXACT($U$7<$V$7,U19<V19)),$AO$7,0))) -> 2 | X19: 1 | Y19: 3 | Z19: =IF(OR(EXACT($X$7,X19)*(EXACT($Y$7,Y19)))=TRUE,$AO$9,IF(($Y$7-$X$7=Y19-X19),$AO$8,IF(OR(EXACT($X$7>$Y$7,X19>Y19)*EXACT($X$7=$Y$7,X19=Y19)*EXACT($X$7<$Y$7,X19<Y19)),$AO$7,0))) -> 0 | AA19: 1 | AB19: 2 | AC19: =IF(OR(EXACT($AA$7,AA19)*(EXACT($AB$7,AB19)))=TRUE,$AO$9,IF(($AB$7-$AA$7=AB19-AA19),$AO$8,IF(OR(EXACT($AA$7>$AB$7,AA19>AB19)*EXACT($AA$7=$AB$7,AA19=AB19)*EXACT($AA$7<$AB$7,AA19<AB19)),$AO$7,0)))*4 -> 0 | AG19: =E19+K19+Q19+T19+N19+H19+W19+Z19+AC19+AF19 -> 8 | AJ19: =AG19+AH19 -> 8 | AK19: =RANK(AJ19,$AJ$8:$AJ$27) -> 14
A20: =AK20 -> 17 | B20: Schalt04 | C20: 1 | D20: 3 | E20: =IF(OR(EXACT($C$7,C20)*(EXACT($D$7,D20)))=TRUE,$AO$9,IF(($D$7-$C$7=D20-C20),$AO$8,IF(OR(EXACT($C$7>$D$7,C20>D20)*EXACT($C$7=$D$7,C20=D20)*EXACT($C$7<$D$7,C20<D20)),$AO$7,0))) -> 2 | F20: 2 | G20: 0 | H20: =IF(OR(EXACT($F$7,F20)*(EXACT($G$7,G20)))=TRUE,$AO$9,IF(($G$7-$F$7=G20-F20),$AO$8,IF(OR(EXACT($F$7>$G$7,F20>G20)*EXACT($F$7=$G$7,F20=G20)*EXACT($F$7<$G$7,F20<G20)),$AO$7,0))) -> 3 | I20: 1 | J20: 2 | K20: =IF(OR(EXACT($I$7,I20)*(EXACT($J$7,J20)))=TRUE,$AO$9,IF(($J$7-$I$7=J20-I20),$AO$8,IF(OR(EXACT($I$7>$J$7,I20>J20)*EXACT($I$7=$J$7,I20=J20)*EXACT($I$7<$J$7,I20<J20)),$AO$7,0))) -> 0 | L20: 2 | M20: 1 | N20: =IF(OR(EXACT($L$7,L20)*(EXACT($M$7,M20)))=TRUE,$AO$9,IF(($M$7-$L$7=M20-L20),$AO$8,IF(OR(EXACT($L$7>$M$7,L20>M20)*EXACT($L$7=$M$7,L20=M20)*EXACT($L$7<$M$7,L20<M20)),$AO$7,0))) -> 0 | O20: 0 | P20: 0 | Q20: =IF(OR(EXACT($O$7,O20)*(EXACT($P$7,P20)))=TRUE,$AO$9,IF(($P$7-$O$7=P20-O20),$AO$8,IF(OR(EXACT($O$7>$P$7,O20>P20)*EXACT($O$7=$P$7,O20=P20)*EXACT($O$7<$P$7,O20<P20)),$AO$7,0))) -> 0 | R20: 0 | S20: 1 | T20: =IF(OR(EXACT($R$7,R20)*(EXACT($S$7,S20)))=TRUE,$AO$9,IF(($S$7-$R$7=S20-R20),$AO$8,IF(OR(EXACT($R$7>$S$7,R20>S20)*EXACT($R$7=$S$7,R20=S20)*EXACT($R$7<$S$7,R20<S20)),$AO$7,0))) -> 2 | U20: 1 | V20: 1 | W20: =IF(OR(EXACT($U$7,U20)*(EXACT($V$7,V20)))=TRUE,$AO$9,IF(($V$7-$U$7=V20-U20),$AO$8,IF(OR(EXACT($U$7>$V$7,U20>V20)*EXACT($U$7=$V$7,U20=V20)*EXACT($U$7<$V$7,U20<V20)),$AO$7,0))) -> 0 | X20: 0 | Y20: 3 | Z20: =IF(OR(EXACT($X$7,X20)*(EXACT($Y$7,Y20)))=TRUE,$AO$9,IF(($Y$7-$X$7=Y20-X20),$AO$8,IF(OR(EXACT($X$7>$Y$7,X20>Y20)*EXACT($X$7=$Y$7,X20=Y20)*EXACT($X$7<$Y$7,X20<Y20)),$AO$7,0))) -> 0 | AA20: 1 | AB20: 2 | AC20: =IF(OR(EXACT($AA$7,AA20)*(EXACT($AB$7,AB20)))=TRUE,$AO$9,IF(($AB$7-$AA$7=AB20-AA20),$AO$8,IF(OR(EXACT($AA$7>$AB$7,AA20>AB20)*EXACT($AA$7=$AB$7,AA20=AB20)*EXACT($AA$7<$AB$7,AA20<AB20)),$AO$7,0)))*4 -> 0 | AG20: =E20+K20+Q20+T20+N20+H20+W20+Z20+AC20+AF20 -> 7 | AJ20: =AG20+AH20 -> 7 | AK20: =RANK(AJ20,$AJ$8:$AJ$27) -> 17
A21: =AK21 -> 3 | B21: schmiddi04 | C21: 0 | D21: 3 | E21: =IF(OR(EXACT($C$7,C21)*(EXACT($D$7,D21)))=TRUE,$AO$9,IF(($D$7-$C$7=D21-C21),$AO$8,IF(OR(EXACT($C$7>$D$7,C21>D21)*EXACT($C$7=$D$7,C21=D21)*EXACT($C$7<$D$7,C21<D21)),$AO$7,0))) -> 2 | F21: 1 | G21: 1 | H21: =IF(OR(EXACT($F$7,F21)*(EXACT($G$7,G21)))=TRUE,$AO$9,IF(($G$7-$F$7=G21-F21),$AO$8,IF(OR(EXACT($F$7>$G$7,F21>G21)*EXACT($F$7=$G$7,F21=G21)*EXACT($F$7<$G$7,F21<G21)),$AO$7,0))) -> 0 | I21: 1 | J21: 0 | K21: =IF(OR(EXACT($I$7,I21)*(EXACT($J$7,J21)))=TRUE,$AO$9,IF(($J$7-$I$7=J21-I21),$AO$8,IF(OR(EXACT($I$7>$J$7,I21>J21)*EXACT($I$7=$J$7,I21=J21)*EXACT($I$7<$J$7,I21<J21)),$AO$7,0))) -> 2 | L21: 0 | M21: 1 | N21: =IF(OR(EXACT($L$7,L21)*(EXACT($M$7,M21)))=TRUE,$AO$9,IF(($M$7-$L$7=M21-L21),$AO$8,IF(OR(EXACT($L$7>$M$7,L21>M21)*EXACT($L$7=$M$7,L21=M21)*EXACT($L$7<$M$7,L21<M21)),$AO$7,0))) -> 0 | O21: 1 | P21: 2 | Q21: =IF(OR(EXACT($O$7,O21)*(EXACT($P$7,P21)))=TRUE,$AO$9,IF(($P$7-$O$7=P21-O21),$AO$8,IF(OR(EXACT($O$7>$P$7,O21>P21)*EXACT($O$7=$P$7,O21=P21)*EXACT($O$7<$P$7,O21<P21)),$AO$7,0))) -> 5 | R21: 0 | S21: 2 | T21: =IF(OR(EXACT($R$7,R21)*(EXACT($S$7,S21)))=TRUE,$AO$9,IF(($S$7-$R$7=S21-R21),$AO$8,IF(OR(EXACT($R$7>$S$7,R21>S21)*EXACT($R$7=$S$7,R21=S21)*EXACT($R$7<$S$7,R21<S21)),$AO$7,0))) -> 2 | U21: 1 | V21: 0 | W21: =IF(OR(EXACT($U$7,U21)*(EXACT($V$7,V21)))=TRUE,$AO$9,IF(($V$7-$U$7=V21-U21),$AO$8,IF(OR(EXACT($U$7>$V$7,U21>V21)*EXACT($U$7=$V$7,U21=V21)*EXACT($U$7<$V$7,U21<V21)),$AO$7,0))) -> 5 | X21: 0 | Y21: 2 | Z21: =IF(OR(EXACT($X$7,X21)*(EXACT($Y$7,Y21)))=TRUE,$AO$9,IF(($Y$7-$X$7=Y21-X21),#REF!,IF(OR(EXACT($X$7>$Y$7,X21>Y21)*EXACT($X$7=$Y$7,X21=Y21)*EXACT($X$7<$Y$7,X21<Y21)),$AO$7,0))) -> 0 | AA21: 0 | AB21: 1 | AC21: =IF(OR(EXACT($AA$7,AA21)*(EXACT($AB$7,AB21)))=TRUE,$AO$9,IF(($AB$7-$AA$7=AB21-AA21),$AO$8,IF(OR(EXACT($AA$7>$AB$7,AA21>AB21)*EXACT($AA$7=$AB$7,AA21=AB21)*EXACT($AA$7<$AB$7,AA21<AB21)),$AO$7,0)))*4 -> 0 | AG21: =E21+K21+Q21+T21+N21+H21+W21+Z21+AC21+AF21 -> 16 | AJ21: =AG21+AH21 -> 16 | AK21: =RANK(AJ21,$AJ$8:$AJ$27) -> 3
A22: =AK22 -> 7 | B22: shiny | C22: 1 | D22: 3 | E22: =IF(OR(EXACT($C$7,C22)*(EXACT($D$7,D22)))=TRUE,$AO$9,IF(($D$7-$C$7=D22-C22),$AO$8,IF(OR(EXACT($C$7>$D$7,C22>D22)*EXACT($C$7=$D$7,C22=D22)*EXACT($C$7<$D$7,C22<D22)),$AO$7,0))) -> 2 | F22: 2 | G22: 1 | H22: =IF(OR(EXACT($F$7,F22)*(EXACT($G$7,G22)))=TRUE,$AO$9,IF(($G$7-$F$7=G22-F22),$AO$8,IF(OR(EXACT($F$7>$G$7,F22>G22)*EXACT($F$7=$G$7,F22=G22)*EXACT($F$7<$G$7,F22<G22)),$AO$7,0))) -> 2 | I22: 2 | J22: 1 | K22: =IF(OR(EXACT($I$7,I22)*(EXACT($J$7,J22)))=TRUE,$AO$9,IF(($J$7-$I$7=J22-I22),$AO$8,IF(OR(EXACT($I$7>$J$7,I22>J22)*EXACT($I$7=$J$7,I22=J22)*EXACT($I$7<$J$7,I22<J22)),$AO$7,0))) -> 2 | L22: 2 | M22: 1 | N22: =IF(OR(EXACT($L$7,L22)*(EXACT($M$7,M22)))=TRUE,$AO$9,IF(($M$7-$L$7=M22-L22),$AO$8,IF(OR(EXACT($L$7>$M$7,L22>M22)*EXACT($L$7=$M$7,L22=M22)*EXACT($L$7<$M$7,L22<M22)),$AO$7,0))) -> 0 | O22: 1 | P22: 1 | Q22: =IF(OR(EXACT($O$7,O22)*(EXACT($P$7,P22)))=TRUE,$AO$9,IF(($P$7-$O$7=P22-O22),$AO$8,IF(OR(EXACT($O$7>$P$7,O22>P22)*EXACT($O$7=$P$7,O22=P22)*EXACT($O$7<$P$7,O22<P22)),$AO$7,0))) -> 0 | R22: 1 | S22: 2 | T22: =IF(OR(EXACT($R$7,R22)*(EXACT($S$7,S22)))=TRUE,$AO$9,IF(($S$7-$R$7=S22-R22),$AO$8,IF(OR(EXACT($R$7>$S$7,R22>S22)*EXACT($R$7=$S$7,R22=S22)*EXACT($R$7<$S$7,R22<S22)),$AO$7,0))) -> 2 | U22: 2 | V22: 1 | W22: =IF(OR(EXACT($U$7,U22)*(EXACT($V$7,V22)))=TRUE,$AO$9,IF(($V$7-$U$7=V22-U22),$AO$8,IF(OR(EXACT($U$7>$V$7,U22>V22)*EXACT($U$7=$V$7,U22=V22)*EXACT($U$7<$V$7,U22<V22)),$AO$7,0))) -> 3 | X22: 1 | Y22: 2 | Z22: =IF(OR(EXACT($X$7,X22)*(EXACT($Y$7,Y22)))=TRUE,$AO$9,IF(($Y$7-$X$7=Y22-X22),$AO16,IF(OR(EXACT($X$7>$Y$7,X22>Y22)*EXACT($X$7=$Y$7,X22=Y22)*EXACT($X$7<$Y$7,X22<Y22)),$AO$7,0))) -> 0 | AA22: 1 | AB22: 2 | AC22: =IF(OR(EXACT($AA$7,AA22)*(EXACT($AB$7,AB22)))=TRUE,$AO$9,IF(($AB$7-$AA$7=AB22-AA22),$AO$8,IF(OR(EXACT($AA$7>$AB$7,AA22>AB22)*EXACT($AA$7=$AB$7,AA22=AB22)*EXACT($AA$7<$AB$7,AA22<AB22)),$AO$7,0)))*4 -> 0 | AG22: =E22+K22+Q22+T22+N22+H22+W22+Z22+AC22+AF22 -> 11 | AJ22: =AG22+AH22 -> 11 | AK22: =RANK(AJ22,$AJ$8:$AJ$27) -> 7
A23: =AK23 -> 14 | B23: Tanja04 | C23: 1 | D23: 3 | E23: =IF(OR(EXACT($C$7,C23)*(EXACT($D$7,D23)))=TRUE,$AO$9,IF(($D$7-$C$7=D23-C23),$AO$8,IF(OR(EXACT($C$7>$D$7,C23>D23)*EXACT($C$7=$D$7,C23=D23)*EXACT($C$7<$D$7,C23<D23)),$AO$7,0))) -> 2 | F23: 1 | G23: 1 | H23: =IF(OR(EXACT($F$7,F23)*(EXACT($G$7,G23)))=TRUE,$AO$9,IF(($G$7-$F$7=G23-F23),$AO$8,IF(OR(EXACT($F$7>$G$7,F23>G23)*EXACT($F$7=$G$7,F23=G23)*EXACT($F$7<$G$7,F23<G23)),$AO$7,0))) -> 0 | I23: 3 | J23: 0 | K23: =IF(OR(EXACT($I$7,I23)*(EXACT($J$7,J23)))=TRUE,$AO$9,IF(($J$7-$I$7=J23-I23),$AO$8,IF(OR(EXACT($I$7>$J$7,I23>J23)*EXACT($I$7=$J$7,I23=J23)*EXACT($I$7<$J$7,I23<J23)),$AO$7,0))) -> 2 | L23: 2 | M23: 0 | N23: =IF(OR(EXACT($L$7,L23)*(EXACT($M$7,M23)))=TRUE,$AO$9,IF(($M$7-$L$7=M23-L23),$AO$8,IF(OR(EXACT($L$7>$M$7,L23>M23)*EXACT($L$7=$M$7,L23=M23)*EXACT($L$7<$M$7,L23<M23)),$AO$7,0))) -> 0 | O23: 2 | P23: 1 | Q23: =IF(OR(EXACT($O$7,O23)*(EXACT($P$7,P23)))=TRUE,$AO$9,IF(($P$7-$O$7=P23-O23),$AO$8,IF(OR(EXACT($O$7>$P$7,O23>P23)*EXACT($O$7=$P$7,O23=P23)*EXACT($O$7<$P$7,O23<P23)),$AO$7,0))) -> 0 | R23: 1 | S23: 2 | T23: =IF(OR(EXACT($R$7,R23)*(EXACT($S$7,S23)))=TRUE,$AO$9,IF(($S$7-$R$7=S23-R23),$AO$8,IF(OR(EXACT($R$7>$S$7,R23>S23)*EXACT($R$7=$S$7,R23=S23)*EXACT($R$7<$S$7,R23<S23)),$AO$7,0))) -> 2 | U23: 3 | V23: 1 | W23: =IF(OR(EXACT($U$7,U23)*(EXACT($V$7,V23)))=TRUE,$AO$9,IF(($V$7-$U$7=V23-U23),$AO$8,IF(OR(EXACT($U$7>$V$7,U23>V23)*EXACT($U$7=$V$7,U23=V23)*EXACT($U$7<$V$7,U23<V23)),$AO$7,0))) -> 2 | X23: 0 | Y23: 2 | Z23: =IF(OR(EXACT($X$7,X23)*(EXACT($Y$7,Y23)))=TRUE,$AO$9,IF(($Y$7-$X$7=Y23-X23),$AO$8,IF(OR(EXACT($X$7>$Y$7,X23>Y23)*EXACT($X$7=$Y$7,X23=Y23)*EXACT($X$7<$Y$7,X23<Y23)),$AO$7,0))) -> 0 | AA23: 0 | AB23: 1 | AC23: =IF(OR(EXACT($AA$7,AA23)*(EXACT($AB$7,AB23)))=TRUE,$AO$9,IF(($AB$7-$AA$7=AB23-AA23),$AO$8,IF(OR(EXACT($AA$7>$AB$7,AA23>AB23)*EXACT($AA$7=$AB$7,AA23=AB23)*EXACT($AA$7<$AB$7,AA23<AB23)),$AO$7,0)))*4 -> 0 | AG23: =E23+K23+Q23+T23+N23+H23+W23+Z23+AC23+AF23 -> 8 | AJ23: =AG23+AH23 -> 8 | AK23: =RANK(AJ23,$AJ$8:$AJ$27) -> 14
A24: =AK24 -> 2 | B24: Thomas Bülles | C24: 1 | D24: 2 | E24: =IF(OR(EXACT($C$7,C24)*(EXACT($D$7,D24)))=TRUE,$AO$9,IF(($D$7-$C$7=D24-C24),$AO$8,IF(OR(EXACT($C$7>$D$7,C24>D24)*EXACT($C$7=$D$7,C24=D24)*EXACT($C$7<$D$7,C24<D24)),$AO$7,0))) -> 2 | F24: 1 | G24: 0 | H24: =IF(OR(EXACT($F$7,F24)*(EXACT($G$7,G24)))=TRUE,$AO$9,IF(($G$7-$F$7=G24-F24),$AO$8,IF(OR(EXACT($F$7>$G$7,F24>G24)*EXACT($F$7=$G$7,F24=G24)*EXACT($F$7<$G$7,F24<G24)),$AO$7,0))) -> 2 | I24: 2 | J24: 0 | K24: =IF(OR(EXACT($I$7,I24)*(EXACT($J$7,J24)))=TRUE,$AO$9,IF(($J$7-$I$7=J24-I24),$AO$8,IF(OR(EXACT($I$7>$J$7,I24>J24)*EXACT($I$7=$J$7,I24=J24)*EXACT($I$7<$J$7,I24<J24)),$AO$7,0))) -> 3 | L24: 1 | M24: 1 | N24: =IF(OR(EXACT($L$7,L24)*(EXACT($M$7,M24)))=TRUE,$AO$9,IF(($M$7-$L$7=M24-L24),$AO$8,IF(OR(EXACT($L$7>$M$7,L24>M24)*EXACT($L$7=$M$7,L24=M24)*EXACT($L$7<$M$7,L24<M24)),$AO$7,0))) -> 3 | O24: 0 | P24: 1 | Q24: =IF(OR(EXACT($O$7,O24)*(EXACT($P$7,P24)))=TRUE,$AO$9,IF(($P$7-$O$7=P24-O24),$AO$8,IF(OR(EXACT($O$7>$P$7,O24>P24)*EXACT($O$7=$P$7,O24=P24)*EXACT($O$7<$P$7,O24<P24)),$AO$7,0))) -> 3 | R24: 1 | S24: 2 | T24: =IF(OR(EXACT($R$7,R24)*(EXACT($S$7,S24)))=TRUE,$AO$9,IF(($S$7-$R$7=S24-R24),$AO$8,IF(OR(EXACT($R$7>$S$7,R24>S24)*EXACT($R$7=$S$7,R24=S24)*EXACT($R$7<$S$7,R24<S24)),$AO$7,0))) -> 2 | U24: 2 | V24: 0 | W24: =IF(OR(EXACT($U$7,U24)*(EXACT($V$7,V24)))=TRUE,$AO$9,IF(($V$7-$U$7=V24-U24),$AO$8,IF(OR(EXACT($U$7>$V$7,U24>V24)*EXACT($U$7=$V$7,U24=V24)*EXACT($U$7<$V$7,U24<V24)),$AO$7,0))) -> 2 | X24: 1 | Y24: 3 | Z24: =IF(OR(EXACT($X$7,X24)*(EXACT($Y$7,Y24)))=TRUE,$AO$9,IF(($Y$7-$X$7=Y24-X24),$AO$8,IF(OR(EXACT($X$7>$Y$7,X24>Y24)*EXACT($X$7=$Y$7,X24=Y24)*EXACT($X$7<$Y$7,X24<Y24)),$AO$7,0))) -> 0 | AA24: 0 | AB24: 1 | AC24: =IF(OR(EXACT($AA$7,AA24)*(EXACT($AB$7,AB24)))=TRUE,$AO$9,IF(($AB$7-$AA$7=AB24-AA24),$AO$8,IF(OR(EXACT($AA$7>$AB$7,AA24>AB24)*EXACT($AA$7=$AB$7,AA24=AB24)*EXACT($AA$7<$AB$7,AA24<AB24)),$AO$7,0)))*4 -> 0 | AG24: =E24+K24+Q24+T24+N24+H24+W24+Z24+AC24+AF24 -> 17 | AJ24: =AG24+AH24 -> 17 | AK24: =RANK(AJ24,$AJ$8:$AJ$27) -> 2
A25: =AK25 -> 12 | B25: UltraGE | C25: 1 | D25: 2 | E25: =IF(OR(EXACT($C$7,C25)*(EXACT($D$7,D25)))=TRUE,$AO$9,IF(($D$7-$C$7=D25-C25),$AO$8,IF(OR(EXACT($C$7>$D$7,C25>D25)*EXACT($C$7=$D$7,C25=D25)*EXACT($C$7<$D$7,C25<D25)),$AO$7,0))) -> 2 | F25: 2 | G25: 1 | H25: =IF(OR(EXACT($F$7,F25)*(EXACT($G$7,G25)))=TRUE,$AO$9,IF(($G$7-$F$7=G25-F25),$AO$8,IF(OR(EXACT($F$7>$G$7,F25>G25)*EXACT($F$7=$G$7,F25=G25)*EXACT($F$7<$G$7,F25<G25)),$AO$7,0))) -> 2 | I25: 2 | J25: 0 | K25: =IF(OR(EXACT($I$7,I25)*(EXACT($J$7,J25)))=TRUE,$AO$9,IF(($J$7-$I$7=J25-I25),$AO$8,IF(OR(EXACT($I$7>$J$7,I25>J25)*EXACT($I$7=$J$7,I25=J25)*EXACT($I$7<$J$7,I25<J25)),$AO$7,0))) -> 3 | L25: 2 | M25: 1 | N25: =IF(OR(EXACT($L$7,L25)*(EXACT($M$7,M25)))=TRUE,$AO$9,IF(($M$7-$L$7=M25-L25),$AO$8,IF(OR(EXACT($L$7>$M$7,L25>M25)*EXACT($L$7=$M$7,L25=M25)*EXACT($L$7<$M$7,L25<M25)),$AO$7,0))) -> 0 | O25: 2 | P25: 1 | Q25: =IF(OR(EXACT($O$7,O25)*(EXACT($P$7,P25)))=TRUE,$AO$9,IF(($P$7-$O$7=P25-O25),$AO$8,IF(OR(EXACT($O$7>$P$7,O25>P25)*EXACT($O$7=$P$7,O25=P25)*EXACT($O$7<$P$7,O25<P25)),$AO$7,0))) -> 0 | R25: 1 | S25: 2 | T25: =IF(OR(EXACT($R$7,R25)*(EXACT($S$7,S25)))=TRUE,$AO$9,IF(($S$7-$R$7=S25-R25),$AO$8,IF(OR(EXACT($R$7>$S$7,R25>S25)*EXACT($R$7=$S$7,R25=S25)*EXACT($R$7<$S$7,R25<S25)),$AO$7,0))) -> 2 | U25: 2 | V25: 2 | W25: =IF(OR(EXACT($U$7,U25)*(EXACT($V$7,V25)))=TRUE,$AO$9,IF(($V$7-$U$7=V25-U25),$AO$8,IF(OR(EXACT($U$7>$V$7,U25>V25)*EXACT($U$7=$V$7,U25=V25)*EXACT($U$7<$V$7,U25<V25)),$AO$7,0))) -> 0 | X25: 1 | Y25: 3 | Z25: =IF(OR(EXACT($X$7,X25)*(EXACT($Y$7,Y25)))=TRUE,$AO$9,IF(($Y$7-$X$7=Y25-X25),$AO$8,IF(OR(EXACT($X$7>$Y$7,X25>Y25)*EXACT($X$7=$Y$7,X25=Y25)*EXACT($X$7<$Y$7,X25<Y25)),$AO$7,0))) -> 0 | AA25: 1 | AB25: 2 | AC25: =IF(OR(EXACT($AA$7,AA25)*(EXACT($AB$7,AB25)))=TRUE,$AO$9,IF(($AB$7-$AA$7=AB25-AA25),$AO$8,IF(OR(EXACT($AA$7>$AB$7,AA25>AB25)*EXACT($AA$7=$AB$7,AA25=AB25)*EXACT($AA$7<$AB$7,AA25<AB25)),$AO$7,0)))*4 -> 0 | AG25: =E25+K25+Q25+T25+N25+H25+W25+Z25+AC25+AF25 -> 9 | AJ25: =AG25+AH25 -> 9 | AK25: =RANK(AJ25,$AJ$8:$AJ$27) -> 12
A26: =AK26 -> 18 | E26: =IF(OR(EXACT($C$7,C26)*(EXACT($D$7,D26)))=TRUE,$AO$9,IF(($D$7-$C$7=D26-C26),$AO$8,IF(OR(EXACT($C$7>$D$7,C26>D26)*EXACT($C$7=$D$7,C26=D26)*EXACT($C$7<$D$7,C26<D26)),$AO$7,0))) -> 0 | H26: =IF(OR(EXACT($F$7,F26)*(EXACT($G$7,G26)))=TRUE,$AO$9,IF(($G$7-$F$7=G26-F26),$AO$8,IF(OR(EXACT($F$7>$G$7,F26>G26)*EXACT($F$7=$G$7,F26=G26)*EXACT($F$7<$G$7,F26<G26)),$AO$7,0))) -> 0 | K26: =IF(OR(EXACT($I$7,I26)*(EXACT($J$7,J26)))=TRUE,$AO$9,IF(($J$7-$I$7=J26-I26),$AO$8,IF(OR(EXACT($I$7>$J$7,I26>J26)*EXACT($I$7=$J$7,I26=J26)*EXACT($I$7<$J$7,I26<J26)),$AO$7,0))) -> 0 | N26: =IF(OR(EXACT($L$7,L26)*(EXACT($M$7,M26)))=TRUE,$AO$9,IF(($M$7-$L$7=M26-L26),$AO$8,IF(OR(EXACT($L$7>$M$7,L26>M26)*EXACT($L$7=$M$7,L26=M26)*EXACT($L$7<$M$7,L26<M26)),$AO$7,0))) -> 3 | Q26: =IF(OR(EXACT($O$7,O26)*(EXACT($P$7,P26)))=TRUE,$AO$9,IF(($P$7-$O$7=P26-O26),$AO$8,IF(OR(EXACT($O$7>$P$7,O26>P26)*EXACT($O$7=$P$7,O26=P26)*EXACT($O$7<$P$7,O26<P26)),$AO$7,0))) -> 0 | T26: =IF(OR(EXACT($R$7,R26)*(EXACT($S$7,S26)))=TRUE,$AO$9,IF(($S$7-$R$7=S26-R26),$AO$8,IF(OR(EXACT($R$7>$S$7,R26>S26)*EXACT($R$7=$S$7,R26=S26)*EXACT($R$7<$S$7,R26<S26)),$AO$7,0))) -> 0 | W26: =IF(OR(EXACT($U$7,U26)*(EXACT($V$7,V26)))=TRUE,$AO$9,IF(($V$7-$U$7=V26-U26),$AO$8,IF(OR(EXACT($U$7>$V$7,U26>V26)*EXACT($U$7=$V$7,U26=V26)*EXACT($U$7<$V$7,U26<V26)),$AO$7,0))) -> 0 | Z26: =IF(OR(EXACT($X$7,X26)*(EXACT($Y$7,Y26)))=TRUE,$AO$9,IF(($Y$7-$X$7=Y26-X26),$AO$8,IF(OR(EXACT($X$7>$Y$7,X26>Y26)*EXACT($X$7=$Y$7,X26=Y26)*EXACT($X$7<$Y$7,X26<Y26)),$AO$7,0))) -> 3 | AC26: =IF(OR(EXACT($AA$7,AA26)*(EXACT($AB$7,AB26)))=TRUE,$AO$9,IF(($AB$7-$AA$7=AB26-AA26),$AO$8,IF(OR(EXACT($AA$7>$AB$7,AA26>AB26)*EXACT($AA$7=$AB$7,AA26=AB26)*EXACT($AA$7<$AB$7,AA26<AB26)),$AO$7,0))) -> 0 | AG26: =E26+K26+Q26+T26+N26+H26+W26+Z26+AC26+AF26 -> 6 | AJ26: =AG26+AH26 -> 6 | AK26: =RANK(AJ26,$AJ$8:$AJ$27) -> 18
A27: =AK27 -> 18 | E27: =IF(OR(EXACT($C$7,C27)*(EXACT($D$7,D27)))=TRUE,$AO$9,IF(($D$7-$C$7=D27-C27),$AO$8,IF(OR(EXACT($C$7>$D$7,C27>D27)*EXACT($C$7=$D$7,C27=D27)*EXACT($C$7<$D$7,C27<D27)),$AO$7,0))) -> 0 | H27: =IF(OR(EXACT($F$7,F27)*(EXACT($G$7,G27)))=TRUE,$AO$9,IF(($G$7-$F$7=G27-F27),$AO$8,IF(OR(EXACT($F$7>$G$7,F27>G27)*EXACT($F$7=$G$7,F27=G27)*EXACT($F$7<$G$7,F27<G27)),$AO$7,0))) -> 0 | K27: =IF(OR(EXACT($I$7,I27)*(EXACT($J$7,J27)))=TRUE,$AO$9,IF(($J$7-$I$7=J27-I27),$AO$8,IF(OR(EXACT($I$7>$J$7,I27>J27)*EXACT($I$7=$J$7,I27=J27)*EXACT($I$7<$J$7,I27<J27)),$AO$7,0))) -> 0 | N27: =IF(OR(EXACT($L$7,L27)*(EXACT($M$7,M27)))=TRUE,$AO$9,IF(($M$7-$L$7=M27-L27),$AO$8,IF(OR(EXACT($L$7>$M$7,L27>M27)*EXACT($L$7=$M$7,L27=M27)*EXACT($L$7<$M$7,L27<M27)),$AO$7,0))) -> 3 | Q27: =IF(OR(EXACT($O$7,O27)*(EXACT($P$7,P27)))=TRUE,$AO$9,IF(($P$7-$O$7=P27-O27),$AO$8,IF(OR(EXACT($O$7>$P$7,O27>P27)*EXACT($O$7=$P$7,O27=P27)*EXACT($O$7<$P$7,O27<P27)),$AO$7,0))) -> 0 | T27: =IF(OR(EXACT($R$7,R27)*(EXACT($S$7,S27)))=TRUE,$AO$9,IF(($S$7-$R$7=S27-R27),$AO$8,IF(OR(EXACT($R$7>$S$7,R27>S27)*EXACT($R$7=$S$7,R27=S27)*EXACT($R$7<$S$7,R27<S27)),$AO$7,0))) -> 0 | W27: =IF(OR(EXACT($U$7,U27)*(EXACT($V$7,V27)))=TRUE,$AO$9,IF(($V$7-$U$7=V27-U27),$AO$8,IF(OR(EXACT($U$7>$V$7,U27>V27)*EXACT($U$7=$V$7,U27=V27)*EXACT($U$7<$V$7,U27<V27)),$AO$7,0))) -> 0 | Z27: =IF(OR(EXACT($X$7,X27)*(EXACT($Y$7,Y27)))=TRUE,$AO$9,IF(($Y$7-$X$7=Y27-X27),$AO$8,IF(OR(EXACT($X$7>$Y$7,X27>Y27)*EXACT($X$7=$Y$7,X27=Y27)*EXACT($X$7<$Y$7,X27<Y27)),$AO$7,0))) -> 3 | AC27: =IF(OR(EXACT($AA$7,AA27)*(EXACT($AB$7,AB27)))=TRUE,$AO$9,IF(($AB$7-$AA$7=AB27-AA27),$AO$8,IF(OR(EXACT($AA$7>$AB$7,AA27>AB27)*EXACT($AA$7=$AB$7,AA27=AB27)*EXACT($AA$7<$AB$7,AA27<AB27)),$AO$7,0))) -> 0 | AG27: =E27+K27+Q27+T27+N27+H27+W27+Z27+AC27+AF27 -> 6 | AJ27: =AG27+AH27 -> 6 | AK27: =RANK(AJ27,$AJ$8:$AJ$27) -> 18

Sheet 2.Spieltag 
A4: 2. Spieltag | C4: Freiburg | F4: Leverkusen | I4: Leipzig | L4: Hoffenheim | O4: Hertha BSC | R4: Bremen | U4: Schalke 04 | X4: Mainz | AA4: München
AG5: G E S A M T W E R T U N G
C6: Dortmund | F6: Augsburg | I6: 1.FC Köln | L6: Bochum | O6: Frankfurt | R6: Stuttgart | U6: Gladbach | X6: Union Berlin | AA6: Wolfsburg | AG6: Punkte | AH6: Punkte | AI6: Platz | AJ6: Gesamt | AK6: Platz | AL6: PUNKTEVERTEILUNG
A7: PLATZ | B7: ERGEBNISSE=> | C7: 1 | D7: 3 | E7: Pkt. | F7: 1 | G7: 2 | H7: Pkt. | I7: 2 | J7: 2 | K7: Pkt. | L7: 3 | M7: 2 | N7: Pkt. | O7: 1 | P7: 1 | Q7: Pkt. | R7: 2 | S7: 2 | T7: Pkt. | U7: 2 | V7: 2 | W7: Pkt. | X7: 0 | Y7: 0 | Z7: Pkt. | AA7: 2 | AB7: 0 | AC7: Pkt. | AG7: Spieltag | AH7: bisher | AI7: bisher | AJ7: Punkte | AL7: richtige Tendenz | AO7: 2
A8: =AK8 -> 18 | B8: ='1.Spieltag'!B8 -> Enjoi | AG8: =E8+H8+K8+N8+Q8+T8+W8+Z8+AC8+AF8 -> 0 | AH8: ='1.Spieltag'!AJ8 -> 10 | AI8: ='1.Spieltag'!AK8 -> 10 | AJ8: =AG8+AH8 -> 10 | AK8: =RANK(AJ8,$AJ$8:$AJ$27) -> 18 | AL8: richtige Tend. + korr. Torabst. | AO8: 3
A9: =AK9 -> 13 | B9: ='1.Spieltag'!B9 -> FlorianS04 | C9: 1 | D9: 0 | E9: =IF(OR(EXACT($C$7,C9)*(EXACT($D$7,D9)))=TRUE,$AO$9,IF(($D$7-$C$7=D9-C9),$AO$8,IF(OR(EXACT($C$7>$D$7,C9>D9)*EXACT($C$7=$D$7,C9=D9)*EXACT($C$7<$D$7,C9<D9)),$AO$7,0))) -> 0 | F9: 3 | G9: 1 | H9: =IF(OR(EXACT($F$7,F9)*(EXACT($G$7,G9)))=TRUE,$AO$9,IF(($G$7-$F$7=G9-F9),$AO$8,IF(OR(EXACT($F$7>$G$7,F9>G9)*EXACT($F$7=$G$7,F9=G9)*EXACT($F$7<$G$7,F9<G9)),$AO$7,0))) -> 0 | I9: 3 | J9: 1 | K9: =IF(OR(EXACT($I$7,I9)*(EXACT($J$7,J9)))=TRUE,$AO$9,IF(($J$7-$I$7=J9-I9),$AO$8,IF(OR(EXACT($I$7>$J$7,I9>J9)*EXACT($I$7=$J$7,I9=J9)*EXACT($I$7<$J$7,I9<J9)),$AO$7,0))) -> 0 | L9: 1 | M9: 1 | N9: =IF(OR(EXACT($L$7,L9)*(EXACT($M$7,M9)))=TRUE,$AO$9,IF(($M$7-$L$7=M9-L9),$AO$8,IF(OR(EXACT($L$7>$M$7,L9>M9)*EXACT($L$7=$M$7,L9=M9)*EXACT($L$7<$M$7,L9<M9)),$AO$7,0))) -> 0 | O9: 1 | P9: 2 | Q9: =IF(OR(EXACT($O$7,O9)*(EXACT($P$7,P9)))=TRUE,$AO$9,IF(($P$7-$O$7=P9-O9),$AO$8,IF(OR(EXACT($O$7>$P$7,O9>P9)*EXACT($O$7=$P$7,O9=P9)*EXACT($O$7<$P$7,O9<P9)),$AO$7,0))) -> 0 | R9: 2 | S9: 2 | T9: =IF(OR(EXACT($R$7,R9)*(EXACT($S$7,S9)))=TRUE,$AO$9,IF(($S$7-$R$7=S9-R9),$AO$8,IF(OR(EXACT($R$7>$S$7,R9>S9)*EXACT($R$7=$S$7,R9=S9)*EXACT($R$7<$S$7,R9<S9)),$AO$7,0))) -> 5 | U9: 1 | V9: 2 | W9: =IF(OR(EXACT($U$7,U9)*(EXACT($V$7,V9)))=TRUE,$AO$9,IF(($V$7-$U$7=V9-U9),$AO$8,IF(OR(EXACT($U$7>$V$7,U9>V9)*EXACT($U$7=$V$7,U9=V9)*EXACT($U$7<$V$7,U9<V9)),$AO$7,0)))*1 -> 0 | X9: 1 | Y9: 3 | Z9: =IF(OR(EXACT($X$7,X9)*(EXACT($Y$7,Y9)))=TRUE,$AO$9,IF(($Y$7-$X$7=Y9-X9),$AO$8,IF(OR(EXACT($X$7>$Y$7,X9>Y9)*EXACT($X$7=$Y$7,X9=Y9)*EXACT($X$7<$Y$7,X9<Y9)),$AO$7,0))) -> 0 | AA9: 4 | AB9: 1 | AC9: =IF(OR(EXACT($AA$7,AA9)*(EXACT($AB$7,AB9)))=TRUE,$AO$9,IF(($AB$7-$AA$7=AB9-AA9),$AO$8,IF(OR(EXACT($AA$7>$AB$7,AA9>AB9)*EXACT($AA$7=$AB$7,AA9=AB9)*EXACT($AA$7<$AB$7,AA9<AB9)),$AO$7,0))) -> 2 | AG9: =E9+H9+K9+N9+Q9+T9+W9+Z9+AC9+AF9 -> 7 | AH9: ='1.Spieltag'!AJ9 -> 9 | AI9: ='1.Spieltag'!AK9 -> 12 | AJ9: =AG9+AH9 -> 16 | AK9: =RANK(AJ9,$AJ$8:$AJ$27) -> 13 | AL9: richtiges Ergebnis | AO9: 5
A10: =AK10 -> 7 | B10: ='1.Spieltag'!B10 -> Franzi04 | C10: 1 | D10: 3 | E10: =IF(OR(EXACT($C$7,C10)*(EXACT($D$7,D10)))=TRUE,$AO$9,IF(($D$7-$C$7=D10-C10),$AO$8,IF(OR(EXACT($C$7>$D$7,C10>D10)*EXACT($C$7=$D$7,C10=D10)*EXACT($C$7<$D$7,C10<D10)),$AO$7,0))) -> 5 | F10: 2 | G10: 1 | H10: =IF(OR(EXACT($F$7,F10)*(EXACT($G$7,G10)))=TRUE,$AO$9,IF(($G$7-$F$7=G10-F10),$AO$8,IF(OR(EXACT($F$7>$G$7,F10>G10)*EXACT($F$7=$G$7,F10=G10)*EXACT($F$7<$G$7,F10<G10)),$AO$7,0))) -> 0 | I10: 2 | J10: 1 | K10: =IF(OR(EXACT($I$7,I10)*(EXACT($J$7,J10)))=TRUE,$AO$9,IF(($J$7-$I$7=J10-I10),$AO$8,IF(OR(EXACT($I$7>$J$7,I10>J10)*EXACT($I$7=$J$7,I10=J10)*EXACT($I$7<$J$7,I10<J10)),$AO$7,0))) -> 0 | L10: 2 | M10: 1 | N10: 1 | O10: 1 | P10: 2 | Q10: =IF(OR(EXACT($O$7,O10)*(EXACT($P$7,P10)))=TRUE,$AO$9,IF(($P$7-$O$7=P10-O10),$AO$8,IF(OR(EXACT($O$7>$P$7,O10>P10)*EXACT($O$7=$P$7,O10=P10)*EXACT($O$7<$P$7,O10<P10)),$AO$7,0))) -> 0 | R10: 2 | S10: 1 | T10: =IF(OR(EXACT($R$7,R10)*(EXACT($S$7,S10)))=TRUE,$AO$9,IF(($S$7-$R$7=S10-R10),$AO$8,IF(OR(EXACT($R$7>$S$7,R10>S10)*EXACT($R$7=$S$7,R10=S10)*EXACT($R$7<$S$7,R10<S10)),$AO$7,0))) -> 0 | U10: 2 | V10: 1 | W10: =IF(OR(EXACT($U$7,U10)*(EXACT($V$7,V10)))=TRUE,$AO$9,IF(($V$7-$U$7=V10-U10),$AO$8,IF(OR(EXACT($U$7>$V$7,U10>V10)*EXACT($U$7=$V$7,U10=V10)*EXACT($U$7<$V$7,U10<V10)),$AO$7,0)))*4 -> 0 | X10: 2 | Y10: 1 | Z10: =IF(OR(EXACT($X$7,X10)*(EXACT($Y$7,Y10)))=TRUE,$AO$9,IF(($Y$7-$X$7=Y10-X10),$AO$8,IF(OR(EXACT($X$7>$Y$7,X10>Y10)*EXACT($X$7=$Y$7,X10=Y10)*EXACT($X$7<$Y$7,X10<Y10)),$AO$7,0))) -> 0 | AA10: 4 | AB10: 0 | AC10: =IF(OR(EXACT($AA$7,AA10)*(EXACT($AB$7,AB10)))=TRUE,$AO$9,IF(($AB$7-$AA$7=AB10-AA10),$AO$8,IF(OR(EXACT($AA$7>$AB$7,AA10>AB10)*EXACT($AA$7=$AB$7,AA10=AB10)*EXACT($AA$7<$AB$7,AA10<AB10)),$AO$7,0))) -> 2 | AG10: =E10+H10+K10+N10+Q10+T10+W10+Z10+AC10+AF10 -> 8 | AH10: ='1.Spieltag'!AJ10 -> 11 | AI10: ='1.Spieltag'!AK10 -> 7 | AJ10: =AG10+AH10 -> 19 | AK10: =RANK(AJ10,$AJ$8:$AJ$27) -> 7
A11: =AK11 -> 3 | B11: ='1.Spieltag'!B11 -> jupp04 | C11: 2 | D11: 2 | E11: =IF(OR(EXACT($C$7,C11)*(EXACT($D$7,D11)))=TRUE,$AO$9,IF(($D$7-$C$7=D11-C11),$AO$8,IF(OR(EXACT($C$7>$D$7,C11>D11)*EXACT($C$7=$D$7,C11=D11)*EXACT($C$7<$D$7,C11<D11)),$AO$7,0))) -> 0 | F11: 3 | G11: 1 | H11: =IF(OR(EXACT($F$7,F11)*(EXACT($G$7,G11)))=TRUE,$AO$9,IF(($G$7-$F$7=G11-F11),$AO$8,IF(OR(EXACT($F$7>$G$7,F11>G11)*EXACT($F$7=$G$7,F11=G11)*EXACT($F$7<$G$7,F11<G11)),$AO$7,0))) -> 0 | I11: 3 | J11: 1 | K11: =IF(OR(EXACT($I$7,I11)*(EXACT($J$7,J11)))=TRUE,$AO$9,IF(($J$7-$I$7=J11-I11),$AO$8,IF(OR(EXACT($I$7>$J$7,I11>J11)*EXACT($I$7=$J$7,I11=J11)*EXACT($I$7<$J$7,I11<J11)),$AO$7,0))) -> 0 | L11: 3 | M11: 1 | N11: =IF(OR(EXACT($L$7,L11)*(EXACT($M$7,M11)))=TRUE,$AO$9,IF(($M$7-$L$7=M11-L11),$AO$8,IF(OR(EXACT($L$7>$M$7,L11>M11)*EXACT($L$7=$M$7,L11=M11)*EXACT($L$7<$M$7,L11<M11)),$AO$7,0))) -> 2 | O11: 1 | P11: 2 | Q11: =IF(OR(EXACT($O$7,O11)*(EXACT($P$7,P11)))=TRUE,$AO$9,IF(($P$7-$O$7=P11-O11),$AO$8,IF(OR(EXACT($O$7>$P$7,O11>P11)*EXACT($O$7=$P$7,O11=P11)*EXACT($O$7<$P$7,O11<P11)),$AO$7,0))) -> 0 | R11: 2 | S11: 1 | T11: =IF(OR(EXACT($R$7,R11)*(EXACT($S$7,S11)))=TRUE,$AO$9,IF(($S$7-$R$7=S11-R11),$AO$8,IF(OR(EXACT($R$7>$S$7,R11>S11)*EXACT($R$7=$S$7,R11=S11)*EXACT($R$7<$S$7,R11<S11)),$AO$7,0))) -> 0 | U11: 2 | V11: 1 | W11: =IF(OR(EXACT($U$7,U11)*(EXACT($V$7,V11)))=TRUE,$AO$9,IF(($V$7-$U$7=V11-U11),$AO$8,IF(OR(EXACT($U$7>$V$7,U11>V11)*EXACT($U$7=$V$7,U11=V11)*EXACT($U$7<$V$7,U11<V11)),$AO$7,0)))*4 -> 0 | X11: 1 | Y11: 2 | Z11: =IF(OR(EXACT($X$7,X11)*(EXACT($Y$7,Y11)))=TRUE,$AO$9,IF(($Y$7-$X$7=Y11-X11),$AO$8,IF(OR(EXACT($X$7>$Y$7,X11>Y11)*EXACT($X$7=$Y$7,X11=Y11)*EXACT($X$7<$Y$7,X11<Y11)),$AO$7,0))) -> 0 | AA11: 4 | AB11: 0 | AC11: =IF(OR(EXACT($AA$7,AA11)*(EXACT($AB$7,AB11)))=TRUE,$AO$9,IF(($AB$7-$AA$7=AB11-AA11),$AO$8,IF(OR(EXACT($AA$7>$AB$7,AA11>AB11)*EXACT($AA$7=$AB$7,AA11=AB11)*EXACT($AA$7<$AB$7,AA11<AB11)),$AO$7,0))) -> 2 | AG11: =E11+H11+K11+N11+Q11+T11+W11+Z11+AC11+AF11 -> 4 | AH11: ='1.Spieltag'!AJ11 -> 19 | AI11: ='1.Spieltag'!AK11 -> 1 | AJ11: =AG11+AH11 -> 23 | AK11: =RANK(AJ11,$AJ$8:$AJ$27) -> 3
A12: =AK12 -> 10 | B12: ='1.Spieltag'!B12 -> Lola04 | C12: 2 | D12: 1 | E12: =IF(OR(EXACT($C$7,C12)*(EXACT($D$7,D12)))=TRUE,$AO$9,IF(($D$7-$C$7=D12-C12),$AO$8,IF(OR(EXACT($C$7>$D$7,C12>D12)*EXACT($C$7=$D$7,C12=D12)*EXACT($C$7<$D$7,C12<D12)),$AO$7,0))) -> 0 | F12: 3 | G12: 1 | H12: =IF(OR(EXACT($F$7,F12)*(EXACT($G$7,G12)))=TRUE,$AO$9,IF(($G$7-$F$7=G12-F12),$AO$8,IF(OR(EXACT($F$7>$G$7,F12>G12)*EXACT($F$7=$G$7,F12=G12)*EXACT($F$7<$G$7,F12<G12)),$AO$7,0))) -> 0 | I12: 3 | J12: 1 | K12: =IF(OR(EXACT($I$7,I12)*(EXACT($J$7,J12)))=TRUE,$AO$9,IF(($J$7-$I$7=J12-I12),$AO$8,IF(OR(EXACT($I$7>$J$7,I12>J12)*EXACT($I$7=$J$7,I12=J12)*EXACT($I$7<$J$7,I12<J12)),$AO$7,0))) -> 0 | L12: 2 | M12: 0 | N12: =IF(OR(EXACT($L$7,L12)*(EXACT($M$7,M12)))=TRUE,$AO$9,IF(($M$7-$L$7=M12-L12),$AO$8,IF(OR(EXACT($L$7>$M$7,L12>M12)*EXACT($L$7=$M$7,L12=M12)*EXACT($L$7<$M$7,L12<M12)),$AO$7,0))) -> 2 | O12: 1 | P12: 2 | Q12: =IF(OR(EXACT($O$7,O12)*(EXACT($P$7,P12)))=TRUE,$AO$9,IF(($P$7-$O$7=P12-O12),$AO$8,IF(OR(EXACT($O$7>$P$7,O12>P12)*EXACT($O$7=$P$7,O12=P12)*EXACT($O$7<$P$7,O12<P12)),$AO$7,0))) -> 0 | R12: 2 | S12: 1 | T12: =IF(OR(EXACT($R$7,R12)*(EXACT($S$7,S12)))=TRUE,$AO$9,IF(($S$7-$R$7=S12-R12),$AO$8,IF(OR(EXACT($R$7>$S$7,R12>S12)*EXACT($R$7=$S$7,R12=S12)*EXACT($R$7<$S$7,R12<S12)),$AO$7,0))) -> 0 | U12: 1 | V12: 0 | W12: =IF(OR(EXACT($U$7,U12)*(EXACT($V$7,V12)))=TRUE,$AO$9,IF(($V$7-$U$7=V12-U12),$AO$8,IF(OR(EXACT($U$7>$V$7,U12>V12)*EXACT($U$7=$V$7,U12=V12)*EXACT($U$7<$V$7,U12<V12)),$AO$7,0)))*4 -> 0 | X12: 1 | Y12: 1 | Z12: =IF(OR(EXACT($X$7,X12)*(EXACT($Y$7,Y12)))=TRUE,$AO$9,IF(($Y$7-$X$7=Y12-X12),$AO$8,IF(OR(EXACT($X$7>$Y$7,X12>Y12)*EXACT($X$7=$Y$7,X12=Y12)*EXACT($X$7<$Y$7,X12<Y12)),$AO$7,0))) -> 3 | AA12: 5 | AB12: 1 | AC12: =IF(OR(EXACT($AA$7,AA12)*(EXACT($AB$7,AB12)))=TRUE,$AO$9,IF(($AB$7-$AA$7=AB12-AA12),$AO$8,IF(OR(EXACT($AA$7>$AB$7,AA12>AB12)*EXACT($AA$7=$AB$7,AA12=AB12)*EXACT($AA$7<$AB$7,AA12<AB12)),$AO$7,0))) -> 2 | AG12: =E12+H12+K12+N12+Q12+T12+W12+Z12+AC12+AF12 -> 7 | AH12: ='1.Spieltag'!AJ12 -> 10 | AI12: ='1.Spieltag'!AK12 -> 10 | AJ12: =AG12+AH12 -> 17 | AK12: =RANK(AJ12,$AJ$8:$AJ$27) -> 10
A13: =AK13 -> 3 | B13: ='1.Spieltag'!B13 -> Master1 | C13: 2 | D13: 2 | E13: =IF(OR(EXACT($C$7,C13)*(EXACT($D$7,D13)))=TRUE,$AO$9,IF(($D$7-$C$7=D13-C13),$AO$8,IF(OR(EXACT($C$7>$D$7,C13>D13)*EXACT($C$7=$D$7,C13=D13)*EXACT($C$7<$D$7,C13<D13)),$AO$7,0))) -> 0 | F13: 2 | G13: 0 | H13: =IF(OR(EXACT($F$7,F13)*(EXACT($G$7,G13)))=TRUE,$AO$9,IF(($G$7-$F$7=G13-F13),$AO$8,IF(OR(EXACT($F$7>$G$7,F13>G13)*EXACT($F$7=$G$7,F13=G13)*EXACT($F$7<$G$7,F13<G13)),$AO$7,0))) -> 0 | I13: 3 | J13: 0 | K13: =IF(OR(EXACT($I$7,I13)*(EXACT($J$7,J13)))=TRUE,$AO$9,IF(($J$7-$I$7=J13-I13),$AO$8,IF(OR(EXACT($I$7>$J$7,I13>J13)*EXACT($I$7=$J$7,I13=J13)*EXACT($I$7<$J$7,I13<J13)),$AO$7,0))) -> 0 | L13: 3 | M13: 1 | N13: =IF(OR(EXACT($L$7,L13)*(EXACT($M$7,M13)))=TRUE,$AO$9,IF(($M$7-$L$7=M13-L13),$AO$8,IF(OR(EXACT($L$7>$M$7,L13>M13)*EXACT($L$7=$M$7,L13=M13)*EXACT($L$7<$M$7,L13<M13)),$AO$7,0))) -> 2 | O13: 1 | P13: 1 | Q13: =IF(OR(EXACT($O$7,O13)*(EXACT($P$7,P13)))=TRUE,$AO$9,IF(($P$7-$O$7=P13-O13),$AO$8,IF(OR(EXACT($O$7>$P$7,O13>P13)*EXACT($O$7=$P$7,O13=P13)*EXACT($O$7<$P$7,O13<P13)),$AO$7,0))) -> 5 | R13: 2 | S13: 2 | T13: =IF(OR(EXACT($R$7,R13)*(EXACT($S$7,S13)))=TRUE,$AO$9,IF(($S$7-$R$7=S13-R13),$AO$8,IF(OR(EXACT($R$7>$S$7,R13>S13)*EXACT($R$7=$S$7,R13=S13)*EXACT($R$7<$S$7,R13<S13)),$AO$7,0))) -> 5 | U13: 2 | V13: 1 | W13: =IF(OR(EXACT($U$7,U13)*(EXACT($V$7,V13)))=TRUE,$AO$9,IF(($V$7-$U$7=V13-U13),$AO$8,IF(OR(EXACT($U$7>$V$7,U13>V13)*EXACT($U$7=$V$7,U13=V13)*EXACT($U$7<$V$7,U13<V13)),$AO$7,0)))*4 -> 0 | X13: 2 | Y13: 2 | Z13: =IF(OR(EXACT($X$7,X13)*(EXACT($Y$7,Y13)))=TRUE,$AO$9,IF(($Y$7-$X$7=Y13-X13),$AO$8,IF(OR(EXACT($X$7>$Y$7,X13>Y13)*EXACT($X$7=$Y$7,X13=Y13)*EXACT($X$7<$Y$7,X13<Y13)),$AO$7,0))) -> 3 | AA13: 4 | AB13: 0 | AC13: =IF(OR(EXACT($AA$7,AA13)*(EXACT($AB$7,AB13)))=TRUE,$AO$9,IF(($AB$7-$AA$7=AB13-AA13),$AO$8,IF(OR(EXACT($AA$7>$AB$7,AA13>AB13)*EXACT($AA$7=$AB$7,AA13=AB13)*EXACT($AA$7<$AB$7,AA13<AB13)),$AO$7,0))) -> 2 | AG13: =E13+H13+K13+N13+Q13+T13+W13+Z13+AC13+AF13 -> 17 | AH13: ='1.Spieltag'!AJ13 -> 6 | AI13: ='1.Spieltag'!AK13 -> 18 | AJ13: =AG13+AH13 -> 23 | AK13: =RANK(AJ13,$AJ$8:$AJ$27) -> 3
A14: =AK14 -> 13 | B14: ='1.Spieltag'!B14 -> MB AC Norbert | C14: 1 | D14: 0 | E14: =IF(OR(EXACT($C$7,C14)*(EXACT($D$7,D14)))=TRUE,$AO$9,IF(($D$7-$C$7=D14-C14),$AO$8,IF(OR(EXACT($C$7>$D$7,C14>D14)*EXACT($C$7=$D$7,C14=D14)*EXACT($C$7<$D$7,C14<D14)),$AO$7,0))) -> 0 | F14: 0 | G14: 2 | H14: =IF(OR(EXACT($F$7,F14)*(EXACT($G$7,G14)))=TRUE,$AO$9,IF(($G$7-$F$7=G14-F14),$AO$8,IF(OR(EXACT($F$7>$G$7,F14>G14)*EXACT($F$7=$G$7,F14=G14)*EXACT($F$7<$G$7,F14<G14)),$AO$7,0))) -> 2 | I14: 2 | J14: 0 | K14: =IF(OR(EXACT($I$7,I14)*(EXACT($J$7,J14)))=TRUE,$AO$9,IF(($J$7-$I$7=J14-I14),$AO$8,IF(OR(EXACT($I$7>$J$7,I14>J14)*EXACT($I$7=$J$7,I14=J14)*EXACT($I$7<$J$7,I14<J14)),$AO$7,0))) -> 0 | L14: 0 | M14: 1 | N14: =IF(OR(EXACT($L$7,L14)*(EXACT($M$7,M14)))=TRUE,$AO$9,IF(($M$7-$L$7=M14-L14),$AO$8,IF(OR(EXACT($L$7>$M$7,L14>M14)*EXACT($L$7=$M$7,L14=M14)*EXACT($L$7<$M$7,L14<M14)),$AO$7,0))) -> 0 | O14: 0 | P14: 3 | Q14: =IF(OR(EXACT($O$7,O14)*(EXACT($P$7,P14)))=TRUE,$AO$9,IF(($P$7-$O$7=P14-O14),$AO$8,IF(OR(EXACT($O$7>$P$7,O14>P14)*EXACT($O$7=$P$7,O14=P14)*EXACT($O$7<$P$7,O14<P14)),$AO$7,0))) -> 0 | R14: 1 | S14: 1 | T14: =IF(OR(EXACT($R$7,R14)*(EXACT($S$7,S14)))=TRUE,$AO$9,IF(($S$7-$R$7=S14-R14),$AO$8,IF(OR(EXACT($R$7>$S$7,R14>S14)*EXACT($R$7=$S$7,R14=S14)*EXACT($R$7<$S$7,R14<S14)),$AO$7,0))) -> 3 | U14: 4 | V14: 0 | W14: =IF(OR(EXACT($U$7,U14)*(EXACT($V$7,V14)))=TRUE,$AO$9,IF(($V$7-$U$7=V14-U14),$AO$8,IF(OR(EXACT($U$7>$V$7,U14>V14)*EXACT($U$7=$V$7,U14=V14)*EXACT($U$7<$V$7,U14<V14)),$AO$7,0)))*4 -> 0 | X14: 1 | Y14: 2 | Z14: =IF(OR(EXACT($X$7,X14)*(EXACT($Y$7,Y14)))=TRUE,$AO$9,IF(($Y$7-$X$7=Y14-X14),$AO8,IF(OR(EXACT($X$7>$Y$7,X14>Y14)*EXACT($X$7=$Y$7,X14=Y14)*EXACT($X$7<$Y$7,X14<Y14)),$AO$7,0))) -> 0 | AA14: 3 | AB14: 1 | AC14: =IF(OR(EXACT($AA$7,AA14)*(EXACT($AB$7,AB14)))=TRUE,$AO$9,IF(($AB$7-$AA$7=AB14-AA14),$AO$8,IF(OR(EXACT($AA$7>$AB$7,AA14>AB14)*EXACT($AA$7=$AB$7,AA14=AB14)*EXACT($AA$7<$AB$7,AA14<AB14)),$AO$7,0))) -> 3 | AG14: =E14+H14+K14+N14+Q14+T14+W14+Z14+AC14+AF14 -> 8 | AH14: ='1.Spieltag'!AJ14 -> 8 | AI14: ='1.Spieltag'!AK14 -> 14 | AJ14: =AG14+AH14 -> 16 | AK14: =RANK(AJ14,$AJ$8:$AJ$27) -> 13
A15: =AK15 -> 6 | B15: ='1.Spieltag'!B15 -> Mike04 | C15: 0 | D15: 2 | E15: =IF(OR(EXACT($C$7,C15)*(EXACT($D$7,D15)))=TRUE,$AO$9,IF(($D$7-$C$7=D15-C15),$AO$8,IF(OR(EXACT($C$7>$D$7,C15>D15)*EXACT($C$7=$D$7,C15=D15)*EXACT($C$7<$D$7,C15<D15)),$AO$7,0))) -> 3 | F15: 2 | G15: 0 | H15: =IF(OR(EXACT($F$7,F15)*(EXACT($G$7,G15)))=TRUE,$AO$9,IF(($G$7-$F$7=G15-F15),$AO$8,IF(OR(EXACT($F$7>$G$7,F15>G15)*EXACT($F$7=$G$7,F15=G15)*EXACT($F$7<$G$7,F15<G15)),$AO$7,0))) -> 0 | I15: 3 | J15: 0 | K15: =IF(OR(EXACT($I$7,I15)*(EXACT($J$7,J15)))=TRUE,$AO$9,IF(($J$7-$I$7=J15-I15),$AO$8,IF(OR(EXACT($I$7>$J$7,I15>J15)*EXACT($I$7=$J$7,I15=J15)*EXACT($I$7<$J$7,I15<J15)),$AO$7,0))) -> 0 | L15: 2 | M15: 0 | N15: =IF(OR(EXACT($L$7,L15)*(EXACT($M$7,M15)))=TRUE,$AO$9,IF(($M$7-$L$7=M15-L15),$AO$8,IF(OR(EXACT($L$7>$M$7,L15>M15)*EXACT($L$7=$M$7,L15=M15)*EXACT($L$7<$M$7,L15<M15)),$AO$7,0))) -> 2 | O15: 1 | P15: 2 | Q15: =IF(OR(EXACT($O$7,O15)*(EXACT($P$7,P15)))=TRUE,$AO$9,IF(($P$7-$O$7=P15-O15),$AO$8,IF(OR(EXACT($O$7>$P$7,O15>P15)*EXACT($O$7=$P$7,O15=P15)*EXACT($O$7<$P$7,O15<P15)),$AO$7,0))) -> 0 | R15: 2 | S15: 1 | T15: =IF(OR(EXACT($R$7,R15)*(EXACT($S$7,S15)))=TRUE,$AO$9,IF(($S$7-$R$7=S15-R15),$AO$8,IF(OR(EXACT($R$7>$S$7,R15>S15)*EXACT($R$7=$S$7,R15=S15)*EXACT($R$7<$S$7,R15<S15)),$AO$7,0))) -> 0 | U15: 2 | V15: 1 | W15: =IF(OR(EXACT($U$7,U15)*(EXACT($V$7,V15)))=TRUE,$AO$9,IF(($V$7-$U$7=V15-U15),$AO$8,IF(OR(EXACT($U$7>$V$7,U15>V15)*EXACT($U$7=$V$7,U15=V15)*EXACT($U$7<$V$7,U15<V15)),$AO$7,0)))*4 -> 0 | X15: 1 | Y15: 1 | Z15: =IF(OR(EXACT($X$7,X15)*(EXACT($Y$7,Y15)))=TRUE,$AO$9,IF(($Y$7-$X$7=Y15-X15),$AO$8,IF(OR(EXACT($X$7>$Y$7,X15>Y15)*EXACT($X$7=$Y$7,X15=Y15)*EXACT($X$7<$Y$7,X15<Y15)),$AO$7,0))) -> 3 | AA15: 3 | AB15: 0 | AC15: =IF(OR(EXACT($AA$7,AA15)*(EXACT($AB$7,AB15)))=TRUE,$AO$9,IF(($AB$7-$AA$7=AB15-AA15),$AO$8,IF(OR(EXACT($AA$7>$AB$7,AA15>AB15)*EXACT($AA$7=$AB$7,AA15=AB15)*EXACT($AA$7<$AB$7,AA15<AB15)),$AO$7,0))) -> 2 | AG15: =E15+H15+K15+N15+Q15+T15+W15+Z15+AC15+AF15 -> 10 | AH15: ='1.Spieltag'!AJ15 -> 11 | AI15: ='1.Spieltag'!AK15 -> 7 | AJ15: =AG15+AH15 -> 21 | AK15: =RANK(AJ15,$AJ$8:$AJ$27) -> 6
A16: =AK16 -> 15 | B16: ='1.Spieltag'!B16 -> Nico1904 | F16: 3 | G16: 0 | H16: =IF(OR(EXACT($F$7,F16)*(EXACT($G$7,G16)))=TRUE,$AO$9,IF(($G$7-$F$7=G16-F16),$AO$8,IF(OR(EXACT($F$7>$G$7,F16>G16)*EXACT($F$7=$G$7,F16=G16)*EXACT($F$7<$G$7,F16<G16)),$AO$7,0))) -> 0 | I16: 3 | J16: 0 | K16: =IF(OR(EXACT($I$7,I16)*(EXACT($J$7,J16)))=TRUE,$AO$9,IF(($J$7-$I$7=J16-I16),$AO$8,IF(OR(EXACT($I$7>$J$7,I16>J16)*EXACT($I$7=$J$7,I16=J16)*EXACT($I$7<$J$7,I16<J16)),$AO$7,0))) -> 0 | L16: 2 | M16: 2 | N16: =IF(OR(EXACT($L$7,L16)*(EXACT($M$7,M16)))=TRUE,$AO$9,IF(($M$7-$L$7=M16-L16),$AO$8,IF(OR(EXACT($L$7>$M$7,L16>M16)*EXACT($L$7=$M$7,L16=M16)*EXACT($L$7<$M$7,L16<M16)),$AO$7,0))) -> 0 | O16: 1 | P16: 2 | Q16: =IF(OR(EXACT($O$7,O16)*(EXACT($P$7,P16)))=TRUE,$AO$9,IF(($P$7-$O$7=P16-O16),$AO$8,IF(OR(EXACT($O$7>$P$7,O16>P16)*EXACT($O$7=$P$7,O16=P16)*EXACT($O$7<$P$7,O16<P16)),$AO$7,0))) -> 0 | R16: 1 | S16: 2 | T16: =IF(OR(EXACT($R$7,R16)*(EXACT($S$7,S16)))=TRUE,$AO$9,IF(($S$7-$R$7=S16-R16),$AO$8,IF(OR(EXACT($R$7>$S$7,R16>S16)*EXACT($R$7=$S$7,R16=S16)*EXACT($R$7<$S$7,R16<S16)),$AO$7,0))) -> 0 | U16: 1 | V16: 0 | W16: =IF(OR(EXACT($U$7,U16)*(EXACT($V$7,V16)))=TRUE,$AO$9,IF(($V$7-$U$7=V16-U16),$AO$8,IF(OR(EXACT($U$7>$V$7,U16>V16)*EXACT($U$7=$V$7,U16=V16)*EXACT($U$7<$V$7,U16<V16)),$AO$7,0)))*4 -> 0 | X16: 1 | Y16: 3 | Z16: =IF(OR(EXACT($X$7,X16)*(EXACT($Y$7,Y16)))=TRUE,$AO$9,IF(($Y$7-$X$7=Y16-X16),$AO$8,IF(OR(EXACT($X$7>$Y$7,X16>Y16)*EXACT($X$7=$Y$7,X16=Y16)*EXACT($X$7<$Y$7,X16<Y16)),$AO$7,0))) -> 0 | AA16: 6 | AB16: 0 | AC16: =IF(OR(EXACT($AA$7,AA16)*(EXACT($AB$7,AB16)))=TRUE,$AO$9,IF(($AB$7-$AA$7=AB16-AA16),$AO$8,IF(OR(EXACT($AA$7>$AB$7,AA16>AB16)*EXACT($AA$7=$AB$7,AA16=AB16)*EXACT($AA$7<$AB$7,AA16<AB16)),$AO$7,0))) -> 2 | AG16: =E16+H16+K16+N16+Q16+T16+W16+Z16+AC16+AF16 -> 2 | AH16: ='1.Spieltag'!AJ16 -> 13 | AI16: ='1.Spieltag'!AK16 -> 6 | AJ16: =AG16+AH16 -> 15 | AK16: =RANK(AJ16,$AJ$8:$AJ$27) -> 15
A17: =AK17 -> 10 | B17: ='1.Spieltag'!B17 -> Reinhold | C17: 2 | D17: 1 | E17: =IF(OR(EXACT($C$7,C17)*(EXACT($D$7,D17)))=TRUE,$AO$9,IF(($D$7-$C$7=D17-C17),$AO$8,IF(OR(EXACT($C$7>$D$7,C17>D17)*EXACT($C$7=$D$7,C17=D17)*EXACT($C$7<$D$7,C17<D17)),$AO$7,0))) -> 0 | F17: 5 | G17: 2 | H17: =IF(OR(EXACT($F$7,F17)*(EXACT($G$7,G17)))=TRUE,$AO$9,IF(($G$7-$F$7=G17-F17),$AO$8,IF(OR(EXACT($F$7>$G$7,F17>G17)*EXACT($F$7=$G$7,F17=G17)*EXACT($F$7<$G$7,F17<G17)),$AO$7,0))) -> 0 | I17: 2 | J17: 0 | K17: =IF(OR(EXACT($I$7,I17)*(EXACT($J$7,J17)))=TRUE,$AO$9,IF(($J$7-$I$7=J17-I17),$AO$8,IF(OR(EXACT($I$7>$J$7,I17>J17)*EXACT($I$7=$J$7,I17=J17)*EXACT($I$7<$J$7,I17<J17)),$AO$7,0))) -> 0 | L17: 0 | M17: 1 | N17: =IF(OR(EXACT($L$7,L17)*(EXACT($M$7,M17)))=TRUE,$AO$9,IF(($M$7-$L$7=M17-L17),$AO$8,IF(OR(EXACT($L$7>$M$7,L17>M17)*EXACT($L$7=$M$7,L17=M17)*EXACT($L$7<$M$7,L17<M17)),$AO$7,0))) -> 0 | O17: 1 | P17: 3 | Q17: =IF(OR(EXACT($O$7,O17)*(EXACT($P$7,P17)))=TRUE,$AO$9,IF(($P$7-$O$7=P17-O17),$AO$8,IF(OR(EXACT($O$7>$P$7,O17>P17)*EXACT($O$7=$P$7,O17=P17)*EXACT($O$7<$P$7,O17<P17)),$AO$7,0))) -> 0 | R17: 1 | S17: 0 | T17: =IF(OR(EXACT($R$7,R17)*(EXACT($S$7,S17)))=TRUE,$AO$9,IF(($S$7-$R$7=S17-R17),$AO$8,IF(OR(EXACT($R$7>$S$7,R17>S17)*EXACT($R$7=$S$7,R17=S17)*EXACT($R$7<$S$7,R17<S17)),$AO$7,0))) -> 0 | U17: 2 | V17: 1 | W17: =IF(OR(EXACT($U$7,U17)*(EXACT($V$7,V17)))=TRUE,$AO$9,IF(($V$7-$U$7=V17-U17),$AO$8,IF(OR(EXACT($U$7>$V$7,U17>V17)*EXACT($U$7=$V$7,U17=V17)*EXACT($U$7<$V$7,U17<V17)),$AO$7,0)))*4 -> 0 | X17: 1 | Y17: 2 | Z17: =IF(OR(EXACT($X$7,X17)*(EXACT($Y$7,Y17)))=TRUE,$AO$9,IF(($Y$7-$X$7=Y17-X17),$AO$8,IF(OR(EXACT($X$7>$Y$7,X17>Y17)*EXACT($X$7=$Y$7,X17=Y17)*EXACT($X$7<$Y$7,X17<Y17)),$AO$7,0))) -> 0 | AA17: 3 | AB17: 1 | AC17: =IF(OR(EXACT($AA$7,AA17)*(EXACT($AB$7,AB17)))=TRUE,$AO$9,IF(($AB$7-$AA$7=AB17-AA17),$AO$8,IF(OR(EXACT($AA$7>$AB$7,AA17>AB17)*EXACT($AA$7=$AB$7,AA17=AB17)*EXACT($AA$7<$AB$7,AA17<AB17)),$AO$7,0))) -> 3 | AG17: =E17+H17+K17+N17+Q17+T17+W17+Z17+AC17+AF17 -> 3 | AH17: ='1.Spieltag'!AJ17 -> 14 | AI17: ='1.Spieltag'!AK17 -> 4 | AJ17: =AG17+AH17 -> 17 | AK17: =RANK(AJ17,$AJ$8:$AJ$27) -> 10
A18: =AK18 -> 5 | B18: ='1.Spieltag'!B18 -> Ricardo04 | F18: 2 | G18: 0 | H18: =IF(OR(EXACT($F$7,F18)*(EXACT($G$7,G18)))=TRUE,$AO$9,IF(($G$7-$F$7=G18-F18),$AO$8,IF(OR(EXACT($F$7>$G$7,F18>G18)*EXACT($F$7=$G$7,F18=G18)*EXACT($F$7<$G$7,F18<G18)),$AO$7,0))) -> 0 | I18: 3 | J18: 1 | K18: =IF(OR(EXACT($I$7,I18)*(EXACT($J$7,J18)))=TRUE,$AO$9,IF(($J$7-$I$7=J18-I18),$AO$8,IF(OR(EXACT($I$7>$J$7,I18>J18)*EXACT($I$7=$J$7,I18=J18)*EXACT($I$7<$J$7,I18<J18)),$AO$7,0))) -> 0 | L18: 2 | M18: 1 | N18: =IF(OR(EXACT($L$7,L18)*(EXACT($M$7,M18)))=TRUE,$AO$9,IF(($M$7-$L$7=M18-L18),$AO$8,IF(OR(EXACT($L$7>$M$7,L18>M18)*EXACT($L$7=$M$7,L18=M18)*EXACT($L$7<$M$7,L18<M18)),$AO$7,0))) -> 3 | O18: 1 | P18: 3 | Q18: =IF(OR(EXACT($O$7,O18)*(EXACT($P$7,P18)))=TRUE,$AO$9,IF(($P$7-$O$7=P18-O18),$AO$8,IF(OR(EXACT($O$7>$P$7,O18>P18)*EXACT($O$7=$P$7,O18=P18)*EXACT($O$7<$P$7,O18<P18)),$AO$7,0))) -> 0 | R18: 1 | S18: 1 | T18: =IF(OR(EXACT($R$7,R18)*(EXACT($S$7,S18)))=TRUE,$AO$9,IF(($S$7-$R$7=S18-R18),$AO$8,IF(OR(EXACT($R$7>$S$7,R18>S18)*EXACT($R$7=$S$7,R18=S18)*EXACT($R$7<$S$7,R18<S18)),$AO$7,0))) -> 3 | U18: 2 | V18: 1 | W18: =IF(OR(EXACT($U$7,U18)*(EXACT($V$7,V18)))=TRUE,$AO$9,IF(($V$7-$U$7=V18-U18),$AO$8,IF(OR(EXACT($U$7>$V$7,U18>V18)*EXACT($U$7=$V$7,U18=V18)*EXACT($U$7<$V$7,U18<V18)),$AO$7,0)))*4 -> 0 | X18: 1 | Y18: 2 | Z18: =IF(OR(EXACT($X$7,X18)*(EXACT($Y$7,Y18)))=TRUE,$AO$9,IF(($Y$7-$X$7=Y18-X18),$AO$8,IF(OR(EXACT($X$7>$Y$7,X18>Y18)*EXACT($X$7=$Y$7,X18=Y18)*EXACT($X$7<$Y$7,X18<Y18)),$AO$7,0))) -> 0 | AA18: 4 | AB18: 0 | AC18: =IF(OR(EXACT($AA$7,AA18)*(EXACT($AB$7,AB18)))=TRUE,$AO$9,IF(($AB$7-$AA$7=AB18-AA18),$AO$8,IF(OR(EXACT($AA$7>$AB$7,AA18>AB18)*EXACT($AA$7=$AB$7,AA18=AB18)*EXACT($AA$7<$AB$7,AA18<AB18)),$AO$7,0))) -> 2 | AG18: =E18+K18+Q18+T18+N18+H18+W18+Z18+AC18+AF18 -> 8 | AH18: ='1.Spieltag'!AJ18 -> 14 | AI18: ='1.Spieltag'!AK18 -> 4 | AJ18: =AG18+AH18 -> 22 | AK18: =RANK(AJ18,$AJ$8:$AJ$27) -> 5
A19: =AK19 -> 7 | B19: ='1.Spieltag'!B19 -> Sascha | C19: 2 | D19: 1 | E19: =IF(OR(EXACT($C$7,C19)*(EXACT($D$7,D19)))=TRUE,$AO$9,IF(($D$7-$C$7=D19-C19),$AO$8,IF(OR(EXACT($C$7>$D$7,C19>D19)*EXACT($C$7=$D$7,C19=D19)*EXACT($C$7<$D$7,C19<D19)),$AO$7,0))) -> 0 | F19: 3 | G19: 1 | H19: =IF(OR(EXACT($F$7,F19)*(EXACT($G$7,G19)))=TRUE,$AO$9,IF(($G$7-$F$7=G19-F19),$AO$8,IF(OR(EXACT($F$7>$G$7,F19>G19)*EXACT($F$7=$G$7,F19=G19)*EXACT($F$7<$G$7,F19<G19)),$AO$7,0))) -> 0 | I19: 4 | J19: 2 | K19: =IF(OR(EXACT($I$7,I19)*(EXACT($J$7,J19)))=TRUE,$AO$9,IF(($J$7-$I$7=J19-I19),$AO$8,IF(OR(EXACT($I$7>$J$7,I19>J19)*EXACT($I$7=$J$7,I19=J19)*EXACT($I$7<$J$7,I19<J19)),$AO$7,0))) -> 0 | L19: 2 | M19: 0 | N19: =IF(OR(EXACT($L$7,L19)*(EXACT($M$7,M19)))=TRUE,$AO$9,IF(($M$7-$L$7=M19-L19),$AO$8,IF(OR(EXACT($L$7>$M$7,L19>M19)*EXACT($L$7=$M$7,L19=M19)*EXACT($L$7<$M$7,L19<M19)),$AO$7,0))) -> 2 | O19: 2 | P19: 2 | Q19: =IF(OR(EXACT($O$7,O19)*(EXACT($P$7,P19)))=TRUE,$AO$9,IF(($P$7-$O$7=P19-O19),$AO$8,IF(OR(EXACT($O$7>$P$7,O19>P19)*EXACT($O$7=$P$7,O19=P19)*EXACT($O$7<$P$7,O19<P19)),$AO$7,0))) -> 3 | R19: 1 | S19: 1 | T19: =IF(OR(EXACT($R$7,R19)*(EXACT($S$7,S19)))=TRUE,$AO$9,IF(($S$7-$R$7=S19-R19),$AO$8,IF(OR(EXACT($R$7>$S$7,R19>S19)*EXACT($R$7=$S$7,R19=S19)*EXACT($R$7<$S$7,R19<S19)),$AO$7,0))) -> 3 | U19: 2 | V19: 1 | W19: =IF(OR(EXACT($U$7,U19)*(EXACT($V$7,V19)))=TRUE,$AO$9,IF(($V$7-$U$7=V19-U19),$AO$8,IF(OR(EXACT($U$7>$V$7,U19>V19)*EXACT($U$7=$V$7,U19=V19)*EXACT($U$7<$V$7,U19<V19)),$AO$7,0)))*4 -> 0 | X19: 0 | Y19: 1 | Z19: =IF(OR(EXACT($X$7,X19)*(EXACT($Y$7,Y19)))=TRUE,$AO$9,IF(($Y$7-$X$7=Y19-X19),$AO$8,IF(OR(EXACT($X$7>$Y$7,X19>Y19)*EXACT($X$7=$Y$7,X19=Y19)*EXACT($X$7<$Y$7,X19<Y19)),$AO$7,0))) -> 0 | AA19: 3 | AB19: 1 | AC19: =IF(OR(EXACT($AA$7,AA19)*(EXACT($AB$7,AB19)))=TRUE,$AO$9,IF(($AB$7-$AA$7=AB19-AA19),$AO$8,IF(OR(EXACT($AA$7>$AB$7,AA19>AB19)*EXACT($AA$7=$AB$7,AA19=AB19)*EXACT($AA$7<$AB$7,AA19<AB19)),$AO$7,0))) -> 3 | AG19: =E19+H19+K19+N19+Q19+T19+W19+Z19+AC19+AF19 -> 11 | AH19: ='1.Spieltag'!AJ19 -> 8 | AI19: ='1.Spieltag'!AK19 -> 14 | AJ19: =AG19+AH19 -> 19 | AK19: =RANK(AJ19,$AJ$8:$AJ$27) -> 7
A20: =AK20 -> 16 | B20: ='1.Spieltag'!B20 -> Schalt04 | C20: 1 | D20: 2 | E20: =IF(OR(EXACT($C$7,C20)*(EXACT($D$7,D20)))=TRUE,$AO$9,IF(($D$7-$C$7=D20-C20),$AO$8,IF(OR(EXACT($C$7>$D$7,C20>D20)*EXACT($C$7=$D$7,C20=D20)*EXACT($C$7<$D$7,C20<D20)),$AO$7,0))) -> 2 | F20: 3 | G20: 1 | H20: =IF(OR(EXACT($F$7,F20)*(EXACT($G$7,G20)))=TRUE,$AO$9,IF(($G$7-$F$7=G20-F20),$AO$8,IF(OR(EXACT($F$7>$G$7,F20>G20)*EXACT($F$7=$G$7,F20=G20)*EXACT($F$7<$G$7,F20<G20)),$AO$7,0))) -> 0 | I20: 3 | J20: 0 | K20: =IF(OR(EXACT($I$7,I20)*(EXACT($J$7,J20)))=TRUE,$AO$9,IF(($J$7-$I$7=J20-I20),$AO$8,IF(OR(EXACT($I$7>$J$7,I20>J20)*EXACT($I$7=$J$7,I20=J20)*EXACT($I$7<$J$7,I20<J20)),$AO$7,0))) -> 0 | L20: 1 | M20: 1 | N20: =IF(OR(EXACT($L$7,L20)*(EXACT($M$7,M20)))=TRUE,$AO$9,IF(($M$7-$L$7=M20-L20),$AO$8,IF(OR(EXACT($L$7>$M$7,L20>M20)*EXACT($L$7=$M$7,L20=M20)*EXACT($L$7<$M$7,L20<M20)),$AO$7,0))) -> 0 | O20: 0 | P20: 1 | Q20: =IF(OR(EXACT($O$7,O20)*(EXACT($P$7,P20)))=TRUE,$AO$9,IF(($P$7-$O$7=P20-O20),$AO$8,IF(OR(EXACT($O$7>$P$7,O20>P20)*EXACT($O$7=$P$7,O20=P20)*EXACT($O$7<$P$7,O20<P20)),$AO$7,0))) -> 0 | R20: 1 | S20: 1 | T20: =IF(OR(EXACT($R$7,R20)*(EXACT($S$7,S20)))=TRUE,$AO$9,IF(($S$7-$R$7=S20-R20),$AO$8,IF(OR(EXACT($R$7>$S$7,R20>S20)*EXACT($R$7=$S$7,R20=S20)*EXACT($R$7<$S$7,R20<S20)),$AO$7,0))) -> 3 | U20: 1 | V20: 0 | W20: =IF(OR(EXACT($U$7,U20)*(EXACT($V$7,V20)))=TRUE,$AO$9,IF(($V$7-$U$7=V20-U20),$AO$8,IF(OR(EXACT($U$7>$V$7,U20>V20)*EXACT($U$7=$V$7,U20=V20)*EXACT($U$7<$V$7,U20<V20)),$AO$7,0)))*4 -> 0 | X20: 1 | Y20: 2 | Z20: =IF(OR(EXACT($X$7,X20)*(EXACT($Y$7,Y20)))=TRUE,$AO$9,IF(($Y$7-$X$7=Y20-X20),$AO$8,IF(OR(EXACT($X$7>$Y$7,X20>Y20)*EXACT($X$7=$Y$7,X20=Y20)*EXACT($X$7<$Y$7,X20<Y20)),$AO$7,0))) -> 0 | AA20: 4 | AB20: 0 | AC20: =IF(OR(EXACT($AA$7,AA20)*(EXACT($AB$7,AB20)))=TRUE,$AO$9,IF(($AB$7-$AA$7=AB20-AA20),$AO$8,IF(OR(EXACT($AA$7>$AB$7,AA20>AB20)*EXACT($AA$7=$AB$7,AA20=AB20)*EXACT($AA$7<$AB$7,AA20<AB20)),$AO$7,0))) -> 2 | AG20: =E20+H20+K20+N20+Q20+T20+W20+Z20+AC20+AF20 -> 7 | AH20: ='1.Spieltag'!AJ20 -> 7 | AI20: ='1.Spieltag'!AK20 -> 17 | AJ20: =AG20+AH20 -> 14 | AK20: =RANK(AJ20,$AJ$8:$AJ$27) -> 16
A21: =AK21 -> 1 | B21: ='1.Spieltag'!B21 -> schmiddi04 | C21: 1 | D21: 2 | E21: =IF(OR(EXACT($C$7,C21)*(EXACT($D$7,D21)))=TRUE,$AO$9,IF(($D$7-$C$7=D21-C21),$AO$8,IF(OR(EXACT($C$7>$D$7,C21>D21)*EXACT($C$7=$D$7,C21=D21)*EXACT($C$7<$D$7,C21<D21)),$AO$7,0))) -> 2 | F21: 3 | G21: 0 | H21: =IF(OR(EXACT($F$7,F21)*(EXACT($G$7,G21)))=TRUE,$AO$9,IF(($G$7-$F$7=G21-F21),$AO$8,IF(OR(EXACT($F$7>$G$7,F21>G21)*EXACT($F$7=$G$7,F21=G21)*EXACT($F$7<$G$7,F21<G21)),$AO$7,0))) -> 0 | I21: 3 | J21: 0 | K21: =IF(OR(EXACT($I$7,I21)*(EXACT($J$7,J21)))=TRUE,$AO$9,IF(($J$7-$I$7=J21-I21),$AO$8,IF(OR(EXACT($I$7>$J$7,I21>J21)*EXACT($I$7=$J$7,I21=J21)*EXACT($I$7<$J$7,I21<J21)),$AO$7,0))) -> 0 | L21: 2 | M21: 1 | N21: =IF(OR(EXACT($L$7,L21)*(EXACT($M$7,M21)))=TRUE,$AO$9,IF(($M$7-$L$7=M21-L21),$AO$8,IF(OR(EXACT($L$7>$M$7,L21>M21)*EXACT($L$7=$M$7,L21=M21)*EXACT($L$7<$M$7,L21<M21)),$AO$7,0))) -> 3 | O21: 1 | P21: 1 | Q21: =IF(OR(EXACT($O$7,O21)*(EXACT($P$7,P21)))=TRUE,$AO$9,IF(($P$7-$O$7=P21-O21),$AO$8,IF(OR(EXACT($O$7>$P$7,O21>P21)*EXACT($O$7=$P$7,O21=P21)*EXACT($O$7<$P$7,O21<P21)),$AO$7,0))) -> 5 | R21: 1 | S21: 0 | T21: =IF(OR(EXACT($R$7,R21)*(EXACT($S$7,S21)))=TRUE,$AO$9,IF(($S$7-$R$7=S21-R21),$AO$8,IF(OR(EXACT($R$7>$S$7,R21>S21)*EXACT($R$7=$S$7,R21=S21)*EXACT($R$7<$S$7,R21<S21)),$AO$7,0))) -> 0 | U21: 3 | V21: 1 | W21: =IF(OR(EXACT($U$7,U21)*(EXACT($V$7,V21)))=TRUE,$AO$9,IF(($V$7-$U$7=V21-U21),$AO$8,IF(OR(EXACT($U$7>$V$7,U21>V21)*EXACT($U$7=$V$7,U21=V21)*EXACT($U$7<$V$7,U21<V21)),$AO$7,0)))*4 -> 0 | X21: 1 | Y21: 0 | Z21: =IF(OR(EXACT($X$7,X21)*(EXACT($Y$7,Y21)))=TRUE,$AO$9,IF(($Y$7-$X$7=Y21-X21),$AO$8,IF(OR(EXACT($X$7>$Y$7,X21>Y21)*EXACT($X$7=$Y$7,X21=Y21)*EXACT($X$7<$Y$7,X21<Y21)),$AO$7,0))) -> 0 | AA21: 4 | AB21: 0 | AC21: =IF(OR(EXACT($AA$7,AA21)*(EXACT($AB$7,AB21)))=TRUE,$AO$9,IF(($AB$7-$AA$7=AB21-AA21),$AO$8,IF(OR(EXACT($AA$7>$AB$7,AA21>AB21)*EXACT($AA$7=$AB$7,AA21=AB21)*EXACT($AA$7<$AB$7,AA21<AB21)),$AO$7,0))) -> 2 | AG21: =E21+H21+K21+N21+Q21+T21+W21+Z21+AC21+AF21 -> 12 | AH21: ='1.Spieltag'!AJ21 -> 16 | AI21: ='1.Spieltag'!AK21 -> 3 | AJ21: =AG21+AH21 -> 28 | AK21: =RANK(AJ21,$AJ$8:$AJ$27) -> 1
A22: =AK22 -> 10 | B22: ='1.Spieltag'!B22 -> shiny | C22: 1 | D22: 2 | E22: =IF(OR(EXACT($C$7,C22)*(EXACT($D$7,D22)))=TRUE,$AO$9,IF(($D$7-$C$7=D22-C22),$AO$8,IF(OR(EXACT($C$7>$D$7,C22>D22)*EXACT($C$7=$D$7,C22=D22)*EXACT($C$7<$D$7,C22<D22)),$AO$7,0))) -> 2 | F22: 2 | G22: 0 | H22: =IF(OR(EXACT($F$7,F22)*(EXACT($G$7,G22)))=TRUE,$AO$9,IF(($G$7-$F$7=G22-F22),$AO$8,IF(OR(EXACT($F$7>$G$7,F22>G22)*EXACT($F$7=$G$7,F22=G22)*EXACT($F$7<$G$7,F22<G22)),$AO$7,0))) -> 0 | I22: 3 | J22: 1 | K22: =IF(OR(EXACT($I$7,I22)*(EXACT($J$7,J22)))=TRUE,$AO$9,IF(($J$7-$I$7=J22-I22),$AO$8,IF(OR(EXACT($I$7>$J$7,I22>J22)*EXACT($I$7=$J$7,I22=J22)*EXACT($I$7<$J$7,I22<J22)),$AO$7,0))) -> 0 | L22: 2 | M22: 0 | N22: =IF(OR(EXACT($L$7,L22)*(EXACT($M$7,M22)))=TRUE,$AO$9,IF(($M$7-$L$7=M22-L22),$AO$8,IF(OR(EXACT($L$7>$M$7,L22>M22)*EXACT($L$7=$M$7,L22=M22)*EXACT($L$7<$M$7,L22<M22)),$AO$7,0))) -> 2 | O22: 1 | P22: 2 | Q22: =IF(OR(EXACT($O$7,O22)*(EXACT($P$7,P22)))=TRUE,$AO$9,IF(($P$7-$O$7=P22-O22),$AO$8,IF(OR(EXACT($O$7>$P$7,O22>P22)*EXACT($O$7=$P$7,O22=P22)*EXACT($O$7<$P$7,O22<P22)),$AO$7,0))) -> 0 | R22: 1 | S22: 0 | T22: =IF(OR(EXACT($R$7,R22)*(EXACT($S$7,S22)))=TRUE,$AO$9,IF(($S$7-$R$7=S22-R22),$AO$8,IF(OR(EXACT($R$7>$S$7,R22>S22)*EXACT($R$7=$S$7,R22=S22)*EXACT($R$7<$S$7,R22<S22)),$AO$7,0))) -> 0 | U22: 2 | V22: 1 | W22: =IF(OR(EXACT($U$7,U22)*(EXACT($V$7,V22)))=TRUE,$AO$9,IF(($V$7-$U$7=V22-U22),$AO$8,IF(OR(EXACT($U$7>$V$7,U22>V22)*EXACT($U$7=$V$7,U22=V22)*EXACT($U$7<$V$7,U22<V22)),$AO$7,0)))*4 -> 0 | X22: 1 | Y22: 2 | Z22: =IF(OR(EXACT($X$7,X22)*(EXACT($Y$7,Y22)))=TRUE,$AO$9,IF(($Y$7-$X$7=Y22-X22),$AO$8,IF(OR(EXACT($X$7>$Y$7,X22>Y22)*EXACT($X$7=$Y$7,X22=Y22)*EXACT($X$7<$Y$7,X22<Y22)),$AO$7,0))) -> 0 | AA22: 4 | AB22: 1 | AC22: =IF(OR(EXACT($AA$7,AA22)*(EXACT($AB$7,AB22)))=TRUE,$AO$9,IF(($AB$7-$AA$7=AB22-AA22),$AO$8,IF(OR(EXACT($AA$7>$AB$7,AA22>AB22)*EXACT($AA$7=$AB$7,AA22=AB22)*EXACT($AA$7<$AB$7,AA22<AB22)),$AO$7,0))) -> 2 | AG22: =E22+H22+K22+N22+Q22+T22+W22+Z22+AC22+AF22 -> 6 | AH22: ='1.Spieltag'!AJ22 -> 11 | AI22: ='1.Spieltag'!AK22 -> 7 | AJ22: =AG22+AH22 -> 17 | AK22: =RANK(AJ22,$AJ$8:$AJ$27) -> 10
A23: =AK23 -> 17 | B23: ='1.Spieltag'!B23 -> Tanja04 | C23: 1 | D23: 1 | E23: =IF(OR(EXACT($C$7,C23)*(EXACT($D$7,D23)))=TRUE,$AO$9,IF(($D$7-$C$7=D23-C23),$AO$8,IF(OR(EXACT($C$7>$D$7,C23>D23)*EXACT($C$7=$D$7,C23=D23)*EXACT($C$7<$D$7,C23<D23)),$AO$7,0))) -> 0 | F23: 3 | G23: 0 | H23: =IF(OR(EXACT($F$7,F23)*(EXACT($G$7,G23)))=TRUE,$AO$9,IF(($G$7-$F$7=G23-F23),$AO$8,IF(OR(EXACT($F$7>$G$7,F23>G23)*EXACT($F$7=$G$7,F23=G23)*EXACT($F$7<$G$7,F23<G23)),$AO$7,0))) -> 0 | I23: 2 | J23: 0 | K23: =IF(OR(EXACT($I$7,I23)*(EXACT($J$7,J23)))=TRUE,$AO$9,IF(($J$7-$I$7=J23-I23),$AO$8,IF(OR(EXACT($I$7>$J$7,I23>J23)*EXACT($I$7=$J$7,I23=J23)*EXACT($I$7<$J$7,I23<J23)),$AO$7,0))) -> 0 | L23: 2 | M23: 0 | N23: =IF(OR(EXACT($L$7,L23)*(EXACT($M$7,M23)))=TRUE,$AO$9,IF(($M$7-$L$7=M23-L23),$AO$8,IF(OR(EXACT($L$7>$M$7,L23>M23)*EXACT($L$7=$M$7,L23=M23)*EXACT($L$7<$M$7,L23<M23)),$AO$7,0))) -> 2 | O23: 0 | P23: 2 | Q23: =IF(OR(EXACT($O$7,O23)*(EXACT($P$7,P23)))=TRUE,$AO$9,IF(($P$7-$O$7=P23-O23),$AO$8,IF(OR(EXACT($O$7>$P$7,O23>P23)*EXACT($O$7=$P$7,O23=P23)*EXACT($O$7<$P$7,O23<P23)),$AO$7,0))) -> 0 | R23: 2 | S23: 0 | T23: =IF(OR(EXACT($R$7,R23)*(EXACT($S$7,S23)))=TRUE,$AO$9,IF(($S$7-$R$7=S23-R23),$AO$8,IF(OR(EXACT($R$7>$S$7,R23>S23)*EXACT($R$7=$S$7,R23=S23)*EXACT($R$7<$S$7,R23<S23)),$AO$7,0))) -> 0 | U23: 1 | V23: 0 | W23: =IF(OR(EXACT($U$7,U23)*(EXACT($V$7,V23)))=TRUE,$AO$9,IF(($V$7-$U$7=V23-U23),$AO$8,IF(OR(EXACT($U$7>$V$7,U23>V23)*EXACT($U$7=$V$7,U23=V23)*EXACT($U$7<$V$7,U23<V23)),$AO$7,0)))*4 -> 0 | X23: 2 | Y23: 1 | Z23: =IF(OR(EXACT($X$7,X23)*(EXACT($Y$7,Y23)))=TRUE,$AO$9,IF(($Y$7-$X$7=Y23-X23),$AO$8,IF(OR(EXACT($X$7>$Y$7,X23>Y23)*EXACT($X$7=$Y$7,X23=Y23)*EXACT($X$7<$Y$7,X23<Y23)),$AO$7,0))) -> 0 | AA23: 4 | AB23: 0 | AC23: =IF(OR(EXACT($AA$7,AA23)*(EXACT($AB$7,AB23)))=TRUE,$AO$9,IF(($AB$7-$AA$7=AB23-AA23),$AO$8,IF(OR(EXACT($AA$7>$AB$7,AA23>AB23)*EXACT($AA$7=$AB$7,AA23=AB23)*EXACT($AA$7<$AB$7,AA23<AB23)),$AO$7,0))) -> 2 | AG23: =E23+H23+K23+N23+Q23+T23+W23+Z23+AC23+AF23 -> 4 | AH23: ='1.Spieltag'!AJ23 -> 8 | AI23: ='1.Spieltag'!AK23 -> 14 | AJ23: =AG23+AH23 -> 12 | AK23: =RANK(AJ23,$AJ$8:$AJ$27) -> 17
A24: =AK24 -> 2 | B24: ='1.Spieltag'!B24 -> Thomas Bülles | C24: 0 | D24: 2 | E24: =IF(OR(EXACT($C$7,C24)*(EXACT($D$7,D24)))=TRUE,$AO$9,IF(($D$7-$C$7=D24-C24),$AO$8,IF(OR(EXACT($C$7>$D$7,C24>D24)*EXACT($C$7=$D$7,C24=D24)*EXACT($C$7<$D$7,C24<D24)),$AO$7,0))) -> 3 | F24: 3 | G24: 0 | H24: =IF(OR(EXACT($F$7,F24)*(EXACT($G$7,G24)))=TRUE,$AO$9,IF(($G$7-$F$7=G24-F24),$AO$8,IF(OR(EXACT($F$7>$G$7,F24>G24)*EXACT($F$7=$G$7,F24=G24)*EXACT($F$7<$G$7,F24<G24)),$AO$7,0))) -> 0 | I24: 3 | J24: 0 | K24: =IF(OR(EXACT($I$7,I24)*(EXACT($J$7,J24)))=TRUE,$AO$9,IF(($J$7-$I$7=J24-I24),$AO$8,IF(OR(EXACT($I$7>$J$7,I24>J24)*EXACT($I$7=$J$7,I24=J24)*EXACT($I$7<$J$7,I24<J24)),$AO$7,0))) -> 0 | L24: 2 | M24: 0 | N24: =IF(OR(EXACT($L$7,L24)*(EXACT($M$7,M24)))=TRUE,$AO$9,IF(($M$7-$L$7=M24-L24),$AO$8,IF(OR(EXACT($L$7>$M$7,L24>M24)*EXACT($L$7=$M$7,L24=M24)*EXACT($L$7<$M$7,L24<M24)),$AO$7,0))) -> 2 | O24: 1 | P24: 2 | Q24: =IF(OR(EXACT($O$7,O24)*(EXACT($P$7,P24)))=TRUE,$AO$9,IF(($P$7-$O$7=P24-O24),$AO$8,IF(OR(EXACT($O$7>$P$7,O24>P24)*EXACT($O$7=$P$7,O24=P24)*EXACT($O$7<$P$7,O24<P24)),$AO$7,0))) -> 0 | R24: 2 | S24: 1 | T24: =IF(OR(EXACT($R$7,R24)*(EXACT($S$7,S24)))=TRUE,$AO$9,IF(($S$7-$R$7=S24-R24),$AO$8,IF(OR(EXACT($R$7>$S$7,R24>S24)*EXACT($R$7=$S$7,R24=S24)*EXACT($R$7<$S$7,R24<S24)),$AO$7,0))) -> 0 | U24: 1 | V24: 0 | W24: =IF(OR(EXACT($U$7,U24)*(EXACT($V$7,V24)))=TRUE,$AO$9,IF(($V$7-$U$7=V24-U24),$AO$8,IF(OR(EXACT($U$7>$V$7,U24>V24)*EXACT($U$7=$V$7,U24=V24)*EXACT($U$7<$V$7,U24<V24)),$AO$7,0)))*4 -> 0 | X24: 2 | Y24: 1 | Z24: =IF(OR(EXACT($X$7,X24)*(EXACT($Y$7,Y24)))=TRUE,$AO$9,IF(($Y$7-$X$7=Y24-X24),$AO$8,IF(OR(EXACT($X$7>$Y$7,X24>Y24)*EXACT($X$7=$Y$7,X24=Y24)*EXACT($X$7<$Y$7,X24<Y24)),$AO$7,0))) -> 0 | AA24: 4 | AB24: 0 | AC24: =IF(OR(EXACT($AA$7,AA24)*(EXACT($AB$7,AB24)))=TRUE,$AO$9,IF(($AB$7-$AA$7=AB24-AA24),$AO$8,IF(OR(EXACT($AA$7>$AB$7,AA24>AB24)*EXACT($AA$7=$AB$7,AA24=AB24)*EXACT($AA$7<$AB$7,AA24<AB24)),$AO$7,0))) -> 2 | AG24: =E24+H24+K24+N24+Q24+T24+W24+Z24+AC24+AF24 -> 7 | AH24: ='1.Spieltag'!AJ24 -> 17 | AI24: ='1.Spieltag'!AK24 -> 2 | AJ24: =AG24+AH24 -> 24 | AK24: =RANK(AJ24,$AJ$8:$AJ$27) -> 2
A25: =AK25 -> 7 | B25: ='1.Spieltag'!B25 -> UltraGE | C25: 1 | D25: 2 | E25: =IF(OR(EXACT($C$7,C25)*(EXACT($D$7,D25)))=TRUE,$AO$9,IF(($D$7-$C$7=D25-C25),$AO$8,IF(OR(EXACT($C$7>$D$7,C25>D25)*EXACT($C$7=$D$7,C25=D25)*EXACT($C$7<$D$7,C25<D25)),$AO$7,0))) -> 2 | F25: 3 | G25: 1 | H25: =IF(OR(EXACT($F$7,F25)*(EXACT($G$7,G25)))=TRUE,$AO$9,IF(($G$7-$F$7=G25-F25),$AO$8,IF(OR(EXACT($F$7>$G$7,F25>G25)*EXACT($F$7=$G$7,F25=G25)*EXACT($F$7<$G$7,F25<G25)),$AO$7,0))) -> 0 | I25: 2 | J25: 1 | K25: =IF(OR(EXACT($I$7,I25)*(EXACT($J$7,J25)))=TRUE,$AO$9,IF(($J$7-$I$7=J25-I25),$AO$8,IF(OR(EXACT($I$7>$J$7,I25>J25)*EXACT($I$7=$J$7,I25=J25)*EXACT($I$7<$J$7,I25<J25)),$AO$7,0))) -> 0 | L25: 2 | M25: 1 | N25: =IF(OR(EXACT($L$7,L25)*(EXACT($M$7,M25)))=TRUE,$AO$9,IF(($M$7-$L$7=M25-L25),$AO$8,IF(OR(EXACT($L$7>$M$7,L25>M25)*EXACT($L$7=$M$7,L25=M25)*EXACT($L$7<$M$7,L25<M25)),$AO$7,0))) -> 3 | O25: 1 | P25: 2 | Q25: =IF(OR(EXACT($O$7,O25)*(EXACT($P$7,P25)))=TRUE,$AO$9,IF(($P$7-$O$7=P25-O25),$AO$8,IF(OR(EXACT($O$7>$P$7,O25>P25)*EXACT($O$7=$P$7,O25=P25)*EXACT($O$7<$P$7,O25<P25)),$AO$7,0))) -> 0 | R25: 1 | S25: 1 | T25: =IF(OR(EXACT($R$7,R25)*(EXACT($S$7,S25)))=TRUE,$AO$9,IF(($S$7-$R$7=S25-R25),$AO$8,IF(OR(EXACT($R$7>$S$7,R25>S25)*EXACT($R$7=$S$7,R25=S25)*EXACT($R$7<$S$7,R25<S25)),$AO$7,0))) -> 3 | U25: 2 | V25: 1 | W25: =IF(OR(EXACT($U$7,U25)*(EXACT($V$7,V25)))=TRUE,$AO$9,IF(($V$7-$U$7=V25-U25),$AO$8,IF(OR(EXACT($U$7>$V$7,U25>V25)*EXACT($U$7=$V$7,U25=V25)*EXACT($U$7<$V$7,U25<V25)),$AO$7,0)))*4 -> 0 | X25: 1 | Y25: 2 | Z25: =IF(OR(EXACT($X$7,X25)*(EXACT($Y$7,Y25)))=TRUE,$AO$9,IF(($Y$7-$X$7=Y25-X25),$AO$8,IF(OR(EXACT($X$7>$Y$7,X25>Y25)*EXACT($X$7=$Y$7,X25=Y25)*EXACT($X$7<$Y$7,X25<Y25)),$AO$7,0))) -> 0 | AA25: 4 | AB25: 1 | AC25: =IF(OR(EXACT($AA$7,AA25)*(EXACT($AB$7,AB25)))=TRUE,$AO$9,IF(($AB$7-$AA$7=AB25-AA25),$AO$8,IF(OR(EXACT($AA$7>$AB$7,AA25>AB25)*EXACT($AA$7=$AB$7,AA25=AB25)*EXACT($AA$7<$AB$7,AA25<AB25)),$AO$7,0))) -> 2 | AG25: =E25+H25+K25+N25+Q25+T25+W25+Z25+AC25+AF25 -> 10 | AH25: ='1.Spieltag'!AJ25 -> 9 | AI25: ='1.Spieltag'!AK25 -> 12 | AJ25: =AG25+AH25 -> 19 | AK25: =RANK(AJ25,$AJ$8:$AJ$27) -> 7
A26: =AK26 -> 19 | AG26: =E26+H26+K26+N26+Q26+T26+W26+Z26+AC26+AF26 -> 0 | AH26: ='1.Spieltag'!AJ26 -> 6 | AI26: ='1.Spieltag'!AK26 -> 18 | AJ26: =AG26+AH26 -> 6 | AK26: =RANK(AJ26,$AJ$8:$AJ$27) -> 19
A27: =AK27 -> 19 | AG27: =E27+H27+K27+N27+Q27+T27+W27+Z27+AC27+AF27 -> 0 | AH27: ='1.Spieltag'!AJ27 -> 6 | AI27: ='1.Spieltag'!AK27 -> 18 | AJ27: =AG27+AH27 -> 6 | AK27: =RANK(AJ27,$AJ$8:$AJ$27) -> 19

Sheet 3.Spieltag
A4: 3. Spieltag | C4: Gladbach | F4: Dortmund | I4: Leverkusen | L4: Wolfsburg | O4: Augsburg | R4: Stuttgart | U4: Union Berlin | X4: Frankfurt | AA4: Bochum
AG5: G E S A M T W E R T U N G
C6: Hertha BSC | F6: Bremen | I6: Hoffenheim | L6: Schalke 04 | O6: Mainz | R6: Freiburg | U6: Leipzig | X6: 1.FC Köln | AA6: München | AG6: Punkte | AH6: Punkte | AI6: Platz | AJ6: Gesamt | AK6: Platz | AL6: PUNKTEVERTEILUNG
A7: PLATZ | B7: ERGEBNISSE=> | C7: 1 | D7: 0 | E7: Pkt. | F7: 2 | G7: 3 | H7: Pkt. | I7: 0 | J7: 3 | K7: Pkt. | L7: 0 | M7: 0 | N7: Pkt. | O7: 1 | P7: 2 | Q7: Pkt. | R7: 0 | S7: 1 | T7: Pkt. | U7: 2 | V7: 1 | W7: Pkt. | X7: 1 | Y7: 1 | Z7: Pkt. | AA7: 0 | AB7: 7 | AC7: Pkt. | AG7: Spieltag | AH7: bisher | AI7: bisher | AJ7: Punkte | AL7: richtige Tendenz | AO7: 2
A8: 1 | B8: schmiddi04 | C8: 1 | D8: 0 | E8: 5 | F8: 2 | G8: 1 | H8: 0 | I8: 0 | J8: 1 | K8: 2 | L8: 0 | M8: 1 | N8: 0 | O8: 0 | P8: 0 | Q8: 0 | R8: 1 | S8: 2 | T8: 3 | U8: 1 | V8: 2 | W8: 0 | X8: 3 | Y8: 1 | Z8: 0 | AA8: 0 | AB8: 5 | AC8: 2 | AG8: 12 | AH8: 28 | AI8: 1 | AJ8: 40 | AK8: 1 | AL8: richtige Tend. + korr. Torabst. | AO8: 3
A9: 2 | B9: FlorianS04 | C9: 2 | D9: 1 | E9: 3 | F9: 3 | G9: 1 | H9: 0 | I9: 2 | J9: 0 | K9: 0 | L9: 1 | M9: 1 | N9: 6 | O9: 0 | P9: 0 | Q9: 0 | R9: 1 | S9: 2 | T9: 3 | U9: 2 | V9: 2 | W9: 0 | X9: 1 | Y9: 1 | Z9: 5 | AA9: 1 | AB9: 4 | AC9: 2 | AG9: 19 | AH9: 16 | AI9: 13 | AJ9: 35 | AK9: 2 | AL9: richtiges Ergebnis | AO9: 5
A10: 2 | B10: Master1 | C10: 3 | D10: 1 | E10: 2 | F10: 3 | G10: 2 | H10: 0 | I10: 2 | J10: 1 | K10: 0 | L10: 2 | M10: 2 | N10: 6 | O10: 2 | P10: 2 | Q10: 0 | R10: 1 | S10: 3 | T10: 2 | U10: 2 | V10: 2 | W10: 0 | X10: 2 | Y10: 1 | Z10: 0 | AA10: 0 | AB10: 3 | AC10: 2 | AG10: 12 | AH10: 23 | AI10: 3 | AJ10: 35 | AK10: 2
A11: 4 | B11: Thomas Bülles | C11: 2 | D11: 1 | E11: 3 | F11: 3 | G11: 0 | H11: 0 | I11: 2 | J11: 1 | K11: 0 | L11: 1 | M11: 2 | N11: 0 | O11: 1 | P11: 0 | Q11: 0 | R11: 0 | S11: 1 | T11: 5 | U11: 2 | V11: 2 | W11: 0 | X11: 2 | Y11: 1 | Z11: 0 | AA11: 0 | AB11: 3 | AC11: 2 | AG11: 10 | AH11: 24 | AI11: 2 | AJ11: 34 | AK11: 4
A12: 5 | B12: Lola04 | C12: 3 | D12: 1 | E12: 2 | F12: 2 | G12: 0 | H12: 0 | I12: 2 | J12: 1 | K12: 0 | L12: 2 | M12: 2 | N12: 6 | O12: 1 | P12: 1 | Q12: 0 | R12: 2 | S12: 3 | T12: 3 | U12: 1 | V12: 2 | W12: 0 | X12: 1 | Y12: 0 | Z12: 0 | AA12: 1 | AB12: 3 | AC12: 2 | AG12: 13 | AH12: 17 | AI12: 10 | AJ12: 30 | AK12: 5
A13: 5 | B13: Ricardo04 | C13: 2 | D13: 1 | E13: 3 | F13: 3 | G13: 1 | H13: 0 | I13: 2 | J13: 1 | K13: 0 | L13: 0 | M13: 2 | N13: 0 | O13: 1 | P13: 0 | Q13: 0 | R13: 1 | S13: 2 | T13: 3 | U13: 1 | V13: 2 | W13: 0 | X13: 2 | Y13: 1 | Z13: 0 | AA13: 0 | AB13: 5 | AC13: 2 | AG13: 8 | AH13: 22 | AI13: 5 | AJ13: 30 | AK13: 5
A14: 7 | B14: Reinhold | C14: 2 | D14: 1 | E14: 3 | F14: 3 | G14: 2 | H14: 0 | I14: 2 | J14: 0 | K14: 0 | L14: 0 | M14: 1 | N14: 0 | O14: 1 | P14: 3 | Q14: 2 | R14: 1 | S14: 3 | T14: 2 | U14: 3 | V14: 2 | W14: 3 | X14: 2 | Y14: 0 | Z14: 0 | AA14: 2 | AB14: 4 | AC14: 2 | AG14: 12 | AH14: 17 | AI14: 10 | AJ14: 29 | AK14: 7
A15: 7 | B15: Sascha | C15: 2 | D15: 1 | E15: 3 | F15: 3 | G15: 1 | H15: 0 | I15: 1 | J15: 2 | K15: 2 | L15: 1 | M15: 2 | N15: 0 | O15: 2 | P15: 0 | Q15: 0 | R15: 2 | S15: 3 | T15: 3 | U15: 2 | V15: 4 | W15: 0 | X15: 2 | Y15: 1 | Z15: 0 | AA15: 0 | AB15: 3 | AC15: 2 | AG15: 10 | AH15: 19 | AI15: 7 | AJ15: 29 | AK15: 7
A16: 9 | B16: Franzi04 | C16: 2 | D16: 1 | E16: 3 | F16: 3 | G16: 1 | H16: 0 | I16: 1 | J16: 1 | K16: 0 | L16: 1 | M16: 2 | N16: 0 | O16: 2 | P16: 1 | Q16: 0 | R16: 1 | S16: 2 | T16: 3 | U16: 1 | V16: 3 | W16: 0 | X16: 1 | Y16: 0 | Z16: 0 | AA16: 0 | AB16: 3 | AC16: 2 | AG16: 8 | AH16: 19 | AI16: 7 | AJ16: 27 | AK16: 9
A17: 9 | B17: jupp04 | C17: 3 | D17: 1 | E17: 2 | F17: 3 | G17: 1 | H17: 0 | I17: 3 | J17: 1 | K17: 0 | L17: 1 | M17: 2 | N17: 0 | O17: 2 | P17: 2 | Q17: 0 | R17: 2 | S17: 2 | T17: 0 | U17: 2 | V17: 2 | W17: 0 | X17: 3 | Y17: 1 | Z17: 0 | AA17: 0 | AB17: 4 | AC17: 2 | AG17: 4 | AH17: 23 | AI17: 3 | AJ17: 27 | AK17: 9
A18: 11 | B18: UltraGE | C18: 3 | D18: 1 | E18: 2 | F18: 2 | G18: 1 | H18: 0 | I18: 2 | J18: 1 | K18: 0 | L18: 1 | M18: 2 | N18: 0 | O18: 2 | P18: 1 | Q18: 0 | R18: 2 | S18: 3 | T18: 3 | U18: 1 | V18: 2 | W18: 0 | X18: 1 | Y18: 2 | Z18: 0 | AA18: 1 | AB18: 3 | AC18: 2 | AG18: 7 | AH18: 19 | AI18: 7 | AJ18: 26 | AK18: 11
A19: 12 | B19: Mike04 | C19: 2 | D19: 0 | E19: 2 | F19: 3 | G19: 0 | H19: 0 | I19: 2 | J19: 0 | K19: 0 | L19: 0 | M19: 1 | N19: 0 | O19: 1 | P19: 0 | Q19: 0 | R19: 1 | S19: 1 | T19: 0 | U19: 0 | V19: 2 | W19: 0 | X19: 2 | Y19: 0 | Z19: 0 | AA19: 0 | AB19: 3 | AC19: 2 | AG19: 4 | AH19: 21 | AI19: 6 | AJ19: 25 | AK19: 12
A20: 12 | B20: Nico1904 | C20: 3 | D20: 1 | E20: 2 | F20: 2 | G20: 1 | H20: 0 | I20: 2 | J20: 1 | K20: 0 | L20: 0 | M20: 1 | N20: 0 | O20: 1 | P20: 1 | Q20: 0 | R20: 1 | S20: 2 | T20: 3 | U20: 0 | V20: 1 | W20: 0 | X20: 2 | Y20: 2 | Z20: 3 | AA20: 0 | AB20: 5 | AC20: 2 | AG20: 10 | AH20: 15 | AI20: 15 | AJ20: 25 | AK20: 12
A21: 14 | B21: MB AC Norbert | C21: 2 | D21: 0 | E21: 2 | F21: 0 | G21: 2 | H21: 2 | I21: 3 | J21: 1 | K21: 0 | L21: 1 | M21: 2 | N21: 0 | O21: 0 | P21: 0 | Q21: 0 | R21: 0 | S21: 3 | T21: 2 | U21: 2 | V21: 2 | W21: 0 | X21: 2 | Y21: 0 | Z21: 0 | AA21: 0 | AB21: 0 | AC21: 0 | AG21: 6 | AH21: 16 | AI21: 13 | AJ21: 22 | AK21: 14
A22: 15 | B22: Schalt04 | C22: 3 | D22: 1 | E22: 2 | F22: 4 | G22: 1 | H22: 0 | I22: 1 | J22: 1 | K22: 0 | L22: 0 | M22: 1 | N22: 0 | O22: 0 | P22: 0 | Q22: 0 | R22: 1 | S22: 2 | T22: 3 | U22: 1 | V22: 2 | W22: 0 | X22: 3 | Y22: 1 | Z22: 0 | AA22: 0 | AB22: 2 | AC22: 2 | AG22: 7 | AH22: 14 | AI22: 16 | AJ22: 21 | AK22: 15
A23: 15 | B23: shiny | C23: 4 | D23: 1 | E23: 2 | F23: 2 | G23: 0 | H23: 0 | I23: 2 | J23: 0 | K23: 0 | L23: 1 | M23: 2 | N23: 0 | O23: 1 | P23: 1 | Q23: 0 | R23: 1 | S23: 1 | T23: 0 | U23: 1 | V23: 1 | W23: 0 | X23: 2 | Y23: 1 | Z23: 0 | AA23: 0 | AB23: 4 | AC23: 2 | AG23: 4 | AH23: 17 | AI23: 10 | AJ23: 21 | AK23: 15
A24: 17 | B24: Tanja04 | C24: 2 | D24: 1 | E24: 3 | F24: 3 | G24: 0 | H24: 0 | I24: 3 | J24: 1 | K24: 0 | L24: 1 | M24: 2 | N24: 0 | O24: 1 | P24: 1 | Q24: 0 | R24: 1 | S24: 0 | T24: 0 | U24: 0 | V24: 2 | W24: 0 | X24: 2 | Y24: 0 | Z24: 0 | AA24: 0 | AB24: 4 | AC24: 2 | AG24: 5 | AH24: 12 | AI24: 17 | AJ24: 17 | AK24: 17
A25: 18 | B25: Enjoi | AG25: 0 | AH25: 10 | AI25: 18 | AJ25: 10 | AK25: 18
A26: 19 | AG26: 0 | AH26: 6 | AI26: 19 | AJ26: 6 | AK26: 19
A27: 19 | AG27: 0 | AH27: 6 | AI27: 19 | AJ27: 6 | AK27: 19

Sheet 4.Spieltag
A4: 4. Spieltag | C4: Freiburg | F4: Leipzig | I4: Mainz | L4: Hoffenheim | O4: Hertha BSC | R4: Schalke 04 | U4: München | X4: 1.FC Köln | AA4: Bremen
AG5: G E S A M T W E R T U N G
C6: Bochum | F6: Wolfsburg | I6: Leverkusen | L6: Augsburg | O6: Dortmund | R6: Union Berlin | U6: Gladbach | X6: Stuttgart | AA6: Frankfurt | AG6: Punkte | AH6: Punkte | AI6: Platz | AJ6: Gesamt | AK6: Platz | AL6: PUNKTEVERTEILUNG
A7: PLATZ | B7: ERGEBNISSE=> | E7: Pkt. | H7: Pkt. | K7: Pkt. | N7: Pkt. | Q7: Pkt. | T7: Pkt. | W7: Pkt. | Z7: Pkt. | AC7: Pkt. | AG7: Spieltag | AH7: bisher | AI7: bisher | AJ7: Punkte | AL7: richtige Tendenz | AO7: 2
A8: =AK8 -> 1 | B8: ='3.Spieltag'!B8 -> schmiddi04 | E8: =IF(OR(EXACT($C$7,C8)*(EXACT($D$7,D8)))=TRUE,$AO$9,IF(($D$7-$C$7=D8-C8),$AO$8,IF(OR(EXACT($C$7>$D$7,C8>D8)*EXACT($C$7=$D$7,C8=D8)*EXACT($C$7<$D$7,C8<D8)),$AO$7,0))) -> 5 | H8: =IF(OR(EXACT($F$7,F8)*(EXACT($G$7,G8)))=TRUE,$AO$9,IF(($G$7-$F$7=G8-F8),$AO$8,IF(OR(EXACT($F$7>$G$7,F8>G8)*EXACT($F$7=$G$7,F8=G8)*EXACT($F$7<$G$7,F8<G8)),$AO$7,0))) -> 5 | K8: =IF(OR(EXACT($I$7,I8)*(EXACT($J$7,J8)))=TRUE,$AO$9,IF(($J$7-$I$7=J8-I8),$AO$8,IF(OR(EXACT($I$7>$J$7,I8>J8)*EXACT($I$7=$J$7,I8=J8)*EXACT($I$7<$J$7,I8<J8)),$AO$7,0))) -> 5 | N8: =IF(OR(EXACT($L$7,L8)*(EXACT($M$7,M8)))=TRUE,$AO$9,IF(($M$7-$L$7=M8-L8),$AO$8,IF(OR(EXACT($L$7>$M$7,L8>M8)*EXACT($L$7=$M$7,L8=M8)*EXACT($L$7<$M$7,L8<M8)),$AO$7,0))) -> 5 | Q8: =IF(OR(EXACT($O$7,O8)*(EXACT($P$7,P8)))=TRUE,$AO$9,IF(($P$7-$O$7=P8-O8),$AO$8,IF(OR(EXACT($O$7>$P$7,O8>P8)*EXACT($O$7=$P$7,O8=P8)*EXACT($O$7<$P$7,O8<P8)),$AO$7,0))) -> 5 | T8: =IF(OR(EXACT($R$7,R8)*(EXACT($S$7,S8)))=TRUE,$AO$9,IF(($S$7-$R$7=S8-R8),$AO$8,IF(OR(EXACT($R$7>$S$7,R8>S8)*EXACT($R$7=$S$7,R8=S8)*EXACT($R$7<$S$7,R8<S8)),$AO$7,0))) -> 5 | W8: =IF(OR(EXACT($U$7,U8)*(EXACT($V$7,V8)))=TRUE,$AO$9,IF(($V$7-$U$7=V8-U8),$AO$8,IF(OR(EXACT($U$7>$V$7,U8>V8)*EXACT($U$7=$V$7,U8=V8)*EXACT($U$7<$V$7,U8<V8)),$AO$7,0))) -> 5 | Z8: =IF(OR(EXACT($X$7,X8)*(EXACT($Y$7,Y8)))=TRUE,$AO$9,IF(($Y$7-$X$7=Y8-X8),$AO$8,IF(OR(EXACT($X$7>$Y$7,X8>Y8)*EXACT($X$7=$Y$7,X8=Y8)*EXACT($X$7<$Y$7,X8<Y8)),$AO$7,0))) -> 5 | AC8: =IF(OR(EXACT($AA$7,AA8)*(EXACT($AB$7,AB8)))=TRUE,$AO$9,IF(($AB$7-$AA$7=AB8-AA8),$AO$8,IF(OR(EXACT($AA$7>$AB$7,AA8>AB8)*EXACT($AA$7=$AB$7,AA8=AB8)*EXACT($AA$7<$AB$7,AA8<AB8)),$AO$7,0))) -> 5 | AG8: =E8+H8+K8+N8+Q8+T8+W8+Z8+AC8+AF8 -> 45 | AH8: ='3.Spieltag'!AJ8 -> 40 | AI8: ='3.Spieltag'!AK8 -> 1 | AJ8: =AG8+AH8 -> 85 | AK8: =RANK(AJ8,$AJ$8:$AJ$27) -> 1 | AL8: richtige Tend. + korr. Torabst. | AO8: 3
A9: =AK9 -> 2 | B9: ='3.Spieltag'!B9 -> FlorianS04 | E9: =IF(OR(EXACT($C$7,C9)*(EXACT($D$7,D9)))=TRUE,$AO$9,IF(($D$7-$C$7=D9-C9),$AO$8,IF(OR(EXACT($C$7>$D$7,C9>D9)*EXACT($C$7=$D$7,C9=D9)*EXACT($C$7<$D$7,C9<D9)),$AO$7,0))) -> 5 | H9: =IF(OR(EXACT($F$7,F9)*(EXACT($G$7,G9)))=TRUE,$AO$9,IF(($G$7-$F$7=G9-F9),$AO$8,IF(OR(EXACT($F$7>$G$7,F9>G9)*EXACT($F$7=$G$7,F9=G9)*EXACT($F$7<$G$7,F9<G9)),$AO$7,0))) -> 5 | K9: =IF(OR(EXACT($I$7,I9)*(EXACT($J$7,J9)))=TRUE,$AO$9,IF(($J$7-$I$7=J9-I9),$AO$8,IF(OR(EXACT($I$7>$J$7,I9>J9)*EXACT($I$7=$J$7,I9=J9)*EXACT($I$7<$J$7,I9<J9)),$AO$7,0))) -> 5 | N9: =IF(OR(EXACT($L$7,L9)*(EXACT($M$7,M9)))=TRUE,$AO$9,IF(($M$7-$L$7=M9-L9),$AO$8,IF(OR(EXACT($L$7>$M$7,L9>M9)*EXACT($L$7=$M$7,L9=M9)*EXACT($L$7<$M$7,L9<M9)),$AO$7,0))) -> 5 | Q9: =IF(OR(EXACT($O$7,O9)*(EXACT($P$7,P9)))=TRUE,$AO$9,IF(($P$7-$O$7=P9-O9),$AO$8,IF(OR(EXACT($O$7>$P$7,O9>P9)*EXACT($O$7=$P$7,O9=P9)*EXACT($O$7<$P$7,O9<P9)),$AO$7,0))) -> 5 | T9: =IF(OR(EXACT($R$7,R9)*(EXACT($S$7,S9)))=TRUE,$AO$9,IF(($S$7-$R$7=S9-R9),$AO$8,IF(OR(EXACT($R$7>$S$7,R9>S9)*EXACT($R$7=$S$7,R9=S9)*EXACT($R$7<$S$7,R9<S9)),$AO$7,0))) -> 5 | W9: =IF(OR(EXACT($U$7,U9)*(EXACT($V$7,V9)))=TRUE,$AO$9,IF(($V$7-$U$7=V9-U9),$AO$8,IF(OR(EXACT($U$7>$V$7,U9>V9)*EXACT($U$7=$V$7,U9=V9)*EXACT($U$7<$V$7,U9<V9)),$AO$7,0))) -> 5 | Z9: =IF(OR(EXACT($X$7,X9)*(EXACT($Y$7,Y9)))=TRUE,$AO$9,IF(($Y$7-$X$7=Y9-X9),$AO$8,IF(OR(EXACT($X$7>$Y$7,X9>Y9)*EXACT($X$7=$Y$7,X9=Y9)*EXACT($X$7<$Y$7,X9<Y9)),$AO$7,0))) -> 5 | AC9: =IF(OR(EXACT($AA$7,AA9)*(EXACT($AB$7,AB9)))=TRUE,$AO$9,IF(($AB$7-$AA$7=AB9-AA9),$AO$8,IF(OR(EXACT($AA$7>$AB$7,AA9>AB9)*EXACT($AA$7=$AB$7,AA9=AB9)*EXACT($AA$7<$AB$7,AA9<AB9)),$AO$7,0))) -> 5 | AG9: =E9+H9+K9+N9+Q9+T9+W9+Z9+AC9+AF9 -> 45 | AH9: ='3.Spieltag'!AJ9 -> 35 | AI9: ='3.Spieltag'!AK9 -> 2 | AJ9: =AG9+AH9 -> 80 | AK9: =RANK(AJ9,$AJ$8:$AJ$27) -> 2 | AL9: richtiges Ergebnis | AO9: 5
A10: =AK10 -> 2 | B10: ='3.Spieltag'!B10 -> Master1 | E10: =IF(OR(EXACT($C$7,C10)*(EXACT($D$7,D10)))=TRUE,$AO$9,IF(($D$7-$C$7=D10-C10),$AO$8,IF(OR(EXACT($C$7>$D$7,C10>D10)*EXACT($C$7=$D$7,C10=D10)*EXACT($C$7<$D$7,C10<D10)),$AO$7,0))) -> 5 | H10: =IF(OR(EXACT($F$7,F10)*(EXACT($G$7,G10)))=TRUE,$AO$9,IF(($G$7-$F$7=G10-F10),$AO$8,IF(OR(EXACT($F$7>$G$7,F10>G10)*EXACT($F$7=$G$7,F10=G10)*EXACT($F$7<$G$7,F10<G10)),$AO$7,0))) -> 5 | K10: =IF(OR(EXACT($I$7,I10)*(EXACT($J$7,J10)))=TRUE,$AO$9,IF(($J$7-$I$7=J10-I10),$AO$8,IF(OR(EXACT($I$7>$J$7,I10>J10)*EXACT($I$7=$J$7,I10=J10)*EXACT($I$7<$J$7,I10<J10)),$AO$7,0))) -> 5 | N10: =IF(OR(EXACT($L$7,L10)*(EXACT($M$7,M10)))=TRUE,$AO$9,IF(($M$7-$L$7=M10-L10),$AO$8,IF(OR(EXACT($L$7>$M$7,L10>M10)*EXACT($L$7=$M$7,L10=M10)*EXACT($L$7<$M$7,L10<M10)),$AO$7,0))) -> 5 | Q10: =IF(OR(EXACT($O$7,O10)*(EXACT($P$7,P10)))=TRUE,$AO$9,IF(($P$7-$O$7=P10-O10),$AO$8,IF(OR(EXACT($O$7>$P$7,O10>P10)*EXACT($O$7=$P$7,O10=P10)*EXACT($O$7<$P$7,O10<P10)),$AO$7,0))) -> 5 | T10: =IF(OR(EXACT($R$7,R10)*(EXACT($S$7,S10)))=TRUE,$AO$9,IF(($S$7-$R$7=S10-R10),$AO$8,IF(OR(EXACT($R$7>$S$7,R10>S10)*EXACT($R$7=$S$7,R10=S10)*EXACT($R$7<$S$7,R10<S10)),$AO$7,0))) -> 5 | W10: =IF(OR(EXACT($U$7,U10)*(EXACT($V$7,V10)))=TRUE,$AO$9,IF(($V$7-$U$7=V10-U10),$AO$8,IF(OR(EXACT($U$7>$V$7,U10>V10)*EXACT($U$7=$V$7,U10=V10)*EXACT($U$7<$V$7,U10<V10)),$AO$7,0))) -> 5 | Z10: =IF(OR(EXACT($X$7,X10)*(EXACT($Y$7,Y10)))=TRUE,$AO$9,IF(($Y$7-$X$7=Y10-X10),$AO$8,IF(OR(EXACT($X$7>$Y$7,X10>Y10)*EXACT($X$7=$Y$7,X10=Y10)*EXACT($X$7<$Y$7,X10<Y10)),$AO$7,0))) -> 5 | AC10: =IF(OR(EXACT($AA$7,AA10)*(EXACT($AB$7,AB10)))=TRUE,$AO$9,IF(($AB$7-$AA$7=AB10-AA10),$AO$8,IF(OR(EXACT($AA$7>$AB$7,AA10>AB10)*EXACT($AA$7=$AB$7,AA10=AB10)*EXACT($AA$7<$AB$7,AA10<AB10)),$AO$7,0))) -> 5 | AG10: =E10+H10+K10+N10+Q10+T10+W10+Z10+AC10+AF10 -> 45 | AH10: ='3.Spieltag'!AJ10 -> 35 | AI10: ='3.Spieltag'!AK10 -> 2 | AJ10: =AG10+AH10 -> 80 | AK10: =RANK(AJ10,$AJ$8:$AJ$27) -> 2
A11: =AK11 -> 4 | B11: ='3.Spieltag'!B11 -> Thomas Bülles | E11: =IF(OR(EXACT($C$7,C11)*(EXACT($D$7,D11)))=TRUE,$AO$9,IF(($D$7-$C$7=D11-C11),$AO$8,IF(OR(EXACT($C$7>$D$7,C11>D11)*EXACT($C$7=$D$7,C11=D11)*EXACT($C$7<$D$7,C11<D11)),$AO$7,0))) -> 5 | H11: =IF(OR(EXACT($F$7,F11)*(EXACT($G$7,G11)))=TRUE,$AO$9,IF(($G$7-$F$7=G11-F11),$AO$8,IF(OR(EXACT($F$7>$G$7,F11>G11)*EXACT($F$7=$G$7,F11=G11)*EXACT($F$7<$G$7,F11<G11)),$AO$7,0))) -> 5 | K11: =IF(OR(EXACT($I$7,I11)*(EXACT($J$7,J11)))=TRUE,$AO$9,IF(($J$7-$I$7=J11-I11),$AO$8,IF(OR(EXACT($I$7>$J$7,I11>J11)*EXACT($I$7=$J$7,I11=J11)*EXACT($I$7<$J$7,I11<J11)),$AO$7,0))) -> 5 | N11: =IF(OR(EXACT($L$7,L11)*(EXACT($M$7,M11)))=TRUE,$AO$9,IF(($M$7-$L$7=M11-L11),$AO$8,IF(OR(EXACT($L$7>$M$7,L11>M11)*EXACT($L$7=$M$7,L11=M11)*EXACT($L$7<$M$7,L11<M11)),$AO$7,0))) -> 5 | Q11: =IF(OR(EXACT($O$7,O11)*(EXACT($P$7,P11)))=TRUE,$AO$9,IF(($P$7-$O$7=P11-O11),$AO$8,IF(OR(EXACT($O$7>$P$7,O11>P11)*EXACT($O$7=$P$7,O11=P11)*EXACT($O$7<$P$7,O11<P11)),$AO$7,0))) -> 5 | T11: =IF(OR(EXACT($R$7,R11)*(EXACT($S$7,S11)))=TRUE,$AO$9,IF(($S$7-$R$7=S11-R11),$AO$8,IF(OR(EXACT($R$7>$S$7,R11>S11)*EXACT($R$7=$S$7,R11=S11)*EXACT($R$7<$S$7,R11<S11)),$AO$7,0))) -> 5 | W11: =IF(OR(EXACT($U$7,U11)*(EXACT($V$7,V11)))=TRUE,$AO$9,IF(($V$7-$U$7=V11-U11),$AO$8,IF(OR(EXACT($U$7>$V$7,U11>V11)*EXACT($U$7=$V$7,U11=V11)*EXACT($U$7<$V$7,U11<V11)),$AO$7,0))) -> 5 | Z11: =IF(OR(EXACT($X$7,X11)*(EXACT($Y$7,Y11)))=TRUE,$AO$9,IF(($Y$7-$X$7=Y11-X11),$AO$8,IF(OR(EXACT($X$7>$Y$7,X11>Y11)*EXACT($X$7=$Y$7,X11=Y11)*EXACT($X$7<$Y$7,X11<Y11)),$AO$7,0))) -> 5 | AC11: =IF(OR(EXACT($AA$7,AA11)*(EXACT($AB$7,AB11)))=TRUE,$AO$9,IF(($AB$7-$AA$7=AB11-AA11),$AO$8,IF(OR(EXACT($AA$7>$AB$7,AA11>AB11)*EXACT($AA$7=$AB$7,AA11=AB11)*EXACT($AA$7<$AB$7,AA11<AB11)),$AO$7,0))) -> 5 | AG11: =E11+H11+K11+N11+Q11+T11+W11+Z11+AC11+AF11 -> 45 | AH11: ='3.Spieltag'!AJ11 -> 34 | AI11: ='3.Spieltag'!AK11 -> 4 | AJ11: =AG11+AH11 -> 79 | AK11: =RANK(AJ11,$AJ$8:$AJ$27) -> 4
A12: =AK12 -> 5 | B12: ='3.Spieltag'!B12 -> Lola04 | E12: =IF(OR(EXACT($C$7,C12)*(EXACT($D$7,D12)))=TRUE,$AO$9,IF(($D$7-$C$7=D12-C12),$AO$8,IF(OR(EXACT($C$7>$D$7,C12>D12)*EXACT($C$7=$D$7,C12=D12)*EXACT($C$7<$D$7,C12<D12)),$AO$7,0))) -> 5 | H12: =IF(OR(EXACT($F$7,F12)*(EXACT($G$7,G12)))=TRUE,$AO$9,IF(($G$7-$F$7=G12-F12),$AO$8,IF(OR(EXACT($F$7>$G$7,F12>G12)*EXACT($F$7=$G$7,F12=G12)*EXACT($F$7<$G$7,F12<G12)),$AO$7,0))) -> 5 | K12: =IF(OR(EXACT($I$7,I12)*(EXACT($J$7,J12)))=TRUE,$AO$9,IF(($J$7-$I$7=J12-I12),$AO$8,IF(OR(EXACT($I$7>$J$7,I12>J12)*EXACT($I$7=$J$7,I12=J12)*EXACT($I$7<$J$7,I12<J12)),$AO$7,0))) -> 5 | N12: =IF(OR(EXACT($L$7,L12)*(EXACT($M$7,M12)))=TRUE,$AO$9,IF(($M$7-$L$7=M12-L12),$AO$8,IF(OR(EXACT($L$7>$M$7,L12>M12)*EXACT($L$7=$M$7,L12=M12)*EXACT($L$7<$M$7,L12<M12)),$AO$7,0))) -> 5 | Q12: =IF(OR(EXACT($O$7,O12)*(EXACT($P$7,P12)))=TRUE,$AO$9,IF(($P$7-$O$7=P12-O12),$AO$8,IF(OR(EXACT($O$7>$P$7,O12>P12)*EXACT($O$7=$P$7,O12=P12)*EXACT($O$7<$P$7,O12<P12)),$AO$7,0))) -> 5 | T12: =IF(OR(EXACT($R$7,R12)*(EXACT($S$7,S12)))=TRUE,$AO$9,IF(($S$7-$R$7=S12-R12),$AO$8,IF(OR(EXACT($R$7>$S$7,R12>S12)*EXACT($R$7=$S$7,R12=S12)*EXACT($R$7<$S$7,R12<S12)),$AO$7,0))) -> 5 | W12: =IF(OR(EXACT($U$7,U12)*(EXACT($V$7,V12)))=TRUE,$AO$9,IF(($V$7-$U$7=V12-U12),$AO$8,IF(OR(EXACT($U$7>$V$7,U12>V12)*EXACT($U$7=$V$7,U12=V12)*EXACT($U$7<$V$7,U12<V12)),$AO$7,0))) -> 5 | Z12: =IF(OR(EXACT($X$7,X12)*(EXACT($Y$7,Y12)))=TRUE,$AO$9,IF(($Y$7-$X$7=Y12-X12),$AO$8,IF(OR(EXACT($X$7>$Y$7,X12>Y12)*EXACT($X$7=$Y$7,X12=Y12)*EXACT($X$7<$Y$7,X12<Y12)),$AO$7,0))) -> 5 | AC12: =IF(OR(EXACT($AA$7,AA12)*(EXACT($AB$7,AB12)))=TRUE,$AO$9,IF(($AB$7-$AA$7=AB12-AA12),$AO$8,IF(OR(EXACT($AA$7>$AB$7,AA12>AB12)*EXACT($AA$7=$AB$7,AA12=AB12)*EXACT($AA$7<$AB$7,AA12<AB12)),$AO$7,0))) -> 5 | AG12: =E12+H12+K12+N12+Q12+T12+W12+Z12+AC12+AF12 -> 45 | AH12: ='3.Spieltag'!AJ12 -> 30 | AI12: ='3.Spieltag'!AK12 -> 5 | AJ12: =AG12+AH12 -> 75 | AK12: =RANK(AJ12,$AJ$8:$AJ$27) -> 5
A13: =AK13 -> 5 | B13: ='3.Spieltag'!B13 -> Ricardo04 | E13: =IF(OR(EXACT($C$7,C13)*(EXACT($D$7,D13)))=TRUE,$AO$9,IF(($D$7-$C$7=D13-C13),$AO$8,IF(OR(EXACT($C$7>$D$7,C13>D13)*EXACT($C$7=$D$7,C13=D13)*EXACT($C$7<$D$7,C13<D13)),$AO$7,0))) -> 5 | H13: =IF(OR(EXACT($F$7,F13)*(EXACT($G$7,G13)))=TRUE,$AO$9,IF(($G$7-$F$7=G13-F13),$AO$8,IF(OR(EXACT($F$7>$G$7,F13>G13)*EXACT($F$7=$G$7,F13=G13)*EXACT($F$7<$G$7,F13<G13)),$AO$7,0))) -> 5 | K13: =IF(OR(EXACT($I$7,I13)*(EXACT($J$7,J13)))=TRUE,$AO$9,IF(($J$7-$I$7=J13-I13),$AO$8,IF(OR(EXACT($I$7>$J$7,I13>J13)*EXACT($I$7=$J$7,I13=J13)*EXACT($I$7<$J$7,I13<J13)),$AO$7,0))) -> 5 | N13: =IF(OR(EXACT($L$7,L13)*(EXACT($M$7,M13)))=TRUE,$AO$9,IF(($M$7-$L$7=M13-L13),$AO$8,IF(OR(EXACT($L$7>$M$7,L13>M13)*EXACT($L$7=$M$7,L13=M13)*EXACT($L$7<$M$7,L13<M13)),$AO$7,0))) -> 5 | Q13: =IF(OR(EXACT($O$7,O13)*(EXACT($P$7,P13)))=TRUE,$AO$9,IF(($P$7-$O$7=P13-O13),$AO$8,IF(OR(EXACT($O$7>$P$7,O13>P13)*EXACT($O$7=$P$7,O13=P13)*EXACT($O$7<$P$7,O13<P13)),$AO$7,0))) -> 5 | T13: =IF(OR(EXACT($R$7,R13)*(EXACT($S$7,S13)))=TRUE,$AO$9,IF(($S$7-$R$7=S13-R13),$AO$8,IF(OR(EXACT($R$7>$S$7,R13>S13)*EXACT($R$7=$S$7,R13=S13)*EXACT($R$7<$S$7,R13<S13)),$AO$7,0))) -> 5 | W13: =IF(OR(EXACT($U$7,U13)*(EXACT($V$7,V13)))=TRUE,$AO$9,IF(($V$7-$U$7=V13-U13),$AO$8,IF(OR(EXACT($U$7>$V$7,U13>V13)*EXACT($U$7=$V$7,U13=V13)*EXACT($U$7<$V$7,U13<V13)),$AO$7,0))) -> 5 | Z13: =IF(OR(EXACT($X$7,X13)*(EXACT($Y$7,Y13)))=TRUE,$AO$9,IF(($Y$7-$X$7=Y13-X13),$AO$8,IF(OR(EXACT($X$7>$Y$7,X13>Y13)*EXACT($X$7=$Y$7,X13=Y13)*EXACT($X$7<$Y$7,X13<Y13)),$AO$7,0))) -> 5 | AC13: =IF(OR(EXACT($AA$7,AA13)*(EXACT($AB$7,AB13)))=TRUE,$AO$9,IF(($AB$7-$AA$7=AB13-AA13),$AO$8,IF(OR(EXACT($AA$7>$AB$7,AA13>AB13)*EXACT($AA$7=$AB$7,AA13=AB13)*EXACT($AA$7<$AB$7,AA13<AB13)),$AO$7,0))) -> 5 | AG13: =E13+H13+K13+N13+Q13+T13+W13+Z13+AC13+AF13 -> 45 | AH13: ='3.Spieltag'!AJ13 -> 30 | AI13: ='3.Spieltag'!AK13 -> 5 | AJ13: =AG13+AH13 -> 75 | AK13: =RANK(AJ13,$AJ$8:$AJ$27) -> 5
A14: =AK14 -> 7 | B14: ='3.Spieltag'!B14 -> Reinhold | E14: =IF(OR(EXACT($C$7,C14)*(EXACT($D$7,D14)))=TRUE,$AO$9,IF(($D$7-$C$7=D14-C14),$AO$8,IF(OR(EXACT($C$7>$D$7,C14>D14)*EXACT($C$7=$D$7,C14=D14)*EXACT($C$7<$D$7,C14<D14)),$AO$7,0))) -> 5 | H14: =IF(OR(EXACT($F$7,F14)*(EXACT($G$7,G14)))=TRUE,$AO$9,IF(($G$7-$F$7=G14-F14),$AO$8,IF(OR(EXACT($F$7>$G$7,F14>G14)*EXACT($F$7=$G$7,F14=G14)*EXACT($F$7<$G$7,F14<G14)),$AO$7,0))) -> 5 | K14: =IF(OR(EXACT($I$7,I14)*(EXACT($J$7,J14)))=TRUE,$AO$9,IF(($J$7-$I$7=J14-I14),$AO$8,IF(OR(EXACT($I$7>$J$7,I14>J14)*EXACT($I$7=$J$7,I14=J14)*EXACT($I$7<$J$7,I14<J14)),$AO$7,0))) -> 5 | N14: =IF(OR(EXACT($L$7,L14)*(EXACT($M$7,M14)))=TRUE,$AO$9,IF(($M$7-$L$7=M14-L14),$AO$8,IF(OR(EXACT($L$7>$M$7,L14>M14)*EXACT($L$7=$M$7,L14=M14)*EXACT($L$7<$M$7,L14<M14)),$AO$7,0))) -> 5 | Q14: =IF(OR(EXACT($O$7,O14)*(EXACT($P$7,P14)))=TRUE,$AO$9,IF(($P$7-$O$7=P14-O14),$AO$8,IF(OR(EXACT($O$7>$P$7,O14>P14)*EXACT($O$7=$P$7,O14=P14)*EXACT($O$7<$P$7,O14<P14)),$AO$7,0))) -> 5 | T14: =IF(OR(EXACT($R$7,R14)*(EXACT($S$7,S14)))=TRUE,$AO$9,IF(($S$7-$R$7=S14-R14),$AO$8,IF(OR(EXACT($R$7>$S$7,R14>S14)*EXACT($R$7=$S$7,R14=S14)*EXACT($R$7<$S$7,R14<S14)),$AO$7,0))) -> 5 | W14: =IF(OR(EXACT($U$7,U14)*(EXACT($V$7,V14)))=TRUE,$AO$9,IF(($V$7-$U$7=V14-U14),$AO$8,IF(OR(EXACT($U$7>$V$7,U14>V14)*EXACT($U$7=$V$7,U14=V14)*EXACT($U$7<$V$7,U14<V14)),$AO$7,0))) -> 5 | Z14: =IF(OR(EXACT($X$7,X14)*(EXACT($Y$7,Y14)))=TRUE,$AO$9,IF(($Y$7-$X$7=Y14-X14),$AO$8,IF(OR(EXACT($X$7>$Y$7,X14>Y14)*EXACT($X$7=$Y$7,X14=Y14)*EXACT($X$7<$Y$7,X14<Y14)),$AO$7,0))) -> 5 | AC14: =IF(OR(EXACT($AA$7,AA14)*(EXACT($AB$7,AB14)))=TRUE,$AO$9,IF(($AB$7-$AA$7=AB14-AA14),$AO$8,IF(OR(EXACT($AA$7>$AB$7,AA14>AB14)*EXACT($AA$7=$AB$7,AA14=AB14)*EXACT($AA$7<$AB$7,AA14<AB14)),$AO$7,0))) -> 5 | AG14: =E14+H14+K14+N14+Q14+T14+W14+Z14+AC14+AF14 -> 45 | AH14: ='3.Spieltag'!AJ14 -> 29 | AI14: ='3.Spieltag'!AK14 -> 7 | AJ14: =AG14+AH14 -> 74 | AK14: =RANK(AJ14,$AJ$8:$AJ$27) -> 7
A15: =AK15 -> 7 | B15: ='3.Spieltag'!B15 -> Sascha | E15: =IF(OR(EXACT($C$7,C15)*(EXACT($D$7,D15)))=TRUE,$AO$9,IF(($D$7-$C$7=D15-C15),$AO$8,IF(OR(EXACT($C$7>$D$7,C15>D15)*EXACT($C$7=$D$7,C15=D15)*EXACT($C$7<$D$7,C15<D15)),$AO$7,0))) -> 5 | H15: =IF(OR(EXACT($F$7,F15)*(EXACT($G$7,G15)))=TRUE,$AO$9,IF(($G$7-$F$7=G15-F15),$AO$8,IF(OR(EXACT($F$7>$G$7,F15>G15)*EXACT($F$7=$G$7,F15=G15)*EXACT($F$7<$G$7,F15<G15)),$AO$7,0))) -> 5 | K15: =IF(OR(EXACT($I$7,I15)*(EXACT($J$7,J15)))=TRUE,$AO$9,IF(($J$7-$I$7=J15-I15),$AO$8,IF(OR(EXACT($I$7>$J$7,I15>J15)*EXACT($I$7=$J$7,I15=J15)*EXACT($I$7<$J$7,I15<J15)),$AO$7,0))) -> 5 | N15: =IF(OR(EXACT($L$7,L15)*(EXACT($M$7,M15)))=TRUE,$AO$9,IF(($M$7-$L$7=M15-L15),$AO$8,IF(OR(EXACT($L$7>$M$7,L15>M15)*EXACT($L$7=$M$7,L15=M15)*EXACT($L$7<$M$7,L15<M15)),$AO$7,0))) -> 5 | Q15: =IF(OR(EXACT($O$7,O15)*(EXACT($P$7,P15)))=TRUE,$AO$9,IF(($P$7-$O$7=P15-O15),$AO$8,IF(OR(EXACT($O$7>$P$7,O15>P15)*EXACT($O$7=$P$7,O15=P15)*EXACT($O$7<$P$7,O15<P15)),$AO$7,0))) -> 5 | T15: =IF(OR(EXACT($R$7,R15)*(EXACT($S$7,S15)))=TRUE,$AO$9,IF(($S$7-$R$7=S15-R15),$AO$8,IF(OR(EXACT($R$7>$S$7,R15>S15)*EXACT($R$7=$S$7,R15=S15)*EXACT($R$7<$S$7,R15<S15)),$AO$7,0))) -> 5 | W15: =IF(OR(EXACT($U$7,U15)*(EXACT($V$7,V15)))=TRUE,$AO$9,IF(($V$7-$U$7=V15-U15),$AO$8,IF(OR(EXACT($U$7>$V$7,U15>V15)*EXACT($U$7=$V$7,U15=V15)*EXACT($U$7<$V$7,U15<V15)),$AO$7,0))) -> 5 | Z15: =IF(OR(EXACT($X$7,X15)*(EXACT($Y$7,Y15)))=TRUE,$AO$9,IF(($Y$7-$X$7=Y15-X15),$AO$8,IF(OR(EXACT($X$7>$Y$7,X15>Y15)*EXACT($X$7=$Y$7,X15=Y15)*EXACT($X$7<$Y$7,X15<Y15)),$AO$7,0))) -> 5 | AC15: =IF(OR(EXACT($AA$7,AA15)*(EXACT($AB$7,AB15)))=TRUE,$AO$9,IF(($AB$7-$AA$7=AB15-AA15),$AO$8,IF(OR(EXACT($AA$7>$AB$7,AA15>AB15)*EXACT($AA$7=$AB$7,AA15=AB15)*EXACT($AA$7<$AB$7,AA15<AB15)),$AO$7,0))) -> 5 | AG15: =E15+H15+K15+N15+Q15+T15+W15+Z15+AC15+AF15 -> 45 | AH15: ='3.Spieltag'!AJ15 -> 29 | AI15: ='3.Spieltag'!AK15 -> 7 | AJ15: =AG15+AH15 -> 74 | AK15: =RANK(AJ15,$AJ$8:$AJ$27) -> 7
A16: =AK16 -> 9 | B16: ='3.Spieltag'!B16 -> Franzi04 | E16: =IF(OR(EXACT($C$7,C16)*(EXACT($D$7,D16)))=TRUE,$AO$9,IF(($D$7-$C$7=D16-C16),$AO$8,IF(OR(EXACT($C$7>$D$7,C16>D16)*EXACT($C$7=$D$7,C16=D16)*EXACT($C$7<$D$7,C16<D16)),$AO$7,0))) -> 5 | H16: =IF(OR(EXACT($F$7,F16)*(EXACT($G$7,G16)))=TRUE,$AO$9,IF(($G$7-$F$7=G16-F16),$AO$8,IF(OR(EXACT($F$7>$G$7,F16>G16)*EXACT($F$7=$G$7,F16=G16)*EXACT($F$7<$G$7,F16<G16)),$AO$7,0))) -> 5 | K16: =IF(OR(EXACT($I$7,I16)*(EXACT($J$7,J16)))=TRUE,$AO$9,IF(($J$7-$I$7=J16-I16),$AO$8,IF(OR(EXACT($I$7>$J$7,I16>J16)*EXACT($I$7=$J$7,I16=J16)*EXACT($I$7<$J$7,I16<J16)),$AO$7,0))) -> 5 | N16: =IF(OR(EXACT($L$7,L16)*(EXACT($M$7,M16)))=TRUE,$AO$9,IF(($M$7-$L$7=M16-L16),$AO$8,IF(OR(EXACT($L$7>$M$7,L16>M16)*EXACT($L$7=$M$7,L16=M16)*EXACT($L$7<$M$7,L16<M16)),$AO$7,0))) -> 5 | Q16: =IF(OR(EXACT($O$7,O16)*(EXACT($P$7,P16)))=TRUE,$AO$9,IF(($P$7-$O$7=P16-O16),$AO$8,IF(OR(EXACT($O$7>$P$7,O16>P16)*EXACT($O$7=$P$7,O16=P16)*EXACT($O$7<$P$7,O16<P16)),$AO$7,0))) -> 5 | T16: =IF(OR(EXACT($R$7,R16)*(EXACT($S$7,S16)))=TRUE,$AO$9,IF(($S$7-$R$7=S16-R16),$AO$8,IF(OR(EXACT($R$7>$S$7,R16>S16)*EXACT($R$7=$S$7,R16=S16)*EXACT($R$7<$S$7,R16<S16)),$AO$7,0))) -> 5 | W16: =IF(OR(EXACT($U$7,U16)*(EXACT($V$7,V16)))=TRUE,$AO$9,IF(($V$7-$U$7=V16-U16),$AO$8,IF(OR(EXACT($U$7>$V$7,U16>V16)*EXACT($U$7=$V$7,U16=V16)*EXACT($U$7<$V$7,U16<V16)),$AO$7,0))) -> 5 | Z16: =IF(OR(EXACT($X$7,X16)*(EXACT($Y$7,Y16)))=TRUE,$AO$9,IF(($Y$7-$X$7=Y16-X16),$AO$8,IF(OR(EXACT($X$7>$Y$7,X16>Y16)*EXACT($X$7=$Y$7,X16=Y16)*EXACT($X$7<$Y$7,X16<Y16)),$AO$7,0))) -> 5 | AC16: =IF(OR(EXACT($AA$7,AA16)*(EXACT($AB$7,AB16)))=TRUE,$AO$9,IF(($AB$7-$AA$7=AB16-AA16),$AO$8,IF(OR(EXACT($AA$7>$AB$7,AA16>AB16)*EXACT($AA$7=$AB$7,AA16=AB16)*EXACT($AA$7<$AB$7,AA16<AB16)),$AO$7,0))) -> 5 | AG16: =E16+H16+K16+N16+Q16+T16+W16+Z16+AC16+AF16 -> 45 | AH16: ='3.Spieltag'!AJ16 -> 27 | AI16: ='3.Spieltag'!AK16 -> 9 | AJ16: =AG16+AH16 -> 72 | AK16: =RANK(AJ16,$AJ$8:$AJ$27) -> 9
A17: =AK17 -> 9 | B17: ='3.Spieltag'!B17 -> jupp04 | E17: =IF(OR(EXACT($C$7,C17)*(EXACT($D$7,D17)))=TRUE,$AO$9,IF(($D$7-$C$7=D17-C17),$AO$8,IF(OR(EXACT($C$7>$D$7,C17>D17)*EXACT($C$7=$D$7,C17=D17)*EXACT($C$7<$D$7,C17<D17)),$AO$7,0))) -> 5 | H17: =IF(OR(EXACT($F$7,F17)*(EXACT($G$7,G17)))=TRUE,$AO$9,IF(($G$7-$F$7=G17-F17),$AO$8,IF(OR(EXACT($F$7>$G$7,F17>G17)*EXACT($F$7=$G$7,F17=G17)*EXACT($F$7<$G$7,F17<G17)),$AO$7,0))) -> 5 | K17: =IF(OR(EXACT($I$7,I17)*(EXACT($J$7,J17)))=TRUE,$AO$9,IF(($J$7-$I$7=J17-I17),$AO$8,IF(OR(EXACT($I$7>$J$7,I17>J17)*EXACT($I$7=$J$7,I17=J17)*EXACT($I$7<$J$7,I17<J17)),$AO$7,0))) -> 5 | N17: =IF(OR(EXACT($L$7,L17)*(EXACT($M$7,M17)))=TRUE,$AO$9,IF(($M$7-$L$7=M17-L17),$AO$8,IF(OR(EXACT($L$7>$M$7,L17>M17)*EXACT($L$7=$M$7,L17=M17)*EXACT($L$7<$M$7,L17<M17)),$AO$7,0))) -> 5 | Q17: =IF(OR(EXACT($O$7,O17)*(EXACT($P$7,P17)))=TRUE,$AO$9,IF(($P$7-$O$7=P17-O17),$AO$8,IF(OR(EXACT($O$7>$P$7,O17>P17)*EXACT($O$7=$P$7,O17=P17)*EXACT($O$7<$P$7,O17<P17)),$AO$7,0))) -> 5 | T17: =IF(OR(EXACT($R$7,R17)*(EXACT($S$7,S17)))=TRUE,$AO$9,IF(($S$7-$R$7=S17-R17),$AO$8,IF(OR(EXACT($R$7>$S$7,R17>S17)*EXACT($R$7=$S$7,R17=S17)*EXACT($R$7<$S$7,R17<S17)),$AO$7,0))) -> 5 | W17: =IF(OR(EXACT($U$7,U17)*(EXACT($V$7,V17)))=TRUE,$AO$9,IF(($V$7-$U$7=V17-U17),$AO$8,IF(OR(EXACT($U$7>$V$7,U17>V17)*EXACT($U$7=$V$7,U17=V17)*EXACT($U$7<$V$7,U17<V17)),$AO$7,0))) -> 5 | Z17: =IF(OR(EXACT($X$7,X17)*(EXACT($Y$7,Y17)))=TRUE,$AO$9,IF(($Y$7-$X$7=Y17-X17),$AO$8,IF(OR(EXACT($X$7>$Y$7,X17>Y17)*EXACT($X$7=$Y$7,X17=Y17)*EXACT($X$7<$Y$7,X17<Y17)),$AO$7,0))) -> 5 | AC17: =IF(OR(EXACT($AA$7,AA17)*(EXACT($AB$7,AB17)))=TRUE,$AO$9,IF(($AB$7-$AA$7=AB17-AA17),$AO$8,IF(OR(EXACT($AA$7>$AB$7,AA17>AB17)*EXACT($AA$7=$AB$7,AA17=AB17)*EXACT($AA$7<$AB$7,AA17<AB17)),$AO$7,0))) -> 5 | AG17: =E17+H17+K17+N17+Q17+T17+W17+Z17+AC17+AF17 -> 45 | AH17: ='3.Spieltag'!AJ17 -> 27 | AI17: ='3.Spieltag'!AK17 -> 9 | AJ17: =AG17+AH17 -> 72 | AK17: =RANK(AJ17,$AJ$8:$AJ$27) -> 9
A18: =AK18 -> 11 | B18: ='3.Spieltag'!B18 -> UltraGE | E18: =IF(OR(EXACT($C$7,C18)*(EXACT($D$7,D18)))=TRUE,$AO$9,IF(($D$7-$C$7=D18-C18),$AO$8,IF(OR(EXACT($C$7>$D$7,C18>D18)*EXACT($C$7=$D$7,C18=D18)*EXACT($C$7<$D$7,C18<D18)),$AO$7,0))) -> 5 | H18: =IF(OR(EXACT($F$7,F18)*(EXACT($G$7,G18)))=TRUE,$AO$9,IF(($G$7-$F$7=G18-F18),$AO$8,IF(OR(EXACT($F$7>$G$7,F18>G18)*EXACT($F$7=$G$7,F18=G18)*EXACT($F$7<$G$7,F18<G18)),$AO$7,0))) -> 5 | K18: =IF(OR(EXACT($I$7,I18)*(EXACT($J$7,J18)))=TRUE,$AO$9,IF(($J$7-$I$7=J18-I18),$AO$8,IF(OR(EXACT($I$7>$J$7,I18>J18)*EXACT($I$7=$J$7,I18=J18)*EXACT($I$7<$J$7,I18<J18)),$AO$7,0))) -> 5 | N18: =IF(OR(EXACT($L$7,L18)*(EXACT($M$7,M18)))=TRUE,$AO$9,IF(($M$7-$L$7=M18-L18),$AO$8,IF(OR(EXACT($L$7>$M$7,L18>M18)*EXACT($L$7=$M$7,L18=M18)*EXACT($L$7<$M$7,L18<M18)),$AO$7,0))) -> 5 | Q18: =IF(OR(EXACT($O$7,O18)*(EXACT($P$7,P18)))=TRUE,$AO$9,IF(($P$7-$O$7=P18-O18),$AO$8,IF(OR(EXACT($O$7>$P$7,O18>P18)*EXACT($O$7=$P$7,O18=P18)*EXACT($O$7<$P$7,O18<P18)),$AO$7,0))) -> 5 | T18: =IF(OR(EXACT($R$7,R18)*(EXACT($S$7,S18)))=TRUE,$AO$9,IF(($S$7-$R$7=S18-R18),$AO$8,IF(OR(EXACT($R$7>$S$7,R18>S18)*EXACT($R$7=$S$7,R18=S18)*EXACT($R$7<$S$7,R18<S18)),$AO$7,0))) -> 5 | W18: =IF(OR(EXACT($U$7,U18)*(EXACT($V$7,V18)))=TRUE,$AO$9,IF(($V$7-$U$7=V18-U18),$AO$8,IF(OR(EXACT($U$7>$V$7,U18>V18)*EXACT($U$7=$V$7,U18=V18)*EXACT($U$7<$V$7,U18<V18)),$AO$7,0))) -> 5 | Z18: =IF(OR(EXACT($X$7,X18)*(EXACT($Y$7,Y18)))=TRUE,$AO$9,IF(($Y$7-$X$7=Y18-X18),$AO$8,IF(OR(EXACT($X$7>$Y$7,X18>Y18)*EXACT($X$7=$Y$7,X18=Y18)*EXACT($X$7<$Y$7,X18<Y18)),$AO$7,0))) -> 5 | AC18: =IF(OR(EXACT($AA$7,AA18)*(EXACT($AB$7,AB18)))=TRUE,$AO$9,IF(($AB$7-$AA$7=AB18-AA18),$AO$8,IF(OR(EXACT($AA$7>$AB$7,AA18>AB18)*EXACT($AA$7=$AB$7,AA18=AB18)*EXACT($AA$7<$AB$7,AA18<AB18)),$AO$7,0))) -> 5 | AG18: =E18+H18+K18+N18+Q18+T18+W18+Z18+AC18+AF18 -> 45 | AH18: ='3.Spieltag'!AJ18 -> 26 | AI18: ='3.Spieltag'!AK18 -> 11 | AJ18: =AG18+AH18 -> 71 | AK18: =RANK(AJ18,$AJ$8:$AJ$27) -> 11
A19: =AK19 -> 12 | B19: ='3.Spieltag'!B19 -> Mike04 | E19: =IF(OR(EXACT($C$7,C19)*(EXACT($D$7,D19)))=TRUE,$AO$9,IF(($D$7-$C$7=D19-C19),$AO$8,IF(OR(EXACT($C$7>$D$7,C19>D19)*EXACT($C$7=$D$7,C19=D19)*EXACT($C$7<$D$7,C19<D19)),$AO$7,0))) -> 5 | H19: =IF(OR(EXACT($F$7,F19)*(EXACT($G$7,G19)))=TRUE,$AO$9,IF(($G$7-$F$7=G19-F19),$AO$8,IF(OR(EXACT($F$7>$G$7,F19>G19)*EXACT($F$7=$G$7,F19=G19)*EXACT($F$7<$G$7,F19<G19)),$AO$7,0))) -> 5 | K19: =IF(OR(EXACT($I$7,I19)*(EXACT($J$7,J19)))=TRUE,$AO$9,IF(($J$7-$I$7=J19-I19),$AO$8,IF(OR(EXACT($I$7>$J$7,I19>J19)*EXACT($I$7=$J$7,I19=J19)*EXACT($I$7<$J$7,I19<J19)),$AO$7,0))) -> 5 | N19: =IF(OR(EXACT($L$7,L19)*(EXACT($M$7,M19)))=TRUE,$AO$9,IF(($M$7-$L$7=M19-L19),$AO$8,IF(OR(EXACT($L$7>$M$7,L19>M19)*EXACT($L$7=$M$7,L19=M19)*EXACT($L$7<$M$7,L19<M19)),$AO$7,0))) -> 5 | Q19: =IF(OR(EXACT($O$7,O19)*(EXACT($P$7,P19)))=TRUE,$AO$9,IF(($P$7-$O$7=P19-O19),$AO$8,IF(OR(EXACT($O$7>$P$7,O19>P19)*EXACT($O$7=$P$7,O19=P19)*EXACT($O$7<$P$7,O19<P19)),$AO$7,0))) -> 5 | T19: =IF(OR(EXACT($R$7,R19)*(EXACT($S$7,S19)))=TRUE,$AO$9,IF(($S$7-$R$7=S19-R19),$AO$8,IF(OR(EXACT($R$7>$S$7,R19>S19)*EXACT($R$7=$S$7,R19=S19)*EXACT($R$7<$S$7,R19<S19)),$AO$7,0))) -> 5 | W19: =IF(OR(EXACT($U$7,U19)*(EXACT($V$7,V19)))=TRUE,$AO$9,IF(($V$7-$U$7=V19-U19),$AO$8,IF(OR(EXACT($U$7>$V$7,U19>V19)*EXACT($U$7=$V$7,U19=V19)*EXACT($U$7<$V$7,U19<V19)),$AO$7,0))) -> 5 | Z19: =IF(OR(EXACT($X$7,X19)*(EXACT($Y$7,Y19)))=TRUE,$AO$9,IF(($Y$7-$X$7=Y19-X19),$AO$8,IF(OR(EXACT($X$7>$Y$7,X19>Y19)*EXACT($X$7=$Y$7,X19=Y19)*EXACT($X$7<$Y$7,X19<Y19)),$AO$7,0))) -> 5 | AC19: =IF(OR(EXACT($AA$7,AA19)*(EXACT($AB$7,AB19)))=TRUE,$AO$9,IF(($AB$7-$AA$7=AB19-AA19),$AO$8,IF(OR(EXACT($AA$7>$AB$7,AA19>AB19)*EXACT($AA$7=$AB$7,AA19=AB19)*EXACT($AA$7<$AB$7,AA19<AB19)),$AO$7,0))) -> 5 | AG19: =E19+H19+K19+N19+Q19+T19+W19+Z19+AC19+AF19 -> 45 | AH19: ='3.Spieltag'!AJ19 -> 25 | AI19: ='3.Spieltag'!AK19 -> 12 | AJ19: =AG19+AH19 -> 70 | AK19: =RANK(AJ19,$AJ$8:$AJ$27) -> 12
A20: =AK20 -> 12 | B20: ='3.Spieltag'!B20 -> Nico1904 | E20: =IF(OR(EXACT($C$7,C20)*(EXACT($D$7,D20)))=TRUE,$AO$9,IF(($D$7-$C$7=D20-C20),$AO$8,IF(OR(EXACT($C$7>$D$7,C20>D20)*EXACT($C$7=$D$7,C20=D20)*EXACT($C$7<$D$7,C20<D20)),$AO$7,0))) -> 5 | H20: =IF(OR(EXACT($F$7,F20)*(EXACT($G$7,G20)))=TRUE,$AO$9,IF(($G$7-$F$7=G20-F20),$AO$8,IF(OR(EXACT($F$7>$G$7,F20>G20)*EXACT($F$7=$G$7,F20=G20)*EXACT($F$7<$G$7,F20<G20)),$AO$7,0))) -> 5 | K20: =IF(OR(EXACT($I$7,I20)*(EXACT($J$7,J20)))=TRUE,$AO$9,IF(($J$7-$I$7=J20-I20),$AO$8,IF(OR(EXACT($I$7>$J$7,I20>J20)*EXACT($I$7=$J$7,I20=J20)*EXACT($I$7<$J$7,I20<J20)),$AO$7,0))) -> 5 | N20: =IF(OR(EXACT($L$7,L20)*(EXACT($M$7,M20)))=TRUE,$AO$9,IF(($M$7-$L$7=M20-L20),$AO$8,IF(OR(EXACT($L$7>$M$7,L20>M20)*EXACT($L$7=$M$7,L20=M20)*EXACT($L$7<$M$7,L20<M20)),$AO$7,0))) -> 5 | Q20: =IF(OR(EXACT($O$7,O20)*(EXACT($P$7,P20)))=TRUE,$AO$9,IF(($P$7-$O$7=P20-O20),$AO$8,IF(OR(EXACT($O$7>$P$7,O20>P20)*EXACT($O$7=$P$7,O20=P20)*EXACT($O$7<$P$7,O20<P20)),$AO$7,0))) -> 5 | T20: =IF(OR(EXACT($R$7,R20)*(EXACT($S$7,S20)))=TRUE,$AO$9,IF(($S$7-$R$7=S20-R20),$AO$8,IF(OR(EXACT($R$7>$S$7,R20>S20)*EXACT($R$7=$S$7,R20=S20)*EXACT($R$7<$S$7,R20<S20)),$AO$7,0))) -> 5 | W20: =IF(OR(EXACT($U$7,U20)*(EXACT($V$7,V20)))=TRUE,$AO$9,IF(($V$7-$U$7=V20-U20),$AO$8,IF(OR(EXACT($U$7>$V$7,U20>V20)*EXACT($U$7=$V$7,U20=V20)*EXACT($U$7<$V$7,U20<V20)),$AO$7,0))) -> 5 | Z20: =IF(OR(EXACT($X$7,X20)*(EXACT($Y$7,Y20)))=TRUE,$AO$9,IF(($Y$7-$X$7=Y20-X20),$AO$8,IF(OR(EXACT($X$7>$Y$7,X20>Y20)*EXACT($X$7=$Y$7,X20=Y20)*EXACT($X$7<$Y$7,X20<Y20)),$AO$7,0))) -> 5 | AC20: =IF(OR(EXACT($AA$7,AA20)*(EXACT($AB$7,AB20)))=TRUE,$AO$9,IF(($AB$7-$AA$7=AB20-AA20),$AO$8,IF(OR(EXACT($AA$7>$AB$7,AA20>AB20)*EXACT($AA$7=$AB$7,AA20=AB20)*EXACT($AA$7<$AB$7,AA20<AB20)),$AO$7,0))) -> 5 | AG20: =E20+H20+K20+N20+Q20+T20+W20+Z20+AC20+AF20 -> 45 | AH20: ='3.Spieltag'!AJ20 -> 25 | AI20: ='3.Spieltag'!AK20 -> 12 | AJ20: =AG20+AH20 -> 70 | AK20: =RANK(AJ20,$AJ$8:$AJ$27) -> 12
A21: =AK21 -> 14 | B21: ='3.Spieltag'!B21 -> MB AC Norbert | E21: =IF(OR(EXACT($C$7,C21)*(EXACT($D$7,D21)))=TRUE,$AO$9,IF(($D$7-$C$7=D21-C21),$AO$8,IF(OR(EXACT($C$7>$D$7,C21>D21)*EXACT($C$7=$D$7,C21=D21)*EXACT($C$7<$D$7,C21<D21)),$AO$7,0))) -> 5 | H21: =IF(OR(EXACT($F$7,F21)*(EXACT($G$7,G21)))=TRUE,$AO$9,IF(($G$7-$F$7=G21-F21),$AO$8,IF(OR(EXACT($F$7>$G$7,F21>G21)*EXACT($F$7=$G$7,F21=G21)*EXACT($F$7<$G$7,F21<G21)),$AO$7,0))) -> 5 | K21: =IF(OR(EXACT($I$7,I21)*(EXACT($J$7,J21)))=TRUE,$AO$9,IF(($J$7-$I$7=J21-I21),$AO$8,IF(OR(EXACT($I$7>$J$7,I21>J21)*EXACT($I$7=$J$7,I21=J21)*EXACT($I$7<$J$7,I21<J21)),$AO$7,0))) -> 5 | N21: =IF(OR(EXACT($L$7,L21)*(EXACT($M$7,M21)))=TRUE,$AO$9,IF(($M$7-$L$7=M21-L21),$AO$8,IF(OR(EXACT($L$7>$M$7,L21>M21)*EXACT($L$7=$M$7,L21=M21)*EXACT($L$7<$M$7,L21<M21)),$AO$7,0))) -> 5 | Q21: =IF(OR(EXACT($O$7,O21)*(EXACT($P$7,P21)))=TRUE,$AO$9,IF(($P$7-$O$7=P21-O21),$AO$8,IF(OR(EXACT($O$7>$P$7,O21>P21)*EXACT($O$7=$P$7,O21=P21)*EXACT($O$7<$P$7,O21<P21)),$AO$7,0))) -> 5 | T21: =IF(OR(EXACT($R$7,R21)*(EXACT($S$7,S21)))=TRUE,$AO$9,IF(($S$7-$R$7=S21-R21),$AO$8,IF(OR(EXACT($R$7>$S$7,R21>S21)*EXACT($R$7=$S$7,R21=S21)*EXACT($R$7<$S$7,R21<S21)),$AO$7,0))) -> 5 | W21: =IF(OR(EXACT($U$7,U21)*(EXACT($V$7,V21)))=TRUE,$AO$9,IF(($V$7-$U$7=V21-U21),$AO$8,IF(OR(EXACT($U$7>$V$7,U21>V21)*EXACT($U$7=$V$7,U21=V21)*EXACT($U$7<$V$7,U21<V21)),$AO$7,0))) -> 5 | Z21: =IF(OR(EXACT($X$7,X21)*(EXACT($Y$7,Y21)))=TRUE,$AO$9,IF(($Y$7-$X$7=Y21-X21),$AO$8,IF(OR(EXACT($X$7>$Y$7,X21>Y21)*EXACT($X$7=$Y$7,X21=Y21)*EXACT($X$7<$Y$7,X21<Y21)),$AO$7,0))) -> 5 | AC21: =IF(OR(EXACT($AA$7,AA21)*(EXACT($AB$7,AB21)))=TRUE,$AO$9,IF(($AB$7-$AA$7=AB21-AA21),$AO$8,IF(OR(EXACT($AA$7>$AB$7,AA21>AB21)*EXACT($AA$7=$AB$7,AA21=AB21)*EXACT($AA$7<$AB$7,AA21<AB21)),$AO$7,0))) -> 5 | AG21: =E21+H21+K21+N21+Q21+T21+W21+Z21+AC21+AF21 -> 45 | AH21: ='3.Spieltag'!AJ21 -> 22 | AI21: ='3.Spieltag'!AK21 -> 14 | AJ21: =AG21+AH21 -> 67 | AK21: =RANK(AJ21,$AJ$8:$AJ$27) -> 14
... A27: =AK27 -> 19 | B27: ='3.Spieltag'!B27 -> 0 | E27: =IF(OR(EXACT($C$7,C27)*(EXACT($D$7,D27)))=TRUE,$AO$9,IF(($D$7-$C$7=D27-C27),$AO$8,IF(OR(EXACT($C$7>$D$7,C27>D27)*EXACT($C$7=$D$7,C27=D27)*EXACT($C$7<$D$7,C27<D27)),$AO$7,0))) -> 5 | H27: =IF(OR(EXACT($F$7,F27)*(EXACT($G$7,G27)))=TRUE,$AO$9,IF(($G$7-$F$7=G27-F27),$AO$8,IF(OR(EXACT($F$7>$G$7,F27>G27)*EXACT($F$7=$G$7,F27=G27)*EXACT($F$7<$G$7,F27<G27)),$AO$7,0))) -> 5 | K27: =IF(OR(EXACT($I$7,I27)*(EXACT($J$7,J27)))=TRUE,$AO$9,IF(($J$7-$I$7=J27-I27),$AO$8,IF(OR(EXACT($I$7>$J$7,I27>J27)*EXACT($I$7=$J$7,I27=J27)*EXACT($I$7<$J$7,I27<J27)),$AO$7,0))) -> 5 | N27: =IF(OR(EXACT($L$7,L27)*(EXACT($M$7,M27)))=TRUE,$AO$9,IF(($M$7-$L$7=M27-L27),$AO$8,IF(OR(EXACT($L$7>$M$7,L27>M27)*EXACT($L$7=$M$7,L27=M27)*EXACT($L$7<$M$7,L27<M27)),$AO$7,0))) -> 5 | Q27: =IF(OR(EXACT($O$7,O27)*(EXACT($P$7,P27)))=TRUE,$AO$9,IF(($P$7-$O$7=P27-O27),$AO$8,IF(OR(EXACT($O$7>$P$7,O27>P27)*EXACT($O$7=$P$7,O27=P27)*EXACT($O$7<$P$7,O27<P27)),$AO$7,0))) -> 5 | T27: =IF(OR(EXACT($R$7,R27)*(EXACT($S$7,S27)))=TRUE,$AO$9,IF(($S$7-$R$7=S27-R27),$AO$8,IF(OR(EXACT($R$7>$S$7,R27>S27)*EXACT($R$7=$S$7,R27=S27)*EXACT($R$7<$S$7,R27<S27)),$AO$7,0))) -> 5 | W27: =IF(OR(EXACT($U$7,U27)*(EXACT($V$7,V27)))=TRUE,$AO$9,IF(($V$7-$U$7=V27-U27),$AO$8,IF(OR(EXACT($U$7>$V$7,U27>V27)*EXACT($U$7=$V$7,U27=V27)*EXACT($U$7<$V$7,U27<V27)),$AO$7,0))) -> 5 | Z27: =IF(OR(EXACT($X$7,X27)*(EXACT($Y$7,Y27)))=TRUE,$AO$9,IF(($Y$7-$X$7=Y27-X27),$AO$8,IF(OR(EXACT($X$7>$Y$7,X27>Y27)*EXACT($X$7=$Y$7,X27=Y27)*EXACT($X$7<$Y$7,X27<Y27)),$AO$7,0))) -> 5 | AC27: =IF(OR(EXACT($AA$7,AA27)*(EXACT($AB$7,AB27)))=TRUE,$AO$9,IF(($AB$7-$AA$7=AB27-AA27),$AO$8,IF(OR(EXACT($AA$7>$AB$7,AA27>AB27)*EXACT($AA$7=$AB$7,AA27=AB27)*EXACT($AA$7<$AB$7,AA27<AB27)),$AO$7,0))) -> 5 | AG27: =E27+H27+K27+N27+Q27+T27+W27+Z27+AC27+AF27 -> 45 | AH27: ='3.Spieltag'!AJ27 -> 6 | AI27: ='3.Spieltag'!AK27 -> 19 | AJ27: =AG27+AH27 -> 51 | AK27: =RANK(AJ27,$AJ$8:$AJ$27) -> 19

Sheet 5.Spieltag
A4: 5. Spieltag | C4: Dortmund | F4: Leverkusen | I4: Union Berlin | L4: Wolfsburg | O4: Bochum | R4: Stuttgart | U4: Frankfurt | X4: Augsburg | AA4: Gladbach
AG5: G E S A M T W E R T U N G
C6: Hoffenheim | F6: Freiburg | I6: München | L6: 1.FC Köln | O6: Bremen | R6: Schalke 04 | U6: Leipzig | X6: Hertha BSC | AA6: Mainz | AG6: Punkte | AH6: Punkte | AI6: Platz | AJ6: Gesamt | AK6: Platz | AL6: PUNKTEVERTEILUNG
A7: PLATZ | B7: ERGEBNISSE=> | E7: Pkt. | H7: Pkt. | K7: Pkt. | N7: Pkt. | Q7: Pkt. | T7: Pkt. | W7: Pkt. | Z7: Pkt. | AC7: Pkt. | AG7: Spieltag | AH7: bisher | AI7: bisher | AJ7: Punkte | AL7: richtige Tendenz | AO7: 2
A8: =AK8 -> 1 | B8: ='4.Spieltag'!B8 -> schmiddi04 | E8: =IF(OR(EXACT($C$7,C8)*(EXACT($D$7,D8)))=TRUE,$AO$9,IF(($D$7-$C$7=D8-C8),$AO$8,IF(OR(EXACT($C$7>$D$7,C8>D8)*EXACT($C$7=$D$7,C8=D8)*EXACT($C$7<$D$7,C8<D8)),$AO$7,0))) -> 5 | H8: =IF(OR(EXACT($F$7,F8)*(EXACT($G$7,G8)))=TRUE,$AO$9,IF(($G$7-$F$7=G8-F8),$AO$8,IF(OR(EXACT($F$7>$G$7,F8>G8)*EXACT($F$7=$G$7,F8=G8)*EXACT($F$7<$G$7,F8<G8)),$AO$7,0))) -> 5 | K8: =IF(OR(EXACT($I$7,I8)*(EXACT($J$7,J8)))=TRUE,$AO$9,IF(($J$7-$I$7=J8-I8),$AO$8,IF(OR(EXACT($I$7>$J$7,I8>J8)*EXACT($I$7=$J$7,I8=J8)*EXACT($I$7<$J$7,I8<J8)),$AO$7,0))) -> 5 | N8: =IF(OR(EXACT($L$7,L8)*(EXACT($M$7,M8)))=TRUE,$AO$9,IF(($M$7-$L$7=M8-L8),$AO$8,IF(OR(EXACT($L$7>$M$7,L8>M8)*EXACT($L$7=$M$7,L8=M8)*EXACT($L$7<$M$7,L8<M8)),$AO$7,0))) -> 5 | Q8: =IF(OR(EXACT($O$7,O8)*(EXACT($P$7,P8)))=TRUE,$AO$9,IF(($P$7-$O$7=P8-O8),$AO$8,IF(OR(EXACT($O$7>$P$7,O8>P8)*EXACT($O$7=$P$7,O8=P8)*EXACT($O$7<$P$7,O8<P8)),$AO$7,0))) -> 5 | T8: =IF(OR(EXACT($R$7,R8)*(EXACT($S$7,S8)))=TRUE,$AO$9,IF(($S$7-$R$7=S8-R8),$AO$8,IF(OR(EXACT($R$7>$S$7,R8>S8)*EXACT($R$7=$S$7,R8=S8)*EXACT($R$7<$S$7,R8<S8)),$AO$7,0))) -> 5 | W8: =IF(OR(EXACT($U$7,U8)*(EXACT($V$7,V8)))=TRUE,$AO$9,IF(($V$7-$U$7=V8-U8),$AO$8,IF(OR(EXACT($U$7>$V$7,U8>V8)*EXACT($U$7=$V$7,U8=V8)*EXACT($U$7<$V$7,U8<V8)),$AO$7,0))) -> 5 | Z8: =IF(OR(EXACT($X$7,X8)*(EXACT($Y$7,Y8)))=TRUE,$AO$9,IF(($Y$7-$X$7=Y8-X8),$AO$8,IF(OR(EXACT($X$7>$Y$7,X8>Y8)*EXACT($X$7=$Y$7,X8=Y8)*EXACT($X$7<$Y$7,X8<Y8)),$AO$7,0))) -> 5 | AC8: =IF(OR(EXACT($AA$7,AA8)*(EXACT($AB$7,AB8)))=TRUE,$AO$9,IF(($AB$7-$AA$7=AB8-AA8),$AO$8,IF(OR(EXACT($AA$7>$AB$7,AA8>AB8)*EXACT($AA$7=$AB$7,AA8=AB8)*EXACT($AA$7<$AB$7,AA8<AB8)),$AO$7,0))) -> 5 | AG8: =E8+H8+K8+N8+Q8+T8+W8+Z8+AC8+AF8 -> 45 | AH8: ='4.Spieltag'!AJ8 -> 85 | AI8: ='4.Spieltag'!AK8 -> 1 | AJ8: =AG8+AH8 -> 130 | AK8: =RANK(AJ8,$AJ$8:$AJ$27) -> 1 | AL8: richtige Tend. + korr. Torabst. | AO8: 3
A9: =AK9 -> 2 | B9: ='4.Spieltag'!B9 -> FlorianS04 | E9: =IF(OR(EXACT($C$7,C9)*(EXACT($D$7,D9)))=TRUE,$AO$9,IF(($D$7-$C$7=D9-C9),$AO$8,IF(OR(EXACT($C$7>$D$7,C9>D9)*EXACT($C$7=$D$7,C9=D9)*EXACT($C$7<$D$7,C9<D9)),$AO$7,0))) -> 5 | H9: =IF(OR(EXACT($F$7,F9)*(EXACT($G$7,G9)))=TRUE,$AO$9,IF(($G$7-$F$7=G9-F9),$AO$8,IF(OR(EXACT($F$7>$G$7,F9>G9)*EXACT($F$7=$G$7,F9=G9)*EXACT($F$7<$G$7,F9<G9)),$AO$7,0))) -> 5 | K9: =IF(OR(EXACT($I$7,I9)*(EXACT($J$7,J9)))=TRUE,$AO$9,IF(($J$7-$I$7=J9-I9),$AO$8,IF(OR(EXACT($I$7>$J$7,I9>J9)*EXACT($I$7=$J$7,I9=J9)*EXACT($I$7<$J$7,I9<J9)),$AO$7,0))) -> 5 | N9: =IF(OR(EXACT($L$7,L9)*(EXACT($M$7,M9)))=TRUE,$AO$9,IF(($M$7-$L$7=M9-L9),$AO$8,IF(OR(EXACT($L$7>$M$7,L9>M9)*EXACT($L$7=$M$7,L9=M9)*EXACT($L$7<$M$7,L9<M9)),$AO$7,0))) -> 5 | Q9: =IF(OR(EXACT($O$7,O9)*(EXACT($P$7,P9)))=TRUE,$AO$9,IF(($P$7-$O$7=P9-O9),$AO$8,IF(OR(EXACT($O$7>$P$7,O9>P9)*EXACT($O$7=$P$7,O9=P9)*EXACT($O$7<$P$7,O9<P9)),$AO$7,0))) -> 5 | T9: =IF(OR(EXACT($R$7,R9)*(EXACT($S$7,S9)))=TRUE,$AO$9,IF(($S$7-$R$7=S9-R9),$AO$8,IF(OR(EXACT($R$7>$S$7,R9>S9)*EXACT($R$7=$S$7,R9=S9)*EXACT($R$7<$S$7,R9<S9)),$AO$7,0))) -> 5 | W9: =IF(OR(EXACT($U$7,U9)*(EXACT($V$7,V9)))=TRUE,$AO$9,IF(($V$7-$U$7=V9-U9),$AO$8,IF(OR(EXACT($U$7>$V$7,U9>V9)*EXACT($U$7=$V$7,U9=V9)*EXACT($U$7<$V$7,U9<V9)),$AO$7,0))) -> 5 | Z9: =IF(OR(EXACT($X$7,X9)*(EXACT($Y$7,Y9)))=TRUE,$AO$9,IF(($Y$7-$X$7=Y9-X9),$AO$8,IF(OR(EXACT($X$7>$Y$7,X9>Y9)*EXACT($X$7=$Y$7,X9=Y9)*EXACT($X$7<$Y$7,X9<Y9)),$AO$7,0))) -> 5 | AC9: =IF(OR(EXACT($AA$7,AA9)*(EXACT($AB$7,AB9)))=TRUE,$AO$9,IF(($AB$7-$AA$7=AB9-AA9),$AO$8,IF(OR(EXACT($AA$7>$AB$7,AA9>AB9)*EXACT($AA$7=$AB$7,AA9=AB9)*EXACT($AA$7<$AB$7,AA9<AB9)),$AO$7,0))) -> 5 | AG9: =E9+H9+K9+N9+Q9+T9+W9+Z9+AC9+AF9 -> 45 | AH9: ='4.Spieltag'!AJ9 -> 80 | AI9: ='4.Spieltag'!AK9 -> 2 | AJ9: =AG9+AH9 -> 125 | AK9: =RANK(AJ9,$AJ$8:$AJ$27) -> 2 | AL9: richtiges Ergebnis | AO9: 5
A10: =AK10 -> 2 | B10: ='4.Spieltag'!B10 -> Master1 | E10: =IF(OR(EXACT($C$7,C10)*(EXACT($D$7,D10)))=TRUE,$AO$9,IF(($D$7-$C$7=D10-C10),$AO$8,IF(OR(EXACT($C$7>$D$7,C10>D10)*EXACT($C$7=$D$7,C10=D10)*EXACT($C$7<$D$7,C10<D10)),$AO$7,0))) -> 5 | H10: =IF(OR(EXACT($F$7,F10)*(EXACT($G$7,G10)))=TRUE,$AO$9,IF(($G$7-$F$7=G10-F10),$AO$8,IF(OR(EXACT($F$7>$G$7,F10>G10)*EXACT($F$7=$G$7,F10=G10)*EXACT($F$7<$G$7,F10<G10)),$AO$7,0))) -> 5 | K10: =IF(OR(EXACT($I$7,I10)*(EXACT($J$7,J10)))=TRUE,$AO$9,IF(($J$7-$I$7=J10-I10),$AO$8,IF(OR(EXACT($I$7>$J$7,I10>J10)*EXACT($I$7=$J$7,I10=J10)*EXACT($I$7<$J$7,I10<J10)),$AO$7,0))) -> 5 | N10: =IF(OR(EXACT($L$7,L10)*(EXACT($M$7,M10)))=TRUE,$AO$9,IF(($M$7-$L$7=M10-L10),$AO$8,IF(OR(EXACT($L$7>$M$7,L10>M10)*EXACT($L$7=$M$7,L10=M10)*EXACT($L$7<$M$7,L10<M10)),$AO$7,0))) -> 5 | Q10: =IF(OR(EXACT($O$7,O10)*(EXACT($P$7,P10)))=TRUE,$AO$9,IF(($P$7-$O$7=P10-O10),$AO$8,IF(OR(EXACT($O$7>$P$7,O10>P10)*EXACT($O$7=$P$7,O10=P10)*EXACT($O$7<$P$7,O10<P10)),$AO$7,0))) -> 5 | T10: =IF(OR(EXACT($R$7,R10)*(EXACT($S$7,S10)))=TRUE,$AO$9,IF(($S$7-$R$7=S10-R10),$AO$8,IF(OR(EXACT($R$7>$S$7,R10>S10)*EXACT($R$7=$S$7,R10=S10)*EXACT($R$7<$S$7,R10<S10)),$AO$7,0))) -> 5 | W10: =IF(OR(EXACT($U$7,U10)*(EXACT($V$7,V10)))=TRUE,$AO$9,IF(($V$7-$U$7=V10-U10),$AO$8,IF(OR(EXACT($U$7>$V$7,U10>V10)*EXACT($U$7=$V$7,U10=V10)*EXACT($U$7<$V$7,U10<V10)),$AO$7,0))) -> 5 | Z10: =IF(OR(EXACT($X$7,X10)*(EXACT($Y$7,Y10)))=TRUE,$AO$9,IF(($Y$7-$X$7=Y10-X10),$AO$8,IF(OR(EXACT($X$7>$Y$7,X10>Y10)*EXACT($X$7=$Y$7,X10=Y10)*EXACT($X$7<$Y$7,X10<Y10)),$AO$7,0))) -> 5 | AC10: =IF(OR(EXACT($AA$7,AA10)*(EXACT($AB$7,AB10)))=TRUE,$AO$9,IF(($AB$7-$AA$7=AB10-AA10),$AO$8,IF(OR(EXACT($AA$7>$AB$7,AA10>AB10)*EXACT($AA$7=$AB$7,AA10=AB10)*EXACT($AA$7<$AB$7,AA10<AB10)),$AO$7,0))) -> 5 | AG10: =E10+H10+K10+N10+Q10+T10+W10+Z10+AC10+AF10 -> 45 | AH10: ='4.Spieltag'!AJ10 -> 80 | AI10: ='4.Spieltag'!AK10 -> 2 | AJ10: =AG10+AH10 -> 125 | AK10: =RANK(AJ10,$AJ$8:$AJ$27) -> 2
A11: =AK11 -> 4 | B11: ='4.Spieltag'!B11 -> Thomas Bülles | E11: =IF(OR(EXACT($C$7,C11)*(EXACT($D$7,D11)))=TRUE,$AO$9,IF(($D$7-$C$7=D11-C11),$AO$8,IF(OR(EXACT($C$7>$D$7,C11>D11)*EXACT($C$7=$D$7,C11=D11)*EXACT($C$7<$D$7,C11<D11)),$AO$7,0))) -> 5 | H11: =IF(OR(EXACT($F$7,F11)*(EXACT($G$7,G11)))=TRUE,$AO$9,IF(($G$7-$F$7=G11-F11),$AO$8,IF(OR(EXACT($F$7>$G$7,F11>G11)*EXACT($F$7=$G$7,F11=G11)*EXACT($F$7<$G$7,F11<G11)),$AO$7,0))) -> 5 | K11: =IF(OR(EXACT($I$7,I11)*(EXACT($J$7,J11)))=TRUE,$AO$9,IF(($J$7-$I$7=J11-I11),$AO$8,IF(OR(EXACT($I$7>$J$7,I11>J11)*EXACT($I$7=$J$7,I11=J11)*EXACT($I$7<$J$7,I11<J11)),$AO$7,0))) -> 5 | N11: =IF(OR(EXACT($L$7,L11)*(EXACT($M$7,M11)))=TRUE,$AO$9,IF(($M$7-$L$7=M11-L11),$AO$8,IF(OR(EXACT($L$7>$M$7,L11>M11)*EXACT($L$7=$M$7,L11=M11)*EXACT($L$7<$M$7,L11<M11)),$AO$7,0))) -> 5 | Q11: =IF(OR(EXACT($O$7,O11)*(EXACT($P$7,P11)))=TRUE,$AO$9,IF(($P$7-$O$7=P11-O11),$AO$8,IF(OR(EXACT($O$7>$P$7,O11>P11)*EXACT($O$7=$P$7,O11=P11)*EXACT($O$7<$P$7,O11<P11)),$AO$7,0))) -> 5 | T11: =IF(OR(EXACT($R$7,R11)*(EXACT($S$7,S11)))=TRUE,$AO$9,IF(($S$7-$R$7=S11-R11),$AO$8,IF(OR(EXACT($R$7>$S$7,R11>S11)*EXACT($R$7=$S$7,R11=S11)*EXACT($R$7<$S$7,R11<S11)),$AO$7,0))) -> 5 | W11: =IF(OR(EXACT($U$7,U11)*(EXACT($V$7,V11)))=TRUE,$AO$9,IF(($V$7-$U$7=V11-U11),$AO$8,IF(OR(EXACT($U$7>$V$7,U11>V11)*EXACT($U$7=$V$7,U11=V11)*EXACT($U$7<$V$7,U11<V11)),$AO$7,0))) -> 5 | Z11: =IF(OR(EXACT($X$7,X11)*(EXACT($Y$7,Y11)))=TRUE,$AO$9,IF(($Y$7-$X$7=Y11-X11),$AO$8,IF(OR(EXACT($X$7>$Y$7,X11>Y11)*EXACT($X$7=$Y$7,X11=Y11)*EXACT($X$7<$Y$7,X11<Y11)),$AO$7,0))) -> 5 | AC11: =IF(OR(EXACT($AA$7,AA11)*(EXACT($AB$7,AB11)))=TRUE,$AO$9,IF(($AB$7-$AA$7=AB11-AA11),$AO$8,IF(OR(EXACT($AA$7>$AB$7,AA11>AB11)*EXACT($AA$7=$AB$7,AA11=AB11)*EXACT($AA$7<$AB$7,AA11<AB11)),$AO$7,0))) -> 5 | AG11: =E11+H11+K11+N11+Q11+T11+W11+Z11+AC11+AF11 -> 45 | AH11: ='4.Spieltag'!AJ11 -> 79 | AI11: ='4.Spieltag'!AK11 -> 4 | AJ11: =AG11+AH11 -> 124 | AK11: =RANK(AJ11,$AJ$8:$AJ$27) -> 4
A12: =AK12 -> 5 | B12: ='4.Spieltag'!B12 -> Lola04 | E12: =IF(OR(EXACT($C$7,C12)*(EXACT($D$7,D12)))=TRUE,$AO$9,IF(($D$7-$C$7=D12-C12),$AO$8,IF(OR(EXACT($C$7>$D$7,C12>D12)*EXACT($C$7=$D$7,C12=D12)*EXACT($C$7<$D$7,C12<D12)),$AO$7,0))) -> 5 | H12: =IF(OR(EXACT($F$7,F12)*(EXACT($G$7,G12)))=TRUE,$AO$9,IF(($G$7-$F$7=G12-F12),$AO$8,IF(OR(EXACT($F$7>$G$7,F12>G12)*EXACT($F$7=$G$7,F12=G12)*EXACT($F$7<$G$7,F12<G12)),$AO$7,0))) -> 5 | K12: =IF(OR(EXACT($I$7,I12)*(EXACT($J$7,J12)))=TRUE,$AO$9,IF(($J$7-$I$7=J12-I12),$AO$8,IF(OR(EXACT($I$7>$J$7,I12>J12)*EXACT($I$7=$J$7,I12=J12)*EXACT($I$7<$J$7,I12<J12)),$AO$7,0))) -> 5 | N12: =IF(OR(EXACT($L$7,L12)*(EXACT($M$7,M12)))=TRUE,$AO$9,IF(($M$7-$L$7=M12-L12),$AO$8,IF(OR(EXACT($L$7>$M$7,L12>M12)*EXACT($L$7=$M$7,L12=M12)*EXACT($L$7<$M$7,L12<M12)),$AO$7,0))) -> 5 | Q12: =IF(OR(EXACT($O$7,O12)*(EXACT($P$7,P12)))=TRUE,$AO$9,IF(($P$7-$O$7=P12-O12),$AO$8,IF(OR(EXACT($O$7>$P$7,O12>P12)*EXACT($O$7=$P$7,O12=P12)*EXACT($O$7<$P$7,O12<P12)),$AO$7,0))) -> 5 | T12: =IF(OR(EXACT($R$7,R12)*(EXACT($S$7,S12)))=TRUE,$AO$9,IF(($S$7-$R$7=S12-R12),$AO$8,IF(OR(EXACT($R$7>$S$7,R12>S12)*EXACT($R$7=$S$7,R12=S12)*EXACT($R$7<$S$7,R12<S12)),$AO$7,0))) -> 5 | W12: =IF(OR(EXACT($U$7,U12)*(EXACT($V$7,V12)))=TRUE,$AO$9,IF(($V$7-$U$7=V12-U12),$AO$8,IF(OR(EXACT($U$7>$V$7,U12>V12)*EXACT($U$7=$V$7,U12=V12)*EXACT($U$7<$V$7,U12<V12)),$AO$7,0))) -> 5 | Z12: =IF(OR(EXACT($X$7,X12)*(EXACT($Y$7,Y12)))=TRUE,$AO$9,IF(($Y$7-$X$7=Y12-X12),$AO$8,IF(OR(EXACT($X$7>$Y$7,X12>Y12)*EXACT($X$7=$Y$7,X12=Y12)*EXACT($X$7<$Y$7,X12<Y12)),$AO$7,0))) -> 5 | AC12: =IF(OR(EXACT($AA$7,AA12)*(EXACT($AB$7,AB12)))=TRUE,$AO$9,IF(($AB$7-$AA$7=AB12-AA12),$AO$8,IF(OR(EXACT($AA$7>$AB$7,AA12>AB12)*EXACT($AA$7=$AB$7,AA12=AB12)*EXACT($AA$7<$AB$7,AA12<AB12)),$AO$7,0))) -> 5 | AG12: =E12+H12+K12+N12+Q12+T12+W12+Z12+AC12+AF12 -> 45 | AH12: ='4.Spieltag'!AJ12 -> 75 | AI12: ='4.Spieltag'!AK12 -> 5 | AJ12: =AG12+AH12 -> 120 | AK12: =RANK(AJ12,$AJ$8:$AJ$27) -> 5
A13: =AK13 -> 5 | B13: ='4.Spieltag'!B13 -> Ricardo04 | E13: =IF(OR(EXACT($C$7,C13)*(EXACT($D$7,D13)))=TRUE,$AO$9,IF(($D$7-$C$7=D13-C13),$AO$8,IF(OR(EXACT($C$7>$D$7,C13>D13)*EXACT($C$7=$D$7,C13=D13)*EXACT($C$7<$D$7,C13<D13)),$AO$7,0))) -> 5 | H13: =IF(OR(EXACT($F$7,F13)*(EXACT($G$7,G13)))=TRUE,$AO$9,IF(($G$7-$F$7=G13-F13),$AO$8,IF(OR(EXACT($F$7>$G$7,F13>G13)*EXACT($F$7=$G$7,F13=G13)*EXACT($F$7<$G$7,F13<G13)),$AO$7,0))) -> 5 | K13: =IF(OR(EXACT($I$7,I13)*(EXACT($J$7,J13)))=TRUE,$AO$9,IF(($J$7-$I$7=J13-I13),$AO$8,IF(OR(EXACT($I$7>$J$7,I13>J13)*EXACT($I$7=$J$7,I13=J13)*EXACT($I$7<$J$7,I13<J13)),$AO$7,0))) -> 5 | N13: =IF(OR(EXACT($L$7,L13)*(EXACT($M$7,M13)))=TRUE,$AO$9,IF(($M$7-$L$7=M13-L13),$AO$8,IF(OR(EXACT($L$7>$M$7,L13>M13)*EXACT($L$7=$M$7,L13=M13)*EXACT($L$7<$M$7,L13<M13)),$AO$7,0))) -> 5 | Q13: =IF(OR(EXACT($O$7,O13)*(EXACT($P$7,P13)))=TRUE,$AO$9,IF(($P$7-$O$7=P13-O13),$AO$8,IF(OR(EXACT($O$7>$P$7,O13>P13)*EXACT($O$7=$P$7,O13=P13)*EXACT($O$7<$P$7,O13<P13)),$AO$7,0))) -> 5 | T13: =IF(OR(EXACT($R$7,R13)*(EXACT($S$7,S13)))=TRUE,$AO$9,IF(($S$7-$R$7=S13-R13),$AO$8,IF(OR(EXACT($R$7>$S$7,R13>S13)*EXACT($R$7=$S$7,R13=S13)*EXACT($R$7<$S$7,R13<S13)),$AO$7,0))) -> 5 | W13: =IF(OR(EXACT($U$7,U13)*(EXACT($V$7,V13)))=TRUE,$AO$9,IF(($V$7-$U$7=V13-U13),$AO$8,IF(OR(EXACT($U$7>$V$7,U13>V13)*EXACT($U$7=$V$7,U13=V13)*EXACT($U$7<$V$7,U13<V13)),$AO$7,0))) -> 5 | Z13: =IF(OR(EXACT($X$7,X13)*(EXACT($Y$7,Y13)))=TRUE,$AO$9,IF(($Y$7-$X$7=Y13-X13),$AO$8,IF(OR(EXACT($X$7>$Y$7,X13>Y13)*EXACT($X$7=$Y$7,X13=Y13)*EXACT($X$7<$Y$7,X13<Y13)),$AO$7,0))) -> 5 | AC13: =IF(OR(EXACT($AA$7,AA13)*(EXACT($AB$7,AB13)))=TRUE,$AO$9,IF(($AB$7-$AA$7=AB13-AA13),$AO$8,IF(OR(EXACT($AA$7>$AB$7,AA13>AB13)*EXACT($AA$7=$AB$7,AA13=AB13)*EXACT($AA$7<$AB$7,AA13<AB13)),$AO$7,0))) -> 5 | AG13: =E13+H13+K13+N13+Q13+T13+W13+Z13+AC13+AF13 -> 45 | AH13: ='4.Spieltag'!AJ13 -> 75 | AI13: ='4.Spieltag'!AK13 -> 5 | AJ13: =AG13+AH13 -> 120 | AK13: =RANK(AJ13,$AJ$8:$AJ$27) -> 5
A14: =AK14 -> 7 | B14: ='4.Spieltag'!B14 -> Reinhold | E14: =IF(OR(EXACT($C$7,C14)*(EXACT($D$7,D14)))=TRUE,$AO$9,IF(($D$7-$C$7=D14-C14),$AO$8,IF(OR(EXACT($C$7>$D$7,C14>D14)*EXACT($C$7=$D$7,C14=D14)*EXACT($C$7<$D$7,C14<D14)),$AO$7,0))) -> 5 | H14: =IF(OR(EXACT($F$7,F14)*(EXACT($G$7,G14)))=TRUE,$AO$9,IF(($G$7-$F$7=G14-F14),$AO$8,IF(OR(EXACT($F$7>$G$7,F14>G14)*EXACT($F$7=$G$7,F14=G14)*EXACT($F$7<$G$7,F14<G14)),$AO$7,0))) -> 5 | K14: =IF(OR(EXACT($I$7,I14)*(EXACT($J$7,J14)))=TRUE,$AO$9,IF(($J$7-$I$7=J14-I14),$AO$8,IF(OR(EXACT($I$7>$J$7,I14>J14)*EXACT($I$7=$J$7,I14=J14)*EXACT($I$7<$J$7,I14<J14)),$AO$7,0))) -> 5 | N14: =IF(OR(EXACT($L$7,L14)*(EXACT($M$7,M14)))=TRUE,$AO$9,IF(($M$7-$L$7=M14-L14),$AO$8,IF(OR(EXACT($L$7>$M$7,L14>M14)*EXACT($L$7=$M$7,L14=M14)*EXACT($L$7<$M$7,L14<M14)),$AO$7,0))) -> 5 | Q14: =IF(OR(EXACT($O$7,O14)*(EXACT($P$7,P14)))=TRUE,$AO$9,IF(($P$7-$O$7=P14-O14),$AO$8,IF(OR(EXACT($O$7>$P$7,O14>P14)*EXACT($O$7=$P$7,O14=P14)*EXACT($O$7<$P$7,O14<P14)),$AO$7,0))) -> 5 | T14: =IF(OR(EXACT($R$7,R14)*(EXACT($S$7,S14)))=TRUE,$AO$9,IF(($S$7-$R$7=S14-R14),$AO$8,IF(OR(EXACT($R$7>$S$7,R14>S14)*EXACT($R$7=$S$7,R14=S14)*EXACT($R$7<$S$7,R14<S14)),$AO$7,0))) -> 5 | W14: =IF(OR(EXACT($U$7,U14)*(EXACT($V$7,V14)))=TRUE,$AO$9,IF(($V$7-$U$7=V14-U14),$AO$8,IF(OR(EXACT($U$7>$V$7,U14>V14)*EXACT($U$7=$V$7,U14=V14)*EXACT($U$7<$V$7,U14<V14)),$AO$7,0))) -> 5 | Z14: =IF(OR(EXACT($X$7,X14)*(EXACT($Y$7,Y14)))=TRUE,$AO$9,IF(($Y$7-$X$7=Y14-X14),$AO$8,IF(OR(EXACT($X$7>$Y$7,X14>Y14)*EXACT($X$7=$Y$7,X14=Y14)*EXACT($X$7<$Y$7,X14<Y14)),$AO$7,0))) -> 5 | AC14: =IF(OR(EXACT($AA$7,AA14)*(EXACT($AB$7,AB14)))=TRUE,$AO$9,IF(($AB$7-$AA$7=AB14-AA14),$AO$8,IF(OR(EXACT($AA$7>$AB$7,AA14>AB14)*EXACT($AA$7=$AB$7,AA14=AB14)*EXACT($AA$7<$AB$7,AA14<AB14)),$AO$7,0))) -> 5 | AG14: =E14+H14+K14+N14+Q14+T14+W14+Z14+AC14+AF14 -> 45 | AH14: ='4.Spieltag'!AJ14 -> 74 | AI14: ='4.Spieltag'!AK14 -> 7 | AJ14: =AG14+AH14 -> 119 | AK14: =RANK(AJ14,$AJ$8:$AJ$27) -> 7
A15: =AK15 -> 7 | B15: ='4.Spieltag'!B15 -> Sascha | E15: =IF(OR(EXACT($C$7,C15)*(EXACT($D$7,D15)))=TRUE,$AO$9,IF(($D$7-$C$7=D15-C15),$AO$8,IF(OR(EXACT($C$7>$D$7,C15>D15)*EXACT($C$7=$D$7,C15=D15)*EXACT($C$7<$D$7,C15<D15)),$AO$7,0))) -> 5 | H15: =IF(OR(EXACT($F$7,F15)*(EXACT($G$7,G15)))=TRUE,$AO$9,IF(($G$7-$F$7=G15-F15),$AO$8,IF(OR(EXACT($F$7>$G$7,F15>G15)*EXACT($F$7=$G$7,F15=G15)*EXACT($F$7<$G$7,F15<G15)),$AO$7,0))) -> 5 | K15: =IF(OR(EXACT($I$7,I15)*(EXACT($J$7,J15)))=TRUE,$AO$9,IF(($J$7-$I$7=J15-I15),$AO$8,IF(OR(EXACT($I$7>$J$7,I15>J15)*EXACT($I$7=$J$7,I15=J15)*EXACT($I$7<$J$7,I15<J15)),$AO$7,0))) -> 5 | N15: =IF(OR(EXACT($L$7,L15)*(EXACT($M$7,M15)))=TRUE,$AO$9,IF(($M$7-$L$7=M15-L15),$AO$8,IF(OR(EXACT($L$7>$M$7,L15>M15)*EXACT($L$7=$M$7,L15=M15)*EXACT($L$7<$M$7,L15<M15)),$AO$7,0))) -> 5 | Q15: =IF(OR(EXACT($O$7,O15)*(EXACT($P$7,P15)))=TRUE,$AO$9,IF(($P$7-$O$7=P15-O15),$AO$8,IF(OR(EXACT($O$7>$P$7,O15>P15)*EXACT($O$7=$P$7,O15=P15)*EXACT($O$7<$P$7,O15<P15)),$AO$7,0))) -> 5 | T15: =IF(OR(EXACT($R$7,R15)*(EXACT($S$7,S15)))=TRUE,$AO$9,IF(($S$7-$R$7=S15-R15),$AO$8,IF(OR(EXACT($R$7>$S$7,R15>S15)*EXACT($R$7=$S$7,R15=S15)*EXACT($R$7<$S$7,R15<S15)),$AO$7,0))) -> 5 | W15: =IF(OR(EXACT($U$7,U15)*(EXACT($V$7,V15)))=TRUE,$AO$9,IF(($V$7-$U$7=V15-U15),$AO$8,IF(OR(EXACT($U$7>$V$7,U15>V15)*EXACT($U$7=$V$7,U15=V15)*EXACT($U$7<$V$7,U15<V15)),$AO$7,0))) -> 5 | Z15: =IF(OR(EXACT($X$7,X15)*(EXACT($Y$7,Y15)))=TRUE,$AO$9,IF(($Y$7-$X$7=Y15-X15),$AO$8,IF(OR(EXACT($X$7>$Y$7,X15>Y15)*EXACT($X$7=$Y$7,X15=Y15)*EXACT($X$7<$Y$7,X15<Y15)),$AO$7,0))) -> 5 | AC15: =IF(OR(EXACT($AA$7,AA15)*(EXACT($AB$7,AB15)))=TRUE,$AO$9,IF(($AB$7-$AA$7=AB15-AA15),$AO$8,IF(OR(EXACT($AA$7>$AB$7,AA15>AB15)*EXACT($AA$7=$AB$7,AA15=AB15)*EXACT($AA$7<$AB$7,AA15<AB15)),$AO$7,0))) -> 5 | AG15: =E15+H15+K15+N15+Q15+T15+W15+Z15+AC15+AF15 -> 45 | AH15: ='4.Spieltag'!AJ15 -> 74 | AI15: ='4.Spieltag'!AK15 -> 7 | AJ15: =AG15+AH15 -> 119 | AK15: =RANK(AJ15,$AJ$8:$AJ$27) -> 7
A16: =AK16 -> 9 | B16: ='4.Spieltag'!B16 -> Franzi04 | E16: =IF(OR(EXACT($C$7,C16)*(EXACT($D$7,D16)))=TRUE,$AO$9,IF(($D$7-$C$7=D16-C16),$AO$8,IF(OR(EXACT($C$7>$D$7,C16>D16)*EXACT($C$7=$D$7,C16=D16)*EXACT($C$7<$D$7,C16<D16)),$AO$7,0))) -> 5 | H16: =IF(OR(EXACT($F$7,F16)*(EXACT($G$7,G16)))=TRUE,$AO$9,IF(($G$7-$F$7=G16-F16),$AO$8,IF(OR(EXACT($F$7>$G$7,F16>G16)*EXACT($F$7=$G$7,F16=G16)*EXACT($F$7<$G$7,F16<G16)),$AO$7,0))) -> 5 | K16: =IF(OR(EXACT($I$7,I16)*(EXACT($J$7,J16)))=TRUE,$AO$9,IF(($J$7-$I$7=J16-I16),$AO$8,IF(OR(EXACT($I$7>$J$7,I16>J16)*EXACT($I$7=$J$7,I16=J16)*EXACT($I$7<$J$7,I16<J16)),$AO$7,0))) -> 5 | N16: =IF(OR(EXACT($L$7,L16)*(EXACT($M$7,M16)))=TRUE,$AO$9,IF(($M$7-$L$7=M16-L16),$AO$8,IF(OR(EXACT($L$7>$M$7,L16>M16)*EXACT($L$7=$M$7,L16=M16)*EXACT($L$7<$M$7,L16<M16)),$AO$7,0))) -> 5 | Q16: =IF(OR(EXACT($O$7,O16)*(EXACT($P$7,P16)))=TRUE,$AO$9,IF(($P$7-$O$7=P16-O16),$AO$8,IF(OR(EXACT($O$7>$P$7,O16>P16)*EXACT($O$7=$P$7,O16=P16)*EXACT($O$7<$P$7,O16<P16)),$AO$7,0))) -> 5 | T16: =IF(OR(EXACT($R$7,R16)*(EXACT($S$7,S16)))=TRUE,$AO$9,IF(($S$7-$R$7=S16-R16),$AO$8,IF(OR(EXACT($R$7>$S$7,R16>S16)*EXACT($R$7=$S$7,R16=S16)*EXACT($R$7<$S$7,R16<S16)),$AO$7,0))) -> 5 | W16: =IF(OR(EXACT($U$7,U16)*(EXACT($V$7,V16)))=TRUE,$AO$9,IF(($V$7-$U$7=V16-U16),$AO$8,IF(OR(EXACT($U$7>$V$7,U16>V16)*EXACT($U$7=$V$7,U16=V16)*EXACT($U$7<$V$7,U16<V16)),$AO$7,0))) -> 5 | Z16: =IF(OR(EXACT($X$7,X16)*(EXACT($Y$7,Y16)))=TRUE,$AO$9,IF(($Y$7-$X$7=Y16-X16),$AO$8,IF(OR(EXACT($X$7>$Y$7,X16>Y16)*EXACT($X$7=$Y$7,X16=Y16)*EXACT($X$7<$Y$7,X16<Y16)),$AO$7,0))) -> 5 | AC16: =IF(OR(EXACT($AA$7,AA16)*(EXACT($AB$7,AB16)))=TRUE,$AO$9,IF(($AB$7-$AA$7=AB16-AA16),$AO$8,IF(OR(EXACT($AA$7>$AB$7,AA16>AB16)*EXACT($AA$7=$AB$7,AA16=AB16)*EXACT($AA$7<$AB$7,AA16<AB16)),$AO$7,0))) -> 5 | AG16: =E16+H16+K16+N16+Q16+T16+W16+Z16+AC16+AF16 -> 45 | AH16: ='4.Spieltag'!AJ16 -> 72 | AI16: ='4.Spieltag'!AK16 -> 9 | AJ16: =AG16+AH16 -> 117 | AK16: =RANK(AJ16,$AJ$8:$AJ$27) -> 9
A17: =AK17 -> 9 | B17: ='4.Spieltag'!B17 -> jupp04 | E17: =IF(OR(EXACT($C$7,C17)*(EXACT($D$7,D17)))=TRUE,$AO$9,IF(($D$7-$C$7=D17-C17),$AO$8,IF(OR(EXACT($C$7>$D$7,C17>D17)*EXACT($C$7=$D$7,C17=D17)*EXACT($C$7<$D$7,C17<D17)),$AO$7,0))) -> 5 | H17: =IF(OR(EXACT($F$7,F17)*(EXACT($G$7,G17)))=TRUE,$AO$9,IF(($G$7-$F$7=G17-F17),$AO$8,IF(OR(EXACT($F$7>$G$7,F17>G17)*EXACT($F$7=$G$7,F17=G17)*EXACT($F$7<$G$7,F17<G17)),$AO$7,0))) -> 5 | K17: =IF(OR(EXACT($I$7,I17)*(EXACT($J$7,J17)))=TRUE,$AO$9,IF(($J$7-$I$7=J17-I17),$AO$8,IF(OR(EXACT($I$7>$J$7,I17>J17)*EXACT($I$7=$J$7,I17=J17)*EXACT($I$7<$J$7,I17<J17)),$AO$7,0))) -> 5 | N17: =IF(OR(EXACT($L$7,L17)*(EXACT($M$7,M17)))=TRUE,$AO$9,IF(($M$7-$L$7=M17-L17),$AO$8,IF(OR(EXACT($L$7>$M$7,L17>M17)*EXACT($L$7=$M$7,L17=M17)*EXACT($L$7<$M$7,L17<M17)),$AO$7,0))) -> 5 | Q17: =IF(OR(EXACT($O$7,O17)*(EXACT($P$7,P17)))=TRUE,$AO$9,IF(($P$7-$O$7=P17-O17),$AO$8,IF(OR(EXACT($O$7>$P$7,O17>P17)*EXACT($O$7=$P$7,O17=P17)*EXACT($O$7<$P$7,O17<P17)),$AO$7,0))) -> 5 | T17: =IF(OR(EXACT($R$7,R17)*(EXACT($S$7,S17)))=TRUE,$AO$9,IF(($S$7-$R$7=S17-R17),$AO$8,IF(OR(EXACT($R$7>$S$7,R17>S17)*EXACT($R$7=$S$7,R17=S17)*EXACT($R$7<$S$7,R17<S17)),$AO$7,0))) -> 5 | W17: =IF(OR(EXACT($U$7,U17)*(EXACT($V$7,V17)))=TRUE,$AO$9,IF(($V$7-$U$7=V17-U17),$AO$8,IF(OR(EXACT($U$7>$V$7,U17>V17)*EXACT($U$7=$V$7,U17=V17)*EXACT($U$7<$V$7,U17<V17)),$AO$7,0))) -> 5 | Z17: =IF(OR(EXACT($X$7,X17)*(EXACT($Y$7,Y17)))=TRUE,$AO$9,IF(($Y$7-$X$7=Y17-X17),$AO$8,IF(OR(EXACT($X$7>$Y$7,X17>Y17)*EXACT($X$7=$Y$7,X17=Y17)*EXACT($X$7<$Y$7,X17<Y17)),$AO$7,0))) -> 5 | AC17: =IF(OR(EXACT($AA$7,AA17)*(EXACT($AB$7,AB17)))=TRUE,$AO$9,IF(($AB$7-$AA$7=AB17-AA17),$AO$8,IF(OR(EXACT($AA$7>$AB$7,AA17>AB17)*EXACT($AA$7=$AB$7,AA17=AB17)*EXACT($AA$7<$AB$7,AA17<AB17)),$AO$7,0))) -> 5 | AG17: =E17+H17+K17+N17+Q17+T17+W17+Z17+AC17+AF17 -> 45 | AH17: ='4.Spieltag'!AJ17 -> 72 | AI17: ='4.Spieltag'!AK17 -> 9 | AJ17: =AG17+AH17 -> 117 | AK17: =RANK(AJ17,$AJ$8:$AJ$27) -> 9
A18: =AK18 -> 11 | B18: ='4.Spieltag'!B18 -> UltraGE | E18: =IF(OR(EXACT($C$7,C18)*(EXACT($D$7,D18)))=TRUE,$AO$9,IF(($D$7-$C$7=D18-C18),$AO$8,IF(OR(EXACT($C$7>$D$7,C18>D18)*EXACT($C$7=$D$7,C18=D18)*EXACT($C$7<$D$7,C18<D18)),$AO$7,0))) -> 5 | H18: =IF(OR(EXACT($F$7,F18)*(EXACT($G$7,G18)))=TRUE,$AO$9,IF(($G$7-$F$7=G18-F18),$AO$8,IF(OR(EXACT($F$7>$G$7,F18>G18)*EXACT($F$7=$G$7,F18=G18)*EXACT($F$7<$G$7,F18<G18)),$AO$7,0))) -> 5 | K18: =IF(OR(EXACT($I$7,I18)*(EXACT($J$7,J18)))=TRUE,$AO$9,IF(($J$7-$I$7=J18-I18),$AO$8,IF(OR(EXACT($I$7>$J$7,I18>J18)*EXACT($I$7=$J$7,I18=J18)*EXACT($I$7<$J$7,I18<J18)),$AO$7,0))) -> 5 | N18: =IF(OR(EXACT($L$7,L18)*(EXACT($M$7,M18)))=TRUE,$AO$9,IF(($M$7-$L$7=M18-L18),$AO$8,IF(OR(EXACT($L$7>$M$7,L18>M18)*EXACT($L$7=$M$7,L18=M18)*EXACT($L$7<$M$7,L18<M18)),$AO$7,0))) -> 5 | Q18: =IF(OR(EXACT($O$7,O18)*(EXACT($P$7,P18)))=TRUE,$AO$9,IF(($P$7-$O$7=P18-O18),$AO$8,IF(OR(EXACT($O$7>$P$7,O18>P18)*EXACT($O$7=$P$7,O18=P18)*EXACT($O$7<$P$7,O18<P18)),$AO$7,0))) -> 5 | T18: =IF(OR(EXACT($R$7,R18)*(EXACT($S$7,S18)))=TRUE,$AO$9,IF(($S$7-$R$7=S18-R18),$AO$8,IF(OR(EXACT($R$7>$S$7,R18>S18)*EXACT($R$7=$S$7,R18=S18)*EXACT($R$7<$S$7,R18<S18)),$AO$7,0))) -> 5 | W18: =IF(OR(EXACT($U$7,U18)*(EXACT($V$7,V18)))=TRUE,$AO$9,IF(($V$7-$U$7=V18-U18),$AO$8,IF(OR(EXACT($U$7>$V$7,U18>V18)*EXACT($U$7=$V$7,U18=V18)*EXACT($U$7<$V$7,U18<V18)),$AO$7,0))) -> 5 | Z18: =IF(OR(EXACT($X$7,X18)*(EXACT($Y$7,Y18)))=TRUE,$AO$9,IF(($Y$7-$X$7=Y18-X18),$AO$8,IF(OR(EXACT($X$7>$Y$7,X18>Y18)*EXACT($X$7=$Y$7,X18=Y18)*EXACT($X$7<$Y$7,X18<Y18)),$AO$7,0))) -> 5 | AC18: =IF(OR(EXACT($AA$7,AA18)*(EXACT($AB$7,AB18)))=TRUE,$AO$9,IF(($AB$7-$AA$7=AB18-AA18),$AO$8,IF(OR(EXACT($AA$7>$AB$7,AA18>AB18)*EXACT($AA$7=$AB$7,AA18=AB18)*EXACT($AA$7<$AB$7,AA18<AB18)),$AO$7,0))) -> 5 | AG18: =E18+H18+K18+N18+Q18+T18+W18+Z18+AC18+AF18 -> 45 | AH18: ='4.Spieltag'!AJ18 -> 71 | AI18: ='4.Spieltag'!AK18 -> 11 | AJ18: =AG18+AH18 -> 116 | AK18: =RANK(AJ18,$AJ$8:$AJ$27) -> 11
A19: =AK19 -> 12 | B19: ='4.Spieltag'!B19 -> Mike04 | E19: =IF(OR(EXACT($C$7,C19)*(EXACT($D$7,D19)))=TRUE,$AO$9,IF(($D$7-$C$7=D19-C19),$AO$8,IF(OR(EXACT($C$7>$D$7,C19>D19)*EXACT($C$7=$D$7,C19=D19)*EXACT($C$7<$D$7,C19<D19)),$AO$7,0))) -> 5 | H19: =IF(OR(EXACT($F$7,F19)*(EXACT($G$7,G19)))=TRUE,$AO$9,IF(($G$7-$F$7=G19-F19),$AO$8,IF(OR(EXACT($F$7>$G$7,F19>G19)*EXACT($F$7=$G$7,F19=G19)*EXACT($F$7<$G$7,F19<G19)),$AO$7,0))) -> 5 | K19: =IF(OR(EXACT($I$7,I19)*(EXACT($J$7,J19)))=TRUE,$AO$9,IF(($J$7-$I$7=J19-I19),$AO$8,IF(OR(EXACT($I$7>$J$7,I19>J19)*EXACT($I$7=$J$7,I19=J19)*EXACT($I$7<$J$7,I19<J19)),$AO$7,0))) -> 5 | N19: =IF(OR(EXACT($L$7,L19)*(EXACT($M$7,M19)))=TRUE,$AO$9,IF(($M$7-$L$7=M19-L19),$AO$8,IF(OR(EXACT($L$7>$M$7,L19>M19)*EXACT($L$7=$M$7,L19=M19)*EXACT($L$7<$M$7,L19<M19)),$AO$7,0))) -> 5 | Q19: =IF(OR(EXACT($O$7,O19)*(EXACT($P$7,P19)))=TRUE,$AO$9,IF(($P$7-$O$7=P19-O19),$AO$8,IF(OR(EXACT($O$7>$P$7,O19>P19)*EXACT($O$7=$P$7,O19=P19)*EXACT($O$7<$P$7,O19<P19)),$AO$7,0))) -> 5 | T19: =IF(OR(EXACT($R$7,R19)*(EXACT($S$7,S19)))=TRUE,$AO$9,IF(($S$7-$R$7=S19-R19),$AO$8,IF(OR(EXACT($R$7>$S$7,R19>S19)*EXACT($R$7=$S$7,R19=S19)*EXACT($R$7<$S$7,R19<S19)),$AO$7,0))) -> 5 | W19: =IF(OR(EXACT($U$7,U19)*(EXACT($V$7,V19)))=TRUE,$AO$9,IF(($V$7-$U$7=V19-U19),$AO$8,IF(OR(EXACT($U$7>$V$7,U19>V19)*EXACT($U$7=$V$7,U19=V19)*EXACT($U$7<$V$7,U19<V19)),$AO$7,0))) -> 5 | Z19: =IF(OR(EXACT($X$7,X19)*(EXACT($Y$7,Y19)))=TRUE,$AO$9,IF(($Y$7-$X$7=Y19-X19),$AO$8,IF(OR(EXACT($X$7>$Y$7,X19>Y19)*EXACT($X$7=$Y$7,X19=Y19)*EXACT($X$7<$Y$7,X19<Y19)),$AO$7,0))) -> 5 | AC19: =IF(OR(EXACT($AA$7,AA19)*(EXACT($AB$7,AB19)))=TRUE,$AO$9,IF(($AB$7-$AA$7=AB19-AA19),$AO$8,IF(OR(EXACT($AA$7>$AB$7,AA19>AB19)*EXACT($AA$7=$AB$7,AA19=AB19)*EXACT($AA$7<$AB$7,AA19<AB19)),$AO$7,0))) -> 5 | AG19: =E19+H19+K19+N19+Q19+T19+W19+Z19+AC19+AF19 -> 45 | AH19: ='4.Spieltag'!AJ19 -> 70 | AI19: ='4.Spieltag'!AK19 -> 12 | AJ19: =AG19+AH19 -> 115 | AK19: =RANK(AJ19,$AJ$8:$AJ$27) -> 12
A20: =AK20 -> 12 | B20: ='4.Spieltag'!B20 -> Nico1904 | E20: =IF(OR(EXACT($C$7,C20)*(EXACT($D$7,D20)))=TRUE,$AO$9,IF(($D$7-$C$7=D20-C20),$AO$8,IF(OR(EXACT($C$7>$D$7,C20>D20)*EXACT($C$7=$D$7,C20=D20)*EXACT($C$7<$D$7,C20<D20)),$AO$7,0))) -> 5 | H20: =IF(OR(EXACT($F$7,F20)*(EXACT($G$7,G20)))=TRUE,$AO$9,IF(($G$7-$F$7=G20-F20),$AO$8,IF(OR(EXACT($F$7>$G$7,F20>G20)*EXACT($F$7=$G$7,F20=G20)*EXACT($F$7<$G$7,F20<G20)),$AO$7,0))) -> 5 | K20: =IF(OR(EXACT($I$7,I20)*(EXACT($J$7,J20)))=TRUE,$AO$9,IF(($J$7-$I$7=J20-I20),$AO$8,IF(OR(EXACT($I$7>$J$7,I20>J20)*EXACT($I$7=$J$7,I20=J20)*EXACT($I$7<$J$7,I20<J20)),$AO$7,0))) -> 5 | N20: =IF(OR(EXACT($L$7,L20)*(EXACT($M$7,M20)))=TRUE,$AO$9,IF(($M$7-$L$7=M20-L20),$AO$8,IF(OR(EXACT($L$7>$M$7,L20>M20)*EXACT($L$7=$M$7,L20=M20)*EXACT($L$7<$M$7,L20<M20)),$AO$7,0))) -> 5 | Q20: =IF(OR(EXACT($O$7,O20)*(EXACT($P$7,P20)))=TRUE,$AO$9,IF(($P$7-$O$7=P20-O20),$AO$8,IF(OR(EXACT($O$7>$P$7,O20>P20)*EXACT($O$7=$P$7,O20=P20)*EXACT($O$7<$P$7,O20<P20)),$AO$7,0))) -> 5 | T20: =IF(OR(EXACT($R$7,R20)*(EXACT($S$7,S20)))=TRUE,$AO$9,IF(($S$7-$R$7=S20-R20),$AO$8,IF(OR(EXACT($R$7>$S$7,R20>S20)*EXACT($R$7=$S$7,R20=S20)*EXACT($R$7<$S$7,R20<S20)),$AO$7,0))) -> 5 | W20: =IF(OR(EXACT($U$7,U20)*(EXACT($V$7,V20)))=TRUE,$AO$9,IF(($V$7-$U$7=V20-U20),$AO$8,IF(OR(EXACT($U$7>$V$7,U20>V20)*EXACT($U$7=$V$7,U20=V20)*EXACT($U$7<$V$7,U20<V20)),$AO$7,0))) -> 5 | Z20: =IF(OR(EXACT($X$7,X20)*(EXACT($Y$7,Y20)))=TRUE,$AO$9,IF(($Y$7-$X$7=Y20-X20),$AO$8,IF(OR(EXACT($X$7>$Y$7,X20>Y20)*EXACT($X$7=$Y$7,X20=Y20)*EXACT($X$7<$Y$7,X20<Y20)),$AO$7,0))) -> 5 | AC20: =IF(OR(EXACT($AA$7,AA20)*(EXACT($AB$7,AB20)))=TRUE,$AO$9,IF(($AB$7-$AA$7=AB20-AA20),$AO$8,IF(OR(EXACT($AA$7>$AB$7,AA20>AB20)*EXACT($AA$7=$AB$7,AA20=AB20)*EXACT($AA$7<$AB$7,AA20<AB20)),$AO$7,0))) -> 5 | AG20: =E20+H20+K20+N20+Q20+T20+W20+Z20+AC20+AF20 -> 45 | AH20: ='4.Spieltag'!AJ20 -> 70 | AI20: ='4.Spieltag'!AK20 -> 12 | AJ20: =AG20+AH20 -> 115 | AK20: =RANK(AJ20,$AJ$8:$AJ$27) -> 12
A21: =AK21 -> 14 | B21: ='4.Spieltag'!B21 -> MB AC Norbert | E21: =IF(OR(EXACT($C$7,C21)*(EXACT($D$7,D21)))=TRUE,$AO$9,IF(($D$7-$C$7=D21-C21),$AO$8,IF(OR(EXACT($C$7>$D$7,C21>D21)*EXACT($C$7=$D$7,C21=D21)*EXACT($C$7<$D$7,C21<D21)),$AO$7,0))) -> 5 | H21: =IF(OR(EXACT($F$7,F21)*(EXACT($G$7,G21)))=TRUE,$AO$9,IF(($G$7-$F$7=G21-F21),$AO$8,IF(OR(EXACT($F$7>$G$7,F21>G21)*EXACT($F$7=$G$7,F21=G21)*EXACT($F$7<$G$7,F21<G21)),$AO$7,0))) -> 5 | K21: =IF(OR(EXACT($I$7,I21)*(EXACT($J$7,J21)))=TRUE,$AO$9,IF(($J$7-$I$7=J21-I21),$AO$8,IF(OR(EXACT($I$7>$J$7,I21>J21)*EXACT($I$7=$J$7,I21=J21)*EXACT($I$7<$J$7,I21<J21)),$AO$7,0))) -> 5 | N21: =IF(OR(EXACT($L$7,L21)*(EXACT($M$7,M21)))=TRUE,$AO$9,IF(($M$7-$L$7=M21-L21),$AO$8,IF(OR(EXACT($L$7>$M$7,L21>M21)*EXACT($L$7=$M$7,L21=M21)*EXACT($L$7<$M$7,L21<M21)),$AO$7,0))) -> 5 | Q21: =IF(OR(EXACT($O$7,O21)*(EXACT($P$7,P21)))=TRUE,$AO$9,IF(($P$7-$O$7=P21-O21),$AO$8,IF(OR(EXACT($O$7>$P$7,O21>P21)*EXACT($O$7=$P$7,O21=P21)*EXACT($O$7<$P$7,O21<P21)),$AO$7,0))) -> 5 | T21: =IF(OR(EXACT($R$7,R21)*(EXACT($S$7,S21)))=TRUE,$AO$9,IF(($S$7-$R$7=S21-R21),$AO$8,IF(OR(EXACT($R$7>$S$7,R21>S21)*EXACT($R$7=$S$7,R21=S21)*EXACT($R$7<$S$7,R21<S21)),$AO$7,0))) -> 5 | W21: =IF(OR(EXACT($U$7,U21)*(EXACT($V$7,V21)))=TRUE,$AO$9,IF(($V$7-$U$7=V21-U21),$AO$8,IF(OR(EXACT($U$7>$V$7,U21>V21)*EXACT($U$7=$V$7,U21=V21)*EXACT($U$7<$V$7,U21<V21)),$AO$7,0))) -> 5 | Z21: =IF(OR(EXACT($X$7,X21)*(EXACT($Y$7,Y21)))=TRUE,$AO$9,IF(($Y$7-$X$7=Y21-X21),$AO$8,IF(OR(EXACT($X$7>$Y$7,X21>Y21)*EXACT($X$7=$Y$7,X21=Y21)*EXACT($X$7<$Y$7,X21<Y21)),$AO$7,0))) -> 5 | AC21: =IF(OR(EXACT($AA$7,AA21)*(EXACT($AB$7,AB21)))=TRUE,$AO$9,IF(($AB$7-$AA$7=AB21-AA21),$AO$8,IF(OR(EXACT($AA$7>$AB$7,AA21>AB21)*EXACT($AA$7=$AB$7,AA21=AB21)*EXACT($AA$7<$AB$7,AA21<AB21)),$AO$7,0))) -> 5 | AG21: =E21+H21+K21+N21+Q21+T21+W21+Z21+AC21+AF21 -> 45 | AH21: ='4.Spieltag'!AJ21 -> 67 | AI21: ='4.Spieltag'!AK21 -> 14 | AJ21: =AG21+AH21 -> 112 | AK21: =RANK(AJ21,$AJ$8:$AJ$27) -> 14
... A27: =AK27 -> 19 | B27: ='4.Spieltag'!B27 -> 0 | E27: =IF(OR(EXACT($C$7,C27)*(EXACT($D$7,D27)))=TRUE,$AO$9,IF(($D$7-$C$7=D27-C27),$AO$8,IF(OR(EXACT($C$7>$D$7,C27>D27)*EXACT($C$7=$D$7,C27=D27)*EXACT($C$7<$D$7,C27<D27)),$AO$7,0))) -> 5 | H27: =IF(OR(EXACT($F$7,F27)*(EXACT($G$7,G27)))=TRUE,$AO$9,IF(($G$7-$F$7=G27-F27),$AO$8,IF(OR(EXACT($F$7>$G$7,F27>G27)*EXACT($F$7=$G$7,F27=G27)*EXACT($F$7<$G$7,F27<G27)),$AO$7,0))) -> 5 | K27: =IF(OR(EXACT($I$7,I27)*(EXACT($J$7,J27)))=TRUE,$AO$9,IF(($J$7-$I$7=J27-I27),$AO$8,IF(OR(EXACT($I$7>$J$7,I27>J27)*EXACT($I$7=$J$7,I27=J27)*EXACT($I$7<$J$7,I27<J27)),$AO$7,0))) -> 5 | N27: =IF(OR(EXACT($L$7,L27)*(EXACT($M$7,M27)))=TRUE,$AO$9,IF(($M$7-$L$7=M27-L27),$AO$8,IF(OR(EXACT($L$7>$M$7,L27>M27)*EXACT($L$7=$M$7,L27=M27)*EXACT($L$7<$M$7,L27<M27)),$AO$7,0))) -> 5 | Q27: =IF(OR(EXACT($O$7,O27)*(EXACT($P$7,P27)))=TRUE,$AO$9,IF(($P$7-$O$7=P27-O27),$AO$8,IF(OR(EXACT($O$7>$P$7,O27>P27)*EXACT($O$7=$P$7,O27=P27)*EXACT($O$7<$P$7,O27<P27)),$AO$7,0))) -> 5 | T27: =IF(OR(EXACT($R$7,R27)*(EXACT($S$7,S27)))=TRUE,$AO$9,IF(($S$7-$R$7=S27-R27),$AO$8,IF(OR(EXACT($R$7>$S$7,R27>S27)*EXACT($R$7=$S$7,R27=S27)*EXACT($R$7<$S$7,R27<S27)),$AO$7,0))) -> 5 | W27: =IF(OR(EXACT($U$7,U27)*(EXACT($V$7,V27)))=TRUE,$AO$9,IF(($V$7-$U$7=V27-U27),$AO$8,IF(OR(EXACT($U$7>$V$7,U27>V27)*EXACT($U$7=$V$7,U27=V27)*EXACT($U$7<$V$7,U27<V27)),$AO$7,0))) -> 5 | Z27: =IF(OR(EXACT($X$7,X27)*(EXACT($Y$7,Y27)))=TRUE,$AO$9,IF(($Y$7-$X$7=Y27-X27),$AO$8,IF(OR(EXACT($X$7>$Y$7,X27>Y27)*EXACT($X$7=$Y$7,X27=Y27)*EXACT($X$7<$Y$7,X27<Y27)),$AO$7,0))) -> 5 | AC27: =IF(OR(EXACT($AA$7,AA27)*(EXACT($AB$7,AB27)))=TRUE,$AO$9,IF(($AB$7-$AA$7=AB27-AA27),$AO$8,IF(OR(EXACT($AA$7>$AB$7,AA27>AB27)*EXACT($AA$7=$AB$7,AA27=AB27)*EXACT($AA$7<$AB$7,AA27<AB27)),$AO$7,0))) -> 5 | AG27: =E27+H27+K27+N27+Q27+T27+W27+Z27+AC27+AF27 -> 45 | AH27: ='4.Spieltag'!AJ27 -> 51 | AI27: ='4.Spieltag'!AK27 -> 19 | AJ27: =AG27+AH27 -> 96 | AK27: =RANK(AJ27,$AJ$8:$AJ$27) -> 19

Sheet Ergebnisse
C1: 1 | D1: 2 | E1: 3 | F1: 4 | G1: 5 | H1: 6 | I1: 7 | J1: 8 | K1: 9 | L1: 10 | M1: 11 | N1: 12 | O1: 13 | P1: 14 | Q1: 15 | R1: 16 | S1: 17 | T1: 18 | U1: 19 | V1: 20 | W1: 21 | X1: 22 | Y1: 23 | Z1: 24 | AA1: 25 | AB1: 26 | AC1: 27 | AD1: 28 | AE1: 29 | AF1: 30 | AG1: 31 | AH1: 32 | AI1: 33 | AJ1: 34
A2: Platz | B2: Name | C2: Spieltag | D2: Spieltag | E2: Spieltag | F2: Spieltag | G2: Spieltag | H2: Spieltag | I2: Spieltag | J2: Spieltag | K2: Spieltag | L2: Spieltag | M2: Spieltag | N2: Spieltag | O2: Spieltag | P2: Spieltag | Q2: Spieltag | R2: Spieltag | S2: Spieltag | T2: Spieltag | U2: Spieltag | V2: Spieltag | W2: Spieltag | X2: Spieltag | Y2: Spieltag | Z2: Spieltag | AA2: Spieltag | AB2: Spieltag | AC2: Spieltag | AD2: Spieltag | AE2: Spieltag | AF2: Spieltag | AG2: Spieltag | AH2: Spieltag | AI2: Spieltag | AJ2: Spieltag | AK2: Punkte gesamt | AL2: Streichergebnis | AM2: Streichergebnis | AN2: Streichergebnis | AO2: Streichergebnis | AP2: Endergebnis | AS2: Tagessieger | AT2: Name | AU2: Punkte
B3: ='1.Spieltag'!B8 -> Enjoi | C3: ='1.Spieltag'!$AG8 -> 10 | D3: ='2.Spieltag '!$AG8 -> 0 | E3: ='3.Spieltag'!$AG8 -> 12 | F3: ='4.Spieltag'!$AG8 -> 45 | G3: ='5.Spieltag'!$AG8 -> 45 | H3: ='6.Spieltag'!$AG8 -> 45 | I3: ='7.Spieltag'!$AG8 -> 45 | J3: ='8.Spieltag'!$AG8 -> 45 | K3: ='9.Spieltag'!$AG8 -> 45 | L3: ='10.Spieltag'!$AG8 -> 45 | M3: ='11.Spieltag'!$AG8 -> 45 | N3: ='12.Spieltag'!$AG8 -> 45 | O3: ='13.Spieltag'!$AG8 -> 45 | P3: ='14.Spieltag'!$AG8 -> 45 | Q3: ='15.Spieltag'!$AG8 -> 45 | R3: ='16.Spieltag'!$AG8 -> 45 | S3: ='17.Spieltag'!$AG8 -> 45 | T3: ='18.Spieltag'!$AG8 -> 45 | U3: ='19.Spieltag'!$AG8 -> 45 | V3: ='20.Spieltag'!$AG8 -> 45 | W3: ='21.Spieltag'!$AG8 -> 45 | X3: ='22.Spieltag'!$AG8 -> 45 | Y3: ='23.Spieltag'!$AG8 -> 45 | Z3: ='24.Spieltag'!$AG8 -> 45 | AA3: ='25.Spieltag'!$AG8 -> 45 | AB3: ='26.Spieltag'!$AG8 -> 45 | AC3: ='27.Spieltag'!$AG8 -> 45 | AD3: ='28.Spieltag'!$AG8 -> 45 | AE3: ='29.Spieltag'!$AG8 -> 45 | AF3: ='30.Spieltag'!$AG8 -> 45 | AG3: ='31.Spieltag'!$AG8 -> 45 | AH3: ='32.Spieltag'!$AG8 -> 45 | AI3: ='33.Spieltag'!$AG8 -> 45 | AJ3: ='34.Spieltag'!$AG8 -> 45 | AK3: =SUM(C3:AJ3) -> 1417 | AL3: =SMALL($C3:$AJ3,1) -> 0 | AM3: =SMALL($C3:$AJ3,2) -> 10 | AN3: =SMALL($C3:$AJ3,3) -> 12 | AO3: =SMALL($C3:$AJ3,4) -> 45 | AP3: =AK3-AO3-AN3-AM3-AL3 -> 1350 | AQ3: =SUM(AL3:AO3) -> 67 | AS3: 1 | AT3: jupp04 | AU3: 19
B4: ='1.Spieltag'!B9 -> FlorianS04 | C4: ='1.Spieltag'!$AG9 -> 9 | D4: ='2.Spieltag '!$AG9 -> 7 | E4: ='3.Spieltag'!$AG9 -> 19 | F4: ='4.Spieltag'!$AG9 -> 45 | G4: ='5.Spieltag'!$AG9 -> 45 | H4: ='6.Spieltag'!$AG9 -> 45 | I4: ='7.Spieltag'!$AG9 -> 45 | J4: ='8.Spieltag'!$AG9 -> 45 | K4: ='9.Spieltag'!$AG9 -> 45 | L4: ='10.Spieltag'!$AG9 -> 45 | M4: ='11.Spieltag'!$AG9 -> 45 | N4: ='12.Spieltag'!$AG9 -> 45 | O4: ='13.Spieltag'!$AG9 -> 45 | P4: ='14.Spieltag'!$AG9 -> 45 | Q4: ='15.Spieltag'!$AG9 -> 45 | R4: ='16.Spieltag'!$AG9 -> 45 | S4: ='17.Spieltag'!$AG9 -> 45 | T4: ='18.Spieltag'!$AG9 -> 45 | U4: ='19.Spieltag'!$AG9 -> 45 | V4: ='20.Spieltag'!$AG9 -> 45 | W4: ='21.Spieltag'!$AG9 -> 45 | X4: ='22.Spieltag'!$AG9 -> 45 | Y4: ='23.Spieltag'!$AG9 -> 45 | Z4: ='24.Spieltag'!$AG9 -> 45 | AA4: ='25.Spieltag'!$AG9 -> 45 | AB4: ='26.Spieltag'!$AG9 -> 45 | AC4: ='27.Spieltag'!$AG9 -> 45 | AD4: ='28.Spieltag'!$AG9 -> 45 | AE4: ='29.Spieltag'!$AG9 -> 45 | AF4: ='30.Spieltag'!$AG9 -> 45 | AG4: ='31.Spieltag'!$AG9 -> 45 | AH4: ='32.Spieltag'!$AG9 -> 45 | AI4: ='33.Spieltag'!$AG9 -> 45 | AJ4: ='34.Spieltag'!$AG9 -> 45 | AK4: =SUM(C4:AJ4) -> 1430 | AL4: =SMALL($C4:$AJ4,1) -> 7 | AM4: =SMALL($C4:$AJ4,2) -> 9 | AN4: =SMALL($C4:$AJ4,3) -> 19 | AO4: =SMALL($C4:$AJ4,4) -> 45 | AP4: =AK4-AO4-AN4-AM4-AL4 -> 1350 | AQ4: =SUM(AL4:AO4) -> 80 | AS4: 2 | AT4: Master1 | AU4: 17
B5: ='1.Spieltag'!B20 -> Schalt04 | C5: ='1.Spieltag'!$AG20 -> 7 | D5: ='2.Spieltag '!$AG20 -> 7 | E5: ='3.Spieltag'!$AG10 -> 12 | F5: ='4.Spieltag'!$AG10 -> 45 | G5: ='5.Spieltag'!$AG10 -> 45 | H5: ='6.Spieltag'!$AG10 -> 45 | I5: ='7.Spieltag'!$AG10 -> 45 | J5: ='8.Spieltag'!$AG10 -> 45 | K5: ='9.Spieltag'!$AG10 -> 45 | L5: ='10.Spieltag'!$AG10 -> 45 | M5: ='11.Spieltag'!$AG10 -> 45 | N5: ='12.Spieltag'!$AG10 -> 45 | O5: ='13.Spieltag'!$AG10 -> 45 | P5: ='14.Spieltag'!$AG10 -> 45 | Q5: ='15.Spieltag'!$AG10 -> 45 | R5: ='16.Spieltag'!$AG10 -> 45 | S5: ='17.Spieltag'!$AG10 -> 45 | T5: ='18.Spieltag'!$AG10 -> 45 | U5: ='19.Spieltag'!$AG10 -> 45 | V5: ='20.Spieltag'!$AG10 -> 45 | W5: ='21.Spieltag'!$AG10 -> 45 | X5: ='22.Spieltag'!$AG10 -> 45 | Y5: ='23.Spieltag'!$AG10 -> 45 | Z5: ='24.Spieltag'!$AG10 -> 45 | AA5: ='25.Spieltag'!$AG10 -> 45 | AB5: ='26.Spieltag'!$AG10 -> 45 | AC5: ='27.Spieltag'!$AG10 -> 45 | AD5: ='28.Spieltag'!$AG10 -> 45 | AE5: ='29.Spieltag'!$AG10 -> 45 | AF5: ='30.Spieltag'!$AG10 -> 45 | AG5: ='31.Spieltag'!$AG10 -> 45 | AH5: ='32.Spieltag'!$AG10 -> 45 | AI5: ='33.Spieltag'!$AG10 -> 45 | AJ5: ='34.Spieltag'!$AG10 -> 45 | AK5: =SUM(C5:AJ5) -> 1421 | AL5: =SMALL($C5:$AJ5,1) -> 7 | AM5: =SMALL($C5:$AJ5,2) -> 7 | AN5: =SMALL($C5:$AJ5,3) -> 12 | AO5: =SMALL($C5:$AJ5,4) -> 45 | AP5: =AK5-AO5-AN5-AM5-AL5 -> 1350 | AQ5: =SUM(AL5:AO5) -> 71 | AS5: 3 | AT5: FlorianS04 | AU5: 19
B6: ='1.Spieltag'!B10 -> Franzi04 | C6: ='1.Spieltag'!$AG10 -> 11 | D6: ='2.Spieltag '!$AG10 -> 8 | E6: ='3.Spieltag'!$AG11 -> 10 | F6: ='4.Spieltag'!$AG11 -> 45 | G6: ='5.Spieltag'!$AG11 -> 45 | H6: ='6.Spieltag'!$AG11 -> 45 | I6: ='7.Spieltag'!$AG11 -> 45 | J6: ='8.Spieltag'!$AG11 -> 45 | K6: ='9.Spieltag'!$AG11 -> 45 | L6: ='10.Spieltag'!$AG11 -> 45 | M6: ='11.Spieltag'!$AG11 -> 45 | N6: ='12.Spieltag'!$AG11 -> 45 | O6: ='13.Spieltag'!$AG11 -> 45 | P6: ='14.Spieltag'!$AG11 -> 45 | Q6: ='15.Spieltag'!$AG11 -> 45 | R6: ='16.Spieltag'!$AG11 -> 45 | S6: ='17.Spieltag'!$AG11 -> 45 | T6: ='18.Spieltag'!$AG11 -> 45 | U6: ='19.Spieltag'!$AG11 -> 45 | V6: ='20.Spieltag'!$AG11 -> 45 | W6: ='21.Spieltag'!$AG11 -> 45 | X6: ='22.Spieltag'!$AG11 -> 45 | Y6: ='23.Spieltag'!$AG11 -> 45 | Z6: ='24.Spieltag'!$AG11 -> 45 | AA6: ='25.Spieltag'!$AG11 -> 45 | AB6: ='26.Spieltag'!$AG11 -> 45 | AC6: ='27.Spieltag'!$AG11 -> 45 | AD6: ='28.Spieltag'!$AG11 -> 45 | AE6: ='29.Spieltag'!$AG11 -> 45 | AF6: ='30.Spieltag'!$AG11 -> 45 | AG6: ='31.Spieltag'!$AG11 -> 45 | AH6: ='32.Spieltag'!$AG11 -> 45 | AI6: ='33.Spieltag'!$AG11 -> 45 | AJ6: ='34.Spieltag'!$AG11 -> 45 | AK6: =SUM(C6:AJ6) -> 1424 | AL6: =SMALL($C6:$AJ6,1) -> 8 | AM6: =SMALL($C6:$AJ6,2) -> 10 | AN6: =SMALL($C6:$AJ6,3) -> 11 | AO6: =SMALL($C6:$AJ6,4) -> 45 | AP6: =AK6-AO6-AN6-AM6-AL6 -> 1350 | AQ6: =SUM(AL6:AO6) -> 74 | AS6: 4
B7: ='1.Spieltag'!B11 -> jupp04 | C7: ='1.Spieltag'!$AG11 -> 19 | D7: ='2.Spieltag '!$AG11 -> 4 | E7: ='3.Spieltag'!$AG12 -> 13 | F7: ='4.Spieltag'!$AG12 -> 45 | G7: ='5.Spieltag'!$AG12 -> 45 | H7: ='6.Spieltag'!$AG12 -> 45 | I7: ='7.Spieltag'!$AG12 -> 45 | J7: ='8.Spieltag'!$AG12 -> 45 | K7: ='9.Spieltag'!$AG12 -> 45 | L7: ='10.Spieltag'!$AG12 -> 45 | M7: ='11.Spieltag'!$AG12 -> 45 | N7: ='12.Spieltag'!$AG12 -> 45 | O7: ='13.Spieltag'!$AG12 -> 45 | P7: ='14.Spieltag'!$AG12 -> 45 | Q7: ='15.Spieltag'!$AG12 -> 45 | R7: ='16.Spieltag'!$AG12 -> 45 | S7: ='17.Spieltag'!$AG12 -> 45 | T7: ='18.Spieltag'!$AG12 -> 45 | U7: ='19.Spieltag'!$AG12 -> 45 | V7: ='20.Spieltag'!$AG12 -> 45 | W7: ='21.Spieltag'!$AG12 -> 45 | X7: ='22.Spieltag'!$AG12 -> 45 | Y7: ='23.Spieltag'!$AG12 -> 45 | Z7: ='24.Spieltag'!$AG12 -> 45 | AA7: ='25.Spieltag'!$AG12 -> 45 | AB7: ='26.Spieltag'!$AG12 -> 45 | AC7: ='27.Spieltag'!$AG12 -> 45 | AD7: ='28.Spieltag'!$AG12 -> 45 | AE7: ='29.Spieltag'!$AG12 -> 45 | AF7: ='30.Spieltag'!$AG12 -> 45 | AG7: ='31.Spieltag'!$AG12 -> 45 | AH7: ='32.Spieltag'!$AG12 -> 45 | AI7: ='33.Spieltag'!$AG12 -> 45 | AJ7: ='34.Spieltag'!$AG12 -> 45 | AK7: =SUM(C7:AJ7) -> 1431 | AL7: =SMALL($C7:$AJ7,1) -> 4 | AM7: =SMALL($C7:$AJ7,2) -> 13 | AN7: =SMALL($C7:$AJ7,3) -> 19 | AO7: =SMALL($C7:$AJ7,4) -> 45 | AP7: =AK7-AO7-AN7-AM7-AL7 -> 1350 | AQ7: =SUM(AL7:AO7) -> 81 | AS7: 5
B8: ='1.Spieltag'!B19 -> Sascha | C8: ='1.Spieltag'!$AG19 -> 8 | D8: ='2.Spieltag '!$AG19 -> 11 | E8: ='3.Spieltag'!$AG13 -> 8 | F8: ='4.Spieltag'!$AG13 -> 45 | G8: ='5.Spieltag'!$AG13 -> 45 | H8: ='6.Spieltag'!$AG13 -> 45 | I8: ='7.Spieltag'!$AG13 -> 45 | J8: ='8.Spieltag'!$AG13 -> 45 | K8: ='9.Spieltag'!$AG13 -> 45 | L8: ='10.Spieltag'!$AG13 -> 45 | M8: ='11.Spieltag'!$AG13 -> 45 | N8: ='12.Spieltag'!$AG13 -> 45 | O8: ='13.Spieltag'!$AG13 -> 45 | P8: ='14.Spieltag'!$AG13 -> 45 | Q8: ='15.Spieltag'!$AG13 -> 45 | R8: ='16.Spieltag'!$AG13 -> 45 | S8: ='17.Spieltag'!$AG13 -> 45 | T8: ='18.Spieltag'!$AG13 -> 45 | U8: ='19.Spieltag'!$AG13 -> 45 | V8: ='20.Spieltag'!$AG13 -> 45 | W8: ='21.Spieltag'!$AG13 -> 45 | X8: ='22.Spieltag'!$AG13 -> 45 | Y8: ='23.Spieltag'!$AG13 -> 45 | Z8: ='24.Spieltag'!$AG13 -> 45 | AA8: ='25.Spieltag'!$AG13 -> 45 | AB8: ='26.Spieltag'!$AG13 -> 45 | AC8: ='27.Spieltag'!$AG13 -> 45 | AD8: ='28.Spieltag'!$AG13 -> 45 | AE8: ='29.Spieltag'!$AG13 -> 45 | AF8: ='30.Spieltag'!$AG13 -> 45 | AG8: ='31.Spieltag'!$AG13 -> 45 | AH8: ='32.Spieltag'!$AG13 -> 45 | AI8: ='33.Spieltag'!$AG13 -> 45 | AJ8: ='34.Spieltag'!$AG13 -> 45 | AK8: =SUM(C8:AJ8) -> 1422 | AL8: =SMALL($C8:$AJ8,1) -> 8 | AM8: =SMALL($C8:$AJ8,2) -> 8 | AN8: =SMALL($C8:$AJ8,3) -> 11 | AO8: =SMALL($C8:$AJ8,4) -> 45 | AP8: =AK8-AO8-AN8-AM8-AL8 -> 1350 | AQ8: =SUM(AL8:AO8) -> 72 | AS8: 6
B9: ='1.Spieltag'!B12 -> Lola04 | C9: ='1.Spieltag'!$AG12 -> 10 | D9: ='2.Spieltag '!$AG12 -> 7 | E9: ='3.Spieltag'!$AG14 -> 12 | F9: ='4.Spieltag'!$AG14 -> 45 | G9: ='5.Spieltag'!$AG14 -> 45 | H9: ='6.Spieltag'!$AG14 -> 45 | I9: ='7.Spieltag'!$AG14 -> 45 | J9: ='8.Spieltag'!$AG14 -> 45 | K9: ='9.Spieltag'!$AG14 -> 45 | L9: ='10.Spieltag'!$AG14 -> 45 | M9: ='11.Spieltag'!$AG14 -> 45 | N9: ='12.Spieltag'!$AG14 -> 45 | O9: ='13.Spieltag'!$AG14 -> 45 | P9: ='14.Spieltag'!$AG14 -> 45 | Q9: ='15.Spieltag'!$AG14 -> 45 | R9: ='16.Spieltag'!$AG14 -> 45 | S9: ='17.Spieltag'!$AG14 -> 45 | T9: ='18.Spieltag'!$AG14 -> 45 | U9: ='19.Spieltag'!$AG14 -> 45 | V9: ='20.Spieltag'!$AG14 -> 45 | W9: ='21.Spieltag'!$AG14 -> 45 | X9: ='22.Spieltag'!$AG14 -> 45 | Y9: ='23.Spieltag'!$AG14 -> 45 | Z9: ='24.Spieltag'!$AG14 -> 45 | AA9: ='25.Spieltag'!$AG14 -> 45 | AB9: ='26.Spieltag'!$AG14 -> 45 | AC9: ='27.Spieltag'!$AG14 -> 45 | AD9: ='28.Spieltag'!$AG14 -> 45 | AE9: ='29.Spieltag'!$AG14 -> 45 | AF9: ='30.Spieltag'!$AG14 -> 45 | AG9: ='31.Spieltag'!$AG14 -> 45 | AH9: ='32.Spieltag'!$AG14 -> 45 | AI9: ='33.Spieltag'!$AG14 -> 45 | AJ9: ='34.Spieltag'!$AG14 -> 45 | AK9: =SUM(C9:AJ9) -> 1424 | AL9: =SMALL($C9:$AJ9,1) -> 7 | AM9: =SMALL($C9:$AJ9,2) -> 10 | AN9: =SMALL($C9:$AJ9,3) -> 12 | AO9: =SMALL($C9:$AJ9,4) -> 45 | AP9: =AK9-AO9-AN9-AM9-AL9 -> 1350 | AQ9: =SUM(AL9:AO9) -> 74 | AS9: 7
B10: ='1.Spieltag'!B13 -> Master1 | C10: ='1.Spieltag'!$AG13 -> 6 | D10: ='2.Spieltag '!$AG13 -> 17 | E10: ='3.Spieltag'!$AG15 -> 10 | F10: ='4.Spieltag'!$AG15 -> 45 | G10: ='5.Spieltag'!$AG15 -> 45 | H10: ='6.Spieltag'!$AG15 -> 45 | I10: ='7.Spieltag'!$AG15 -> 45 | J10: ='8.Spieltag'!$AG15 -> 45 | K10: ='9.Spieltag'!$AG15 -> 45 | L10: ='10.Spieltag'!$AG15 -> 45 | M10: ='11.Spieltag'!$AG15 -> 45 | N10: ='12.Spieltag'!$AG15 -> 45 | O10: ='13.Spieltag'!$AG15 -> 45 | P10: ='14.Spieltag'!$AG15 -> 45 | Q10: ='15.Spieltag'!$AG15 -> 45 | R10: ='16.Spieltag'!$AG15 -> 45 | S10: ='17.Spieltag'!$AG15 -> 45 | T10: ='18.Spieltag'!$AG15 -> 45 | U10: ='19.Spieltag'!$AG15 -> 45 | V10: ='20.Spieltag'!$AG15 -> 45 | W10: ='21.Spieltag'!$AG15 -> 45 | X10: ='22.Spieltag'!$AG15 -> 45 | Y10: ='23.Spieltag'!$AG15 -> 45 | Z10: ='24.Spieltag'!$AG15 -> 45 | AA10: ='25.Spieltag'!$AG15 -> 45 | AB10: ='26.Spieltag'!$AG15 -> 45 | AC10: ='27.Spieltag'!$AG15 -> 45 | AD10: ='28.Spieltag'!$AG15 -> 45 | AE10: ='29.Spieltag'!$AG15 -> 45 | AF10: ='30.Spieltag'!$AG15 -> 45 | AG10: ='31.Spieltag'!$AG15 -> 45 | AH10: ='32.Spieltag'!$AG15 -> 45 | AI10: ='33.Spieltag'!$AG15 -> 45 | AJ10: ='34.Spieltag'!$AG15 -> 45 | AK10: =SUM(C10:AJ10) -> 1428 | AL10: =SMALL($C10:$AJ10,1) -> 6 | AM10: =SMALL($C10:$AJ10,2) -> 10 | AN10: =SMALL($C10:$AJ10,3) -> 17 | AO10: =SMALL($C10:$AJ10,4) -> 45 | AP10: =AK10-AO10-AN10-AM10-AL10 -> 1350 | AQ10: =SUM(AL10:AO10) -> 78 | AS10: 8
B11: ='1.Spieltag'!B14 -> MB AC Norbert | C11: ='1.Spieltag'!$AG14 -> 8 | D11: ='2.Spieltag '!$AG14 -> 8 | E11: ='3.Spieltag'!$AG16 -> 8 | F11: ='4.Spieltag'!$AG16 -> 45 | G11: ='5.Spieltag'!$AG16 -> 45 | H11: ='6.Spieltag'!$AG16 -> 45 | I11: ='7.Spieltag'!$AG16 -> 45 | J11: ='8.Spieltag'!$AG16 -> 45 | K11: ='9.Spieltag'!$AG16 -> 45 | L11: ='10.Spieltag'!$AG16 -> 45 | M11: ='11.Spieltag'!$AG16 -> 45 | N11: ='12.Spieltag'!$AG16 -> 45 | O11: ='13.Spieltag'!$AG16 -> 45 | P11: ='14.Spieltag'!$AG16 -> 45 | Q11: ='15.Spieltag'!$AG16 -> 45 | R11: ='16.Spieltag'!$AG16 -> 45 | S11: ='17.Spieltag'!$AG16 -> 45 | T11: ='18.Spieltag'!$AG16 -> 45 | U11: ='19.Spieltag'!$AG16 -> 45 | V11: ='20.Spieltag'!$AG16 -> 45 | W11: ='21.Spieltag'!$AG16 -> 45 | X11: ='22.Spieltag'!$AG16 -> 45 | Y11: ='23.Spieltag'!$AG16 -> 45 | Z11: ='24.Spieltag'!$AG16 -> 45 | AA11: ='25.Spieltag'!$AG16 -> 45 | AB11: ='26.Spieltag'!$AG16 -> 45 | AC11: ='27.Spieltag'!$AG16 -> 45 | AD11: ='28.Spieltag'!$AG16 -> 45 | AE11: ='29.Spieltag'!$AG16 -> 45 | AF11: ='30.Spieltag'!$AG16 -> 45 | AG11: ='31.Spieltag'!$AG16 -> 45 | AH11: ='32.Spieltag'!$AG16 -> 45 | AI11: ='33.Spieltag'!$AG16 -> 45 | AJ11: ='34.Spieltag'!$AG16 -> 45 | AK11: =SUM(C11:AJ11) -> 1419 | AL11: =SMALL($C11:$AJ11,1) -> 8 | AM11: =SMALL($C11:$AJ11,2) -> 8 | AN11: =SMALL($C11:$AJ11,3) -> 8 | AO11: =SMALL($C11:$AJ11,4) -> 45 | AP11: =AK11-AO11-AN11-AM11-AL11 -> 1350 | AQ11: =SUM(AL11:AO11) -> 69 | AS11: 9
B12: ='1.Spieltag'!B15 -> Mike04 | C12: ='1.Spieltag'!$AG15 -> 11 | D12: ='2.Spieltag '!$AG15 -> 10 | E12: ='3.Spieltag'!$AG17 -> 4 | F12: ='4.Spieltag'!$AG17 -> 45 | G12: ='5.Spieltag'!$AG17 -> 45 | H12: ='6.Spieltag'!$AG17 -> 45 | I12: ='7.Spieltag'!$AG17 -> 45 | J12: ='8.Spieltag'!$AG17 -> 45 | K12: ='9.Spieltag'!$AG17 -> 45 | L12: ='10.Spieltag'!$AG17 -> 45 | M12: ='11.Spieltag'!$AG17 -> 45 | N12: ='12.Spieltag'!$AG17 -> 45 | O12: ='13.Spieltag'!$AG17 -> 45 | P12: ='14.Spieltag'!$AG17 -> 45 | Q12: ='15.Spieltag'!$AG17 -> 45 | R12: ='16.Spieltag'!$AG17 -> 45 | S12: ='17.Spieltag'!$AG17 -> 45 | T12: ='18.Spieltag'!$AG17 -> 45 | U12: ='19.Spieltag'!$AG17 -> 45 | V12: ='20.Spieltag'!$AG17 -> 45 | W12: ='21.Spieltag'!$AG17 -> 45 | X12: ='22.Spieltag'!$AG17 -> 45 | Y12: ='23.Spieltag'!$AG17 -> 45 | Z12: ='24.Spieltag'!$AG17 -> 45 | AA12: ='25.Spieltag'!$AG17 -> 45 | AB12: ='26.Spieltag'!$AG17 -> 45 | AC12: ='27.Spieltag'!$AG17 -> 45 | AD12: ='28.Spieltag'!$AG17 -> 45 | AE12: ='29.Spieltag'!$AG17 -> 45 | AF12: ='30.Spieltag'!$AG17 -> 45 | AG12: ='31.Spieltag'!$AG17 -> 45 | AH12: ='32.Spieltag'!$AG17 -> 45 | AI12: ='33.Spieltag'!$AG17 -> 45 | AJ12: ='34.Spieltag'!$AG17 -> 45 | AK12: =SUM(C12:AJ12) -> 1420 | AL12: =SMALL($C12:$AJ12,1) -> 4 | AM12: =SMALL($C12:$AJ12,2) -> 10 | AN12: =SMALL($C12:$AJ12,3) -> 11 | AO12: =SMALL($C12:$AJ12,4) -> 45 | AP12: =AK12-AO12-AN12-AM12-AL12 -> 1350 | AQ12: =SUM(AL12:AO12) -> 70 | AS12: 10
B13: ='1.Spieltag'!B16 -> Nico1904 | C13: ='1.Spieltag'!$AG16 -> 13 | D13: ='2.Spieltag '!$AG16 -> 2 | E13: ='3.Spieltag'!$AG18 -> 7 | F13: ='4.Spieltag'!$AG18 -> 45 | G13: ='5.Spieltag'!$AG18 -> 45 | H13: ='6.Spieltag'!$AG18 -> 45 | I13: ='7.Spieltag'!$AG18 -> 45 | J13: ='8.Spieltag'!$AG18 -> 45 | K13: ='9.Spieltag'!$AG18 -> 45 | L13: ='10.Spieltag'!$AG18 -> 45 | M13: ='11.Spieltag'!$AG18 -> 45 | N13: ='12.Spieltag'!$AG18 -> 45 | O13: ='13.Spieltag'!$AG18 -> 45 | P13: ='14.Spieltag'!$AG18 -> 45 | Q13: ='15.Spieltag'!$AG18 -> 45 | R13: ='16.Spieltag'!$AG18 -> 45 | S13: ='17.Spieltag'!$AG18 -> 45 | T13: ='18.Spieltag'!$AG18 -> 45 | U13: ='19.Spieltag'!$AG18 -> 45 | V13: ='20.Spieltag'!$AG18 -> 45 | W13: ='21.Spieltag'!$AG18 -> 45 | X13: ='22.Spieltag'!$AG18 -> 45 | Y13: ='23.Spieltag'!$AG18 -> 45 | Z13: ='24.Spieltag'!$AG18 -> 45 | AA13: ='25.Spieltag'!$AG18 -> 45 | AB13: ='26.Spieltag'!$AG18 -> 45 | AC13: ='27.Spieltag'!$AG18 -> 45 | AD13: ='28.Spieltag'!$AG18 -> 45 | AE13: ='29.Spieltag'!$AG18 -> 45 | AF13: ='30.Spieltag'!$AG18 -> 45 | AG13: ='31.Spieltag'!$AG18 -> 45 | AH13: ='32.Spieltag'!$AG18 -> 45 | AI13: ='33.Spieltag'!$AG18 -> 45 | AJ13: ='34.Spieltag'!$AG18 -> 45 | AK13: =SUM(C13:AJ13) -> 1417 | AL13: =SMALL($C13:$AJ13,1) -> 2 | AM13: =SMALL($C13:$AJ13,2) -> 7 | AN13: =SMALL($C13:$AJ13,3) -> 13 | AO13: =SMALL($C13:$AJ13,4) -> 45 | AP13: =AK13-AO13-AN13-AM13-AL13 -> 1350 | AQ13: =SUM(AL13:AO13) -> 67 | AS13: 11
B14: ='1.Spieltag'!B17 -> Reinhold | C14: ='1.Spieltag'!$AG17 -> 14 | D14: ='2.Spieltag '!$AG17 -> 3 | E14: ='3.Spieltag'!$AG19 -> 4 | F14: ='4.Spieltag'!$AG19 -> 45 | G14: ='5.Spieltag'!$AG19 -> 45 | H14: ='6.Spieltag'!$AG19 -> 45 | I14: ='7.Spieltag'!$AG19 -> 45 | J14: ='8.Spieltag'!$AG19 -> 45 | K14: ='9.Spieltag'!$AG19 -> 45 | L14: ='10.Spieltag'!$AG19 -> 45 | M14: ='11.Spieltag'!$AG19 -> 45 | N14: ='12.Spieltag'!$AG19 -> 45 | O14: ='13.Spieltag'!$AG19 -> 45 | P14: ='14.Spieltag'!$AG19 -> 45 | Q14: ='15.Spieltag'!$AG19 -> 45 | R14: ='16.Spieltag'!$AG19 -> 45 | S14: ='17.Spieltag'!$AG19 -> 45 | T14: ='18.Spieltag'!$AG19 -> 45 | U14: ='19.Spieltag'!$AG19 -> 45 | V14: ='20.Spieltag'!$AG19 -> 45 | W14: ='21.Spieltag'!$AG19 -> 45 | X14: ='22.Spieltag'!$AG19 -> 45 | Y14: ='23.Spieltag'!$AG19 -> 45 | Z14: ='24.Spieltag'!$AG19 -> 45 | AA14: ='25.Spieltag'!$AG19 -> 45 | AB14: ='26.Spieltag'!$AG19 -> 45 | AC14: ='27.Spieltag'!$AG19 -> 45 | AD14: ='28.Spieltag'!$AG19 -> 45 | AE14: ='29.Spieltag'!$AG19 -> 45 | AF14: ='30.Spieltag'!$AG19 -> 45 | AG14: ='31.Spieltag'!$AG19 -> 45 | AH14: ='32.Spieltag'!$AG19 -> 45 | AI14: ='33.Spieltag'!$AG19 -> 45 | AJ14: ='34.Spieltag'!$AG19 -> 45 | AK14: =SUM(C14:AJ14) -> 1416 | AL14: =SMALL($C14:$AJ14,1) -> 3 | AM14: =SMALL($C14:$AJ14,2) -> 4 | AN14: =SMALL($C14:$AJ14,3) -> 14 | AO14: =SMALL($C14:$AJ14,4) -> 45 | AP14: =AK14-AO14-AN14-AM14-AL14 -> 1350 | AQ14: =SUM(AL14:AO14) -> 66 | AS14: 12
B15: ='1.Spieltag'!B18 -> Ricardo04 | C15: ='1.Spieltag'!$AG18 -> 14 | D15: ='2.Spieltag '!$AG18 -> 8 | E15: ='3.Spieltag'!$AG20 -> 10 | F15: ='4.Spieltag'!$AG20 -> 45 | G15: ='5.Spieltag'!$AG20 -> 45 | H15: ='6.Spieltag'!$AG20 -> 45 | I15: ='7.Spieltag'!$AG20 -> 45 | J15: ='8.Spieltag'!$AG20 -> 45 | K15: ='9.Spieltag'!$AG20 -> 45 | L15: ='10.Spieltag'!$AG20 -> 45 | M15: ='11.Spieltag'!$AG20 -> 45 | N15: ='12.Spieltag'!$AG20 -> 45 | O15: ='13.Spieltag'!$AG20 -> 45 | P15: ='14.Spieltag'!$AG20 -> 45 | Q15: ='15.Spieltag'!$AG20 -> 45 | R15: ='16.Spieltag'!$AG20 -> 45 | S15: ='17.Spieltag'!$AG20 -> 45 | T15: ='18.Spieltag'!$AG20 -> 45 | U15: ='19.Spieltag'!$AG20 -> 45 | V15: ='20.Spieltag'!$AG20 -> 45 | W15: ='21.Spieltag'!$AG20 -> 45 | X15: ='22.Spieltag'!$AG20 -> 45 | Y15: ='23.Spieltag'!$AG20 -> 45 | Z15: ='24.Spieltag'!$AG20 -> 45 | AA15: ='25.Spieltag'!$AG20 -> 45 | AB15: ='26.Spieltag'!$AG20 -> 45 | AC15: ='27.Spieltag'!$AG20 -> 45 | AD15: ='28.Spieltag'!$AG20 -> 45 | AE15: ='29.Spieltag'!$AG20 -> 45 | AF15: ='30.Spieltag'!$AG20 -> 45 | AG15: ='31.Spieltag'!$AG20 -> 45 | AH15: ='32.Spieltag'!$AG20 -> 45 | AI15: ='33.Spieltag'!$AG20 -> 45 | AJ15: ='34.Spieltag'!$AG20 -> 45 | AK15: =SUM(C15:AJ15) -> 1427 | AL15: =SMALL($C15:$AJ15,1) -> 8 | AM15: =SMALL($C15:$AJ15,2) -> 10 | AN15: =SMALL($C15:$AJ15,3) -> 14 | AO15: =SMALL($C15:$AJ15,4) -> 45 | AP15: =AK15-AO15-AN15-AM15-AL15 -> 1350 | AQ15: =SUM(AL15:AO15) -> 77 | AS15: 13
B16: ='1.Spieltag'!B21 -> schmiddi04 | C16: ='1.Spieltag'!$AG21 -> 16 | D16: ='2.Spieltag '!$AG21 -> 12 | E16: ='3.Spieltag'!$AG21 -> 6 | F16: ='4.Spieltag'!$AG21 -> 45 | G16: ='5.Spieltag'!$AG21 -> 45 | H16: ='6.Spieltag'!$AG21 -> 45 | I16: ='7.Spieltag'!$AG21 -> 45 | J16: ='8.Spieltag'!$AG21 -> 45 | K16: ='9.Spieltag'!$AG21 -> 45 | L16: ='10.Spieltag'!$AG21 -> 45 | M16: ='11.Spieltag'!$AG21 -> 45 | N16: ='12.Spieltag'!$AG21 -> 45 | O16: ='13.Spieltag'!$AG21 -> 45 | P16: ='14.Spieltag'!$AG21 -> 45 | Q16: ='15.Spieltag'!$AG21 -> 45 | R16: ='16.Spieltag'!$AG21 -> 45 | S16: ='17.Spieltag'!$AG21 -> 45 | T16: ='18.Spieltag'!$AG21 -> 45 | U16: ='19.Spieltag'!$AG21 -> 45 | V16: ='20.Spieltag'!$AG21 -> 45 | W16: ='21.Spieltag'!$AG21 -> 45 | X16: ='22.Spieltag'!$AG21 -> 45 | Y16: ='23.Spieltag'!$AG21 -> 45 | Z16: ='24.Spieltag'!$AG21 -> 45 | AA16: ='25.Spieltag'!$AG21 -> 45 | AB16: ='26.Spieltag'!$AG21 -> 45 | AC16: ='27.Spieltag'!$AG21 -> 45 | AD16: ='28.Spieltag'!$AG21 -> 45 | AE16: ='29.Spieltag'!$AG21 -> 45 | AF16: ='30.Spieltag'!$AG21 -> 45 | AG16: ='31.Spieltag'!$AG21 -> 45 | AH16: ='32.Spieltag'!$AG21 -> 45 | AI16: ='33.Spieltag'!$AG21 -> 45 | AJ16: ='34.Spieltag'!$AG21 -> 45 | AK16: =SUM(C16:AJ16) -> 1429 | AL16: =SMALL($C16:$AJ16,1) -> 6 | AM16: =SMALL($C16:$AJ16,2) -> 12 | AN16: =SMALL($C16:$AJ16,3) -> 16 | AO16: =SMALL($C16:$AJ16,4) -> 45 | AP16: =AK16-AO16-AN16-AM16-AL16 -> 1350 | AQ16: =SUM(AL16:AO16) -> 79 | AS16: 14
B17: ='1.Spieltag'!B22 -> shiny | C17: ='1.Spieltag'!$AG22 -> 11 | D17: ='2.Spieltag '!$AG22 -> 6 | E17: ='3.Spieltag'!$AG22 -> 7 | F17: ='4.Spieltag'!$AG22 -> 45 | G17: ='5.Spieltag'!$AG22 -> 45 | H17: ='6.Spieltag'!$AG22 -> 45 | I17: ='7.Spieltag'!$AG22 -> 45 | J17: ='8.Spieltag'!$AG22 -> 45 | K17: ='9.Spieltag'!$AG22 -> 45 | L17: ='10.Spieltag'!$AG22 -> 45 | M17: ='11.Spieltag'!$AG22 -> 45 | N17: ='12.Spieltag'!$AG22 -> 45 | O17: ='13.Spieltag'!$AG22 -> 45 | P17: ='14.Spieltag'!$AG22 -> 45 | Q17: ='15.Spieltag'!$AG22 -> 45 | R17: ='16.Spieltag'!$AG22 -> 45 | S17: ='17.Spieltag'!$AG22 -> 45 | T17: ='18.Spieltag'!$AG22 -> 45 | U17: ='19.Spieltag'!$AG22 -> 45 | V17: ='20.Spieltag'!$AG22 -> 45 | W17: ='21.Spieltag'!$AG22 -> 45 | X17: ='22.Spieltag'!$AG22 -> 45 | Y17: ='23.Spieltag'!$AG22 -> 45 | Z17: ='24.Spieltag'!$AG22 -> 45 | AA17: ='25.Spieltag'!$AG22 -> 45 | AB17: ='26.Spieltag'!$AG22 -> 45 | AC17: ='27.Spieltag'!$AG22 -> 45 | AD17: ='28.Spieltag'!$AG22 -> 45 | AE17: ='29.Spieltag'!$AG22 -> 45 | AF17: ='30.Spieltag'!$AG22 -> 45 | AG17: ='31.Spieltag'!$AG22 -> 45 | AH17: ='32.Spieltag'!$AG22 -> 45 | AI17: ='33.Spieltag'!$AG22 -> 45 | AJ17: ='34.Spieltag'!$AG22 -> 45 | AK17: =SUM(C17:AJ17) -> 1419 | AL17: =SMALL($C17:$AJ17,1) -> 6 | AM17: =SMALL($C17:$AJ17,2) -> 7 | AN17: =SMALL($C17:$AJ17,3) -> 11 | AO17: =SMALL($C17:$AJ17,4) -> 45 | AP17: =AK17-AO17-AN17-AM17-AL17 -> 1350 | AQ17: =SUM(AL17:AO17) -> 69 | AS17: 15
B18: ='1.Spieltag'!B23 -> Tanja04 | C18: ='1.Spieltag'!$AG23 -> 8 | D18: ='2.Spieltag '!$AG23 -> 4 | E18: ='3.Spieltag'!$AG23 -> 4 | F18: ='4.Spieltag'!$AG23 -> 45 | G18: ='5.Spieltag'!$AG23 -> 45 | H18: ='6.Spieltag'!$AG23 -> 45 | I18: ='7.Spieltag'!$AG23 -> 45 | J18: ='8.Spieltag'!$AG23 -> 45 | K18: ='9.Spieltag'!$AG23 -> 45 | L18: ='10.Spieltag'!$AG23 -> 45 | M18: ='11.Spieltag'!$AG23 -> 45 | N18: ='12.Spieltag'!$AG23 -> 45 | O18: ='13.Spieltag'!$AG23 -> 45 | P18: ='14.Spieltag'!$AG23 -> 45 | Q18: ='15.Spieltag'!$AG23 -> 45 | R18: ='16.Spieltag'!$AG23 -> 45 | S18: ='17.Spieltag'!$AG23 -> 45 | T18: ='18.Spieltag'!$AG23 -> 45 | U18: ='19.Spieltag'!$AG23 -> 45 | V18: ='20.Spieltag'!$AG23 -> 45 | W18: ='21.Spieltag'!$AG23 -> 45 | X18: ='22.Spieltag'!$AG23 -> 45 | Y18: ='23.Spieltag'!$AG23 -> 45 | Z18: ='24.Spieltag'!$AG23 -> 45 | AA18: ='25.Spieltag'!$AG23 -> 45 | AB18: ='26.Spieltag'!$AG23 -> 45 | AC18: ='27.Spieltag'!$AG23 -> 45 | AD18: ='28.Spieltag'!$AG23 -> 45 | AE18: ='29.Spieltag'!$AG23 -> 45 | AF18: ='30.Spieltag'!$AG23 -> 45 | AG18: ='31.Spieltag'!$AG23 -> 45 | AH18: ='32.Spieltag'!$AG23 -> 45 | AI18: ='33.Spieltag'!$AG23 -> 45 | AJ18: ='34.Spieltag'!$AG23 -> 45 | AK18: =SUM(C18:AJ18) -> 1411 | AL18: =SMALL($C18:$AJ18,1) -> 4 | AM18: =SMALL($C18:$AJ18,2) -> 4 | AN18: =SMALL($C18:$AJ18,3) -> 8 | AO18: =SMALL($C18:$AJ18,4) -> 45 | AP18: =AK18-AO18-AN18-AM18-AL18 -> 1350 | AQ18: =SUM(AL18:AO18) -> 61 | AS18: 16
B19: ='1.Spieltag'!B24 -> Thomas Bülles | C19: ='1.Spieltag'!$AG24 -> 17 | D19: ='2.Spieltag '!$AG24 -> 7 | E19: ='3.Spieltag'!$AG24 -> 5 | F19: ='4.Spieltag'!$AG24 -> 45 | G19: ='5.Spieltag'!$AG24 -> 45 | H19: ='6.Spieltag'!$AG24 -> 45 | I19: ='7.Spieltag'!$AG24 -> 45 | J19: ='8.Spieltag'!$AG24 -> 45 | K19: ='9.Spieltag'!$AG24 -> 45 | L19: ='10.Spieltag'!$AG24 -> 45 | M19: ='11.Spieltag'!$AG24 -> 45 | N19: ='12.Spieltag'!$AG24 -> 45 | O19: ='13.Spieltag'!$AG24 -> 45 | P19: ='14.Spieltag'!$AG24 -> 45 | Q19: ='15.Spieltag'!$AG24 -> 45 | R19: ='16.Spieltag'!$AG24 -> 45 | S19: ='17.Spieltag'!$AG24 -> 45 | T19: ='18.Spieltag'!$AG24 -> 45 | U19: ='19.Spieltag'!$AG24 -> 45 | V19: ='20.Spieltag'!$AG24 -> 45 | W19: ='21.Spieltag'!$AG24 -> 45 | X19: ='22.Spieltag'!$AG24 -> 45 | Y19: ='23.Spieltag'!$AG24 -> 45 | Z19: ='24.Spieltag'!$AG24 -> 45 | AA19: ='25.Spieltag'!$AG24 -> 45 | AB19: ='26.Spieltag'!$AG24 -> 45 | AC19: ='27.Spieltag'!$AG24 -> 45 | AD19: ='28.Spieltag'!$AG24 -> 45 | AE19: ='29.Spieltag'!$AG24 -> 45 | AF19: ='30.Spieltag'!$AG24 -> 45 | AG19: ='31.Spieltag'!$AG24 -> 45 | AH19: ='32.Spieltag'!$AG24 -> 45 | AI19: ='33.Spieltag'!$AG24 -> 45 | AJ19: ='34.Spieltag'!$AG24 -> 45 | AK19: =SUM(C19:AJ19) -> 1424 | AL19: =SMALL($C19:$AJ19,1) -> 5 | AM19: =SMALL($C19:$AJ19,2) -> 7 | AN19: =SMALL($C19:$AJ19,3) -> 17 | AO19: =SMALL($C19:$AJ19,4) -> 45 | AP19: =AK19-AO19-AN19-AM19-AL19 -> 1350 | AQ19: =SUM(AL19:AO19) -> 74 | AS19: 17
B20: ='1.Spieltag'!B25 -> UltraGE | C20: ='1.Spieltag'!$AG25 -> 9 | D20: ='2.Spieltag '!$AG25 -> 10 | E20: ='3.Spieltag'!$AG25 -> 0 | F20: ='4.Spieltag'!$AG25 -> 45 | G20: ='5.Spieltag'!$AG25 -> 45 | H20: ='6.Spieltag'!$AG25 -> 45 | I20: ='7.Spieltag'!$AG25 -> 45 | J20: ='8.Spieltag'!$AG25 -> 45 | K20: ='9.Spieltag'!$AG25 -> 45 | L20: ='10.Spieltag'!$AG25 -> 45 | M20: ='11.Spieltag'!$AG25 -> 45 | N20: ='12.Spieltag'!$AG25 -> 45 | O20: ='13.Spieltag'!$AG25 -> 45 | P20: ='14.Spieltag'!$AG25 -> 45 | Q20: ='15.Spieltag'!$AG25 -> 45 | R20: ='16.Spieltag'!$AG25 -> 45 | S20: ='17.Spieltag'!$AG25 -> 45 | T20: ='18.Spieltag'!$AG25 -> 45 | U20: ='19.Spieltag'!$AG25 -> 45 | V20: ='20.Spieltag'!$AG25 -> 45 | W20: ='21.Spieltag'!$AG25 -> 45 | X20: ='22.Spieltag'!$AG25 -> 45 | Y20: ='23.Spieltag'!$AG25 -> 45 | Z20: ='24.Spieltag'!$AG25 -> 45 | AA20: ='25.Spieltag'!$AG25 -> 45 | AB20: ='26.Spieltag'!$AG25 -> 45 | AC20: ='27.Spieltag'!$AG25 -> 45 | AD20: ='28.Spieltag'!$AG25 -> 45 | AE20: ='29.Spieltag'!$AG25 -> 45 | AF20: ='30.Spieltag'!$AG25 -> 45 | AG20: ='31.Spieltag'!$AG25 -> 45 | AH20: ='32.Spieltag'!$AG25 -> 45 | AI20: ='33.Spieltag'!$AG25 -> 45 | AJ20: ='34.Spieltag'!$AG25 -> 45 | AK20: =SUM(C20:AJ20) -> 1414 | AL20: =SMALL($C20:$AJ20,1) -> 0 | AM20: =SMALL($C20:$AJ20,2) -> 9 | AN20: =SMALL($C20:$AJ20,3) -> 10 | AO20: =SMALL($C20:$AJ20,4) -> 45 | AP20: =AK20-AO20-AN20-AM20-AL20 -> 1350 | AQ20: =SUM(AL20:AO20) -> 64 | AS20: 18
B21: ='1.Spieltag'!B26 -> 0 | C21: ='1.Spieltag'!$AG26 -> 6 | D21: ='2.Spieltag '!$AG26 -> 0 | E21: ='3.Spieltag'!$AG26 -> 0 | F21: ='4.Spieltag'!$AG26 -> 45 | G21: ='5.Spieltag'!$AG26 -> 45 | H21: ='6.Spieltag'!$AG26 -> 45 | I21: ='7.Spieltag'!$AG26 -> 45 | J21: ='8.Spieltag'!$AG26 -> 45 | K21: ='9.Spieltag'!$AG26 -> 45 | L21: ='10.Spieltag'!$AG26 -> 45 | M21: ='11.Spieltag'!$AG26 -> 45 | N21: ='12.Spieltag'!$AG26 -> 45 | O21: ='13.Spieltag'!$AG26 -> 45 | P21: ='14.Spieltag'!$AG26 -> 45 | Q21: ='15.Spieltag'!$AG26 -> 45 | R21: ='16.Spieltag'!$AG26 -> 45 | S21: ='17.Spieltag'!$AG26 -> 45 | T21: ='18.Spieltag'!$AG26 -> 45 | U21: ='19.Spieltag'!$AG26 -> 45 | V21: ='20.Spieltag'!$AG26 -> 45 | W21: ='21.Spieltag'!$AG26 -> 45 | X21: ='22.Spieltag'!$AG26 -> 45 | Y21: ='23.Spieltag'!$AG26 -> 45 | Z21: ='24.Spieltag'!$AG26 -> 45 | AA21: ='25.Spieltag'!$AG26 -> 45 | AB21: ='26.Spieltag'!$AG26 -> 45 | AC21: ='27.Spieltag'!$AG26 -> 45 | AD21: ='28.Spieltag'!$AG26 -> 45 | AE21: ='29.Spieltag'!$AG26 -> 45 | AF21: ='30.Spieltag'!$AG26 -> 45 | AG21: ='31.Spieltag'!$AG26 -> 45 | AH21: ='32.Spieltag'!$AG26 -> 45 | AI21: ='33.Spieltag'!$AG26 -> 45 | AJ21: ='34.Spieltag'!$AG26 -> 45 | AK21: =SUM(C21:AJ21) -> 1401 | AL21: =SMALL($C21:$AJ21,1) -> 0 | AM21: =SMALL($C21:$AJ21,2) -> 0 | AN21: =SMALL($C21:$AJ21,3) -> 6 | AO21: =SMALL($C21:$AJ21,4) -> 45 | AP21: =AK21-AO21-AN21-AM21-AL21 -> 1350 | AQ21: =SUM(AL21:AO21) -> 51 | AS21: 19
B22: ='1.Spieltag'!B27 -> 0 | C22: ='1.Spieltag'!$AG27 -> 6 | D22: ='2.Spieltag '!$AG27 -> 0 | E22: ='3.Spieltag'!$AG27 -> 0 | F22: ='4.Spieltag'!$AG27 -> 45 | G22: ='5.Spieltag'!$AG27 -> 45 | H22: ='6.Spieltag'!$AG27 -> 45 | I22: ='7.Spieltag'!$AG27 -> 45 | J22: ='8.Spieltag'!$AG27 -> 45 | K22: ='9.Spieltag'!$AG27 -> 45 | L22: ='10.Spieltag'!$AG27 -> 45 | M22: ='11.Spieltag'!$AG27 -> 45 | N22: ='12.Spieltag'!$AG27 -> 45 | O22: ='13.Spieltag'!$AG27 -> 45 | P22: ='14.Spieltag'!$AG27 -> 45 | Q22: ='15.Spieltag'!$AG27 -> 45 | R22: ='16.Spieltag'!$AG27 -> 45 | S22: ='17.Spieltag'!$AG27 -> 45 | T22: ='18.Spieltag'!$AG27 -> 45 | U22: ='19.Spieltag'!$AG27 -> 45 | V22: ='20.Spieltag'!$AG27 -> 45 | W22: ='21.Spieltag'!$AG27 -> 45 | X22: ='22.Spieltag'!$AG27 -> 45 | Y22: ='23.Spieltag'!$AG27 -> 45 | Z22: ='24.Spieltag'!$AG27 -> 45 | AA22: ='25.Spieltag'!$AG27 -> 45 | AB22: ='26.Spieltag'!$AG27 -> 45 | AC22: ='27.Spieltag'!$AG27 -> 45 | AD22: ='28.Spieltag'!$AG27 -> 45 | AE22: ='29.Spieltag'!$AG27 -> 45 | AF22: ='30.Spieltag'!$AG27 -> 45 | AG22: ='31.Spieltag'!$AG27 -> 45 | AH22: ='32.Spieltag'!$AG27 -> 45 | AI22: ='33.Spieltag'!$AG27 -> 45 | AJ22: ='34.Spieltag'!$AG27 -> 45 | AK22: =SUM(C22:AJ22) -> 1401 | AL22: =SMALL($C22:$AJ22,1) -> 0 | AM22: =SMALL($C22:$AJ22,2) -> 0 | AN22: =SMALL($C22:$AJ22,3) -> 6 | AO22: =SMALL($C22:$AJ22,4) -> 45 | AP22: =AK22-AO22-AN22-AM22-AL22 -> 1350 | AQ22: =SUM(AL22:AO22) -> 51 | AS22: 20
B23: ='1.Spieltag'!B28 -> 0 | C23: ='1.Spieltag'!$AG28 -> 0 | D23: ='2.Spieltag '!$AG28 -> 0 | E23: ='3.Spieltag'!$AG28 -> 0 | F23: ='4.Spieltag'!$AG28 -> 0 | G23: ='5.Spieltag'!$AG28 -> 0 | H23: ='6.Spieltag'!$AG28 -> 0 | I23: ='7.Spieltag'!$AG28 -> 0 | J23: ='8.Spieltag'!$AG28 -> 0 | K23: ='9.Spieltag'!$AG28 -> 0 | L23: ='10.Spieltag'!$AG28 -> 0 | M23: ='11.Spieltag'!$AG28 -> 0 | N23: ='12.Spieltag'!$AG28 -> 0 | O23: ='13.Spieltag'!$AG28 -> 0 | P23: ='14.Spieltag'!$AG28 -> 0 | Q23: ='15.Spieltag'!$AG28 -> 0 | R23: ='16.Spieltag'!$AG28 -> 0 | S23: ='17.Spieltag'!$AG28 -> 0 | T23: ='18.Spieltag'!$AG28 -> 0 | U23: ='19.Spieltag'!$AG28 -> 0 | V23: ='20.Spieltag'!$AG28 -> 0 | W23: ='21.Spieltag'!$AG28 -> 0 | X23: ='22.Spieltag'!$AG28 -> 0 | Y23: ='23.Spieltag'!$AG28 -> 0 | Z23: ='24.Spieltag'!$AG28 -> 0 | AA23: ='25.Spieltag'!$AG28 -> 0 | AB23: ='26.Spieltag'!$AG28 -> 0 | AC23: ='27.Spieltag'!$AG28 -> 0 | AD23: ='28.Spieltag'!$AG28 -> 0 | AE23: ='29.Spieltag'!$AG28 -> 0 | AF23: ='30.Spieltag'!$AG28 -> 0 | AG23: ='31.Spieltag'!$AG28 -> 0 | AH23: ='32.Spieltag'!$AG28 -> 0 | AI23: ='33.Spieltag'!$AG28 -> 0 | AJ23: ='34.Spieltag'!$AG28 -> 0 | AK23: =SUM(C23:AJ23) -> 0 | AL23: =SMALL($C23:$AJ23,1) -> 0 | AM23: =SMALL($C23:$AJ23,2) -> 0 | AN23: =SMALL($C23:$AJ23,3) -> 0 | AO23: =SMALL($C23:$AJ23,4) -> 0 | AP23: =AK23-AO23-AN23-AM23-AL23 -> 0 | AQ23: =SUM(AL23:AO23) -> 0 | AS23: 21
B24: ='1.Spieltag'!B29 -> 0 | C24: ='1.Spieltag'!$AG29 -> 0 | D24: ='2.Spieltag '!$AG29 -> 0 | E24: ='3.Spieltag'!$AG29 -> 0 | F24: ='4.Spieltag'!$AG29 -> 0 | G24: ='5.Spieltag'!$AG29 -> 0 | H24: ='6.Spieltag'!$AG29 -> 0 | I24: ='7.Spieltag'!$AG29 -> 0 | J24: ='8.Spieltag'!$AG29 -> 0 | K24: ='9.Spieltag'!$AG29 -> 0 | L24: ='10.Spieltag'!$AG29 -> 0 | M24: ='11.Spieltag'!$AG29 -> 0 | N24: ='12.Spieltag'!$AG29 -> 0 | O24: ='13.Spieltag'!$AG29 -> 0 | P24: ='14.Spieltag'!$AG29 -> 0 | Q24: ='15.Spieltag'!$AG29 -> 0 | R24: ='16.Spieltag'!$AG29 -> 0 | S24: ='17.Spieltag'!$AG29 -> 0 | T24: ='18.Spieltag'!$AG29 -> 0 | U24: ='19.Spieltag'!$AG29 -> 0 | V24: ='20.Spieltag'!$AG29 -> 0 | W24: ='21.Spieltag'!$AG29 -> 0 | X24: ='22.Spieltag'!$AG29 -> 0 | Y24: ='23.Spieltag'!$AG29 -> 0 | Z24: ='24.Spieltag'!$AG29 -> 0 | AA24: ='25.Spieltag'!$AG29 -> 0 | AB24: ='26.Spieltag'!$AG29 -> 0 | AC24: ='27.Spieltag'!$AG29 -> 0 | AD24: ='28.Spieltag'!$AG29 -> 0 | AE24: ='29.Spieltag'!$AG29 -> 0 | AF24: ='30.Spieltag'!$AG29 -> 0 | AG24: ='31.Spieltag'!$AG29 -> 0 | AH24: ='32.Spieltag'!$AG29 -> 0 | AI24: ='33.Spieltag'!$AG29 -> 0 | AJ24: ='34.Spieltag'!$AG29 -> 0 | AK24: =SUM(C24:AJ24) -> 0 | AL24: =SMALL($C24:$AJ24,1) -> 0 | AM24: =SMALL($C24:$AJ24,2) -> 0 | AN24: =SMALL($C24:$AJ24,3) -> 0 | AO24: =SMALL($C24:$AJ24,4) -> 0 | AP24: =AK24-AO24-AN24-AM24-AL24 -> 0 | AQ24: =SUM(AL24:AO24) -> 0 | AS24: 22
B25: ='1.Spieltag'!B30 -> 0 | C25: ='1.Spieltag'!$AG30 -> 0 | D25: ='2.Spieltag '!$AG30 -> 0 | E25: ='3.Spieltag'!$AG30 -> 0 | F25: ='4.Spieltag'!$AG30 -> 0 | G25: ='5.Spieltag'!$AG30 -> 0 | H25: ='6.Spieltag'!$AG30 -> 0 | I25: ='7.Spieltag'!$AG30 -> 0 | J25: ='8.Spieltag'!$AG30 -> 0 | K25: ='9.Spieltag'!$AG30 -> 0 | L25: ='10.Spieltag'!$AG30 -> 0 | M25: ='11.Spieltag'!$AG30 -> 0 | N25: ='12.Spieltag'!$AG30 -> 0 | O25: ='13.Spieltag'!$AG30 -> 0 | P25: ='14.Spieltag'!$AG30 -> 0 | Q25: ='15.Spieltag'!$AG30 -> 0 | R25: ='16.Spieltag'!$AG30 -> 0 | S25: ='17.Spieltag'!$AG30 -> 0 | T25: ='18.Spieltag'!$AG30 -> 0 | U25: ='19.Spieltag'!$AG30 -> 0 | V25: ='20.Spieltag'!$AG30 -> 0 | W25: ='21.Spieltag'!$AG30 -> 0 | X25: ='22.Spieltag'!$AG30 -> 0 | Y25: ='23.Spieltag'!$AG30 -> 0 | Z25: ='24.Spieltag'!$AG30 -> 0 | AA25: ='25.Spieltag'!$AG30 -> 0 | AB25: ='26.Spieltag'!$AG30 -> 0 | AC25: ='27.Spieltag'!$AG30 -> 0 | AD25: ='28.Spieltag'!$AG30 -> 0 | AE25: ='29.Spieltag'!$AG30 -> 0 | AF25: ='30.Spieltag'!$AG30 -> 0 | AG25: ='31.Spieltag'!$AG30 -> 0 | AH25: ='32.Spieltag'!$AG30 -> 0 | AI25: ='33.Spieltag'!$AG30 -> 0 | AJ25: ='34.Spieltag'!$AG30 -> 0 | AK25: =SUM(C25:AJ25) -> 0 | AL25: =SMALL($C25:$AJ25,1) -> 0 | AM25: =SMALL($C25:$AJ25,2) -> 0 | AN25: =SMALL($C25:$AJ25,3) -> 0 | AO25: =SMALL($C25:$AJ25,4) -> 0 | AP25: =AK25-AO25-AN25-AM25-AL25 -> 0 | AQ25: =SUM(AL25:AO25) -> 0 | AS25: 23
AS26: 24
AS27: 25
C28: =SUM(C6:C25) -> 187 | D28: =SUM(D6:D25) -> 117 | E28: =SUM(E6:E25) -> 108 | F28: =SUM(F6:F25) -> 765 | G28: =SUM(G6:G25) -> 765 | H28: =SUM(H6:H25) -> 765 | I28: =SUM(I6:I25) -> 765 | J28: =SUM(J6:J25) -> 765 | ... AP28: =SUM(AP6:AP25) -> 22950 | AQ28: =SUM(AQ5:AQ25) -> 1248 | AS28: 26
AS29: 27
AS30: 28
AS31: 29
AS32: 30
AS33: 31
AS34: 32
AS35: 33
AS36: 34

Sheet 6.Spieltag
A4: 6. Spieltag | C4: Bremen | F4: München | I4: Leipzig | L4: Hoffenheim | O4: Frankfurt | R4: Hertha BSC | U4: Schalke 04 | X4: 1.FC Köln | AA4: Freiburg
AG5: G E S A M T W E R T U N G
C6: Augsburg | F6: Stuttgart | I6: Dortmund | L6: Mainz | O6: Wolfsburg | R6: Leverkusen | U6: Bochum | X6: Union Berlin | AA6: Gladbach | AG6: Punkte | AH6: Punkte | AI6: Platz | AJ6: Gesamt | AK6: Platz | AL6: PUNKTEVERTEILUNG
A7: PLATZ | B7: ERGEBNISSE=> | E7: Pkt. | H7: Pkt. | K7: Pkt. | N7: Pkt. | Q7: Pkt. | T7: Pkt. | W7: Pkt. | Z7: Pkt. | AC7: Pkt. | AG7: Spieltag | AH7: bisher | AI7: bisher | AJ7: Punkte | AL7: richtige Tendenz | AO7: 2
A8: =AK8 -> 1 | B8: ='5.Spieltag'!B8 -> schmiddi04 | E8: =IF(OR(EXACT($C$7,C8)*(EXACT($D$7,D8)))=TRUE,$AO$9,IF(($D$7-$C$7=D8-C8),$AO$8,IF(OR(EXACT($C$7>$D$7,C8>D8)*EXACT($C$7=$D$7,C8=D8)*EXACT($C$7<$D$7,C8<D8)),$AO$7,0))) -> 5 | H8: =IF(OR(EXACT($F$7,F8)*(EXACT($G$7,G8)))=TRUE,$AO$9,IF(($G$7-$F$7=G8-F8),$AO$8,IF(OR(EXACT($F$7>$G$7,F8>G8)*EXACT($F$7=$G$7,F8=G8)*EXACT($F$7<$G$7,F8<G8)),$AO$7,0))) -> 5 | K8: =IF(OR(EXACT($I$7,I8)*(EXACT($J$7,J8)))=TRUE,$AO$9,IF(($J$7-$I$7=J8-I8),$AO$8,IF(OR(EXACT($I$7>$J$7,I8>J8)*EXACT($I$7=$J$7,I8=J8)*EXACT($I$7<$J$7,I8<J8)),$AO$7,0))) -> 5 | N8: =IF(OR(EXACT($L$7,L8)*(EXACT($M$7,M8)))=TRUE,$AO$9,IF(($M$7-$L$7=M8-L8),$AO$8,IF(OR(EXACT($L$7>$M$7,L8>M8)*EXACT($L$7=$M$7,L8=M8)*EXACT($L$7<$M$7,L8<M8)),$AO$7,0))) -> 5 | Q8: =IF(OR(EXACT($O$7,O8)*(EXACT($P$7,P8)))=TRUE,$AO$9,IF(($P$7-$O$7=P8-O8),$AO$8,IF(OR(EXACT($O$7>$P$7,O8>P8)*EXACT($O$7=$P$7,O8=P8)*EXACT($O$7<$P$7,O8<P8)),$AO$7,0))) -> 5 | T8: =IF(OR(EXACT($R$7,R8)*(EXACT($S$7,S8)))=TRUE,$AO$9,IF(($S$7-$R$7=S8-R8),$AO$8,IF(OR(EXACT($R$7>$S$7,R8>S8)*EXACT($R$7=$S$7,R8=S8)*EXACT($R$7<$S$7,R8<S8)),$AO$7,0))) -> 5 | W8: =IF(OR(EXACT($U$7,U8)*(EXACT($V$7,V8)))=TRUE,$AO$9,IF(($V$7-$U$7=V8-U8),$AO$8,IF(OR(EXACT($U$7>$V$7,U8>V8)*EXACT($U$7=$V$7,U8=V8)*EXACT($U$7<$V$7,U8<V8)),$AO$7,0))) -> 5 | Z8: =IF(OR(EXACT($X$7,X8)*(EXACT($Y$7,Y8)))=TRUE,$AO$9,IF(($Y$7-$X$7=Y8-X8),$AO$8,IF(OR(EXACT($X$7>$Y$7,X8>Y8)*EXACT($X$7=$Y$7,X8=Y8)*EXACT($X$7<$Y$7,X8<Y8)),$AO$7,0))) -> 5 | AC8: =IF(OR(EXACT($AA$7,AA8)*(EXACT($AB$7,AB8)))=TRUE,$AO$9,IF(($AB$7-$AA$7=AB8-AA8),$AO$8,IF(OR(EXACT($AA$7>$AB$7,AA8>AB8)*EXACT($AA$7=$AB$7,AA8=AB8)*EXACT($AA$7<$AB$7,AA8<AB8)),$AO$7,0))) -> 5 | AG8: =E8+H8+K8+N8+Q8+T8+W8+Z8+AC8+AF8 -> 45 | AH8: ='5.Spieltag'!AJ8 -> 130 | AI8: ='5.Spieltag'!AK8 -> 1 | AJ8: =AG8+AH8 -> 175 | AK8: =RANK(AJ8,$AJ$8:$AJ$27) -> 1 | AL8: richtige Tend. + korr. Torabst. | AO8: 3
A9: =AK9 -> 2 | B9: ='5.Spieltag'!B9 -> FlorianS04 | E9: =IF(OR(EXACT($C$7,C9)*(EXACT($D$7,D9)))=TRUE,$AO$9,IF(($D$7-$C$7=D9-C9),$AO$8,IF(OR(EXACT($C$7>$D$7,C9>D9)*EXACT($C$7=$D$7,C9=D9)*EXACT($C$7<$D$7,C9<D9)),$AO$7,0))) -> 5 | H9: =IF(OR(EXACT($F$7,F9)*(EXACT($G$7,G9)))=TRUE,$AO$9,IF(($G$7-$F$7=G9-F9),$AO$8,IF(OR(EXACT($F$7>$G$7,F9>G9)*EXACT($F$7=$G$7,F9=G9)*EXACT($F$7<$G$7,F9<G9)),$AO$7,0))) -> 5 | K9: =IF(OR(EXACT($I$7,I9)*(EXACT($J$7,J9)))=TRUE,$AO$9,IF(($J$7-$I$7=J9-I9),$AO$8,IF(OR(EXACT($I$7>$J$7,I9>J9)*EXACT($I$7=$J$7,I9=J9)*EXACT($I$7<$J$7,I9<J9)),$AO$7,0))) -> 5 | N9: =IF(OR(EXACT($L$7,L9)*(EXACT($M$7,M9)))=TRUE,$AO$9,IF(($M$7-$L$7=M9-L9),$AO$8,IF(OR(EXACT($L$7>$M$7,L9>M9)*EXACT($L$7=$M$7,L9=M9)*EXACT($L$7<$M$7,L9<M9)),$AO$7,0))) -> 5 | Q9: =IF(OR(EXACT($O$7,O9)*(EXACT($P$7,P9)))=TRUE,$AO$9,IF(($P$7-$O$7=P9-O9),$AO$8,IF(OR(EXACT($O$7>$P$7,O9>P9)*EXACT($O$7=$P$7,O9=P9)*EXACT($O$7<$P$7,O9<P9)),$AO$7,0))) -> 5 | T9: =IF(OR(EXACT($R$7,R9)*(EXACT($S$7,S9)))=TRUE,$AO$9,IF(($S$7-$R$7=S9-R9),$AO$8,IF(OR(EXACT($R$7>$S$7,R9>S9)*EXACT($R$7=$S$7,R9=S9)*EXACT($R$7<$S$7,R9<S9)),$AO$7,0))) -> 5 | W9: =IF(OR(EXACT($U$7,U9)*(EXACT($V$7,V9)))=TRUE,$AO$9,IF(($V$7-$U$7=V9-U9),$AO$8,IF(OR(EXACT($U$7>$V$7,U9>V9)*EXACT($U$7=$V$7,U9=V9)*EXACT($U$7<$V$7,U9<V9)),$AO$7,0))) -> 5 | Z9: =IF(OR(EXACT($X$7,X9)*(EXACT($Y$7,Y9)))=TRUE,$AO$9,IF(($Y$7-$X$7=Y9-X9),$AO$8,IF(OR(EXACT($X$7>$Y$7,X9>Y9)*EXACT($X$7=$Y$7,X9=Y9)*EXACT($X$7<$Y$7,X9<Y9)),$AO$7,0))) -> 5 | AC9: =IF(OR(EXACT($AA$7,AA9)*(EXACT($AB$7,AB9)))=TRUE,$AO$9,IF(($AB$7-$AA$7=AB9-AA9),$AO$8,IF(OR(EXACT($AA$7>$AB$7,AA9>AB9)*EXACT($AA$7=$AB$7,AA9=AB9)*EXACT($AA$7<$AB$7,AA9<AB9)),$AO$7,0))) -> 5 | AG9: =E9+H9+K9+N9+Q9+T9+W9+Z9+AC9+AF9 -> 45 | AH9: ='5.Spieltag'!AJ9 -> 125 | AI9: ='5.Spieltag'!AK9 -> 2 | AJ9: =AG9+AH9 -> 170 | AK9: =RANK(AJ9,$AJ$8:$AJ$27) -> 2 | AL9: richtiges Ergebnis | AO9: 5
A10: =AK10 -> 2 | B10: ='5.Spieltag'!B10 -> Master1 | E10: =IF(OR(EXACT($C$7,C10)*(EXACT($D$7,D10)))=TRUE,$AO$9,IF(($D$7-$C$7=D10-C10),$AO$8,IF(OR(EXACT($C$7>$D$7,C10>D10)*EXACT($C$7=$D$7,C10=D10)*EXACT($C$7<$D$7,C10<D10)),$AO$7,0))) -> 5 | H10: =IF(OR(EXACT($F$7,F10)*(EXACT($G$7,G10)))=TRUE,$AO$9,IF(($G$7-$F$7=G10-F10),$AO$8,IF(OR(EXACT($F$7>$G$7,F10>G10)*EXACT($F$7=$G$7,F10=G10)*EXACT($F$7<$G$7,F10<G10)),$AO$7,0))) -> 5 | K10: =IF(OR(EXACT($I$7,I10)*(EXACT($J$7,J10)))=TRUE,$AO$9,IF(($J$7-$I$7=J10-I10),$AO$8,IF(OR(EXACT($I$7>$J$7,I10>J10)*EXACT($I$7=$J$7,I10=J10)*EXACT($I$7<$J$7,I10<J10)),$AO$7,0))) -> 5 | N10: =IF(OR(EXACT($L$7,L10)*(EXACT($M$7,M10)))=TRUE,$AO$9,IF(($M$7-$L$7=M10-L10),$AO$8,IF(OR(EXACT($L$7>$M$7,L10>M10)*EXACT($L$7=$M$7,L10=M10)*EXACT($L$7<$M$7,L10<M10)),$AO$7,0))) -> 5 | Q10: =IF(OR(EXACT($O$7,O10)*(EXACT($P$7,P10)))=TRUE,$AO$9,IF(($P$7-$O$7=P10-O10),$AO$8,IF(OR(EXACT($O$7>$P$7,O10>P10)*EXACT($O$7=$P$7,O10=P10)*EXACT($O$7<$P$7,O10<P10)),$AO$7,0))) -> 5 | T10: =IF(OR(EXACT($R$7,R10)*(EXACT($S$7,S10)))=TRUE,$AO$9,IF(($S$7-$R$7=S10-R10),$AO$8,IF(OR(EXACT($R$7>$S$7,R10>S10)*EXACT($R$7=$S$7,R10=S10)*EXACT($R$7<$S$7,R10<S10)),$AO$7,0))) -> 5 | W10: =IF(OR(EXACT($U$7,U10)*(EXACT($V$7,V10)))=TRUE,$AO$9,IF(($V$7-$U$7=V10-U10),$AO$8,IF(OR(EXACT($U$7>$V$7,U10>V10)*EXACT($U$7=$V$7,U10=V10)*EXACT($U$7<$V$7,U10<V10)),$AO$7,0))) -> 5 | Z10: =IF(OR(EXACT($X$7,X10)*(EXACT($Y$7,Y10)))=TRUE,$AO$9,IF(($Y$7-$X$7=Y10-X10),$AO$8,IF(OR(EXACT($X$7>$Y$7,X10>Y10)*EXACT($X$7=$Y$7,X10=Y10)*EXACT($X$7<$Y$7,X10<Y10)),$AO$7,0))) -> 5 | AC10: =IF(OR(EXACT($AA$7,AA10)*(EXACT($AB$7,AB10)))=TRUE,$AO$9,IF(($AB$7-$AA$7=AB10-AA10),$AO$8,IF(OR(EXACT($AA$7>$AB$7,AA10>AB10)*EXACT($AA$7=$AB$7,AA10=AB10)*EXACT($AA$7<$AB$7,AA10<AB10)),$AO$7,0))) -> 5 | AG10: =E10+H10+K10+N10+Q10+T10+W10+Z10+AC10+AF10 -> 45 | AH10: ='5.Spieltag'!AJ10 -> 125 | AI10: ='5.Spieltag'!AK10 -> 2 | AJ10: =AG10+AH10 -> 170 | AK10: =RANK(AJ10,$AJ$8:$AJ$27) -> 2
A11: =AK11 -> 4 | B11: ='5.Spieltag'!B11 -> Thomas Bülles | E11: =IF(OR(EXACT($C$7,C11)*(EXACT($D$7,D11)))=TRUE,$AO$9,IF(($D$7-$C$7=D11-C11),$AO$8,IF(OR(EXACT($C$7>$D$7,C11>D11)*EXACT($C$7=$D$7,C11=D11)*EXACT($C$7<$D$7,C11<D11)),$AO$7,0))) -> 5 | H11: =IF(OR(EXACT($F$7,F11)*(EXACT($G$7,G11)))=TRUE,$AO$9,IF(($G$7-$F$7=G11-F11),$AO$8,IF(OR(EXACT($F$7>$G$7,F11>G11)*EXACT($F$7=$G$7,F11=G11)*EXACT($F$7<$G$7,F11<G11)),$AO$7,0))) -> 5 | K11: =IF(OR(EXACT($I$7,I11)*(EXACT($J$7,J11)))=TRUE,$AO$9,IF(($J$7-$I$7=J11-I11),$AO$8,IF(OR(EXACT($I$7>$J$7,I11>J11)*EXACT($I$7=$J$7,I11=J11)*EXACT($I$7<$J$7,I11<J11)),$AO$7,0))) -> 5 | N11: =IF(OR(EXACT($L$7,L11)*(EXACT($M$7,M11)))=TRUE,$AO$9,IF(($M$7-$L$7=M11-L11),$AO$8,IF(OR(EXACT($L$7>$M$7,L11>M11)*EXACT($L$7=$M$7,L11=M11)*EXACT($L$7<$M$7,L11<M11)),$AO$7,0))) -> 5 | Q11: =IF(OR(EXACT($O$7,O11)*(EXACT($P$7,P11)))=TRUE,$AO$9,IF(($P$7-$O$7=P11-O11),$AO$8,IF(OR(EXACT($O$7>$P$7,O11>P11)*EXACT($O$7=$P$7,O11=P11)*EXACT($O$7<$P$7,O11<P11)),$AO$7,0))) -> 5 | T11: =IF(OR(EXACT($R$7,R11)*(EXACT($S$7,S11)))=TRUE,$AO$9,IF(($S$7-$R$7=S11-R11),$AO$8,IF(OR(EXACT($R$7>$S$7,R11>S11)*EXACT($R$7=$S$7,R11=S11)*EXACT($R$7<$S$7,R11<S11)),$AO$7,0))) -> 5 | W11: =IF(OR(EXACT($U$7,U11)*(EXACT($V$7,V11)))=TRUE,$AO$9,IF(($V$7-$U$7=V11-U11),$AO$8,IF(OR(EXACT($U$7>$V$7,U11>V11)*EXACT($U$7=$V$7,U11=V11)*EXACT($U$7<$V$7,U11<V11)),$AO$7,0))) -> 5 | Z11: =IF(OR(EXACT($X$7,X11)*(EXACT($Y$7,Y11)))=TRUE,$AO$9,IF(($Y$7-$X$7=Y11-X11),$AO$8,IF(OR(EXACT($X$7>$Y$7,X11>Y11)*EXACT($X$7=$Y$7,X11=Y11)*EXACT($X$7<$Y$7,X11<Y11)),$AO$7,0))) -> 5 | AC11: =IF(OR(EXACT($AA$7,AA11)*(EXACT($AB$7,AB11)))=TRUE,$AO$9,IF(($AB$7-$AA$7=AB11-AA11),$AO$8,IF(OR(EXACT($AA$7>$AB$7,AA11>AB11)*EXACT($AA$7=$AB$7,AA11=AB11)*EXACT($AA$7<$AB$7,AA11<AB11)),$AO$7,0))) -> 5 | AG11: =E11+H11+K11+N11+Q11+T11+W11+Z11+AC11+AF11 -> 45 | AH11: ='5.Spieltag'!AJ11 -> 124 | AI11: ='5.Spieltag'!AK11 -> 4 | AJ11: =AG11+AH11 -> 169 | AK11: =RANK(AJ11,$AJ$8:$AJ$27) -> 4
A12: =AK12 -> 5 | B12: ='5.Spieltag'!B12 -> Lola04 | E12: =IF(OR(EXACT($C$7,C12)*(EXACT($D$7,D12)))=TRUE,$AO$9,IF(($D$7-$C$7=D12-C12),$AO$8,IF(OR(EXACT($C$7>$D$7,C12>D12)*EXACT($C$7=$D$7,C12=D12)*EXACT($C$7<$D$7,C12<D12)),$AO$7,0))) -> 5 | H12: =IF(OR(EXACT($F$7,F12)*(EXACT($G$7,G12)))=TRUE,$AO$9,IF(($G$7-$F$7=G12-F12),$AO$8,IF(OR(EXACT($F$7>$G$7,F12>G12)*EXACT($F$7=$G$7,F12=G12)*EXACT($F$7<$G$7,F12<G12)),$AO$7,0))) -> 5 | K12: =IF(OR(EXACT($I$7,I12)*(EXACT($J$7,J12)))=TRUE,$AO$9,IF(($J$7-$I$7=J12-I12),$AO$8,IF(OR(EXACT($I$7>$J$7,I12>J12)*EXACT($I$7=$J$7,I12=J12)*EXACT($I$7<$J$7,I12<J12)),$AO$7,0))) -> 5 | N12: =IF(OR(EXACT($L$7,L12)*(EXACT($M$7,M12)))=TRUE,$AO$9,IF(($M$7-$L$7=M12-L12),$AO$8,IF(OR(EXACT($L$7>$M$7,L12>M12)*EXACT($L$7=$M$7,L12=M12)*EXACT($L$7<$M$7,L12<M12)),$AO$7,0))) -> 5 | Q12: =IF(OR(EXACT($O$7,O12)*(EXACT($P$7,P12)))=TRUE,$AO$9,IF(($P$7-$O$7=P12-O12),$AO$8,IF(OR(EXACT($O$7>$P$7,O12>P12)*EXACT($O$7=$P$7,O12=P12)*EXACT($O$7<$P$7,O12<P12)),$AO$7,0))) -> 5 | T12: =IF(OR(EXACT($R$7,R12)*(EXACT($S$7,S12)))=TRUE,$AO$9,IF(($S$7-$R$7=S12-R12),$AO$8,IF(OR(EXACT($R$7>$S$7,R12>S12)*EXACT($R$7=$S$7,R12=S12)*EXACT($R$7<$S$7,R12<S12)),$AO$7,0))) -> 5 | W12: =IF(OR(EXACT($U$7,U12)*(EXACT($V$7,V12)))=TRUE,$AO$9,IF(($V$7-$U$7=V12-U12),$AO$8,IF(OR(EXACT($U$7>$V$7,U12>V12)*EXACT($U$7=$V$7,U12=V12)*EXACT($U$7<$V$7,U12<V12)),$AO$7,0))) -> 5 | Z12: =IF(OR(EXACT($X$7,X12)*(EXACT($Y$7,Y12)))=TRUE,$AO$9,IF(($Y$7-$X$7=Y12-X12),$AO$8,IF(OR(EXACT($X$7>$Y$7,X12>Y12)*EXACT($X$7=$Y$7,X12=Y12)*EXACT($X$7<$Y$7,X12<Y12)),$AO$7,0))) -> 5 | AC12: =IF(OR(EXACT($AA$7,AA12)*(EXACT($AB$7,AB12)))=TRUE,$AO$9,IF(($AB$7-$AA$7=AB12-AA12),$AO$8,IF(OR(EXACT($AA$7>$AB$7,AA12>AB12)*EXACT($AA$7=$AB$7,AA12=AB12)*EXACT($AA$7<$AB$7,AA12<AB12)),$AO$7,0))) -> 5 | AG12: =E12+H12+K12+N12+Q12+T12+W12+Z12+AC12+AF12 -> 45 | AH12: ='5.Spieltag'!AJ12 -> 120 | AI12: ='5.Spieltag'!AK12 -> 5 | AJ12: =AG12+AH12 -> 165 | AK12: =RANK(AJ12,$AJ$8:$AJ$27) -> 5
A13: =AK13 -> 5 | B13: ='5.Spieltag'!B13 -> Ricardo04 | E13: =IF(OR(EXACT($C$7,C13)*(EXACT($D$7,D13)))=TRUE,$AO$9,IF(($D$7-$C$7=D13-C13),$AO$8,IF(OR(EXACT($C$7>$D$7,C13>D13)*EXACT($C$7=$D$7,C13=D13)*EXACT($C$7<$D$7,C13<D13)),$AO$7,0))) -> 5 | H13: =IF(OR(EXACT($F$7,F13)*(EXACT($G$7,G13)))=TRUE,$AO$9,IF(($G$7-$F$7=G13-F13),$AO$8,IF(OR(EXACT($F$7>$G$7,F13>G13)*EXACT($F$7=$G$7,F13=G13)*EXACT($F$7<$G$7,F13<G13)),$AO$7,0))) -> 5 | K13: =IF(OR(EXACT($I$7,I13)*(EXACT($J$7,J13)))=TRUE,$AO$9,IF(($J$7-$I$7=J13-I13),$AO$8,IF(OR(EXACT($I$7>$J$7,I13>J13)*EXACT($I$7=$J$7,I13=J13)*EXACT($I$7<$J$7,I13<J13)),$AO$7,0))) -> 5 | N13: =IF(OR(EXACT($L$7,L13)*(EXACT($M$7,M13)))=TRUE,$AO$9,IF(($M$7-$L$7=M13-L13),$AO$8,IF(OR(EXACT($L$7>$M$7,L13>M13)*EXACT($L$7=$M$7,L13=M13)*EXACT($L$7<$M$7,L13<M13)),$AO$7,0))) -> 5 | Q13: =IF(OR(EXACT($O$7,O13)*(EXACT($P$7,P13)))=TRUE,$AO$9,IF(($P$7-$O$7=P13-O13),$AO$8,IF(OR(EXACT($O$7>$P$7,O13>P13)*EXACT($O$7=$P$7,O13=P13)*EXACT($O$7<$P$7,O13<P13)),$AO$7,0))) -> 5 | T13: =IF(OR(EXACT($R$7,R13)*(EXACT($S$7,S13)))=TRUE,$AO$9,IF(($S$7-$R$7=S13-R13),$AO$8,IF(OR(EXACT($R$7>$S$7,R13>S13)*EXACT($R$7=$S$7,R13=S13)*EXACT($R$7<$S$7,R13<S13)),$AO$7,0))) -> 5 | W13: =IF(OR(EXACT($U$7,U13)*(EXACT($V$7,V13)))=TRUE,$AO$9,IF(($V$7-$U$7=V13-U13),$AO$8,IF(OR(EXACT($U$7>$V$7,U13>V13)*EXACT($U$7=$V$7,U13=V13)*EXACT($U$7<$V$7,U13<V13)),$AO$7,0))) -> 5 | Z13: =IF(OR(EXACT($X$7,X13)*(EXACT($Y$7,Y13)))=TRUE,$AO$9,IF(($Y$7-$X$7=Y13-X13),$AO$8,IF(OR(EXACT($X$7>$Y$7,X13>Y13)*EXACT($X$7=$Y$7,X13=Y13)*EXACT($X$7<$Y$7,X13<Y13)),$AO$7,0))) -> 5 | AC13: =IF(OR(EXACT($AA$7,AA13)*(EXACT($AB$7,AB13)))=TRUE,$AO$9,IF(($AB$7-$AA$7=AB13-AA13),$AO$8,IF(OR(EXACT($AA$7>$AB$7,AA13>AB13)*EXACT($AA$7=$AB$7,AA13=AB13)*EXACT($AA$7<$AB$7,AA13<AB13)),$AO$7,0))) -> 5 | AG13: =E13+H13+K13+N13+Q13+T13+W13+Z13+AC13+AF13 -> 45 | AH13: ='5.Spieltag'!AJ13 -> 120 | AI13: ='5.Spieltag'!AK13 -> 5 | AJ13: =AG13+AH13 -> 165 | AK13: =RANK(AJ13,$AJ$8:$AJ$27) -> 5
A14: =AK14 -> 7 | B14: ='5.Spieltag'!B14 -> Reinhold | E14: =IF(OR(EXACT($C$7,C14)*(EXACT($D$7,D14)))=TRUE,$AO$9,IF(($D$7-$C$7=D14-C14),$AO$8,IF(OR(EXACT($C$7>$D$7,C14>D14)*EXACT($C$7=$D$7,C14=D14)*EXACT($C$7<$D$7,C14<D14)),$AO$7,0))) -> 5 | H14: =IF(OR(EXACT($F$7,F14)*(EXACT($G$7,G14)))=TRUE,$AO$9,IF(($G$7-$F$7=G14-F14),$AO$8,IF(OR(EXACT($F$7>$G$7,F14>G14)*EXACT($F$7=$G$7,F14=G14)*EXACT($F$7<$G$7,F14<G14)),$AO$7,0))) -> 5 | K14: =IF(OR(EXACT($I$7,I14)*(EXACT($J$7,J14)))=TRUE,$AO$9,IF(($J$7-$I$7=J14-I14),$AO$8,IF(OR(EXACT($I$7>$J$7,I14>J14)*EXACT($I$7=$J$7,I14=J14)*EXACT($I$7<$J$7,I14<J14)),$AO$7,0))) -> 5 | N14: =IF(OR(EXACT($L$7,L14)*(EXACT($M$7,M14)))=TRUE,$AO$9,IF(($M$7-$L$7=M14-L14),$AO$8,IF(OR(EXACT($L$7>$M$7,L14>M14)*EXACT($L$7=$M$7,L14=M14)*EXACT($L$7<$M$7,L14<M14)),$AO$7,0))) -> 5 | Q14: =IF(OR(EXACT($O$7,O14)*(EXACT($P$7,P14)))=TRUE,$AO$9,IF(($P$7-$O$7=P14-O14),$AO$8,IF(OR(EXACT($O$7>$P$7,O14>P14)*EXACT($O$7=$P$7,O14=P14)*EXACT($O$7<$P$7,O14<P14)),$AO$7,0))) -> 5 | T14: =IF(OR(EXACT($R$7,R14)*(EXACT($S$7,S14)))=TRUE,$AO$9,IF(($S$7-$R$7=S14-R14),$AO$8,IF(OR(EXACT($R$7>$S$7,R14>S14)*EXACT($R$7=$S$7,R14=S14)*EXACT($R$7<$S$7,R14<S14)),$AO$7,0))) -> 5 | W14: =IF(OR(EXACT($U$7,U14)*(EXACT($V$7,V14)))=TRUE,$AO$9,IF(($V$7-$U$7=V14-U14),$AO$8,IF(OR(EXACT($U$7>$V$7,U14>V14)*EXACT($U$7=$V$7,U14=V14)*EXACT($U$7<$V$7,U14<V14)),$AO$7,0))) -> 5 | Z14: =IF(OR(EXACT($X$7,X14)*(EXACT($Y$7,Y14)))=TRUE,$AO$9,IF(($Y$7-$X$7=Y14-X14),$AO$8,IF(OR(EXACT($X$7>$Y$7,X14>Y14)*EXACT($X$7=$Y$7,X14=Y14)*EXACT($X$7<$Y$7,X14<Y14)),$AO$7,0))) -> 5 | AC14: =IF(OR(EXACT($AA$7,AA14)*(EXACT($AB$7,AB14)))=TRUE,$AO$9,IF(($AB$7-$AA$7=AB14-AA14),$AO$8,IF(OR(EXACT($AA$7>$AB$7,AA14>AB14)*EXACT($AA$7=$AB$7,AA14=AB14)*EXACT($AA$7<$AB$7,AA14<AB14)),$AO$7,0))) -> 5 | AG14: =E14+H14+K14+N14+Q14+T14+W14+Z14+AC14+AF14 -> 45 | AH14: ='5.Spieltag'!AJ14 -> 119 | AI14: ='5.Spieltag'!AK14 -> 7 | AJ14: =AG14+AH14 -> 164 | AK14: =RANK(AJ14,$AJ$8:$AJ$27) -> 7
A15: =AK15 -> 7 | B15: ='5.Spieltag'!B15 -> Sascha | E15: =IF(OR(EXACT($C$7,C15)*(EXACT($D$7,D15)))=TRUE,$AO$9,IF(($D$7-$C$7=D15-C15),$AO$8,IF(OR(EXACT($C$7>$D$7,C15>D15)*EXACT($C$7=$D$7,C15=D15)*EXACT($C$7<$D$7,C15<D15)),$AO$7,0))) -> 5 | H15: =IF(OR(EXACT($F$7,F15)*(EXACT($G$7,G15)))=TRUE,$AO$9,IF(($G$7-$F$7=G15-F15),$AO$8,IF(OR(EXACT($F$7>$G$7,F15>G15)*EXACT($F$7=$G$7,F15=G15)*EXACT($F$7<$G$7,F15<G15)),$AO$7,0))) -> 5 | K15: =IF(OR(EXACT($I$7,I15)*(EXACT($J$7,J15)))=TRUE,$AO$9,IF(($J$7-$I$7=J15-I15),$AO$8,IF(OR(EXACT($I$7>$J$7,I15>J15)*EXACT($I$7=$J$7,I15=J15)*EXACT($I$7<$J$7,I15<J15)),$AO$7,0))) -> 5 | N15: =IF(OR(EXACT($L$7,L15)*(EXACT($M$7,M15)))=TRUE,$AO$9,IF(($M$7-$L$7=M15-L15),$AO$8,IF(OR(EXACT($L$7>$M$7,L15>M15)*EXACT($L$7=$M$7,L15=M15)*EXACT($L$7<$M$7,L15<M15)),$AO$7,0))) -> 5 | Q15: =IF(OR(EXACT($O$7,O15)*(EXACT($P$7,P15)))=TRUE,$AO$9,IF(($P$7-$O$7=P15-O15),$AO$8,IF(OR(EXACT($O$7>$P$7,O15>P15)*EXACT($O$7=$P$7,O15=P15)*EXACT($O$7<$P$7,O15<P15)),$AO$7,0))) -> 5 | T15: =IF(OR(EXACT($R$7,R15)*(EXACT($S$7,S15)))=TRUE,$AO$9,IF(($S$7-$R$7=S15-R15),$AO$8,IF(OR(EXACT($R$7>$S$7,R15>S15)*EXACT($R$7=$S$7,R15=S15)*EXACT($R$7<$S$7,R15<S15)),$AO$7,0))) -> 5 | W15: =IF(OR(EXACT($U$7,U15)*(EXACT($V$7,V15)))=TRUE,$AO$9,IF(($V$7-$U$7=V15-U15),$AO$8,IF(OR(EXACT($U$7>$V$7,U15>V15)*EXACT($U$7=$V$7,U15=V15)*EXACT($U$7<$V$7,U15<V15)),$AO$7,0))) -> 5 | Z15: =IF(OR(EXACT($X$7,X15)*(EXACT($Y$7,Y15)))=TRUE,$AO$9,IF(($Y$7-$X$7=Y15-X15),$AO$8,IF(OR(EXACT($X$7>$Y$7,X15>Y15)*EXACT($X$7=$Y$7,X15=Y15)*EXACT($X$7<$Y$7,X15<Y15)),$AO$7,0))) -> 5 | AC15: =IF(OR(EXACT($AA$7,AA15)*(EXACT($AB$7,AB15)))=TRUE,$AO$9,IF(($AB$7-$AA$7=AB15-AA15),$AO$8,IF(OR(EXACT($AA$7>$AB$7,AA15>AB15)*EXACT($AA$7=$AB$7,AA15=AB15)*EXACT($AA$7<$AB$7,AA15<AB15)),$AO$7,0))) -> 5 | AG15: =E15+H15+K15+N15+Q15+T15+W15+Z15+AC15+AF15 -> 45 | AH15: ='5.Spieltag'!AJ15 -> 119 | AI15: ='5.Spieltag'!AK15 -> 7 | AJ15: =AG15+AH15 -> 164 | AK15: =RANK(AJ15,$AJ$8:$AJ$27) -> 7
A16: =AK16 -> 9 | B16: ='5.Spieltag'!B16 -> Franzi04 | E16: =IF(OR(EXACT($C$7,C16)*(EXACT($D$7,D16)))=TRUE,$AO$9,IF(($D$7-$C$7=D16-C16),$AO$8,IF(OR(EXACT($C$7>$D$7,C16>D16)*EXACT($C$7=$D$7,C16=D16)*EXACT($C$7<$D$7,C16<D16)),$AO$7,0))) -> 5 | H16: =IF(OR(EXACT($F$7,F16)*(EXACT($G$7,G16)))=TRUE,$AO$9,IF(($G$7-$F$7=G16-F16),$AO$8,IF(OR(EXACT($F$7>$G$7,F16>G16)*EXACT($F$7=$G$7,F16=G16)*EXACT($F$7<$G$7,F16<G16)),$AO$7,0))) -> 5 | K16: =IF(OR(EXACT($I$7,I16)*(EXACT($J$7,J16)))=TRUE,$AO$9,IF(($J$7-$I$7=J16-I16),$AO$8,IF(OR(EXACT($I$7>$J$7,I16>J16)*EXACT($I$7=$J$7,I16=J16)*EXACT($I$7<$J$7,I16<J16)),$AO$7,0))) -> 5 | N16: =IF(OR(EXACT($L$7,L16)*(EXACT($M$7,M16)))=TRUE,$AO$9,IF(($M$7-$L$7=M16-L16),$AO$8,IF(OR(EXACT($L$7>$M$7,L16>M16)*EXACT($L$7=$M$7,L16=M16)*EXACT($L$7<$M$7,L16<M16)),$AO$7,0))) -> 5 | Q16: =IF(OR(EXACT($O$7,O16)*(EXACT($P$7,P16)))=TRUE,$AO$9,IF(($P$7-$O$7=P16-O16),$AO$8,IF(OR(EXACT($O$7>$P$7,O16>P16)*EXACT($O$7=$P$7,O16=P16)*EXACT($O$7<$P$7,O16<P16)),$AO$7,0))) -> 5 | T16: =IF(OR(EXACT($R$7,R16)*(EXACT($S$7,S16)))=TRUE,$AO$9,IF(($S$7-$R$7=S16-R16),$AO$8,IF(OR(EXACT($R$7>$S$7,R16>S16)*EXACT($R$7=$S$7,R16=S16)*EXACT($R$7<$S$7,R16<S16)),$AO$7,0))) -> 5 | W16: =IF(OR(EXACT($U$7,U16)*(EXACT($V$7,V16)))=TRUE,$AO$9,IF(($V$7-$U$7=V16-U16),$AO$8,IF(OR(EXACT($U$7>$V$7,U16>V16)*EXACT($U$7=$V$7,U16=V16)*EXACT($U$7<$V$7,U16<V16)),$AO$7,0))) -> 5 | Z16: =IF(OR(EXACT($X$7,X16)*(EXACT($Y$7,Y16)))=TRUE,$AO$9,IF(($Y$7-$X$7=Y16-X16),$AO$8,IF(OR(EXACT($X$7>$Y$7,X16>Y16)*EXACT($X$7=$Y$7,X16=Y16)*EXACT($X$7<$Y$7,X16<Y16)),$AO$7,0))) -> 5 | AC16: =IF(OR(EXACT($AA$7,AA16)*(EXACT($AB$7,AB16)))=TRUE,$AO$9,IF(($AB$7-$AA$7=AB16-AA16),$AO$8,IF(OR(EXACT($AA$7>$AB$7,AA16>AB16)*EXACT($AA$7=$AB$7,AA16=AB16)*EXACT($AA$7<$AB$7,AA16<AB16)),$AO$7,0))) -> 5 | AG16: =E16+H16+K16+N16+Q16+T16+W16+Z16+AC16+AF16 -> 45 | AH16: ='5.Spieltag'!AJ16 -> 117 | AI16: ='5.Spieltag'!AK16 -> 9 | AJ16: =AG16+AH16 -> 162 | AK16: =RANK(AJ16,$AJ$8:$AJ$27) -> 9
A17: =AK17 -> 9 | B17: ='5.Spieltag'!B17 -> jupp04 | E17: =IF(OR(EXACT($C$7,C17)*(EXACT($D$7,D17)))=TRUE,$AO$9,IF(($D$7-$C$7=D17-C17),$AO$8,IF(OR(EXACT($C$7>$D$7,C17>D17)*EXACT($C$7=$D$7,C17=D17)*EXACT($C$7<$D$7,C17<D17)),$AO$7,0))) -> 5 | H17: =IF(OR(EXACT($F$7,F17)*(EXACT($G$7,G17)))=TRUE,$AO$9,IF(($G$7-$F$7=G17-F17),$AO$8,IF(OR(EXACT($F$7>$G$7,F17>G17)*EXACT($F$7=$G$7,F17=G17)*EXACT($F$7<$G$7,F17<G17)),$AO$7,0))) -> 5 | K17: =IF(OR(EXACT($I$7,I17)*(EXACT($J$7,J17)))=TRUE,$AO$9,IF(($J$7-$I$7=J17-I17),$AO$8,IF(OR(EXACT($I$7>$J$7,I17>J17)*EXACT($I$7=$J$7,I17=J17)*EXACT($I$7<$J$7,I17<J17)),$AO$7,0))) -> 5 | N17: =IF(OR(EXACT($L$7,L17)*(EXACT($M$7,M17)))=TRUE,$AO$9,IF(($M$7-$L$7=M17-L17),$AO$8,IF(OR(EXACT($L$7>$M$7,L17>M17)*EXACT($L$7=$M$7,L17=M17)*EXACT($L$7<$M$7,L17<M17)),$AO$7,0))) -> 5 | Q17: =IF(OR(EXACT($O$7,O17)*(EXACT($P$7,P17)))=TRUE,$AO$9,IF(($P$7-$O$7=P17-O17),$AO$8,IF(OR(EXACT($O$7>$P$7,O17>P17)*EXACT($O$7=$P$7,O17=P17)*EXACT($O$7<$P$7,O17<P17)),$AO$7,0))) -> 5 | T17: =IF(OR(EXACT($R$7,R17)*(EXACT($S$7,S17)))=TRUE,$AO$9,IF(($S$7-$R$7=S17-R17),$AO$8,IF(OR(EXACT($R$7>$S$7,R17>S17)*EXACT($R$7=$S$7,R17=S17)*EXACT($R$7<$S$7,R17<S17)),$AO$7,0))) -> 5 | W17: =IF(OR(EXACT($U$7,U17)*(EXACT($V$7,V17)))=TRUE,$AO$9,IF(($V$7-$U$7=V17-U17),$AO$8,IF(OR(EXACT($U$7>$V$7,U17>V17)*EXACT($U$7=$V$7,U17=V17)*EXACT($U$7<$V$7,U17<V17)),$AO$7,0))) -> 5 | Z17: =IF(OR(EXACT($X$7,X17)*(EXACT($Y$7,Y17)))=TRUE,$AO$9,IF(($Y$7-$X$7=Y17-X17),$AO$8,IF(OR(EXACT($X$7>$Y$7,X17>Y17)*EXACT($X$7=$Y$7,X17=Y17)*EXACT($X$7<$Y$7,X17<Y17)),$AO$7,0))) -> 5 | AC17: =IF(OR(EXACT($AA$7,AA17)*(EXACT($AB$7,AB17)))=TRUE,$AO$9,IF(($AB$7-$AA$7=AB17-AA17),$AO$8,IF(OR(EXACT($AA$7>$AB$7,AA17>AB17)*EXACT($AA$7=$AB$7,AA17=AB17)*EXACT($AA$7<$AB$7,AA17<AB17)),$AO$7,0))) -> 5 | AG17: =E17+H17+K17+N17+Q17+T17+W17+Z17+AC17+AF17 -> 45 | AH17: ='5.Spieltag'!AJ17 -> 117 | AI17: ='5.Spieltag'!AK17 -> 9 | AJ17: =AG17+AH17 -> 162 | AK17: =RANK(AJ17,$AJ$8:$AJ$27) -> 9
A18: =AK18 -> 11 | B18: ='5.Spieltag'!B18 -> UltraGE | E18: =IF(OR(EXACT($C$7,C18)*(EXACT($D$7,D18)))=TRUE,$AO$9,IF(($D$7-$C$7=D18-C18),$AO$8,IF(OR(EXACT($C$7>$D$7,C18>D18)*EXACT($C$7=$D$7,C18=D18)*EXACT($C$7<$D$7,C18<D18)),$AO$7,0))) -> 5 | H18: =IF(OR(EXACT($F$7,F18)*(EXACT($G$7,G18)))=TRUE,$AO$9,IF(($G$7-$F$7=G18-F18),$AO$8,IF(OR(EXACT($F$7>$G$7,F18>G18)*EXACT($F$7=$G$7,F18=G18)*EXACT($F$7<$G$7,F18<G18)),$AO$7,0))) -> 5 | K18: =IF(OR(EXACT($I$7,I18)*(EXACT($J$7,J18)))=TRUE,$AO$9,IF(($J$7-$I$7=J18-I18),$AO$8,IF(OR(EXACT($I$7>$J$7,I18>J18)*EXACT($I$7=$J$7,I18=J18)*EXACT($I$7<$J$7,I18<J18)),$AO$7,0))) -> 5 | N18: =IF(OR(EXACT($L$7,L18)*(EXACT($M$7,M18)))=TRUE,$AO$9,IF(($M$7-$L$7=M18-L18),$AO$8,IF(OR(EXACT($L$7>$M$7,L18>M18)*EXACT($L$7=$M$7,L18=M18)*EXACT($L$7<$M$7,L18<M18)),$AO$7,0))) -> 5 | Q18: =IF(OR(EXACT($O$7,O18)*(EXACT($P$7,P18)))=TRUE,$AO$9,IF(($P$7-$O$7=P18-O18),$AO$8,IF(OR(EXACT($O$7>$P$7,O18>P18)*EXACT($O$7=$P$7,O18=P18)*EXACT($O$7<$P$7,O18<P18)),$AO$7,0))) -> 5 | T18: =IF(OR(EXACT($R$7,R18)*(EXACT($S$7,S18)))=TRUE,$AO$9,IF(($S$7-$R$7=S18-R18),$AO$8,IF(OR(EXACT($R$7>$S$7,R18>S18)*EXACT($R$7=$S$7,R18=S18)*EXACT($R$7<$S$7,R18<S18)),$AO$7,0))) -> 5 | W18: =IF(OR(EXACT($U$7,U18)*(EXACT($V$7,V18)))=TRUE,$AO$9,IF(($V$7-$U$7=V18-U18),$AO$8,IF(OR(EXACT($U$7>$V$7,U18>V18)*EXACT($U$7=$V$7,U18=V18)*EXACT($U$7<$V$7,U18<V18)),$AO$7,0))) -> 5 | Z18: =IF(OR(EXACT($X$7,X18)*(EXACT($Y$7,Y18)))=TRUE,$AO$9,IF(($Y$7-$X$7=Y18-X18),$AO$8,IF(OR(EXACT($X$7>$Y$7,X18>Y18)*EXACT($X$7=$Y$7,X18=Y18)*EXACT($X$7<$Y$7,X18<Y18)),$AO$7,0))) -> 5 | AC18: =IF(OR(EXACT($AA$7,AA18)*(EXACT($AB$7,AB18)))=TRUE,$AO$9,IF(($AB$7-$AA$7=AB18-AA18),$AO$8,IF(OR(EXACT($AA$7>$AB$7,AA18>AB18)*EXACT($AA$7=$AB$7,AA18=AB18)*EXACT($AA$7<$AB$7,AA18<AB18)),$AO$7,0))) -> 5 | AG18: =E18+H18+K18+N18+Q18+T18+W18+Z18+AC18+AF18 -> 45 | AH18: ='5.Spieltag'!AJ18 -> 116 | AI18: ='5.Spieltag'!AK18 -> 11 | AJ18: =AG18+AH18 -> 161 | AK18: =RANK(AJ18,$AJ$8:$AJ$27) -> 11
