Workbook

Sheet 1.Spieltag
A4: 1. Spieltag | C4: H S V | F4: Kaisersl. | I4: Hannover | L4: Osnabrück | O4: Wiesbaden | R4: Düsseldorf | U4: Fürth | X4: Rostock | AA4: Braunschw.
AG5: G E S A M T W E R T U N G
C6: Schalke 04 | F6: St. Pauli | I6: Elversberg | L6: Karlsruhe | O6: Magdeburg | R6: Hertha BSC | U6: Paderborn | X6: Nürnberg | AA6: Kiel | AG6: Punkte | AH6: Punkte | AI6: Platz | AJ6: Gesamt | AK6: Platz | AL6: PUNKTEVERTEILUNG
A7: PLATZ | B7: ERGEBNISSE=> | C7: 5 | D7: 3 | E7: Pkt. | F7: 1 | G7: 2 | H7: Pkt. | I7: 2 | J7: 2 | K7: Pkt. | L7: 2 | M7: 3 | N7: Pkt. | O7: 1 | P7: 1 | Q7: Pkt. | R7: 1 | S7: 0 | T7: Pkt. | U7: 5 | V7: 0 | W7: Pkt. | X7: 2 | Y7: 0 | Z7: Pkt. | AA7: 0 | AB7: 1 | AC7: Pkt. | AG7: Spieltag | AH7: bisher | AI7: bisher | AJ7: Punkte | AL7: richtige Tendenz | AO7: 2
A8: =AK8 -> 6 | B8: atschi91 | C8: 0 | D8: 1 | E8: =IF(OR(EXACT($C$7,C8)*(EXACT($D$7,D8)))=TRUE,$AO$9,IF(($D$7-$C$7=D8-C8),$AO$8,IF(OR(EXACT($C$7>$D$7,C8>D8)*EXACT($C$7=$D$7,C8=D8)*EXACT($C$7<$D$7,C8<D8)),$AO$7,0)))*4 -> 0 | F8: 2 | G8: 1 | H8: =IF(OR(EXACT($F$7,F8)*(EXACT($G$7,G8)))=TRUE,$AO$9,IF(($G$7-$F$7=G8-F8),$AO$8,IF(OR(EXACT($F$7>$G$7,F8>G8)*EXACT($F$7=$G$7,F8=G8)*EXACT($F$7<$G$7,F8<G8)),$AO$7,0))) -> 0 | I8: 2 | J8: 1 | K8: =IF(OR(EXACT($I$7,I8)*(EXACT($J$7,J8)))=TRUE,$AO$9,IF(($J$7-$I$7=J8-I8),$AO$8,IF(OR(EXACT($I$7>$J$7,I8>J8)*EXACT($I$7=$J$7,I8=J8)*EXACT($I$7<$J$7,I8<J8)),$AO$7,0))) -> 0 | L8: 2 | M8: 1 | N8: =IF(OR(EXACT($L$7,L8)*(EXACT($M$7,M8)))=TRUE,$AO$9,IF(($M$7-$L$7=M8-L8),$AO$8,IF(OR(EXACT($L$7>$M$7,L8>M8)*EXACT($L$7=$M$7,L8=M8)*EXACT($L$7<$M$7,L8<M8)),$AO$7,0))) -> 0 | O8: 1 | P8: 1 | Q8: =IF(OR(EXACT($O$7,O8)*(EXACT($P$7,P8)))=TRUE,$AO$9,IF(($P$7-$O$7=P8-O8),$AO$8,IF(OR(EXACT($O$7>$P$7,O8>P8)*EXACT($O$7=$P$7,O8=P8)*EXACT($O$7<$P$7,O8<P8)),$AO$7,0))) -> 5 | R8: 2 | S8: 0 | T8: =IF(OR(EXACT($R$7,R8)*(EXACT($S$7,S8)))=TRUE,$AO$9,IF(($S$7-$R$7=S8-R8),$AO$8,IF(OR(EXACT($R$7>$S$7,R8>S8)*EXACT($R$7=$S$7,R8=S8)*EXACT($R$7<$S$7,R8<S8)),$AO$7,0))) -> 2 | U8: 1 | V8: 0 | W8: =IF(OR(EXACT($U$7,U8)*(EXACT($V$7,V8)))=TRUE,$AO$9,IF(($V$7-$U$7=V8-U8),$AO$8,IF(OR(EXACT($U$7>$V$7,U8>V8)*EXACT($U$7=$V$7,U8=V8)*EXACT($U$7<$V$7,U8<V8)),$AO$7,0))) -> 2 | X8: 0 | Y8: 0 | Z8: =IF(OR(EXACT($X$7,X8)*(EXACT($Y$7,Y8)))=TRUE,$AO$9,IF(($Y$7-$X$7=Y8-X8),$AO$8,IF(OR(EXACT($X$7>$Y$7,X8>Y8)*EXACT($X$7=$Y$7,X8=Y8)*EXACT($X$7<$Y$7,X8<Y8)),$AO$7,0))) -> 0 | AA8: 1 | AB8: 1 | AC8: =IF(OR(EXACT($AA$7,AA8)*(EXACT($AB$7,AB8)))=TRUE,$AO$9,IF(($AB$7-$AA$7=AB8-AA8),$AO$8,IF(OR(EXACT($AA$7>$AB$7,AA8>AB8)*EXACT($AA$7=$AB$7,AA8=AB8)*EXACT($AA$7<$AB$7,AA8<AB8)),$AO$7,0))) -> 0 | AG8: =E8+K8+Q8+T8+N8+H8+W8+Z8+AC8+AF8 -> 9 | AJ8: =AG8+AH8 -> 9 | AK8: =RANK(AJ8,$AJ$8:$AJ$26) -> 6 | AL8: richtige Tend. + korr. Torabst. | AO8: 3
A9: =AK9 -> 1 | B9: Delze1312 | C9: 1 | D9: 3 | E9: =IF(OR(EXACT($C$7,C9)*(EXACT($D$7,D9)))=TRUE,$AO$9,IF(($D$7-$C$7=D9-C9),$AO$8,IF(OR(EXACT($C$7>$D$7,C9>D9)*EXACT($C$7=$D$7,C9=D9)*EXACT($C$7<$D$7,C9<D9)),$AO$7,0)))*4 -> 0 | F9: 1 | G9: 2 | H9: =IF(OR(EXACT($F$7,F9)*(EXACT($G$7,G9)))=TRUE,$AO$9,IF(($G$7-$F$7=G9-F9),$AO$8,IF(OR(EXACT($F$7>$G$7,F9>G9)*EXACT($F$7=$G$7,F9=G9)*EXACT($F$7<$G$7,F9<G9)),$AO$7,0))) -> 5 | I9: 3 | J9: 0 | K9: =IF(OR(EXACT($I$7,I9)*(EXACT($J$7,J9)))=TRUE,$AO$9,IF(($J$7-$I$7=J9-I9),$AO$8,IF(OR(EXACT($I$7>$J$7,I9>J9)*EXACT($I$7=$J$7,I9=J9)*EXACT($I$7<$J$7,I9<J9)),$AO$7,0))) -> 0 | L9: 2 | M9: 0 | N9: =IF(OR(EXACT($L$7,L9)*(EXACT($M$7,M9)))=TRUE,$AO$9,IF(($M$7-$L$7=M9-L9),$AO$8,IF(OR(EXACT($L$7>$M$7,L9>M9)*EXACT($L$7=$M$7,L9=M9)*EXACT($L$7<$M$7,L9<M9)),$AO$7,0))) -> 0 | O9: 1 | P9: 1 | Q9: =IF(OR(EXACT($O$7,O9)*(EXACT($P$7,P9)))=TRUE,$AO$9,IF(($P$7-$O$7=P9-O9),$AO$8,IF(OR(EXACT($O$7>$P$7,O9>P9)*EXACT($O$7=$P$7,O9=P9)*EXACT($O$7<$P$7,O9<P9)),$AO$7,0))) -> 5 | R9: 2 | S9: 0 | T9: =IF(OR(EXACT($R$7,R9)*(EXACT($S$7,S9)))=TRUE,$AO$9,IF(($S$7-$R$7=S9-R9),$AO$8,IF(OR(EXACT($R$7>$S$7,R9>S9)*EXACT($R$7=$S$7,R9=S9)*EXACT($R$7<$S$7,R9<S9)),$AO$7,0))) -> 2 | U9: 2 | V9: 2 | W9: =IF(OR(EXACT($U$7,U9)*(EXACT($V$7,V9)))=TRUE,$AO$9,IF(($V$7-$U$7=V9-U9),$AO$8,IF(OR(EXACT($U$7>$V$7,U9>V9)*EXACT($U$7=$V$7,U9=V9)*EXACT($U$7<$V$7,U9<V9)),$AO$7,0))) -> 0 | X9: 0 | Y9: 1 | Z9: =IF(OR(EXACT($X$7,X9)*(EXACT($Y$7,Y9)))=TRUE,$AO$9,IF(($Y$7-$X$7=Y9-X9),$AO$8,IF(OR(EXACT($X$7>$Y$7,X9>Y9)*EXACT($X$7=$Y$7,X9=Y9)*EXACT($X$7<$Y$7,X9<Y9)),$AO$7,0))) -> 0 | AA9: 1 | AB9: 3 | AC9: =IF(OR(EXACT($AA$7,AA9)*(EXACT($AB$7,AB9)))=TRUE,$AO$9,IF(($AB$7-$AA$7=AB9-AA9),$AO$8,IF(OR(EXACT($AA$7>$AB$7,AA9>AB9)*EXACT($AA$7=$AB$7,AA9=AB9)*EXACT($AA$7<$AB$7,AA9<AB9)),$AO$7,0))) -> 2 | AG9: =E9+K9+Q9+T9+N9+H9+W9+Z9+AC9+AF9 -> 14 | AJ9: =AG9+AH9 -> 14 | AK9: =RANK(AJ9,$AJ$8:$AJ$26) -> 1 | AL9: richtiges Ergebnis | AO9: 5
A10: =AK10 -> 6 | B10: FlorianS04 | C10: 0 | D10: 2 | E10: =IF(OR(EXACT($C$7,C10)*(EXACT($D$7,D10)))=TRUE,$AO$9,IF(($D$7-$C$7=D10-C10),$AO$8,IF(OR(EXACT($C$7>$D$7,C10>D10)*EXACT($C$7=$D$7,C10=D10)*EXACT($C$7<$D$7,C10<D10)),$AO$7,0)))*4 -> 0 | F10: 2 | G10: 2 | H10: =IF(OR(EXACT($F$7,F10)*(EXACT($G$7,G10)))=TRUE,$AO$9,IF(($G$7-$F$7=G10-F10),$AO$8,IF(OR(EXACT($F$7>$G$7,F10>G10)*EXACT($F$7=$G$7,F10=G10)*EXACT($F$7<$G$7,F10<G10)),$AO$7,0))) -> 0 | I10: 0 | J10: 1 | K10: =IF(OR(EXACT($I$7,I10)*(EXACT($J$7,J10)))=TRUE,$AO$9,IF(($J$7-$I$7=J10-I10),$AO$8,IF(OR(EXACT($I$7>$J$7,I10>J10)*EXACT($I$7=$J$7,I10=J10)*EXACT($I$7<$J$7,I10<J10)),$AO$7,0))) -> 0 | L10: 1 | M10: 2 | N10: =IF(OR(EXACT($L$7,L10)*(EXACT($M$7,M10)))=TRUE,$AO$9,IF(($M$7-$L$7=M10-L10),$AO$8,IF(OR(EXACT($L$7>$M$7,L10>M10)*EXACT($L$7=$M$7,L10=M10)*EXACT($L$7<$M$7,L10<M10)),$AO$7,0))) -> 3 | O10: 0 | P10: 0 | Q10: =IF(OR(EXACT($O$7,O10)*(EXACT($P$7,P10)))=TRUE,$AO$9,IF(($P$7-$O$7=P10-O10),$AO$8,IF(OR(EXACT($O$7>$P$7,O10>P10)*EXACT($O$7=$P$7,O10=P10)*EXACT($O$7<$P$7,O10<P10)),$AO$7,0))) -> 3 | R10: 2 | S10: 1 | T10: =IF(OR(EXACT($R$7,R10)*(EXACT($S$7,S10)))=TRUE,$AO$9,IF(($S$7-$R$7=S10-R10),$AO$8,IF(OR(EXACT($R$7>$S$7,R10>S10)*EXACT($R$7=$S$7,R10=S10)*EXACT($R$7<$S$7,R10<S10)),$AO$7,0))) -> 3 | U10: 1 | V10: 1 | W10: =IF(OR(EXACT($U$7,U10)*(EXACT($V$7,V10)))=TRUE,$AO$9,IF(($V$7-$U$7=V10-U10),$AO$8,IF(OR(EXACT($U$7>$V$7,U10>V10)*EXACT($U$7=$V$7,U10=V10)*EXACT($U$7<$V$7,U10<V10)),$AO$7,0))) -> 0 | X10: 1 | Y10: 2 | Z10: =IF(OR(EXACT($X$7,X10)*(EXACT($Y$7,Y10)))=TRUE,$AO$9,IF(($Y$7-$X$7=Y10-X10),$AO$8,IF(OR(EXACT($X$7>$Y$7,X10>Y10)*EXACT($X$7=$Y$7,X10=Y10)*EXACT($X$7<$Y$7,X10<Y10)),$AO$7,0))) -> 0 | AA10: 2 | AB10: 1 | AC10: =IF(OR(EXACT($AA$7,AA10)*(EXACT($AB$7,AB10)))=TRUE,$AO$9,IF(($AB$7-$AA$7=AB10-AA10),$AO$8,IF(OR(EXACT($AA$7>$AB$7,AA10>AB10)*EXACT($AA$7=$AB$7,AA10=AB10)*EXACT($AA$7<$AB$7,AA10<AB10)),$AO$7,0))) -> 0 | AG10: =E10+K10+Q10+T10+N10+H10+W10+Z10+AC10+AF10 -> 9 | AJ10: =AG10+AH10 -> 9 | AK10: =RANK(AJ10,$AJ$8:$AJ$26) -> 6
A11: =AK11 -> 1 | B11: Franzi04 | C11: 1 | D11: 2 | E11: =IF(OR(EXACT($C$7,C11)*(EXACT($D$7,D11)))=TRUE,$AO$9,IF(($D$7-$C$7=D11-C11),$AO$8,IF(OR(EXACT($C$7>$D$7,C11>D11)*EXACT($C$7=$D$7,C11=D11)*EXACT($C$7<$D$7,C11<D11)),$AO$7,0)))*4 -> 0 | F11: 1 | G11: 2 | H11: =IF(OR(EXACT($F$7,F11)*(EXACT($G$7,G11)))=TRUE,$AO$9,IF(($G$7-$F$7=G11-F11),$AO$8,IF(OR(EXACT($F$7>$G$7,F11>G11)*EXACT($F$7=$G$7,F11=G11)*EXACT($F$7<$G$7,F11<G11)),$AO$7,0))) -> 5 | I11: 2 | J11: 1 | K11: =IF(OR(EXACT($I$7,I11)*(EXACT($J$7,J11)))=TRUE,$AO$9,IF(($J$7-$I$7=J11-I11),$AO$8,IF(OR(EXACT($I$7>$J$7,I11>J11)*EXACT($I$7=$J$7,I11=J11)*EXACT($I$7<$J$7,I11<J11)),$AO$7,0))) -> 0 | L11: 1 | M11: 2 | N11: =IF(OR(EXACT($L$7,L11)*(EXACT($M$7,M11)))=TRUE,$AO$9,IF(($M$7-$L$7=M11-L11),$AO$8,IF(OR(EXACT($L$7>$M$7,L11>M11)*EXACT($L$7=$M$7,L11=M11)*EXACT($L$7<$M$7,L11<M11)),$AO$7,0))) -> 3 | O11: 2 | P11: 2 | Q11: =IF(OR(EXACT($O$7,O11)*(EXACT($P$7,P11)))=TRUE,$AO$9,IF(($P$7-$O$7=P11-O11),$AO$8,IF(OR(EXACT($O$7>$P$7,O11>P11)*EXACT($O$7=$P$7,O11=P11)*EXACT($O$7<$P$7,O11<P11)),$AO$7,0))) -> 3 | R11: 1 | S11: 3 | T11: =IF(OR(EXACT($R$7,R11)*(EXACT($S$7,S11)))=TRUE,$AO$9,IF(($S$7-$R$7=S11-R11),$AO$8,IF(OR(EXACT($R$7>$S$7,R11>S11)*EXACT($R$7=$S$7,R11=S11)*EXACT($R$7<$S$7,R11<S11)),$AO$7,0))) -> 0 | U11: 1 | V11: 1 | W11: =IF(OR(EXACT($U$7,U11)*(EXACT($V$7,V11)))=TRUE,$AO$9,IF(($V$7-$U$7=V11-U11),$AO$8,IF(OR(EXACT($U$7>$V$7,U11>V11)*EXACT($U$7=$V$7,U11=V11)*EXACT($U$7<$V$7,U11<V11)),$AO$7,0))) -> 0 | X11: 1 | Y11: 2 | Z11: =IF(OR(EXACT($X$7,X11)*(EXACT($Y$7,Y11)))=TRUE,$AO$9,IF(($Y$7-$X$7=Y11-X11),$AO$8,IF(OR(EXACT($X$7>$Y$7,X11>Y11)*EXACT($X$7=$Y$7,X11=Y11)*EXACT($X$7<$Y$7,X11<Y11)),$AO$7,0))) -> 0 | AA11: 1 | AB11: 2 | AC11: =IF(OR(EXACT($AA$7,AA11)*(EXACT($AB$7,AB11)))=TRUE,$AO$9,IF(($AB$7-$AA$7=AB11-AA11),$AO$8,IF(OR(EXACT($AA$7>$AB$7,AA11>AB11)*EXACT($AA$7=$AB$7,AA11=AB11)*EXACT($AA$7<$AB$7,AA11<AB11)),$AO$7,0))) -> 3 | AG11: =E11+K11+Q11+T11+N11+H11+W11+Z11+AC11+AF11 -> 14 | AJ11: =AG11+AH11 -> 14 | AK11: =RANK(AJ11,$AJ$8:$AJ$26) -> 1
A12: =AK12 -> 9 | B12: jupp04 | C12: 1 | D12: 2 | E12: =IF(OR(EXACT($C$7,C12)*(EXACT($D$7,D12)))=TRUE,$AO$9,IF(($D$7-$C$7=D12-C12),$AO$8,IF(OR(EXACT($C$7>$D$7,C12>D12)*EXACT($C$7=$D$7,C12=D12)*EXACT($C$7<$D$7,C12<D12)),$AO$7,0)))*4 -> 0 | F12: 2 | G12: 1 | H12: =IF(OR(EXACT($F$7,F12)*(EXACT($G$7,G12)))=TRUE,$AO$9,IF(($G$7-$F$7=G12-F12),$AO$8,IF(OR(EXACT($F$7>$G$7,F12>G12)*EXACT($F$7=$G$7,F12=G12)*EXACT($F$7<$G$7,F12<G12)),$AO$7,0))) -> 0 | I12: 2 | J12: 1 | K12: =IF(OR(EXACT($I$7,I12)*(EXACT($J$7,J12)))=TRUE,$AO$9,IF(($J$7-$I$7=J12-I12),$AO$8,IF(OR(EXACT($I$7>$J$7,I12>J12)*EXACT($I$7=$J$7,I12=J12)*EXACT($I$7<$J$7,I12<J12)),$AO$7,0))) -> 0 | L12: 2 | M12: 2 | N12: =IF(OR(EXACT($L$7,L12)*(EXACT($M$7,M12)))=TRUE,$AO$9,IF(($M$7-$L$7=M12-L12),$AO$8,IF(OR(EXACT($L$7>$M$7,L12>M12)*EXACT($L$7=$M$7,L12=M12)*EXACT($L$7<$M$7,L12<M12)),$AO$7,0))) -> 0 | O12: 2 | P12: 2 | Q12: =IF(OR(EXACT($O$7,O12)*(EXACT($P$7,P12)))=TRUE,$AO$9,IF(($P$7-$O$7=P12-O12),$AO$8,IF(OR(EXACT($O$7>$P$7,O12>P12)*EXACT($O$7=$P$7,O12=P12)*EXACT($O$7<$P$7,O12<P12)),$AO$7,0))) -> 3 | R12: 2 | S12: 1 | T12: =IF(OR(EXACT($R$7,R12)*(EXACT($S$7,S12)))=TRUE,$AO$9,IF(($S$7-$R$7=S12-R12),$AO$8,IF(OR(EXACT($R$7>$S$7,R12>S12)*EXACT($R$7=$S$7,R12=S12)*EXACT($R$7<$S$7,R12<S12)),$AO$7,0))) -> 3 | U12: 0 | V12: 0 | W12: =IF(OR(EXACT($U$7,U12)*(EXACT($V$7,V12)))=TRUE,$AO$9,IF(($V$7-$U$7=V12-U12),$AO$8,IF(OR(EXACT($U$7>$V$7,U12>V12)*EXACT($U$7=$V$7,U12=V12)*EXACT($U$7<$V$7,U12<V12)),$AO$7,0))) -> 0 | X12: 1 | Y12: 0 | Z12: =IF(OR(EXACT($X$7,X12)*(EXACT($Y$7,Y12)))=TRUE,$AO$9,IF(($Y$7-$X$7=Y12-X12),$AO$8,IF(OR(EXACT($X$7>$Y$7,X12>Y12)*EXACT($X$7=$Y$7,X12=Y12)*EXACT($X$7<$Y$7,X12<Y12)),$AO$7,0))) -> 2 | AA12: 3 | AB12: 1 | AC12: =IF(OR(EXACT($AA$7,AA12)*(EXACT($AB$7,AB12)))=TRUE,$AO$9,IF(($AB$7-$AA$7=AB12-AA12),$AO$8,IF(OR(EXACT($AA$7>$AB$7,AA12>AB12)*EXACT($AA$7=$AB$7,AA12=AB12)*EXACT($AA$7<$AB$7,AA12<AB12)),$AO$7,0))) -> 0 | AG12: =E12+K12+Q12+T12+N12+H12+W12+Z12+AC12+AF12 -> 8 | AJ12: =AG12+AH12 -> 8 | AK12: =RANK(AJ12,$AJ$8:$AJ$26) -> 9
A13: =AK13 -> 14 | B13: Lola04 | C13: 1 | D13: 1 | E13: =IF(OR(EXACT($C$7,C13)*(EXACT($D$7,D13)))=TRUE,$AO$9,IF(($D$7-$C$7=D13-C13),$AO$8,IF(OR(EXACT($C$7>$D$7,C13>D13)*EXACT($C$7=$D$7,C13=D13)*EXACT($C$7<$D$7,C13<D13)),$AO$7,0)))*2 -> 0 | F13: 2 | G13: 1 | H13: =IF(OR(EXACT($F$7,F13)*(EXACT($G$7,G13)))=TRUE,$AO$9,IF(($G$7-$F$7=G13-F13),$AO$8,IF(OR(EXACT($F$7>$G$7,F13>G13)*EXACT($F$7=$G$7,F13=G13)*EXACT($F$7<$G$7,F13<G13)),$AO$7,0))) -> 0 | I13: 2 | J13: 0 | K13: =IF(OR(EXACT($I$7,I13)*(EXACT($J$7,J13)))=TRUE,$AO$9,IF(($J$7-$I$7=J13-I13),$AO$8,IF(OR(EXACT($I$7>$J$7,I13>J13)*EXACT($I$7=$J$7,I13=J13)*EXACT($I$7<$J$7,I13<J13)),$AO$7,0))) -> 0 | L13: 1 | M13: 1 | N13: =IF(OR(EXACT($L$7,L13)*(EXACT($M$7,M13)))=TRUE,$AO$9,IF(($M$7-$L$7=M13-L13),$AO$8,IF(OR(EXACT($L$7>$M$7,L13>M13)*EXACT($L$7=$M$7,L13=M13)*EXACT($L$7<$M$7,L13<M13)),$AO$7,0))) -> 0 | O13: 2 | P13: 2 | Q13: =IF(OR(EXACT($O$7,O13)*(EXACT($P$7,P13)))=TRUE,$AO$9,IF(($P$7-$O$7=P13-O13),$AO$8,IF(OR(EXACT($O$7>$P$7,O13>P13)*EXACT($O$7=$P$7,O13=P13)*EXACT($O$7<$P$7,O13<P13)),$AO$7,0))) -> 3 | R13: 1 | S13: 1 | T13: =IF(OR(EXACT($R$7,R13)*(EXACT($S$7,S13)))=TRUE,$AO$9,IF(($S$7-$R$7=S13-R13),$AO$8,IF(OR(EXACT($R$7>$S$7,R13>S13)*EXACT($R$7=$S$7,R13=S13)*EXACT($R$7<$S$7,R13<S13)),$AO$7,0))) -> 0 | U13: 1 | V13: 3 | W13: =IF(OR(EXACT($U$7,U13)*(EXACT($V$7,V13)))=TRUE,$AO$9,IF(($V$7-$U$7=V13-U13),$AO$8,IF(OR(EXACT($U$7>$V$7,U13>V13)*EXACT($U$7=$V$7,U13=V13)*EXACT($U$7<$V$7,U13<V13)),$AO$7,0))) -> 0 | X13: 2 | Y13: 1 | Z13: =IF(OR(EXACT($X$7,X13)*(EXACT($Y$7,Y13)))=TRUE,$AO$9,IF(($Y$7-$X$7=Y13-X13),$AO$8,IF(OR(EXACT($X$7>$Y$7,X13>Y13)*EXACT($X$7=$Y$7,X13=Y13)*EXACT($X$7<$Y$7,X13<Y13)),$AO$7,0))) -> 2 | AA13: 2 | AB13: 0 | AC13: =IF(OR(EXACT($AA$7,AA13)*(EXACT($AB$7,AB13)))=TRUE,$AO$9,IF(($AB$7-$AA$7=AB13-AA13),$AO$8,IF(OR(EXACT($AA$7>$AB$7,AA13>AB13)*EXACT($AA$7=$AB$7,AA13=AB13)*EXACT($AA$7<$AB$7,AA13<AB13)),$AO$7,0))) -> 0 | AG13: =E13+K13+Q13+T13+N13+H13+W13+Z13+AC13+AF13 -> 5 | AJ13: =AG13+AH13 -> 5 | AK13: =RANK(AJ13,$AJ$8:$AJ$26) -> 14
A14: =AK14 -> 5 | B14: Master1 | C14: 2 | D14: 3 | E14: =IF(OR(EXACT($C$7,C14)*(EXACT($D$7,D14)))=TRUE,$AO$9,IF(($D$7-$C$7=D14-C14),$AO$8,IF(OR(EXACT($C$7>$D$7,C14>D14)*EXACT($C$7=$D$7,C14=D14)*EXACT($C$7<$D$7,C14<D14)),$AO$7,0)))*4 -> 0 | F14: 2 | G14: 2 | H14: =IF(OR(EXACT($F$7,F14)*(EXACT($G$7,G14)))=TRUE,$AO$9,IF(($G$7-$F$7=G14-F14),$AO$8,IF(OR(EXACT($F$7>$G$7,F14>G14)*EXACT($F$7=$G$7,F14=G14)*EXACT($F$7<$G$7,F14<G14)),$AO$7,0))) -> 0 | I14: 2 | J14: 1 | K14: =IF(OR(EXACT($I$7,I14)*(EXACT($J$7,J14)))=TRUE,$AO$9,IF(($J$7-$I$7=J14-I14),$AO$8,IF(OR(EXACT($I$7>$J$7,I14>J14)*EXACT($I$7=$J$7,I14=J14)*EXACT($I$7<$J$7,I14<J14)),$AO$7,0))) -> 0 | L14: 1 | M14: 1 | N14: =IF(OR(EXACT($L$7,L14)*(EXACT($M$7,M14)))=TRUE,$AO$9,IF(($M$7-$L$7=M14-L14),$AO$8,IF(OR(EXACT($L$7>$M$7,L14>M14)*EXACT($L$7=$M$7,L14=M14)*EXACT($L$7<$M$7,L14<M14)),$AO$7,0))) -> 0 | O14: 1 | P14: 1 | Q14: =IF(OR(EXACT($O$7,O14)*(EXACT($P$7,P14)))=TRUE,$AO$9,IF(($P$7-$O$7=P14-O14),$AO$8,IF(OR(EXACT($O$7>$P$7,O14>P14)*EXACT($O$7=$P$7,O14=P14)*EXACT($O$7<$P$7,O14<P14)),$AO$7,0))) -> 5 | R14: 2 | S14: 1 | T14: =IF(OR(EXACT($R$7,R14)*(EXACT($S$7,S14)))=TRUE,$AO$9,IF(($S$7-$R$7=S14-R14),$AO$8,IF(OR(EXACT($R$7>$S$7,R14>S14)*EXACT($R$7=$S$7,R14=S14)*EXACT($R$7<$S$7,R14<S14)),$AO$7,0))) -> 3 | U14: 2 | V14: 2 | W14: =IF(OR(EXACT($U$7,U14)*(EXACT($V$7,V14)))=TRUE,$AO$9,IF(($V$7-$U$7=V14-U14),$AO$8,IF(OR(EXACT($U$7>$V$7,U14>V14)*EXACT($U$7=$V$7,U14=V14)*EXACT($U$7<$V$7,U14<V14)),$AO$7,0))) -> 0 | X14: 1 | Y14: 2 | Z14: =IF(OR(EXACT($X$7,X14)*(EXACT($Y$7,Y14)))=TRUE,$AO$9,IF(($Y$7-$X$7=Y14-X14),$AO$8,IF(OR(EXACT($X$7>$Y$7,X14>Y14)*EXACT($X$7=$Y$7,X14=Y14)*EXACT($X$7<$Y$7,X14<Y14)),$AO$7,0))) -> 0 | AA14: 1 | AB14: 3 | AC14: =IF(OR(EXACT($AA$7,AA14)*(EXACT($AB$7,AB14)))=TRUE,$AO$9,IF(($AB$7-$AA$7=AB14-AA14),$AO$8,IF(OR(EXACT($AA$7>$AB$7,AA14>AB14)*EXACT($AA$7=$AB$7,AA14=AB14)*EXACT($AA$7<$AB$7,AA14<AB14)),$AO$7,0))) -> 2 | AG14: =E14+K14+Q14+T14+N14+H14+W14+Z14+AC14+AF14 -> 10 | AJ14: =AG14+AH14 -> 10 | AK14: =RANK(AJ14,$AJ$8:$AJ$26) -> 5
A15: =AK15 -> 16 | B15: Mike04 | C15: 0 | D15: 2 | E15: =IF(OR(EXACT($C$7,C15)*(EXACT($D$7,D15)))=TRUE,$AO$9,IF(($D$7-$C$7=D15-C15),$AO$8,IF(OR(EXACT($C$7>$D$7,C15>D15)*EXACT($C$7=$D$7,C15=D15)*EXACT($C$7<$D$7,C15<D15)),$AO$7,0)))*4 -> 0 | F15: 2 | G15: 1 | H15: =IF(OR(EXACT($F$7,F15)*(EXACT($G$7,G15)))=TRUE,$AO$9,IF(($G$7-$F$7=G15-F15),$AO$8,IF(OR(EXACT($F$7>$G$7,F15>G15)*EXACT($F$7=$G$7,F15=G15)*EXACT($F$7<$G$7,F15<G15)),$AO$7,0))) -> 0 | I15: 1 | J15: 0 | K15: =IF(OR(EXACT($I$7,I15)*(EXACT($J$7,J15)))=TRUE,$AO$9,IF(($J$7-$I$7=J15-I15),$AO$8,IF(OR(EXACT($I$7>$J$7,I15>J15)*EXACT($I$7=$J$7,I15=J15)*EXACT($I$7<$J$7,I15<J15)),$AO$7,0))) -> 0 | L15: 1 | M15: 1 | N15: =IF(OR(EXACT($L$7,L15)*(EXACT($M$7,M15)))=TRUE,$AO$9,IF(($M$7-$L$7=M15-L15),$AO$8,IF(OR(EXACT($L$7>$M$7,L15>M15)*EXACT($L$7=$M$7,L15=M15)*EXACT($L$7<$M$7,L15<M15)),$AO$7,0))) -> 0 | O15: 1 | P15: 2 | Q15: =IF(OR(EXACT($O$7,O15)*(EXACT($P$7,P15)))=TRUE,$AO$9,IF(($P$7-$O$7=P15-O15),$AO$8,IF(OR(EXACT($O$7>$P$7,O15>P15)*EXACT($O$7=$P$7,O15=P15)*EXACT($O$7<$P$7,O15<P15)),$AO$7,0))) -> 0 | R15: 2 | S15: 0 | T15: =IF(OR(EXACT($R$7,R15)*(EXACT($S$7,S15)))=TRUE,$AO$9,IF(($S$7-$R$7=S15-R15),$AO$8,IF(OR(EXACT($R$7>$S$7,R15>S15)*EXACT($R$7=$S$7,R15=S15)*EXACT($R$7<$S$7,R15<S15)),$AO$7,0))) -> 2 | U15: 1 | V15: 2 | W15: =IF(OR(EXACT($U$7,U15)*(EXACT($V$7,V15)))=TRUE,$AO$9,IF(($V$7-$U$7=V15-U15),$AO$8,IF(OR(EXACT($U$7>$V$7,U15>V15)*EXACT($U$7=$V$7,U15=V15)*EXACT($U$7<$V$7,U15<V15)),$AO$7,0))) -> 0 | X15: 1 | Y15: 0 | Z15: =IF(OR(EXACT($X$7,X15)*(EXACT($Y$7,Y15)))=TRUE,$AO$9,IF(($Y$7-$X$7=Y15-X15),$AO$8,IF(OR(EXACT($X$7>$Y$7,X15>Y15)*EXACT($X$7=$Y$7,X15=Y15)*EXACT($X$7<$Y$7,X15<Y15)),$AO$7,0))) -> 2 | AA15: 2 | AB15: 1 | AC15: =IF(OR(EXACT($AA$7,AA15)*(EXACT($AB$7,AB15)))=TRUE,$AO$9,IF(($AB$7-$AA$7=AB15-AA15),$AO$8,IF(OR(EXACT($AA$7>$AB$7,AA15>AB15)*EXACT($AA$7=$AB$7,AA15=AB15)*EXACT($AA$7<$AB$7,AA15<AB15)),$AO$7,0))) -> 0 | AG15: =E15+K15+Q15+T15+N15+H15+W15+Z15+AC15+AF15 -> 4 | AJ15: =AG15+AH15 -> 4 | AK15: =RANK(AJ15,$AJ$8:$AJ$26) -> 16
A16: =AK16 -> 4 | B16: Nico1904 | C16: 1 | D16: 3 | E16: =IF(OR(EXACT($C$7,C16)*(EXACT($D$7,D16)))=TRUE,$AO$9,IF(($D$7-$C$7=D16-C16),$AO$8,IF(OR(EXACT($C$7>$D$7,C16>D16)*EXACT($C$7=$D$7,C16=D16)*EXACT($C$7<$D$7,C16<D16)),$AO$7,0)))*4 -> 0 | F16: 1 | G16: 2 | H16: =IF(OR(EXACT($F$7,F16)*(EXACT($G$7,G16)))=TRUE,$AO$9,IF(($G$7-$F$7=G16-F16),$AO$8,IF(OR(EXACT($F$7>$G$7,F16>G16)*EXACT($F$7=$G$7,F16=G16)*EXACT($F$7<$G$7,F16<G16)),$AO$7,0))) -> 5 | I16: 2 | J16: 0 | K16: =IF(OR(EXACT($I$7,I16)*(EXACT($J$7,J16)))=TRUE,$AO$9,IF(($J$7-$I$7=J16-I16),$AO$8,IF(OR(EXACT($I$7>$J$7,I16>J16)*EXACT($I$7=$J$7,I16=J16)*EXACT($I$7<$J$7,I16<J16)),$AO$7,0))) -> 0 | L16: 1 | M16: 2 | N16: =IF(OR(EXACT($L$7,L16)*(EXACT($M$7,M16)))=TRUE,$AO$9,IF(($M$7-$L$7=M16-L16),$AO$8,IF(OR(EXACT($L$7>$M$7,L16>M16)*EXACT($L$7=$M$7,L16=M16)*EXACT($L$7<$M$7,L16<M16)),$AO$7,0))) -> 3 | O16: 1 | P16: 2 | Q16: =IF(OR(EXACT($O$7,O16)*(EXACT($P$7,P16)))=TRUE,$AO$9,IF(($P$7-$O$7=P16-O16),$AO$8,IF(OR(EXACT($O$7>$P$7,O16>P16)*EXACT($O$7=$P$7,O16=P16)*EXACT($O$7<$P$7,O16<P16)),$AO$7,0))) -> 0 | R16: 1 | S16: 2 | T16: =IF(OR(EXACT($R$7,R16)*(EXACT($S$7,S16)))=TRUE,$AO$9,IF(($S$7-$R$7=S16-R16),$AO$8,IF(OR(EXACT($R$7>$S$7,R16>S16)*EXACT($R$7=$S$7,R16=S16)*EXACT($R$7<$S$7,R16<S16)),$AO$7,0))) -> 0 | U16: 1 | V16: 1 | W16: =IF(OR(EXACT($U$7,U16)*(EXACT($V$7,V16)))=TRUE,$AO$9,IF(($V$7-$U$7=V16-U16),$AO$8,IF(OR(EXACT($U$7>$V$7,U16>V16)*EXACT($U$7=$V$7,U16=V16)*EXACT($U$7<$V$7,U16<V16)),$AO$7,0))) -> 0 | X16: 1 | Y16: 2 | Z16: =IF(OR(EXACT($X$7,X16)*(EXACT($Y$7,Y16)))=TRUE,$AO$9,IF(($Y$7-$X$7=Y16-X16),$AO$8,IF(OR(EXACT($X$7>$Y$7,X16>Y16)*EXACT($X$7=$Y$7,X16=Y16)*EXACT($X$7<$Y$7,X16<Y16)),$AO$7,0))) -> 0 | AA16: 1 | AB16: 2 | AC16: =IF(OR(EXACT($AA$7,AA16)*(EXACT($AB$7,AB16)))=TRUE,$AO$9,IF(($AB$7-$AA$7=AB16-AA16),$AO$8,IF(OR(EXACT($AA$7>$AB$7,AA16>AB16)*EXACT($AA$7=$AB$7,AA16=AB16)*EXACT($AA$7<$AB$7,AA16<AB16)),$AO$7,0))) -> 3 | AG16: =E16+K16+Q16+T16+N16+H16+W16+Z16+AC16+AF16 -> 11 | AJ16: =AG16+AH16 -> 11 | AK16: =RANK(AJ16,$AJ$8:$AJ$26) -> 4
A17: =AK17 -> 9 | B17: Reinhold | C17: 2 | D17: 3 | E17: =IF(OR(EXACT($C$7,C17)*(EXACT($D$7,D17)))=TRUE,$AO$9,IF(($D$7-$C$7=D17-C17),$AO$8,IF(OR(EXACT($C$7>$D$7,C17>D17)*EXACT($C$7=$D$7,C17=D17)*EXACT($C$7<$D$7,C17<D17)),$AO$7,0)))*4 -> 0 | F17: 3 | G17: 1 | H17: =IF(OR(EXACT($F$7,F17)*(EXACT($G$7,G17)))=TRUE,$AO$9,IF(($G$7-$F$7=G17-F17),$AO$8,IF(OR(EXACT($F$7>$G$7,F17>G17)*EXACT($F$7=$G$7,F17=G17)*EXACT($F$7<$G$7,F17<G17)),$AO$7,0))) -> 0 | I17: 2 | J17: 1 | K17: =IF(OR(EXACT($I$7,I17)*(EXACT($J$7,J17)))=TRUE,$AO$9,IF(($J$7-$I$7=J17-I17),$AO$8,IF(OR(EXACT($I$7>$J$7,I17>J17)*EXACT($I$7=$J$7,I17=J17)*EXACT($I$7<$J$7,I17<J17)),$AO$7,0))) -> 0 | L17: 2 | M17: 1 | N17: =IF(OR(EXACT($L$7,L17)*(EXACT($M$7,M17)))=TRUE,$AO$9,IF(($M$7-$L$7=M17-L17),$AO$8,IF(OR(EXACT($L$7>$M$7,L17>M17)*EXACT($L$7=$M$7,L17=M17)*EXACT($L$7<$M$7,L17<M17)),$AO$7,0))) -> 0 | O17: 2 | P17: 3 | Q17: =IF(OR(EXACT($O$7,O17)*(EXACT($P$7,P17)))=TRUE,$AO$9,IF(($P$7-$O$7=P17-O17),$AO$8,IF(OR(EXACT($O$7>$P$7,O17>P17)*EXACT($O$7=$P$7,O17=P17)*EXACT($O$7<$P$7,O17<P17)),$AO$7,0))) -> 0 | R17: 2 | S17: 0 | T17: =IF(OR(EXACT($R$7,R17)*(EXACT($S$7,S17)))=TRUE,$AO$9,IF(($S$7-$R$7=S17-R17),$AO$8,IF(OR(EXACT($R$7>$S$7,R17>S17)*EXACT($R$7=$S$7,R17=S17)*EXACT($R$7<$S$7,R17<S17)),$AO$7,0))) -> 2 | U17: 2 | V17: 4 | W17: =IF(OR(EXACT($U$7,U17)*(EXACT($V$7,V17)))=TRUE,$AO$9,IF(($V$7-$U$7=V17-U17),$AO$8,IF(OR(EXACT($U$7>$V$7,U17>V17)*EXACT($U$7=$V$7,U17=V17)*EXACT($U$7<$V$7,U17<V17)),$AO$7,0))) -> 0 | X17: 3 | Y17: 1 | Z17: =IF(OR(EXACT($X$7,X17)*(EXACT($Y$7,Y17)))=TRUE,$AO$9,IF(($Y$7-$X$7=Y17-X17),$AO$8,IF(OR(EXACT($X$7>$Y$7,X17>Y17)*EXACT($X$7=$Y$7,X17=Y17)*EXACT($X$7<$Y$7,X17<Y17)),$AO$7,0))) -> 3 | AA17: 2 | AB17: 3 | AC17: =IF(OR(EXACT($AA$7,AA17)*(EXACT($AB$7,AB17)))=TRUE,$AO$9,IF(($AB$7-$AA$7=AB17-AA17),$AO$8,IF(OR(EXACT($AA$7>$AB$7,AA17>AB17)*EXACT($AA$7=$AB$7,AA17=AB17)*EXACT($AA$7<$AB$7,AA17<AB17)),$AO$7,0))) -> 3 | AG17: =E17+K17+Q17+T17+N17+H17+W17+Z17+AC17+AF17 -> 8 | AJ17: =AG17+AH17 -> 8 | AK17: =RANK(AJ17,$AJ$8:$AJ$26) -> 9
A18: =AK18 -> 12 | B18: Ricardo04 | C18: 1 | D18: 3 | E18: =IF(OR(EXACT($C$7,C18)*(EXACT($D$7,D18)))=TRUE,$AO$9,IF(($D$7-$C$7=D18-C18),$AO$8,IF(OR(EXACT($C$7>$D$7,C18>D18)*EXACT($C$7=$D$7,C18=D18)*EXACT($C$7<$D$7,C18<D18)),$AO$7,0)))*4 -> 0 | F18: 1 | G18: 0 | H18: =IF(OR(EXACT($F$7,F18)*(EXACT($G$7,G18)))=TRUE,$AO$9,IF(($G$7-$F$7=G18-F18),$AO$8,IF(OR(EXACT($F$7>$G$7,F18>G18)*EXACT($F$7=$G$7,F18=G18)*EXACT($F$7<$G$7,F18<G18)),$AO$7,0))) -> 0 | I18: 2 | J18: 0 | K18: =IF(OR(EXACT($I$7,I18)*(EXACT($J$7,J18)))=TRUE,$AO$9,IF(($J$7-$I$7=J18-I18),$AO$8,IF(OR(EXACT($I$7>$J$7,I18>J18)*EXACT($I$7=$J$7,I18=J18)*EXACT($I$7<$J$7,I18<J18)),$AO$7,0))) -> 0 | L18: 1 | M18: 2 | N18: =IF(OR(EXACT($L$7,L18)*(EXACT($M$7,M18)))=TRUE,$AO$9,IF(($M$7-$L$7=M18-L18),$AO$8,IF(OR(EXACT($L$7>$M$7,L18>M18)*EXACT($L$7=$M$7,L18=M18)*EXACT($L$7<$M$7,L18<M18)),$AO$7,0))) -> 3 | O18: 1 | P18: 2 | Q18: =IF(OR(EXACT($O$7,O18)*(EXACT($P$7,P18)))=TRUE,$AO$9,IF(($P$7-$O$7=P18-O18),$AO$8,IF(OR(EXACT($O$7>$P$7,O18>P18)*EXACT($O$7=$P$7,O18=P18)*EXACT($O$7<$P$7,O18<P18)),$AO$7,0))) -> 0 | R18: 1 | S18: 2 | T18: =IF(OR(EXACT($R$7,R18)*(EXACT($S$7,S18)))=TRUE,$AO$9,IF(($S$7-$R$7=S18-R18),$AO$8,IF(OR(EXACT($R$7>$S$7,R18>S18)*EXACT($R$7=$S$7,R18=S18)*EXACT($R$7<$S$7,R18<S18)),$AO$7,0))) -> 0 | U18: 0 | V18: 2 | W18: =IF(OR(EXACT($U$7,U18)*(EXACT($V$7,V18)))=TRUE,$AO$9,IF(($V$7-$U$7=V18-U18),$AO$8,IF(OR(EXACT($U$7>$V$7,U18>V18)*EXACT($U$7=$V$7,U18=V18)*EXACT($U$7<$V$7,U18<V18)),$AO$7,0))) -> 0 | X18: 1 | Y18: 2 | Z18: =IF(OR(EXACT($X$7,X18)*(EXACT($Y$7,Y18)))=TRUE,$AO$9,IF(($Y$7-$X$7=Y18-X18),$AO$8,IF(OR(EXACT($X$7>$Y$7,X18>Y18)*EXACT($X$7=$Y$7,X18=Y18)*EXACT($X$7<$Y$7,X18<Y18)),$AO$7,0))) -> 0 | AA18: 1 | AB18: 2 | AC18: =IF(OR(EXACT($AA$7,AA18)*(EXACT($AB$7,AB18)))=TRUE,$AO$9,IF(($AB$7-$AA$7=AB18-AA18),$AO$8,IF(OR(EXACT($AA$7>$AB$7,AA18>AB18)*EXACT($AA$7=$AB$7,AA18=AB18)*EXACT($AA$7<$AB$7,AA18<AB18)),$AO$7,0))) -> 3 | AG18: =E18+K18+Q18+T18+N18+H18+W18+Z18+AC18+AF18 -> 6 | AJ18: =AG18+AH18 -> 6 | AK18: =RANK(AJ18,$AJ$8:$AJ$26) -> 12
A19: =AK19 -> 11 | B19: Schalt04 | C19: 1 | D19: 3 | E19: =IF(OR(EXACT($C$7,C19)*(EXACT($D$7,D19)))=TRUE,$AO$9,IF(($D$7-$C$7=D19-C19),$AO$8,IF(OR(EXACT($C$7>$D$7,C19>D19)*EXACT($C$7=$D$7,C19=D19)*EXACT($C$7<$D$7,C19<D19)),$AO$7,0)))*4 -> 0 | F19: 1 | G19: 1 | H19: =IF(OR(EXACT($F$7,F19)*(EXACT($G$7,G19)))=TRUE,$AO$9,IF(($G$7-$F$7=G19-F19),$AO$8,IF(OR(EXACT($F$7>$G$7,F19>G19)*EXACT($F$7=$G$7,F19=G19)*EXACT($F$7<$G$7,F19<G19)),$AO$7,0))) -> 0 | I19: 3 | J19: 0 | K19: =IF(OR(EXACT($I$7,I19)*(EXACT($J$7,J19)))=TRUE,$AO$9,IF(($J$7-$I$7=J19-I19),$AO$8,IF(OR(EXACT($I$7>$J$7,I19>J19)*EXACT($I$7=$J$7,I19=J19)*EXACT($I$7<$J$7,I19<J19)),$AO$7,0))) -> 0 | L19: 1 | M19: 2 | N19: =IF(OR(EXACT($L$7,L19)*(EXACT($M$7,M19)))=TRUE,$AO$9,IF(($M$7-$L$7=M19-L19),$AO$8,IF(OR(EXACT($L$7>$M$7,L19>M19)*EXACT($L$7=$M$7,L19=M19)*EXACT($L$7<$M$7,L19<M19)),$AO$7,0))) -> 3 | O19: 1 | P19: 2 | Q19: =IF(OR(EXACT($O$7,O19)*(EXACT($P$7,P19)))=TRUE,$AO$9,IF(($P$7-$O$7=P19-O19),$AO$8,IF(OR(EXACT($O$7>$P$7,O19>P19)*EXACT($O$7=$P$7,O19=P19)*EXACT($O$7<$P$7,O19<P19)),$AO$7,0))) -> 0 | R19: 2 | S19: 0 | T19: =IF(OR(EXACT($R$7,R19)*(EXACT($S$7,S19)))=TRUE,$AO$9,IF(($S$7-$R$7=S19-R19),$AO$8,IF(OR(EXACT($R$7>$S$7,R19>S19)*EXACT($R$7=$S$7,R19=S19)*EXACT($R$7<$S$7,R19<S19)),$AO$7,0))) -> 2 | U19: 0 | V19: 1 | W19: =IF(OR(EXACT($U$7,U19)*(EXACT($V$7,V19)))=TRUE,$AO$9,IF(($V$7-$U$7=V19-U19),$AO$8,IF(OR(EXACT($U$7>$V$7,U19>V19)*EXACT($U$7=$V$7,U19=V19)*EXACT($U$7<$V$7,U19<V19)),$AO$7,0))) -> 0 | X19: 0 | Y19: 2 | Z19: =IF(OR(EXACT($X$7,X19)*(EXACT($Y$7,Y19)))=TRUE,$AO$9,IF(($Y$7-$X$7=Y19-X19),$AO$8,IF(OR(EXACT($X$7>$Y$7,X19>Y19)*EXACT($X$7=$Y$7,X19=Y19)*EXACT($X$7<$Y$7,X19<Y19)),$AO$7,0))) -> 0 | AA19: 1 | AB19: 3 | AC19: =IF(OR(EXACT($AA$7,AA19)*(EXACT($AB$7,AB19)))=TRUE,$AO$9,IF(($AB$7-$AA$7=AB19-AA19),$AO$8,IF(OR(EXACT($AA$7>$AB$7,AA19>AB19)*EXACT($AA$7=$AB$7,AA19=AB19)*EXACT($AA$7<$AB$7,AA19<AB19)),$AO$7,0))) -> 2 | AG19: =E19+K19+Q19+T19+N19+H19+W19+Z19+AC19+AF19 -> 7 | AJ19: =AG19+AH19 -> 7 | AK19: =RANK(AJ19,$AJ$8:$AJ$26) -> 11
A20: =AK20 -> 12 | B20: schmiddi04 | C20: 0 | D20: 1 | E20: =IF(OR(EXACT($C$7,C20)*(EXACT($D$7,D20)))=TRUE,$AO$9,IF(($D$7-$C$7=D20-C20),$AO$8,IF(OR(EXACT($C$7>$D$7,C20>D20)*EXACT($C$7=$D$7,C20=D20)*EXACT($C$7<$D$7,C20<D20)),$AO$7,0)))*4 -> 0 | F20: 0 | G20: 1 | H20: =IF(OR(EXACT($F$7,F20)*(EXACT($G$7,G20)))=TRUE,$AO$9,IF(($G$7-$F$7=G20-F20),$AO$8,IF(OR(EXACT($F$7>$G$7,F20>G20)*EXACT($F$7=$G$7,F20=G20)*EXACT($F$7<$G$7,F20<G20)),$AO$7,0))) -> 3 | I20: 2 | J20: 0 | K20: =IF(OR(EXACT($I$7,I20)*(EXACT($J$7,J20)))=TRUE,$AO$9,IF(($J$7-$I$7=J20-I20),$AO$8,IF(OR(EXACT($I$7>$J$7,I20>J20)*EXACT($I$7=$J$7,I20=J20)*EXACT($I$7<$J$7,I20<J20)),$AO$7,0))) -> 0 | L20: 1 | M20: 1 | N20: =IF(OR(EXACT($L$7,L20)*(EXACT($M$7,M20)))=TRUE,$AO$9,IF(($M$7-$L$7=M20-L20),$AO$8,IF(OR(EXACT($L$7>$M$7,L20>M20)*EXACT($L$7=$M$7,L20=M20)*EXACT($L$7<$M$7,L20<M20)),$AO$7,0))) -> 0 | O20: 0 | P20: 1 | Q20: =IF(OR(EXACT($O$7,O20)*(EXACT($P$7,P20)))=TRUE,$AO$9,IF(($P$7-$O$7=P20-O20),$AO$8,IF(OR(EXACT($O$7>$P$7,O20>P20)*EXACT($O$7=$P$7,O20=P20)*EXACT($O$7<$P$7,O20<P20)),$AO$7,0))) -> 0 | R20: 0 | S20: 0 | T20: =IF(OR(EXACT($R$7,R20)*(EXACT($S$7,S20)))=TRUE,$AO$9,IF(($S$7-$R$7=S20-R20),$AO$8,IF(OR(EXACT($R$7>$S$7,R20>S20)*EXACT($R$7=$S$7,R20=S20)*EXACT($R$7<$S$7,R20<S20)),$AO$7,0))) -> 0 | U20: 1 | V20: 2 | W20: =IF(OR(EXACT($U$7,U20)*(EXACT($V$7,V20)))=TRUE,$AO$9,IF(($V$7-$U$7=V20-U20),$AO$8,IF(OR(EXACT($U$7>$V$7,U20>V20)*EXACT($U$7=$V$7,U20=V20)*EXACT($U$7<$V$7,U20<V20)),$AO$7,0))) -> 0 | X20: 0 | Y20: 1 | Z20: =IF(OR(EXACT($X$7,X20)*(EXACT($Y$7,Y20)))=TRUE,$AO$9,IF(($Y$7-$X$7=Y20-X20),#REF!,IF(OR(EXACT($X$7>$Y$7,X20>Y20)*EXACT($X$7=$Y$7,X20=Y20)*EXACT($X$7<$Y$7,X20<Y20)),$AO$7,0))) -> 0 | AA20: 1 | AB20: 2 | AC20: =IF(OR(EXACT($AA$7,AA20)*(EXACT($AB$7,AB20)))=TRUE,$AO$9,IF(($AB$7-$AA$7=AB20-AA20),$AO$8,IF(OR(EXACT($AA$7>$AB$7,AA20>AB20)*EXACT($AA$7=$AB$7,AA20=AB20)*EXACT($AA$7<$AB$7,AA20<AB20)),$AO$7,0))) -> 3 | AG20: =E20+K20+Q20+T20+N20+H20+W20+Z20+AC20+AF20 -> 6 | AJ20: =AG20+AH20 -> 6 | AK20: =RANK(AJ20,$AJ$8:$AJ$26) -> 12
A21: =AK21 -> 1 | B21: shiny | C21: 1 | D21: 2 | E21: =IF(OR(EXACT($C$7,C21)*(EXACT($D$7,D21)))=TRUE,$AO$9,IF(($D$7-$C$7=D21-C21),$AO$8,IF(OR(EXACT($C$7>$D$7,C21>D21)*EXACT($C$7=$D$7,C21=D21)*EXACT($C$7<$D$7,C21<D21)),$AO$7,0)))*4 -> 0 | F21: 1 | G21: 2 | H21: =IF(OR(EXACT($F$7,F21)*(EXACT($G$7,G21)))=TRUE,$AO$9,IF(($G$7-$F$7=G21-F21),$AO$8,IF(OR(EXACT($F$7>$G$7,F21>G21)*EXACT($F$7=$G$7,F21=G21)*EXACT($F$7<$G$7,F21<G21)),$AO$7,0))) -> 5 | I21: 2 | J21: 0 | K21: =IF(OR(EXACT($I$7,I21)*(EXACT($J$7,J21)))=TRUE,$AO$9,IF(($J$7-$I$7=J21-I21),$AO$8,IF(OR(EXACT($I$7>$J$7,I21>J21)*EXACT($I$7=$J$7,I21=J21)*EXACT($I$7<$J$7,I21<J21)),$AO$7,0))) -> 0 | L21: 1 | M21: 2 | N21: =IF(OR(EXACT($L$7,L21)*(EXACT($M$7,M21)))=TRUE,$AO$9,IF(($M$7-$L$7=M21-L21),$AO$8,IF(OR(EXACT($L$7>$M$7,L21>M21)*EXACT($L$7=$M$7,L21=M21)*EXACT($L$7<$M$7,L21<M21)),$AO$7,0))) -> 3 | O21: 1 | P21: 2 | Q21: =IF(OR(EXACT($O$7,O21)*(EXACT($P$7,P21)))=TRUE,$AO$9,IF(($P$7-$O$7=P21-O21),$AO$8,IF(OR(EXACT($O$7>$P$7,O21>P21)*EXACT($O$7=$P$7,O21=P21)*EXACT($O$7<$P$7,O21<P21)),$AO$7,0))) -> 0 | R21: 2 | S21: 1 | T21: =IF(OR(EXACT($R$7,R21)*(EXACT($S$7,S21)))=TRUE,$AO$9,IF(($S$7-$R$7=S21-R21),$AO$8,IF(OR(EXACT($R$7>$S$7,R21>S21)*EXACT($R$7=$S$7,R21=S21)*EXACT($R$7<$S$7,R21<S21)),$AO$7,0))) -> 3 | U21: 1 | V21: 2 | W21: =IF(OR(EXACT($U$7,U21)*(EXACT($V$7,V21)))=TRUE,$AO$9,IF(($V$7-$U$7=V21-U21),$AO$8,IF(OR(EXACT($U$7>$V$7,U21>V21)*EXACT($U$7=$V$7,U21=V21)*EXACT($U$7<$V$7,U21<V21)),$AO$7,0))) -> 0 | X21: 1 | Y21: 1 | Z21: =IF(OR(EXACT($X$7,X21)*(EXACT($Y$7,Y21)))=TRUE,$AO$9,IF(($Y$7-$X$7=Y21-X21),$AO16,IF(OR(EXACT($X$7>$Y$7,X21>Y21)*EXACT($X$7=$Y$7,X21=Y21)*EXACT($X$7<$Y$7,X21<Y21)),$AO$7,0))) -> 0 | AA21: 1 | AB21: 2 | AC21: =IF(OR(EXACT($AA$7,AA21)*(EXACT($AB$7,AB21)))=TRUE,$AO$9,IF(($AB$7-$AA$7=AB21-AA21),$AO$8,IF(OR(EXACT($AA$7>$AB$7,AA21>AB21)*EXACT($AA$7=$AB$7,AA21=AB21)*EXACT($AA$7<$AB$7,AA21<AB21)),$AO$7,0))) -> 3 | AG21: =E21+K21+Q21+T21+N21+H21+W21+Z21+AC21+AF21 -> 14 | AJ21: =AG21+AH21 -> 14 | AK21: =RANK(AJ21,$AJ$8:$AJ$26) -> 1
A22: =AK22 -> 17 | B22: Tanja04 | C22: 1 | D22: 2 | E22: =IF(OR(EXACT($C$7,C22)*(EXACT($D$7,D22)))=TRUE,$AO$9,IF(($D$7-$C$7=D22-C22),$AO$8,IF(OR(EXACT($C$7>$D$7,C22>D22)*EXACT($C$7=$D$7,C22=D22)*EXACT($C$7<$D$7,C22<D22)),$AO$7,0)))*4 -> 0 | F22: 1 | G22: 1 | H22: =IF(OR(EXACT($F$7,F22)*(EXACT($G$7,G22)))=TRUE,$AO$9,IF(($G$7-$F$7=G22-F22),$AO$8,IF(OR(EXACT($F$7>$G$7,F22>G22)*EXACT($F$7=$G$7,F22=G22)*EXACT($F$7<$G$7,F22<G22)),$AO$7,0))) -> 0 | I22: 0 | J22: 1 | K22: =IF(OR(EXACT($I$7,I22)*(EXACT($J$7,J22)))=TRUE,$AO$9,IF(($J$7-$I$7=J22-I22),$AO$8,IF(OR(EXACT($I$7>$J$7,I22>J22)*EXACT($I$7=$J$7,I22=J22)*EXACT($I$7<$J$7,I22<J22)),$AO$7,0))) -> 0 | L22: 2 | M22: 1 | N22: =IF(OR(EXACT($L$7,L22)*(EXACT($M$7,M22)))=TRUE,$AO$9,IF(($M$7-$L$7=M22-L22),$AO$8,IF(OR(EXACT($L$7>$M$7,L22>M22)*EXACT($L$7=$M$7,L22=M22)*EXACT($L$7<$M$7,L22<M22)),$AO$7,0))) -> 0 | O22: 2 | P22: 1 | Q22: =IF(OR(EXACT($O$7,O22)*(EXACT($P$7,P22)))=TRUE,$AO$9,IF(($P$7-$O$7=P22-O22),$AO$8,IF(OR(EXACT($O$7>$P$7,O22>P22)*EXACT($O$7=$P$7,O22=P22)*EXACT($O$7<$P$7,O22<P22)),$AO$7,0))) -> 0 | R22: 2 | S22: 2 | T22: =IF(OR(EXACT($R$7,R22)*(EXACT($S$7,S22)))=TRUE,$AO$9,IF(($S$7-$R$7=S22-R22),$AO$8,IF(OR(EXACT($R$7>$S$7,R22>S22)*EXACT($R$7=$S$7,R22=S22)*EXACT($R$7<$S$7,R22<S22)),$AO$7,0))) -> 0 | U22: 2 | V22: 1 | W22: =IF(OR(EXACT($U$7,U22)*(EXACT($V$7,V22)))=TRUE,$AO$9,IF(($V$7-$U$7=V22-U22),$AO$8,IF(OR(EXACT($U$7>$V$7,U22>V22)*EXACT($U$7=$V$7,U22=V22)*EXACT($U$7<$V$7,U22<V22)),$AO$7,0))) -> 2 | X22: 1 | Y22: 1 | Z22: =IF(OR(EXACT($X$7,X22)*(EXACT($Y$7,Y22)))=TRUE,$AO$9,IF(($Y$7-$X$7=Y22-X22),$AO$8,IF(OR(EXACT($X$7>$Y$7,X22>Y22)*EXACT($X$7=$Y$7,X22=Y22)*EXACT($X$7<$Y$7,X22<Y22)),$AO$7,0))) -> 0 | AA22: 2 | AB22: 0 | AC22: =IF(OR(EXACT($AA$7,AA22)*(EXACT($AB$7,AB22)))=TRUE,$AO$9,IF(($AB$7-$AA$7=AB22-AA22),$AO$8,IF(OR(EXACT($AA$7>$AB$7,AA22>AB22)*EXACT($AA$7=$AB$7,AA22=AB22)*EXACT($AA$7<$AB$7,AA22<AB22)),$AO$7,0))) -> 0 | AG22: =E22+K22+Q22+T22+N22+H22+W22+Z22+AC22+AF22 -> 2 | AJ22: =AG22+AH22 -> 2 | AK22: =RANK(AJ22,$AJ$8:$AJ$26) -> 17
A23: =AK23 -> 6 | B23: Thomas Bülles | C23: 0 | D23: 1 | E23: =IF(OR(EXACT($C$7,C23)*(EXACT($D$7,D23)))=TRUE,$AO$9,IF(($D$7-$C$7=D23-C23),$AO$8,IF(OR(EXACT($C$7>$D$7,C23>D23)*EXACT($C$7=$D$7,C23=D23)*EXACT($C$7<$D$7,C23<D23)),$AO$7,0)))*4 -> 0 | F23: 2 | G23: 1 | H23: =IF(OR(EXACT($F$7,F23)*(EXACT($G$7,G23)))=TRUE,$AO$9,IF(($G$7-$F$7=G23-F23),$AO$8,IF(OR(EXACT($F$7>$G$7,F23>G23)*EXACT($F$7=$G$7,F23=G23)*EXACT($F$7<$G$7,F23<G23)),$AO$7,0))) -> 0 | I23: 3 | J23: 0 | K23: =IF(OR(EXACT($I$7,I23)*(EXACT($J$7,J23)))=TRUE,$AO$9,IF(($J$7-$I$7=J23-I23),$AO$8,IF(OR(EXACT($I$7>$J$7,I23>J23)*EXACT($I$7=$J$7,I23=J23)*EXACT($I$7<$J$7,I23<J23)),$AO$7,0))) -> 0 | L23: 1 | M23: 1 | N23: =IF(OR(EXACT($L$7,L23)*(EXACT($M$7,M23)))=TRUE,$AO$9,IF(($M$7-$L$7=M23-L23),$AO$8,IF(OR(EXACT($L$7>$M$7,L23>M23)*EXACT($L$7=$M$7,L23=M23)*EXACT($L$7<$M$7,L23<M23)),$AO$7,0))) -> 0 | O23: 0 | P23: 1 | Q23: =IF(OR(EXACT($O$7,O23)*(EXACT($P$7,P23)))=TRUE,$AO$9,IF(($P$7-$O$7=P23-O23),$AO$8,IF(OR(EXACT($O$7>$P$7,O23>P23)*EXACT($O$7=$P$7,O23=P23)*EXACT($O$7<$P$7,O23<P23)),$AO$7,0))) -> 0 | R23: 2 | S23: 1 | T23: =IF(OR(EXACT($R$7,R23)*(EXACT($S$7,S23)))=TRUE,$AO$9,IF(($S$7-$R$7=S23-R23),$AO$8,IF(OR(EXACT($R$7>$S$7,R23>S23)*EXACT($R$7=$S$7,R23=S23)*EXACT($R$7<$S$7,R23<S23)),$AO$7,0))) -> 3 | U23: 2 | V23: 1 | W23: =IF(OR(EXACT($U$7,U23)*(EXACT($V$7,V23)))=TRUE,$AO$9,IF(($V$7-$U$7=V23-U23),$AO$8,IF(OR(EXACT($U$7>$V$7,U23>V23)*EXACT($U$7=$V$7,U23=V23)*EXACT($U$7<$V$7,U23<V23)),$AO$7,0))) -> 2 | X23: 1 | Y23: 0 | Z23: =IF(OR(EXACT($X$7,X23)*(EXACT($Y$7,Y23)))=TRUE,$AO$9,IF(($Y$7-$X$7=Y23-X23),#REF!,IF(OR(EXACT($X$7>$Y$7,X23>Y23)*EXACT($X$7=$Y$7,X23=Y23)*EXACT($X$7<$Y$7,X23<Y23)),$AO$7,0))) -> 2 | AA23: 1 | AB23: 3 | AC23: =IF(OR(EXACT($AA$7,AA23)*(EXACT($AB$7,AB23)))=TRUE,$AO$9,IF(($AB$7-$AA$7=AB23-AA23),$AO$8,IF(OR(EXACT($AA$7>$AB$7,AA23>AB23)*EXACT($AA$7=$AB$7,AA23=AB23)*EXACT($AA$7<$AB$7,AA23<AB23)),$AO$7,0))) -> 2 | AG23: =E23+K23+Q23+T23+N23+H23+W23+Z23+AC23+AF23 -> 9 | AJ23: =AG23+AH23 -> 9 | AK23: =RANK(AJ23,$AJ$8:$AJ$26) -> 6
A24: =AK24 -> 14 | B24: UltraGE | C24: 2 | D24: 2 | E24: =IF(OR(EXACT($C$7,C24)*(EXACT($D$7,D24)))=TRUE,$AO$9,IF(($D$7-$C$7=D24-C24),$AO$8,IF(OR(EXACT($C$7>$D$7,C24>D24)*EXACT($C$7=$D$7,C24=D24)*EXACT($C$7<$D$7,C24<D24)),$AO$7,0)))*2 -> 0 | F24: 1 | G24: 2 | H24: =IF(OR(EXACT($F$7,F24)*(EXACT($G$7,G24)))=TRUE,$AO$9,IF(($G$7-$F$7=G24-F24),$AO$8,IF(OR(EXACT($F$7>$G$7,F24>G24)*EXACT($F$7=$G$7,F24=G24)*EXACT($F$7<$G$7,F24<G24)),$AO$7,0))) -> 5 | I24: 2 | J24: 1 | K24: =IF(OR(EXACT($I$7,I24)*(EXACT($J$7,J24)))=TRUE,$AO$9,IF(($J$7-$I$7=J24-I24),$AO$8,IF(OR(EXACT($I$7>$J$7,I24>J24)*EXACT($I$7=$J$7,I24=J24)*EXACT($I$7<$J$7,I24<J24)),$AO$7,0))) -> 0 | L24: 1 | M24: 1 | N24: =IF(OR(EXACT($L$7,L24)*(EXACT($M$7,M24)))=TRUE,$AO$9,IF(($M$7-$L$7=M24-L24),$AO$8,IF(OR(EXACT($L$7>$M$7,L24>M24)*EXACT($L$7=$M$7,L24=M24)*EXACT($L$7<$M$7,L24<M24)),$AO$7,0))) -> 0 | O24: 1 | P24: 2 | Q24: =IF(OR(EXACT($O$7,O24)*(EXACT($P$7,P24)))=TRUE,$AO$9,IF(($P$7-$O$7=P24-O24),$AO$8,IF(OR(EXACT($O$7>$P$7,O24>P24)*EXACT($O$7=$P$7,O24=P24)*EXACT($O$7<$P$7,O24<P24)),$AO$7,0))) -> 0 | R24: 1 | S24: 2 | T24: =IF(OR(EXACT($R$7,R24)*(EXACT($S$7,S24)))=TRUE,$AO$9,IF(($S$7-$R$7=S24-R24),$AO$8,IF(OR(EXACT($R$7>$S$7,R24>S24)*EXACT($R$7=$S$7,R24=S24)*EXACT($R$7<$S$7,R24<S24)),$AO$7,0))) -> 0 | U24: 1 | V24: 2 | W24: =IF(OR(EXACT($U$7,U24)*(EXACT($V$7,V24)))=TRUE,$AO$9,IF(($V$7-$U$7=V24-U24),$AO$8,IF(OR(EXACT($U$7>$V$7,U24>V24)*EXACT($U$7=$V$7,U24=V24)*EXACT($U$7<$V$7,U24<V24)),$AO$7,0))) -> 0 | X24: 1 | Y24: 2 | Z24: =IF(OR(EXACT($X$7,X24)*(EXACT($Y$7,Y24)))=TRUE,$AO$9,IF(($Y$7-$X$7=Y24-X24),$AO$8,IF(OR(EXACT($X$7>$Y$7,X24>Y24)*EXACT($X$7=$Y$7,X24=Y24)*EXACT($X$7<$Y$7,X24<Y24)),$AO$7,0))) -> 0 | AA24: 3 | AB24: 1 | AC24: =IF(OR(EXACT($AA$7,AA24)*(EXACT($AB$7,AB24)))=TRUE,$AO$9,IF(($AB$7-$AA$7=AB24-AA24),$AO$8,IF(OR(EXACT($AA$7>$AB$7,AA24>AB24)*EXACT($AA$7=$AB$7,AA24=AB24)*EXACT($AA$7<$AB$7,AA24<AB24)),$AO$7,0))) -> 0 | AG24: =E24+K24+Q24+T24+N24+H24+W24+Z24+AC24+AF24 -> 5 | AJ24: =AG24+AH24 -> 5 | AK24: =RANK(AJ24,$AJ$8:$AJ$26) -> 14
A25: =AK25 -> 18 | B25: frahe | AG25: =E25+K25+Q25+T25+N25+H25+W25+Z25+AC25+AF25 -> 0 | AJ25: =AG25+AH25 -> 0 | AK25: =RANK(AJ25,$AJ$8:$AJ$26) -> 18
A26: =AK26 -> 18 | AG26: =E26+K26+Q26+T26+N26+H26+W26+Z26+AC26+AF26 -> 0 | AJ26: =AG26+AH26 -> 0 | AK26: =RANK(AJ26,$AJ$8:$AJ$26) -> 18

Sheet 2.Spieltag 
A4: 2. Spieltag | C4: Hertha BSC | F4: Paderborn | I4: St. Pauli | L4: Kiel | O4: Elversberg | R4: Schalke 04 | U4: Karlsruhe | X4: Magdeburg | AA4: Nürnberg
AG5: G E S A M T W E R T U N G
C6: Wiesbaden | F6: Osnabrück | I6: Düsseldorf | L6: Fürth | O6: Rostock | R6: Kaisersl. | U6: H S V | X6: Braunschw. | AA6: Hannover | AG6: Punkte | AH6: Punkte | AI6: Platz | AJ6: Gesamt | AK6: Platz | AL6: PUNKTEVERTEILUNG
A7: PLATZ | B7: ERGEBNISSE=> | C7: 0 | D7: 1 | E7: Pkt. | F7: 1 | G7: 1 | H7: Pkt. | I7: 0 | J7: 0 | K7: Pkt. | L7: 2 | M7: 1 | N7: Pkt. | O7: 1 | P7: 2 | Q7: Pkt. | R7: 3 | S7: 0 | T7: Pkt. | U7: 2 | V7: 2 | W7: Pkt. | X7: 2 | Y7: 1 | Z7: Pkt. | AA7: 2 | AB7: 2 | AC7: Pkt. | AG7: Spieltag | AH7: bisher | AI7: bisher | AJ7: Punkte | AL7: richtige Tendenz | AO7: 2
A8: =AK8 -> 14 | B8: ='1.Spieltag'!B8 -> atschi91 | C8: 2 | D8: 1 | E8: =IF(OR(EXACT($C$7,C8)*(EXACT($D$7,D8)))=TRUE,$AO$9,IF(($D$7-$C$7=D8-C8),$AO$8,IF(OR(EXACT($C$7>$D$7,C8>D8)*EXACT($C$7=$D$7,C8=D8)*EXACT($C$7<$D$7,C8<D8)),$AO$7,0))) -> 0 | F8: 3 | G8: 0 | H8: =IF(OR(EXACT($F$7,F8)*(EXACT($G$7,G8)))=TRUE,$AO$9,IF(($G$7-$F$7=G8-F8),$AO$8,IF(OR(EXACT($F$7>$G$7,F8>G8)*EXACT($F$7=$G$7,F8=G8)*EXACT($F$7<$G$7,F8<G8)),$AO$7,0))) -> 0 | I8: 2 | J8: 1 | K8: =IF(OR(EXACT($I$7,I8)*(EXACT($J$7,J8)))=TRUE,$AO$9,IF(($J$7-$I$7=J8-I8),$AO$8,IF(OR(EXACT($I$7>$J$7,I8>J8)*EXACT($I$7=$J$7,I8=J8)*EXACT($I$7<$J$7,I8<J8)),$AO$7,0))) -> 0 | L8: 1 | M8: 1 | N8: =IF(OR(EXACT($L$7,L8)*(EXACT($M$7,M8)))=TRUE,$AO$9,IF(($M$7-$L$7=M8-L8),$AO$8,IF(OR(EXACT($L$7>$M$7,L8>M8)*EXACT($L$7=$M$7,L8=M8)*EXACT($L$7<$M$7,L8<M8)),$AO$7,0))) -> 0 | O8: 1 | P8: 0 | Q8: =IF(OR(EXACT($O$7,O8)*(EXACT($P$7,P8)))=TRUE,$AO$9,IF(($P$7-$O$7=P8-O8),$AO$8,IF(OR(EXACT($O$7>$P$7,O8>P8)*EXACT($O$7=$P$7,O8=P8)*EXACT($O$7<$P$7,O8<P8)),$AO$7,0))) -> 0 | R8: 3 | S8: 2 | T8: =IF(OR(EXACT($R$7,R8)*(EXACT($S$7,S8)))=TRUE,$AO$9,IF(($S$7-$R$7=S8-R8),$AO$8,IF(OR(EXACT($R$7>$S$7,R8>S8)*EXACT($R$7=$S$7,R8=S8)*EXACT($R$7<$S$7,R8<S8)),$AO$7,0)))*4 -> 8 | U8: 2 | V8: 1 | W8: =IF(OR(EXACT($U$7,U8)*(EXACT($V$7,V8)))=TRUE,$AO$9,IF(($V$7-$U$7=V8-U8),$AO$8,IF(OR(EXACT($U$7>$V$7,U8>V8)*EXACT($U$7=$V$7,U8=V8)*EXACT($U$7<$V$7,U8<V8)),$AO$7,0))) -> 0 | X8: 1 | Y8: 1 | Z8: =IF(OR(EXACT($X$7,X8)*(EXACT($Y$7,Y8)))=TRUE,$AO$9,IF(($Y$7-$X$7=Y8-X8),$AO$8,IF(OR(EXACT($X$7>$Y$7,X8>Y8)*EXACT($X$7=$Y$7,X8=Y8)*EXACT($X$7<$Y$7,X8<Y8)),$AO$7,0))) -> 0 | AA8: 1 | AB8: 1 | AC8: =IF(OR(EXACT($AA$7,AA8)*(EXACT($AB$7,AB8)))=TRUE,$AO$9,IF(($AB$7-$AA$7=AB8-AA8),$AO$8,IF(OR(EXACT($AA$7>$AB$7,AA8>AB8)*EXACT($AA$7=$AB$7,AA8=AB8)*EXACT($AA$7<$AB$7,AA8<AB8)),$AO$7,0))) -> 3 | AG8: =E8+H8+K8+N8+Q8+T8+W8+Z8+AC8+AF8 -> 11 | AH8: ='1.Spieltag'!AJ8 -> 9 | AI8: ='1.Spieltag'!AK8 -> 6 | AJ8: =AG8+AH8 -> 20 | AK8: =RANK(AJ8,$AJ$8:$AJ$26) -> 14 | AL8: richtige Tend. + korr. Torabst. | AO8: 3
A9: =AK9 -> 1 | B9: ='1.Spieltag'!B9 -> Delze1312 | C9: 2 | D9: 0 | E9: =IF(OR(EXACT($C$7,C9)*(EXACT($D$7,D9)))=TRUE,$AO$9,IF(($D$7-$C$7=D9-C9),$AO$8,IF(OR(EXACT($C$7>$D$7,C9>D9)*EXACT($C$7=$D$7,C9=D9)*EXACT($C$7<$D$7,C9<D9)),$AO$7,0))) -> 0 | F9: 1 | G9: 1 | H9: =IF(OR(EXACT($F$7,F9)*(EXACT($G$7,G9)))=TRUE,$AO$9,IF(($G$7-$F$7=G9-F9),$AO$8,IF(OR(EXACT($F$7>$G$7,F9>G9)*EXACT($F$7=$G$7,F9=G9)*EXACT($F$7<$G$7,F9<G9)),$AO$7,0))) -> 5 | I9: 2 | J9: 1 | K9: =IF(OR(EXACT($I$7,I9)*(EXACT($J$7,J9)))=TRUE,$AO$9,IF(($J$7-$I$7=J9-I9),$AO$8,IF(OR(EXACT($I$7>$J$7,I9>J9)*EXACT($I$7=$J$7,I9=J9)*EXACT($I$7<$J$7,I9<J9)),$AO$7,0))) -> 0 | L9: 1 | M9: 2 | N9: =IF(OR(EXACT($L$7,L9)*(EXACT($M$7,M9)))=TRUE,$AO$9,IF(($M$7-$L$7=M9-L9),$AO$8,IF(OR(EXACT($L$7>$M$7,L9>M9)*EXACT($L$7=$M$7,L9=M9)*EXACT($L$7<$M$7,L9<M9)),$AO$7,0))) -> 0 | O9: 1 | P9: 2 | Q9: =IF(OR(EXACT($O$7,O9)*(EXACT($P$7,P9)))=TRUE,$AO$9,IF(($P$7-$O$7=P9-O9),$AO$8,IF(OR(EXACT($O$7>$P$7,O9>P9)*EXACT($O$7=$P$7,O9=P9)*EXACT($O$7<$P$7,O9<P9)),$AO$7,0))) -> 5 | R9: 3 | S9: 0 | T9: =IF(OR(EXACT($R$7,R9)*(EXACT($S$7,S9)))=TRUE,$AO$9,IF(($S$7-$R$7=S9-R9),$AO$8,IF(OR(EXACT($R$7>$S$7,R9>S9)*EXACT($R$7=$S$7,R9=S9)*EXACT($R$7<$S$7,R9<S9)),$AO$7,0)))*4 -> 20 | U9: 2 | V9: 2 | W9: =IF(OR(EXACT($U$7,U9)*(EXACT($V$7,V9)))=TRUE,$AO$9,IF(($V$7-$U$7=V9-U9),$AO$8,IF(OR(EXACT($U$7>$V$7,U9>V9)*EXACT($U$7=$V$7,U9=V9)*EXACT($U$7<$V$7,U9<V9)),$AO$7,0))) -> 5 | X9: 0 | Y9: 2 | Z9: =IF(OR(EXACT($X$7,X9)*(EXACT($Y$7,Y9)))=TRUE,$AO$9,IF(($Y$7-$X$7=Y9-X9),$AO$8,IF(OR(EXACT($X$7>$Y$7,X9>Y9)*EXACT($X$7=$Y$7,X9=Y9)*EXACT($X$7<$Y$7,X9<Y9)),$AO$7,0))) -> 0 | AA9: 1 | AB9: 1 | AC9: =IF(OR(EXACT($AA$7,AA9)*(EXACT($AB$7,AB9)))=TRUE,$AO$9,IF(($AB$7-$AA$7=AB9-AA9),$AO$8,IF(OR(EXACT($AA$7>$AB$7,AA9>AB9)*EXACT($AA$7=$AB$7,AA9=AB9)*EXACT($AA$7<$AB$7,AA9<AB9)),$AO$7,0))) -> 3 | AG9: =E9+H9+K9+N9+Q9+T9+W9+Z9+AC9+AF9 -> 38 | AH9: ='1.Spieltag'!AJ9 -> 14 | AI9: ='1.Spieltag'!AK9 -> 1 | AJ9: =AG9+AH9 -> 52 | AK9: =RANK(AJ9,$AJ$8:$AJ$26) -> 1 | AL9: richtiges Ergebnis | AO9: 5
A10: =AK10 -> 3 | B10: ='1.Spieltag'!B10 -> FlorianS04 | C10: 2 | D10: 2 | E10: =IF(OR(EXACT($C$7,C10)*(EXACT($D$7,D10)))=TRUE,$AO$9,IF(($D$7-$C$7=D10-C10),$AO$8,IF(OR(EXACT($C$7>$D$7,C10>D10)*EXACT($C$7=$D$7,C10=D10)*EXACT($C$7<$D$7,C10<D10)),$AO$7,0))) -> 0 | F10: 1 | G10: 0 | H10: =IF(OR(EXACT($F$7,F10)*(EXACT($G$7,G10)))=TRUE,$AO$9,IF(($G$7-$F$7=G10-F10),$AO$8,IF(OR(EXACT($F$7>$G$7,F10>G10)*EXACT($F$7=$G$7,F10=G10)*EXACT($F$7<$G$7,F10<G10)),$AO$7,0))) -> 0 | I10: 2 | J10: 2 | K10: =IF(OR(EXACT($I$7,I10)*(EXACT($J$7,J10)))=TRUE,$AO$9,IF(($J$7-$I$7=J10-I10),$AO$8,IF(OR(EXACT($I$7>$J$7,I10>J10)*EXACT($I$7=$J$7,I10=J10)*EXACT($I$7<$J$7,I10<J10)),$AO$7,0))) -> 3 | L10: 1 | M10: 2 | N10: =IF(OR(EXACT($L$7,L10)*(EXACT($M$7,M10)))=TRUE,$AO$9,IF(($M$7-$L$7=M10-L10),$AO$8,IF(OR(EXACT($L$7>$M$7,L10>M10)*EXACT($L$7=$M$7,L10=M10)*EXACT($L$7<$M$7,L10<M10)),$AO$7,0))) -> 0 | O10: 1 | P10: 2 | Q10: =IF(OR(EXACT($O$7,O10)*(EXACT($P$7,P10)))=TRUE,$AO$9,IF(($P$7-$O$7=P10-O10),$AO$8,IF(OR(EXACT($O$7>$P$7,O10>P10)*EXACT($O$7=$P$7,O10=P10)*EXACT($O$7<$P$7,O10<P10)),$AO$7,0))) -> 5 | R10: 3 | S10: 1 | T10: =IF(OR(EXACT($R$7,R10)*(EXACT($S$7,S10)))=TRUE,$AO$9,IF(($S$7-$R$7=S10-R10),$AO$8,IF(OR(EXACT($R$7>$S$7,R10>S10)*EXACT($R$7=$S$7,R10=S10)*EXACT($R$7<$S$7,R10<S10)),$AO$7,0)))*4 -> 8 | U10: 2 | V10: 2 | W10: =IF(OR(EXACT($U$7,U10)*(EXACT($V$7,V10)))=TRUE,$AO$9,IF(($V$7-$U$7=V10-U10),$AO$8,IF(OR(EXACT($U$7>$V$7,U10>V10)*EXACT($U$7=$V$7,U10=V10)*EXACT($U$7<$V$7,U10<V10)),$AO$7,0))) -> 5 | X10: 1 | Y10: 2 | Z10: =IF(OR(EXACT($X$7,X10)*(EXACT($Y$7,Y10)))=TRUE,$AO$9,IF(($Y$7-$X$7=Y10-X10),$AO$8,IF(OR(EXACT($X$7>$Y$7,X10>Y10)*EXACT($X$7=$Y$7,X10=Y10)*EXACT($X$7<$Y$7,X10<Y10)),$AO$7,0))) -> 0 | AA10: 1 | AB10: 1 | AC10: =IF(OR(EXACT($AA$7,AA10)*(EXACT($AB$7,AB10)))=TRUE,$AO$9,IF(($AB$7-$AA$7=AB10-AA10),$AO$8,IF(OR(EXACT($AA$7>$AB$7,AA10>AB10)*EXACT($AA$7=$AB$7,AA10=AB10)*EXACT($AA$7<$AB$7,AA10<AB10)),$AO$7,0))) -> 3 | AG10: =E10+H10+K10+N10+Q10+T10+W10+Z10+AC10+AF10 -> 24 | AH10: ='1.Spieltag'!AJ10 -> 9 | AI10: ='1.Spieltag'!AK10 -> 6 | AJ10: =AG10+AH10 -> 33 | AK10: =RANK(AJ10,$AJ$8:$AJ$26) -> 3
A11: =AK11 -> 6 | B11: ='1.Spieltag'!B11 -> Franzi04 | C11: 1 | D11: 1 | E11: =IF(OR(EXACT($C$7,C11)*(EXACT($D$7,D11)))=TRUE,$AO$9,IF(($D$7-$C$7=D11-C11),$AO$8,IF(OR(EXACT($C$7>$D$7,C11>D11)*EXACT($C$7=$D$7,C11=D11)*EXACT($C$7<$D$7,C11<D11)),$AO$7,0))) -> 0 | F11: 2 | G11: 1 | H11: =IF(OR(EXACT($F$7,F11)*(EXACT($G$7,G11)))=TRUE,$AO$9,IF(($G$7-$F$7=G11-F11),$AO$8,IF(OR(EXACT($F$7>$G$7,F11>G11)*EXACT($F$7=$G$7,F11=G11)*EXACT($F$7<$G$7,F11<G11)),$AO$7,0))) -> 0 | I11: 1 | J11: 2 | K11: =IF(OR(EXACT($I$7,I11)*(EXACT($J$7,J11)))=TRUE,$AO$9,IF(($J$7-$I$7=J11-I11),$AO$8,IF(OR(EXACT($I$7>$J$7,I11>J11)*EXACT($I$7=$J$7,I11=J11)*EXACT($I$7<$J$7,I11<J11)),$AO$7,0))) -> 0 | L11: 0 | M11: 1 | N11: =IF(OR(EXACT($L$7,L11)*(EXACT($M$7,M11)))=TRUE,$AO$9,IF(($M$7-$L$7=M11-L11),$AO$8,IF(OR(EXACT($L$7>$M$7,L11>M11)*EXACT($L$7=$M$7,L11=M11)*EXACT($L$7<$M$7,L11<M11)),$AO$7,0))) -> 0 | O11: 2 | P11: 1 | Q11: =IF(OR(EXACT($O$7,O11)*(EXACT($P$7,P11)))=TRUE,$AO$9,IF(($P$7-$O$7=P11-O11),$AO$8,IF(OR(EXACT($O$7>$P$7,O11>P11)*EXACT($O$7=$P$7,O11=P11)*EXACT($O$7<$P$7,O11<P11)),$AO$7,0))) -> 0 | R11: 2 | S11: 1 | T11: =IF(OR(EXACT($R$7,R11)*(EXACT($S$7,S11)))=TRUE,$AO$9,IF(($S$7-$R$7=S11-R11),$AO$8,IF(OR(EXACT($R$7>$S$7,R11>S11)*EXACT($R$7=$S$7,R11=S11)*EXACT($R$7<$S$7,R11<S11)),$AO$7,0)))*4 -> 8 | U11: 1 | V11: 3 | W11: =IF(OR(EXACT($U$7,U11)*(EXACT($V$7,V11)))=TRUE,$AO$9,IF(($V$7-$U$7=V11-U11),$AO$8,IF(OR(EXACT($U$7>$V$7,U11>V11)*EXACT($U$7=$V$7,U11=V11)*EXACT($U$7<$V$7,U11<V11)),$AO$7,0))) -> 0 | X11: 2 | Y11: 1 | Z11: =IF(OR(EXACT($X$7,X11)*(EXACT($Y$7,Y11)))=TRUE,$AO$9,IF(($Y$7-$X$7=Y11-X11),$AO$8,IF(OR(EXACT($X$7>$Y$7,X11>Y11)*EXACT($X$7=$Y$7,X11=Y11)*EXACT($X$7<$Y$7,X11<Y11)),$AO$7,0))) -> 5 | AA11: 2 | AB11: 1 | AC11: =IF(OR(EXACT($AA$7,AA11)*(EXACT($AB$7,AB11)))=TRUE,$AO$9,IF(($AB$7-$AA$7=AB11-AA11),$AO$8,IF(OR(EXACT($AA$7>$AB$7,AA11>AB11)*EXACT($AA$7=$AB$7,AA11=AB11)*EXACT($AA$7<$AB$7,AA11<AB11)),$AO$7,0))) -> 0 | AG11: =E11+H11+K11+N11+Q11+T11+W11+Z11+AC11+AF11 -> 13 | AH11: ='1.Spieltag'!AJ11 -> 14 | AI11: ='1.Spieltag'!AK11 -> 1 | AJ11: =AG11+AH11 -> 27 | AK11: =RANK(AJ11,$AJ$8:$AJ$26) -> 6
A12: =AK12 -> 16 | B12: ='1.Spieltag'!B12 -> jupp04 | AG12: =E12+H12+K12+N12+Q12+T12+W12+Z12+AC12+AF12 -> 0 | AH12: ='1.Spieltag'!AJ12 -> 8 | AI12: ='1.Spieltag'!AK12 -> 9 | AJ12: =AG12+AH12 -> 8 | AK12: =RANK(AJ12,$AJ$8:$AJ$26) -> 16
A13: =AK13 -> 7 | B13: ='1.Spieltag'!B13 -> Lola04 | C13: 2 | D13: 1 | E13: =IF(OR(EXACT($C$7,C13)*(EXACT($D$7,D13)))=TRUE,$AO$9,IF(($D$7-$C$7=D13-C13),$AO$8,IF(OR(EXACT($C$7>$D$7,C13>D13)*EXACT($C$7=$D$7,C13=D13)*EXACT($C$7<$D$7,C13<D13)),$AO$7,0))) -> 0 | F13: 2 | G13: 0 | H13: =IF(OR(EXACT($F$7,F13)*(EXACT($G$7,G13)))=TRUE,$AO$9,IF(($G$7-$F$7=G13-F13),$AO$8,IF(OR(EXACT($F$7>$G$7,F13>G13)*EXACT($F$7=$G$7,F13=G13)*EXACT($F$7<$G$7,F13<G13)),$AO$7,0))) -> 0 | I13: 2 | J13: 1 | K13: =IF(OR(EXACT($I$7,I13)*(EXACT($J$7,J13)))=TRUE,$AO$9,IF(($J$7-$I$7=J13-I13),$AO$8,IF(OR(EXACT($I$7>$J$7,I13>J13)*EXACT($I$7=$J$7,I13=J13)*EXACT($I$7<$J$7,I13<J13)),$AO$7,0))) -> 0 | L13: 1 | M13: 0 | N13: =IF(OR(EXACT($L$7,L13)*(EXACT($M$7,M13)))=TRUE,$AO$9,IF(($M$7-$L$7=M13-L13),$AO$8,IF(OR(EXACT($L$7>$M$7,L13>M13)*EXACT($L$7=$M$7,L13=M13)*EXACT($L$7<$M$7,L13<M13)),$AO$7,0))) -> 3 | O13: 2 | P13: 1 | Q13: =IF(OR(EXACT($O$7,O13)*(EXACT($P$7,P13)))=TRUE,$AO$9,IF(($P$7-$O$7=P13-O13),$AO$8,IF(OR(EXACT($O$7>$P$7,O13>P13)*EXACT($O$7=$P$7,O13=P13)*EXACT($O$7<$P$7,O13<P13)),$AO$7,0))) -> 0 | R13: 4 | S13: 3 | T13: =IF(OR(EXACT($R$7,R13)*(EXACT($S$7,S13)))=TRUE,$AO$9,IF(($S$7-$R$7=S13-R13),$AO$8,IF(OR(EXACT($R$7>$S$7,R13>S13)*EXACT($R$7=$S$7,R13=S13)*EXACT($R$7<$S$7,R13<S13)),$AO$7,0)))*4 -> 8 | U13: 2 | V13: 1 | W13: =IF(OR(EXACT($U$7,U13)*(EXACT($V$7,V13)))=TRUE,$AO$9,IF(($V$7-$U$7=V13-U13),$AO$8,IF(OR(EXACT($U$7>$V$7,U13>V13)*EXACT($U$7=$V$7,U13=V13)*EXACT($U$7<$V$7,U13<V13)),$AO$7,0))) -> 0 | X13: 2 | Y13: 1 | Z13: =IF(OR(EXACT($X$7,X13)*(EXACT($Y$7,Y13)))=TRUE,$AO$9,IF(($Y$7-$X$7=Y13-X13),$AO$8,IF(OR(EXACT($X$7>$Y$7,X13>Y13)*EXACT($X$7=$Y$7,X13=Y13)*EXACT($X$7<$Y$7,X13<Y13)),$AO$7,0))) -> 5 | AA13: 2 | AB13: 2 | AC13: =IF(OR(EXACT($AA$7,AA13)*(EXACT($AB$7,AB13)))=TRUE,$AO$9,IF(($AB$7-$AA$7=AB13-AA13),$AO$8,IF(OR(EXACT($AA$7>$AB$7,AA13>AB13)*EXACT($AA$7=$AB$7,AA13=AB13)*EXACT($AA$7<$AB$7,AA13<AB13)),$AO$7,0))) -> 5 | AG13: =E13+H13+K13+N13+Q13+T13+W13+Z13+AC13+AF13 -> 21 | AH13: ='1.Spieltag'!AJ13 -> 5 | AI13: ='1.Spieltag'!AK13 -> 14 | AJ13: =AG13+AH13 -> 26 | AK13: =RANK(AJ13,$AJ$8:$AJ$26) -> 7
A14: =AK14 -> 7 | B14: ='1.Spieltag'!B14 -> Master1 | C14: 2 | D14: 1 | E14: =IF(OR(EXACT($C$7,C14)*(EXACT($D$7,D14)))=TRUE,$AO$9,IF(($D$7-$C$7=D14-C14),$AO$8,IF(OR(EXACT($C$7>$D$7,C14>D14)*EXACT($C$7=$D$7,C14=D14)*EXACT($C$7<$D$7,C14<D14)),$AO$7,0))) -> 0 | F14: 2 | G14: 2 | H14: =IF(OR(EXACT($F$7,F14)*(EXACT($G$7,G14)))=TRUE,$AO$9,IF(($G$7-$F$7=G14-F14),$AO$8,IF(OR(EXACT($F$7>$G$7,F14>G14)*EXACT($F$7=$G$7,F14=G14)*EXACT($F$7<$G$7,F14<G14)),$AO$7,0))) -> 3 | I14: 2 | J14: 1 | K14: =IF(OR(EXACT($I$7,I14)*(EXACT($J$7,J14)))=TRUE,$AO$9,IF(($J$7-$I$7=J14-I14),$AO$8,IF(OR(EXACT($I$7>$J$7,I14>J14)*EXACT($I$7=$J$7,I14=J14)*EXACT($I$7<$J$7,I14<J14)),$AO$7,0))) -> 0 | L14: 2 | M14: 1 | N14: =IF(OR(EXACT($L$7,L14)*(EXACT($M$7,M14)))=TRUE,$AO$9,IF(($M$7-$L$7=M14-L14),$AO$8,IF(OR(EXACT($L$7>$M$7,L14>M14)*EXACT($L$7=$M$7,L14=M14)*EXACT($L$7<$M$7,L14<M14)),$AO$7,0))) -> 5 | O14: 1 | P14: 0 | Q14: =IF(OR(EXACT($O$7,O14)*(EXACT($P$7,P14)))=TRUE,$AO$9,IF(($P$7-$O$7=P14-O14),$AO$8,IF(OR(EXACT($O$7>$P$7,O14>P14)*EXACT($O$7=$P$7,O14=P14)*EXACT($O$7<$P$7,O14<P14)),$AO$7,0))) -> 0 | R14: 3 | S14: 1 | T14: =IF(OR(EXACT($R$7,R14)*(EXACT($S$7,S14)))=TRUE,$AO$9,IF(($S$7-$R$7=S14-R14),$AO$8,IF(OR(EXACT($R$7>$S$7,R14>S14)*EXACT($R$7=$S$7,R14=S14)*EXACT($R$7<$S$7,R14<S14)),$AO$7,0)))*4 -> 8 | U14: 2 | V14: 1 | W14: =IF(OR(EXACT($U$7,U14)*(EXACT($V$7,V14)))=TRUE,$AO$9,IF(($V$7-$U$7=V14-U14),$AO$8,IF(OR(EXACT($U$7>$V$7,U14>V14)*EXACT($U$7=$V$7,U14=V14)*EXACT($U$7<$V$7,U14<V14)),$AO$7,0))) -> 0 | X14: 1 | Y14: 1 | Z14: =IF(OR(EXACT($X$7,X14)*(EXACT($Y$7,Y14)))=TRUE,$AO$9,IF(($Y$7-$X$7=Y14-X14),$AO$8,IF(OR(EXACT($X$7>$Y$7,X14>Y14)*EXACT($X$7=$Y$7,X14=Y14)*EXACT($X$7<$Y$7,X14<Y14)),$AO$7,0))) -> 0 | AA14: 3 | AB14: 2 | AC14: =IF(OR(EXACT($AA$7,AA14)*(EXACT($AB$7,AB14)))=TRUE,$AO$9,IF(($AB$7-$AA$7=AB14-AA14),$AO$8,IF(OR(EXACT($AA$7>$AB$7,AA14>AB14)*EXACT($AA$7=$AB$7,AA14=AB14)*EXACT($AA$7<$AB$7,AA14<AB14)),$AO$7,0))) -> 0 | AG14: =E14+H14+K14+N14+Q14+T14+W14+Z14+AC14+AF14 -> 16 | AH14: ='1.Spieltag'!AJ14 -> 10 | AI14: ='1.Spieltag'!AK14 -> 5 | AJ14: =AG14+AH14 -> 26 | AK14: =RANK(AJ14,$AJ$8:$AJ$26) -> 7
A15: =AK15 -> 11 | B15: ='1.Spieltag'!B15 -> Mike04 | C15: 2 | D15: 0 | E15: =IF(OR(EXACT($C$7,C15)*(EXACT($D$7,D15)))=TRUE,$AO$9,IF(($D$7-$C$7=D15-C15),$AO$8,IF(OR(EXACT($C$7>$D$7,C15>D15)*EXACT($C$7=$D$7,C15=D15)*EXACT($C$7<$D$7,C15<D15)),$AO$7,0))) -> 0 | F15: 1 | G15: 0 | H15: =IF(OR(EXACT($F$7,F15)*(EXACT($G$7,G15)))=TRUE,$AO$9,IF(($G$7-$F$7=G15-F15),$AO$8,IF(OR(EXACT($F$7>$G$7,F15>G15)*EXACT($F$7=$G$7,F15=G15)*EXACT($F$7<$G$7,F15<G15)),$AO$7,0))) -> 0 | I15: 2 | J15: 0 | K15: =IF(OR(EXACT($I$7,I15)*(EXACT($J$7,J15)))=TRUE,$AO$9,IF(($J$7-$I$7=J15-I15),$AO$8,IF(OR(EXACT($I$7>$J$7,I15>J15)*EXACT($I$7=$J$7,I15=J15)*EXACT($I$7<$J$7,I15<J15)),$AO$7,0))) -> 0 | L15: 2 | M15: 1 | N15: =IF(OR(EXACT($L$7,L15)*(EXACT($M$7,M15)))=TRUE,$AO$9,IF(($M$7-$L$7=M15-L15),$AO$8,IF(OR(EXACT($L$7>$M$7,L15>M15)*EXACT($L$7=$M$7,L15=M15)*EXACT($L$7<$M$7,L15<M15)),$AO$7,0))) -> 5 | O15: 2 | P15: 0 | Q15: =IF(OR(EXACT($O$7,O15)*(EXACT($P$7,P15)))=TRUE,$AO$9,IF(($P$7-$O$7=P15-O15),$AO$8,IF(OR(EXACT($O$7>$P$7,O15>P15)*EXACT($O$7=$P$7,O15=P15)*EXACT($O$7<$P$7,O15<P15)),$AO$7,0))) -> 0 | R15: 2 | S15: 0 | T15: =IF(OR(EXACT($R$7,R15)*(EXACT($S$7,S15)))=TRUE,$AO$9,IF(($S$7-$R$7=S15-R15),$AO$8,IF(OR(EXACT($R$7>$S$7,R15>S15)*EXACT($R$7=$S$7,R15=S15)*EXACT($R$7<$S$7,R15<S15)),$AO$7,0)))*4 -> 8 | U15: 1 | V15: 1 | W15: =IF(OR(EXACT($U$7,U15)*(EXACT($V$7,V15)))=TRUE,$AO$9,IF(($V$7-$U$7=V15-U15),$AO$8,IF(OR(EXACT($U$7>$V$7,U15>V15)*EXACT($U$7=$V$7,U15=V15)*EXACT($U$7<$V$7,U15<V15)),$AO$7,0))) -> 3 | X15: 2 | Y15: 0 | Z15: =IF(OR(EXACT($X$7,X15)*(EXACT($Y$7,Y15)))=TRUE,$AO$9,IF(($Y$7-$X$7=Y15-X15),$AO$8,IF(OR(EXACT($X$7>$Y$7,X15>Y15)*EXACT($X$7=$Y$7,X15=Y15)*EXACT($X$7<$Y$7,X15<Y15)),$AO$7,0))) -> 2 | AA15: 1 | AB15: 2 | AC15: =IF(OR(EXACT($AA$7,AA15)*(EXACT($AB$7,AB15)))=TRUE,$AO$9,IF(($AB$7-$AA$7=AB15-AA15),$AO$8,IF(OR(EXACT($AA$7>$AB$7,AA15>AB15)*EXACT($AA$7=$AB$7,AA15=AB15)*EXACT($AA$7<$AB$7,AA15<AB15)),$AO$7,0))) -> 0 | AG15: =E15+H15+K15+N15+Q15+T15+W15+Z15+AC15+AF15 -> 18 | AH15: ='1.Spieltag'!AJ15 -> 4 | AI15: ='1.Spieltag'!AK15 -> 16 | AJ15: =AG15+AH15 -> 22 | AK15: =RANK(AJ15,$AJ$8:$AJ$26) -> 11
A16: =AK16 -> 11 | B16: ='1.Spieltag'!B16 -> Nico1904 | I16: 2 | J16: 1 | K16: =IF(OR(EXACT($I$7,I16)*(EXACT($J$7,J16)))=TRUE,$AO$9,IF(($J$7-$I$7=J16-I16),$AO$8,IF(OR(EXACT($I$7>$J$7,I16>J16)*EXACT($I$7=$J$7,I16=J16)*EXACT($I$7<$J$7,I16<J16)),$AO$7,0))) -> 0 | L16: 1 | M16: 0 | N16: =IF(OR(EXACT($L$7,L16)*(EXACT($M$7,M16)))=TRUE,$AO$9,IF(($M$7-$L$7=M16-L16),$AO$8,IF(OR(EXACT($L$7>$M$7,L16>M16)*EXACT($L$7=$M$7,L16=M16)*EXACT($L$7<$M$7,L16<M16)),$AO$7,0))) -> 3 | O16: 1 | P16: 1 | Q16: =IF(OR(EXACT($O$7,O16)*(EXACT($P$7,P16)))=TRUE,$AO$9,IF(($P$7-$O$7=P16-O16),$AO$8,IF(OR(EXACT($O$7>$P$7,O16>P16)*EXACT($O$7=$P$7,O16=P16)*EXACT($O$7<$P$7,O16<P16)),$AO$7,0))) -> 0 | R16: 2 | S16: 0 | T16: =IF(OR(EXACT($R$7,R16)*(EXACT($S$7,S16)))=TRUE,$AO$9,IF(($S$7-$R$7=S16-R16),$AO$8,IF(OR(EXACT($R$7>$S$7,R16>S16)*EXACT($R$7=$S$7,R16=S16)*EXACT($R$7<$S$7,R16<S16)),$AO$7,0)))*4 -> 8 | U16: 1 | V16: 4 | W16: =IF(OR(EXACT($U$7,U16)*(EXACT($V$7,V16)))=TRUE,$AO$9,IF(($V$7-$U$7=V16-U16),$AO$8,IF(OR(EXACT($U$7>$V$7,U16>V16)*EXACT($U$7=$V$7,U16=V16)*EXACT($U$7<$V$7,U16<V16)),$AO$7,0))) -> 0 | X16: 1 | Y16: 1 | Z16: =IF(OR(EXACT($X$7,X16)*(EXACT($Y$7,Y16)))=TRUE,$AO$9,IF(($Y$7-$X$7=Y16-X16),$AO$8,IF(OR(EXACT($X$7>$Y$7,X16>Y16)*EXACT($X$7=$Y$7,X16=Y16)*EXACT($X$7<$Y$7,X16<Y16)),$AO$7,0))) -> 0 | AA16: 1 | AB16: 0 | AC16: =IF(OR(EXACT($AA$7,AA16)*(EXACT($AB$7,AB16)))=TRUE,$AO$9,IF(($AB$7-$AA$7=AB16-AA16),$AO$8,IF(OR(EXACT($AA$7>$AB$7,AA16>AB16)*EXACT($AA$7=$AB$7,AA16=AB16)*EXACT($AA$7<$AB$7,AA16<AB16)),$AO$7,0))) -> 0 | AG16: =E16+H16+K16+N16+Q16+T16+W16+Z16+AC16+AF16 -> 11 | AH16: ='1.Spieltag'!AJ16 -> 11 | AI16: ='1.Spieltag'!AK16 -> 4 | AJ16: =AG16+AH16 -> 22 | AK16: =RANK(AJ16,$AJ$8:$AJ$26) -> 11
A17: =AK17 -> 5 | B17: ='1.Spieltag'!B17 -> Reinhold | C17: 1 | D17: 0 | E17: =IF(OR(EXACT($C$7,C17)*(EXACT($D$7,D17)))=TRUE,$AO$9,IF(($D$7-$C$7=D17-C17),$AO$8,IF(OR(EXACT($C$7>$D$7,C17>D17)*EXACT($C$7=$D$7,C17=D17)*EXACT($C$7<$D$7,C17<D17)),$AO$7,0))) -> 0 | F17: 1 | G17: 0 | H17: =IF(OR(EXACT($F$7,F17)*(EXACT($G$7,G17)))=TRUE,$AO$9,IF(($G$7-$F$7=G17-F17),$AO$8,IF(OR(EXACT($F$7>$G$7,F17>G17)*EXACT($F$7=$G$7,F17=G17)*EXACT($F$7<$G$7,F17<G17)),$AO$7,0))) -> 0 | I17: 2 | J17: 1 | K17: =IF(OR(EXACT($I$7,I17)*(EXACT($J$7,J17)))=TRUE,$AO$9,IF(($J$7-$I$7=J17-I17),$AO$8,IF(OR(EXACT($I$7>$J$7,I17>J17)*EXACT($I$7=$J$7,I17=J17)*EXACT($I$7<$J$7,I17<J17)),$AO$7,0))) -> 0 | L17: 2 | M17: 1 | N17: =IF(OR(EXACT($L$7,L17)*(EXACT($M$7,M17)))=TRUE,$AO$9,IF(($M$7-$L$7=M17-L17),$AO$8,IF(OR(EXACT($L$7>$M$7,L17>M17)*EXACT($L$7=$M$7,L17=M17)*EXACT($L$7<$M$7,L17<M17)),$AO$7,0))) -> 5 | O17: 1 | P17: 2 | Q17: =IF(OR(EXACT($O$7,O17)*(EXACT($P$7,P17)))=TRUE,$AO$9,IF(($P$7-$O$7=P17-O17),$AO$8,IF(OR(EXACT($O$7>$P$7,O17>P17)*EXACT($O$7=$P$7,O17=P17)*EXACT($O$7<$P$7,O17<P17)),$AO$7,0))) -> 5 | R17: 3 | S17: 2 | T17: =IF(OR(EXACT($R$7,R17)*(EXACT($S$7,S17)))=TRUE,$AO$9,IF(($S$7-$R$7=S17-R17),$AO$8,IF(OR(EXACT($R$7>$S$7,R17>S17)*EXACT($R$7=$S$7,R17=S17)*EXACT($R$7<$S$7,R17<S17)),$AO$7,0)))*4 -> 8 | U17: 2 | V17: 1 | W17: =IF(OR(EXACT($U$7,U17)*(EXACT($V$7,V17)))=TRUE,$AO$9,IF(($V$7-$U$7=V17-U17),$AO$8,IF(OR(EXACT($U$7>$V$7,U17>V17)*EXACT($U$7=$V$7,U17=V17)*EXACT($U$7<$V$7,U17<V17)),$AO$7,0))) -> 0 | X17: 2 | Y17: 0 | Z17: =IF(OR(EXACT($X$7,X17)*(EXACT($Y$7,Y17)))=TRUE,$AO$9,IF(($Y$7-$X$7=Y17-X17),$AO$8,IF(OR(EXACT($X$7>$Y$7,X17>Y17)*EXACT($X$7=$Y$7,X17=Y17)*EXACT($X$7<$Y$7,X17<Y17)),$AO$7,0))) -> 2 | AA17: 1 | AB17: 4 | AC17: =IF(OR(EXACT($AA$7,AA17)*(EXACT($AB$7,AB17)))=TRUE,$AO$9,IF(($AB$7-$AA$7=AB17-AA17),$AO$8,IF(OR(EXACT($AA$7>$AB$7,AA17>AB17)*EXACT($AA$7=$AB$7,AA17=AB17)*EXACT($AA$7<$AB$7,AA17<AB17)),$AO$7,0))) -> 0 | AG17: =E17+K17+Q17+T17+N17+H17+W17+Z17+AC17+AF17 -> 20 | AH17: ='1.Spieltag'!AJ17 -> 8 | AI17: ='1.Spieltag'!AK17 -> 9 | AJ17: =AG17+AH17 -> 28 | AK17: =RANK(AJ17,$AJ$8:$AJ$26) -> 5
A18: =AK18 -> 13 | B18: ='1.Spieltag'!B18 -> Ricardo04 | I18: 2 | J18: 0 | K18: =IF(OR(EXACT($I$7,I18)*(EXACT($J$7,J18)))=TRUE,$AO$9,IF(($J$7-$I$7=J18-I18),$AO$8,IF(OR(EXACT($I$7>$J$7,I18>J18)*EXACT($I$7=$J$7,I18=J18)*EXACT($I$7<$J$7,I18<J18)),$AO$7,0))) -> 0 | L18: 0 | M18: 1 | N18: =IF(OR(EXACT($L$7,L18)*(EXACT($M$7,M18)))=TRUE,$AO$9,IF(($M$7-$L$7=M18-L18),$AO$8,IF(OR(EXACT($L$7>$M$7,L18>M18)*EXACT($L$7=$M$7,L18=M18)*EXACT($L$7<$M$7,L18<M18)),$AO$7,0))) -> 0 | O18: 0 | P18: 2 | Q18: =IF(OR(EXACT($O$7,O18)*(EXACT($P$7,P18)))=TRUE,$AO$9,IF(($P$7-$O$7=P18-O18),$AO$8,IF(OR(EXACT($O$7>$P$7,O18>P18)*EXACT($O$7=$P$7,O18=P18)*EXACT($O$7<$P$7,O18<P18)),$AO$7,0))) -> 2 | R18: 2 | S18: 0 | T18: =IF(OR(EXACT($R$7,R18)*(EXACT($S$7,S18)))=TRUE,$AO$9,IF(($S$7-$R$7=S18-R18),$AO$8,IF(OR(EXACT($R$7>$S$7,R18>S18)*EXACT($R$7=$S$7,R18=S18)*EXACT($R$7<$S$7,R18<S18)),$AO$7,0)))*4 -> 8 | U18: 1 | V18: 3 | W18: =IF(OR(EXACT($U$7,U18)*(EXACT($V$7,V18)))=TRUE,$AO$9,IF(($V$7-$U$7=V18-U18),$AO$8,IF(OR(EXACT($U$7>$V$7,U18>V18)*EXACT($U$7=$V$7,U18=V18)*EXACT($U$7<$V$7,U18<V18)),$AO$7,0))) -> 0 | X18: 2 | Y18: 1 | Z18: =IF(OR(EXACT($X$7,X18)*(EXACT($Y$7,Y18)))=TRUE,$AO$9,IF(($Y$7-$X$7=Y18-X18),$AO$8,IF(OR(EXACT($X$7>$Y$7,X18>Y18)*EXACT($X$7=$Y$7,X18=Y18)*EXACT($X$7<$Y$7,X18<Y18)),$AO$7,0))) -> 5 | AA18: 0 | AB18: 1 | AC18: =IF(OR(EXACT($AA$7,AA18)*(EXACT($AB$7,AB18)))=TRUE,$AO$9,IF(($AB$7-$AA$7=AB18-AA18),$AO$8,IF(OR(EXACT($AA$7>$AB$7,AA18>AB18)*EXACT($AA$7=$AB$7,AA18=AB18)*EXACT($AA$7<$AB$7,AA18<AB18)),$AO$7,0))) -> 0 | AG18: =E18+H18+K18+N18+Q18+T18+W18+Z18+AC18+AF18 -> 15 | AH18: ='1.Spieltag'!AJ18 -> 6 | AI18: ='1.Spieltag'!AK18 -> 12 | AJ18: =AG18+AH18 -> 21 | AK18: =RANK(AJ18,$AJ$8:$AJ$26) -> 13
A19: =AK19 -> 17 | B19: ='1.Spieltag'!B19 -> Schalt04 | AG19: =E19+H19+K19+N19+Q19+T19+W19+Z19+AC19+AF19 -> 0 | AH19: ='1.Spieltag'!AJ19 -> 7 | AI19: ='1.Spieltag'!AK19 -> 11 | AJ19: =AG19+AH19 -> 7 | AK19: =RANK(AJ19,$AJ$8:$AJ$26) -> 17
A20: =AK20 -> 9 | B20: ='1.Spieltag'!B20 -> schmiddi04 | C20: 3 | D20: 0 | E20: =IF(OR(EXACT($C$7,C20)*(EXACT($D$7,D20)))=TRUE,$AO$9,IF(($D$7-$C$7=D20-C20),$AO$8,IF(OR(EXACT($C$7>$D$7,C20>D20)*EXACT($C$7=$D$7,C20=D20)*EXACT($C$7<$D$7,C20<D20)),$AO$7,0))) -> 0 | F20: 1 | G20: 1 | H20: =IF(OR(EXACT($F$7,F20)*(EXACT($G$7,G20)))=TRUE,$AO$9,IF(($G$7-$F$7=G20-F20),$AO$8,IF(OR(EXACT($F$7>$G$7,F20>G20)*EXACT($F$7=$G$7,F20=G20)*EXACT($F$7<$G$7,F20<G20)),$AO$7,0))) -> 5 | I20: 2 | J20: 0 | K20: =IF(OR(EXACT($I$7,I20)*(EXACT($J$7,J20)))=TRUE,$AO$9,IF(($J$7-$I$7=J20-I20),$AO$8,IF(OR(EXACT($I$7>$J$7,I20>J20)*EXACT($I$7=$J$7,I20=J20)*EXACT($I$7<$J$7,I20<J20)),$AO$7,0))) -> 0 | L20: 0 | M20: 1 | N20: =IF(OR(EXACT($L$7,L20)*(EXACT($M$7,M20)))=TRUE,$AO$9,IF(($M$7-$L$7=M20-L20),$AO$8,IF(OR(EXACT($L$7>$M$7,L20>M20)*EXACT($L$7=$M$7,L20=M20)*EXACT($L$7<$M$7,L20<M20)),$AO$7,0))) -> 0 | O20: 1 | P20: 2 | Q20: =IF(OR(EXACT($O$7,O20)*(EXACT($P$7,P20)))=TRUE,$AO$9,IF(($P$7-$O$7=P20-O20),$AO$8,IF(OR(EXACT($O$7>$P$7,O20>P20)*EXACT($O$7=$P$7,O20=P20)*EXACT($O$7<$P$7,O20<P20)),$AO$7,0))) -> 5 | R20: 4 | S20: 0 | T20: =IF(OR(EXACT($R$7,R20)*(EXACT($S$7,S20)))=TRUE,$AO$9,IF(($S$7-$R$7=S20-R20),$AO$8,IF(OR(EXACT($R$7>$S$7,R20>S20)*EXACT($R$7=$S$7,R20=S20)*EXACT($R$7<$S$7,R20<S20)),$AO$7,0)))*4 -> 8 | U20: 0 | V20: 2 | W20: =IF(OR(EXACT($U$7,U20)*(EXACT($V$7,V20)))=TRUE,$AO$9,IF(($V$7-$U$7=V20-U20),$AO$8,IF(OR(EXACT($U$7>$V$7,U20>V20)*EXACT($U$7=$V$7,U20=V20)*EXACT($U$7<$V$7,U20<V20)),$AO$7,0))) -> 0 | X20: 1 | Y20: 1 | Z20: =IF(OR(EXACT($X$7,X20)*(EXACT($Y$7,Y20)))=TRUE,$AO$9,IF(($Y$7-$X$7=Y20-X20),$AO$8,IF(OR(EXACT($X$7>$Y$7,X20>Y20)*EXACT($X$7=$Y$7,X20=Y20)*EXACT($X$7<$Y$7,X20<Y20)),$AO$7,0))) -> 0 | AA20: 1 | AB20: 0 | AC20: =IF(OR(EXACT($AA$7,AA20)*(EXACT($AB$7,AB20)))=TRUE,$AO$9,IF(($AB$7-$AA$7=AB20-AA20),$AO$8,IF(OR(EXACT($AA$7>$AB$7,AA20>AB20)*EXACT($AA$7=$AB$7,AA20=AB20)*EXACT($AA$7<$AB$7,AA20<AB20)),$AO$7,0))) -> 0 | AG20: =E20+H20+K20+N20+Q20+T20+W20+Z20+AC20+AF20 -> 18 | AH20: ='1.Spieltag'!AJ20 -> 6 | AI20: ='1.Spieltag'!AK20 -> 12 | AJ20: =AG20+AH20 -> 24 | AK20: =RANK(AJ20,$AJ$8:$AJ$26) -> 9
