Workbook

Sheet 26.Spieltag
A4: 26. Spieltag | C4: Schalke 04 | F4: Magdeburg | I4: Düsseldorf | L4: Paderborn | O4: Elversberg | R4: Köln | U4: Karlsruhe | X4: Nürnberg | AA4: Braunschw.
AG5: G E S A M T W E R T U N G
C6: Hannover | F6: H S V | I6: Regensburg | L6: Kaisersl. | O6: Pr. Münster | R6: Darmstadt | U6: Ulm | X6: Fürth | AA6: Hertha BSC | AG6: Punkte | AH6: Punkte | AI6: Gesamt | AJ6: Platz | AK6: PUNKTEVERTEILUNG
A7: PLATZ | B7: ERGEBNISSE=> | C7: 1 | D7: 2 | E7: Pkt. | F7: 0 | G7: 3 | H7: Pkt. | I7: 1 | J7: 0 | K7: Pkt. | L7: 5 | M7: 3 | N7: Pkt. | O7: 0 | P7: 1 | Q7: Pkt. | R7: 2 | S7: 1 | T7: Pkt. | U7: 0 | V7: 0 | W7: Pkt. | X7: 3 | Y7: 0 | Z7: Pkt. | AA7: 1 | AB7: 5 | AC7: Pkt. | AG7: Spieltag | AH7: bisher | AI7: Punkte | AK7: richtige Tendenz | AN7: 2
A8: 1 | B8: shiny | C8: 2 | D8: 1 | E8: 0 | F8: 1 | G8: 2 | H8: 2 | I8: 2 | J8: 1 | K8: 3 | L8: 2 | M8: 1 | N8: 2 | O8: 2 | P8: 1 | Q8: 0 | R8: 2 | S8: 1 | T8: 5 | U8: 2 | V8: 1 | W8: 0 | X8: 2 | Y8: 2 | Z8: 0 | AA8: 2 | AB8: 2 | AC8: 0 | AG8: 12 | AH8: 390 | AI8: 402 | AJ8: 1 | AK8: richtige Tend. + korr. Torabst. | AN8: 3
A9: 2 | B9: Franzi04 | C9: 2 | D9: 1 | E9: 0 | F9: 1 | G9: 2 | H9: 2 | I9: 2 | J9: 1 | K9: 3 | L9: 1 | M9: 2 | N9: 0 | O9: 2 | P9: 0 | Q9: 0 | R9: 2 | S9: 1 | T9: 5 | U9: 2 | V9: 0 | W9: 0 | X9: 2 | Y9: 1 | Z9: 2 | AA9: 1 | AB9: 2 | AC9: 2 | AG9: 14 | AH9: 349 | AI9: 363 | AJ9: 2 | AK9: richtiges Ergebnis | AN9: 5
A10: 3 | B10: Tanja04 | C10: 2 | D10: 1 | E10: 0 | F10: 1 | G10: 2 | H10: 2 | I10: 2 | J10: 0 | K10: 2 | L10: 2 | M10: 1 | N10: 2 | O10: 2 | P10: 0 | Q10: 0 | R10: 2 | S10: 0 | T10: 2 | U10: 2 | V10: 0 | W10: 0 | X10: 2 | Y10: 0 | Z10: 2 | AA10: 1 | AB10: 1 | AC10: 0 | AG10: 10 | AH10: 348 | AI10: 358 | AJ10: 3
A11: 4 | B11: ReneMause | C11: 2 | D11: 0 | E11: 0 | F11: 2 | G11: 3 | H11: 2 | I11: 2 | J11: 0 | K11: 2 | L11: 2 | M11: 1 | N11: 2 | O11: 3 | P11: 0 | Q11: 0 | R11: 2 | S11: 0 | T11: 2 | U11: 2 | V11: 0 | W11: 0 | X11: 2 | Y11: 1 | Z11: 2 | AA11: 0 | AB11: 1 | AC11: 2 | AG11: 12 | AH11: 345 | AI11: 357 | AJ11: 4
A12: 5 | B12: Ricardo04 | C12: 2 | D12: 0 | E12: 0 | F12: 1 | G12: 1 | H12: 0 | I12: 2 | J12: 0 | K12: 2 | L12: 1 | M12: 2 | N12: 0 | O12: 1 | P12: 2 | Q12: 3 | R12: 2 | S12: 1 | T12: 5 | U12: 2 | V12: 1 | W12: 0 | X12: 3 | Y12: 1 | Z12: 2 | AA12: 1 | AB12: 2 | AC12: 2 | AG12: 14 | AH12: 335 | AI12: 349 | AJ12: 5
A13: 6 | B13: Silfa04 | C13: 3 | D13: 1 | E13: 0 | F13: 1 | G13: 0 | H13: 0 | I13: 2 | J13: 3 | K13: 0 | L13: 0 | M13: 1 | N13: 0 | O13: 1 | P13: 1 | Q13: 0 | R13: 2 | S13: 0 | T13: 2 | U13: 3 | V13: 0 | W13: 0 | X13: 2 | Y13: 1 | Z13: 2 | AA13: 4 | AB13: 1 | AC13: 0 | AG13: 4 | AH13: 334 | AI13: 338 | AJ13: 6
A14: 7 | B14: Schalt04 | C14: 2 | D14: 1 | E14: 0 | F14: 1 | G14: 1 | H14: 0 | I14: 4 | J14: 1 | K14: 2 | L14: 0 | M14: 1 | N14: 0 | O14: 2 | P14: 1 | Q14: 0 | R14: 1 | S14: 1 | T14: 0 | U14: 2 | V14: 1 | W14: 0 | X14: 2 | Y14: 2 | Z14: 0 | AA14: 2 | AB14: 2 | AC14: 0 | AG14: 2 | AH14: 335 | AI14: 337 | AJ14: 7
A15: 8 | B15: UltraGE | C15: 2 | D15: 1 | E15: 0 | F15: 1 | G15: 2 | H15: 2 | I15: 3 | J15: 1 | K15: 2 | L15: 1 | M15: 2 | N15: 0 | O15: 3 | P15: 1 | Q15: 0 | R15: 2 | S15: 0 | T15: 2 | U15: 2 | V15: 1 | W15: 0 | X15: 2 | Y15: 1 | Z15: 2 | AA15: 1 | AB15: 2 | AC15: 2 | AG15: 10 | AH15: 312 | AI15: 322 | AJ15: 8
A16: 9 | B16: Th. Bülles | C16: 2 | D16: 0 | E16: 0 | F16: 2 | G16: 1 | H16: 0 | I16: 2 | J16: 0 | K16: 2 | L16: 1 | M16: 2 | N16: 0 | O16: 2 | P16: 1 | Q16: 0 | R16: 2 | S16: 1 | T16: 5 | U16: 2 | V16: 0 | W16: 0 | X16: 2 | Y16: 1 | Z16: 2 | AA16: 2 | AB16: 1 | AC16: 0 | AG16: 9 | AH16: 312 | AI16: 321 | AJ16: 9
A17: 10 | B17: FlorianS04 | C17: 1 | D17: 0 | E17: 0 | F17: 1 | G17: 3 | H17: 2 | I17: 2 | J17: 1 | K17: 3 | L17: 2 | M17: 2 | N17: 0 | O17: 1 | P17: 0 | Q17: 0 | R17: 1 | S17: 0 | T17: 3 | U17: 2 | V17: 1 | W17: 0 | X17: 2 | Y17: 2 | Z17: 0 | AA17: 2 | AB17: 1 | AC17: 0 | AG17: 8 | AH17: 312 | AI17: 320 | AJ17: 10
A18: 10 | B18: Reinhold | C18: 2 | D18: 0 | E18: 0 | F18: 2 | G18: 2 | H18: 0 | I18: 3 | J18: 2 | K18: 3 | L18: 2 | M18: 2 | N18: 0 | O18: 3 | P18: 2 | Q18: 0 | R18: 2 | S18: 1 | T18: 5 | U18: 2 | V18: 1 | W18: 0 | X18: 3 | Y18: 1 | Z18: 2 | AA18: 2 | AB18: 0 | AC18: 0 | AG18: 10 | AH18: 310 | AI18: 320 | AJ18: 10
A19: 12 | B19: Mike04 | C19: 2 | D19: 0 | E19: 0 | F19: 0 | G19: 2 | H19: 2 | I19: 2 | J19: 0 | K19: 2 | L19: 1 | M19: 1 | N19: 0 | O19: 2 | P19: 1 | Q19: 0 | R19: 2 | S19: 0 | T19: 2 | U19: 2 | V19: 0 | W19: 0 | X19: 2 | Y19: 0 | Z19: 2 | AA19: 1 | AB19: 2 | AC19: 2 | AG19: 10 | AH19: 303 | AI19: 313 | AJ19: 12
A20: 13 | B20: Master1 | C20: 3 | D20: 1 | E20: 0 | F20: 3 | G20: 1 | H20: 0 | I20: 3 | J20: 0 | K20: 2 | L20: 2 | M20: 2 | N20: 0 | O20: 3 | P20: 1 | Q20: 0 | R20: 2 | S20: 1 | T20: 5 | U20: 1 | V20: 1 | W20: 3 | X20: 2 | Y20: 2 | Z20: 0 | AA20: 2 | AB20: 1 | AC20: 0 | AG20: 10 | AH20: 296 | AI20: 306 | AJ20: 13
A21: 14 | B21: Lola04 | C21: 2 | D21: 1 | E21: 0 | F21: 2 | G21: 1 | H21: 0 | I21: 4 | J21: 1 | K21: 2 | L21: 2 | M21: 2 | N21: 0 | O21: 3 | P21: 1 | Q21: 0 | R21: 2 | S21: 0 | T21: 2 | U21: 2 | V21: 1 | W21: 0 | X21: 3 | Y21: 2 | Z21: 2 | AA21: 2 | AB21: 1 | AC21: 0 | AG21: 6 | AH21: 296 | AI21: 302 | AJ21: 14
A22: 15 | B22: atschi91 | C22: 2 | D22: 1 | E22: 0 | F22: 2 | G22: 1 | H22: 0 | I22: 2 | J22: 1 | K22: 3 | L22: 2 | M22: 1 | N22: 2 | O22: 2 | P22: 1 | Q22: 0 | R22: 2 | S22: 1 | T22: 5 | U22: 2 | V22: 1 | W22: 0 | X22: 1 | Y22: 2 | Z22: 0 | AA22: 2 | AB22: 1 | AC22: 0 | AG22: 10 | AH22: 278 | AI22: 288 | AJ22: 15
A23: 16 | B23: fabian1904 | C23: 3 | D23: 1 | E23: 0 | F23: 2 | G23: 1 | H23: 0 | I23: 2 | J23: 0 | K23: 2 | L23: 1 | M23: 1 | N23: 0 | O23: 1 | P23: 0 | Q23: 0 | R23: 2 | S23: 0 | T23: 2 | U23: 2 | V23: 1 | W23: 0 | X23: 3 | Y23: 1 | Z23: 2 | AA23: 0 | AB23: 1 | AC23: 2 | AG23: 8 | AH23: 223 | AI23: 231 | AJ23: 16
A24: 17 | B24: Archie04 | AG24: 0 | AH24: 221 | AI24: 221 | AJ24: 17
A25: 18 | B25: Nico1904 | AG25: 0 | AH25: 200 | AI25: 200 | AJ25: 18
A26: 19 | B26: Benni Schalt | AG26: 0 | AH26: 102 | AI26: 102 | AJ26: 19
A27: 20 | B27: schmiddi04 | AG27: 0 | AH27: 64 | AI27: 64 | AJ27: 20

Sheet 27.Spieltag
A4: 27. Spieltag | C4: H S V | F4: Ulm | I4: Hannover | L4: Paderborn | O4: Hertha BSC | R4: Kaisersl. | U4: Fürth | X4: Pr. Münster | AA4: Regensburg
AG5: G E S A M T W E R T U N G
C6: Elversberg | F6: Darmstadt | I6: Magdeburg | L6: Köln | O6: Karlsruhe | R6: Düsseldorf | U6: Schalke 04 | X6: Braunschw. | AA6: Nürnberg | AG6: Punkte | AH6: Punkte | AI6: Gesamt | AJ6: Platz | AK6: PUNKTEVERTEILUNG
A7: PLATZ | B7: ERGEBNISSE=> | E7: Pkt. | H7: Pkt. | K7: Pkt. | N7: Pkt. | Q7: Pkt. | T7: Pkt. | W7: Pkt. | Z7: Pkt. | AC7: Pkt. | AG7: Spieltag | AH7: bisher | AI7: Punkte | AK7: richtige Tendenz | AN7: 2
A8: =AJ8 -> 1 | B8: =#REF! -> #REF! | E8: =IF(OR(EXACT($C$7,C8)*(EXACT($D$7,D8)))=TRUE,$AN$9,IF(($D$7-$C$7=D8-C8),$AN$8,IF(OR(EXACT($C$7>$D$7,C8>D8)*EXACT($C$7=$D$7,C8=D8)*EXACT($C$7<$D$7,C8<D8)),$AN$7,0))) -> 5 | H8: =IF(OR(EXACT($F$7,F8)*(EXACT($G$7,G8)))=TRUE,$AN$9,IF(($G$7-$F$7=G8-F8),$AN$8,IF(OR(EXACT($F$7>$G$7,F8>G8)*EXACT($F$7=$G$7,F8=G8)*EXACT($F$7<$G$7,F8<G8)),$AN$7,0))) -> 5 | K8: =IF(OR(EXACT($I$7,I8)*(EXACT($J$7,J8)))=TRUE,$AN$9,IF(($J$7-$I$7=J8-I8),$AN$8,IF(OR(EXACT($I$7>$J$7,I8>J8)*EXACT($I$7=$J$7,I8=J8)*EXACT($I$7<$J$7,I8<J8)),$AN$7,0))) -> 5 | N8: =IF(OR(EXACT($L$7,L8)*(EXACT($M$7,M8)))=TRUE,$AN$9,IF(($M$7-$L$7=M8-L8),$AN$8,IF(OR(EXACT($L$7>$M$7,L8>M8)*EXACT($L$7=$M$7,L8=M8)*EXACT($L$7<$M$7,L8<M8)),$AN$7,0))) -> 5 | Q8: =IF(OR(EXACT($O$7,O8)*(EXACT($P$7,P8)))=TRUE,$AN$9,IF(($P$7-$O$7=P8-O8),$AN$8,IF(OR(EXACT($O$7>$P$7,O8>P8)*EXACT($O$7=$P$7,O8=P8)*EXACT($O$7<$P$7,O8<P8)),$AN$7,0))) -> 5 | T8: =IF(OR(EXACT($R$7,R8)*(EXACT($S$7,S8)))=TRUE,$AN$9,IF(($S$7-$R$7=S8-R8),$AN$8,IF(OR(EXACT($R$7>$S$7,R8>S8)*EXACT($R$7=$S$7,R8=S8)*EXACT($R$7<$S$7,R8<S8)),$AN$7,0))) -> 5 | W8: =IF(OR(EXACT($U$7,U8)*(EXACT($V$7,V8)))=TRUE,$AN$9,IF(($V$7-$U$7=V8-U8),$AN$8,IF(OR(EXACT($U$7>$V$7,U8>V8)*EXACT($U$7=$V$7,U8=V8)*EXACT($U$7<$V$7,U8<V8)),$AN$7,0))) -> 5 | Z8: =IF(OR(EXACT($X$7,X8)*(EXACT($Y$7,Y8)))=TRUE,$AN$9,IF(($Y$7-$X$7=Y8-X8),$AN$8,IF(OR(EXACT($X$7>$Y$7,X8>Y8)*EXACT($X$7=$Y$7,X8=Y8)*EXACT($X$7<$Y$7,X8<Y8)),$AN$7,0))) -> 5 | AC8: =IF(OR(EXACT($AA$7,AA8)*(EXACT($AB$7,AB8)))=TRUE,$AN$9,IF(($AB$7-$AA$7=AB8-AA8),$AN$8,IF(OR(EXACT($AA$7>$AB$7,AA8>AB8)*EXACT($AA$7=$AB$7,AA8=AB8)*EXACT($AA$7<$AB$7,AA8<AB8)),$AN$7,0))) -> 5 | AG8: =E8+H8+K8+N8+Q8+T8+W8+Z8+AC8+AF8 -> 45 | AH8: ='26.Spieltag'!AI8 -> 402 | AI8: =AG8+AH8 -> 447 | AJ8: =RANK(AI8,$AI$8:$AI$27) -> 1 | AK8: richtige Tend. + korr. Torabst. | AN8: 3
A9: =AJ9 -> 2 | B9: =#REF! -> #REF! | E9: =IF(OR(EXACT($C$7,C9)*(EXACT($D$7,D9)))=TRUE,$AN$9,IF(($D$7-$C$7=D9-C9),$AN$8,IF(OR(EXACT($C$7>$D$7,C9>D9)*EXACT($C$7=$D$7,C9=D9)*EXACT($C$7<$D$7,C9<D9)),$AN$7,0))) -> 5 | H9: =IF(OR(EXACT($F$7,F9)*(EXACT($G$7,G9)))=TRUE,$AN$9,IF(($G$7-$F$7=G9-F9),$AN$8,IF(OR(EXACT($F$7>$G$7,F9>G9)*EXACT($F$7=$G$7,F9=G9)*EXACT($F$7<$G$7,F9<G9)),$AN$7,0))) -> 5 | K9: =IF(OR(EXACT($I$7,I9)*(EXACT($J$7,J9)))=TRUE,$AN$9,IF(($J$7-$I$7=J9-I9),$AN$8,IF(OR(EXACT($I$7>$J$7,I9>J9)*EXACT($I$7=$J$7,I9=J9)*EXACT($I$7<$J$7,I9<J9)),$AN$7,0))) -> 5 | N9: =IF(OR(EXACT($L$7,L9)*(EXACT($M$7,M9)))=TRUE,$AN$9,IF(($M$7-$L$7=M9-L9),$AN$8,IF(OR(EXACT($L$7>$M$7,L9>M9)*EXACT($L$7=$M$7,L9=M9)*EXACT($L$7<$M$7,L9<M9)),$AN$7,0))) -> 5 | Q9: =IF(OR(EXACT($O$7,O9)*(EXACT($P$7,P9)))=TRUE,$AN$9,IF(($P$7-$O$7=P9-O9),$AN$8,IF(OR(EXACT($O$7>$P$7,O9>P9)*EXACT($O$7=$P$7,O9=P9)*EXACT($O$7<$P$7,O9<P9)),$AN$7,0))) -> 5 | T9: =IF(OR(EXACT($R$7,R9)*(EXACT($S$7,S9)))=TRUE,$AN$9,IF(($S$7-$R$7=S9-R9),$AN$8,IF(OR(EXACT($R$7>$S$7,R9>S9)*EXACT($R$7=$S$7,R9=S9)*EXACT($R$7<$S$7,R9<S9)),$AN$7,0))) -> 5 | W9: =IF(OR(EXACT($U$7,U9)*(EXACT($V$7,V9)))=TRUE,$AN$9,IF(($V$7-$U$7=V9-U9),$AN$8,IF(OR(EXACT($U$7>$V$7,U9>V9)*EXACT($U$7=$V$7,U9=V9)*EXACT($U$7<$V$7,U9<V9)),$AN$7,0))) -> 5 | Z9: =IF(OR(EXACT($X$7,X9)*(EXACT($Y$7,Y9)))=TRUE,$AN$9,IF(($Y$7-$X$7=Y9-X9),$AN$8,IF(OR(EXACT($X$7>$Y$7,X9>Y9)*EXACT($X$7=$Y$7,X9=Y9)*EXACT($X$7<$Y$7,X9<Y9)),$AN$7,0))) -> 5 | AC9: =IF(OR(EXACT($AA$7,AA9)*(EXACT($AB$7,AB9)))=TRUE,$AN$9,IF(($AB$7-$AA$7=AB9-AA9),$AN$8,IF(OR(EXACT($AA$7>$AB$7,AA9>AB9)*EXACT($AA$7=$AB$7,AA9=AB9)*EXACT($AA$7<$AB$7,AA9<AB9)),$AN$7,0))) -> 5 | AG9: =E9+H9+K9+N9+Q9+T9+W9+Z9+AC9+AF9 -> 45 | AH9: ='26.Spieltag'!AI9 -> 363 | AI9: =AG9+AH9 -> 408 | AJ9: =RANK(AI9,$AI$8:$AI$27) -> 2 | AK9: richtiges Ergebnis | AN9: 5
A10: =AJ10 -> 3 | B10: =#REF! -> #REF! | E10: =IF(OR(EXACT($C$7,C10)*(EXACT($D$7,D10)))=TRUE,$AN$9,IF(($D$7-$C$7=D10-C10),$AN$8,IF(OR(EXACT($C$7>$D$7,C10>D10)*EXACT($C$7=$D$7,C10=D10)*EXACT($C$7<$D$7,C10<D10)),$AN$7,0))) -> 5 | H10: =IF(OR(EXACT($F$7,F10)*(EXACT($G$7,G10)))=TRUE,$AN$9,IF(($G$7-$F$7=G10-F10),$AN$8,IF(OR(EXACT($F$7>$G$7,F10>G10)*EXACT($F$7=$G$7,F10=G10)*EXACT($F$7<$G$7,F10<G10)),$AN$7,0))) -> 5 | K10: =IF(OR(EXACT($I$7,I10)*(EXACT($J$7,J10)))=TRUE,$AN$9,IF(($J$7-$I$7=J10-I10),$AN$8,IF(OR(EXACT($I$7>$J$7,I10>J10)*EXACT($I$7=$J$7,I10=J10)*EXACT($I$7<$J$7,I10<J10)),$AN$7,0))) -> 5 | N10: =IF(OR(EXACT($L$7,L10)*(EXACT($M$7,M10)))=TRUE,$AN$9,IF(($M$7-$L$7=M10-L10),$AN$8,IF(OR(EXACT($L$7>$M$7,L10>M10)*EXACT($L$7=$M$7,L10=M10)*EXACT($L$7<$M$7,L10<M10)),$AN$7,0))) -> 5 | Q10: =IF(OR(EXACT($O$7,O10)*(EXACT($P$7,P10)))=TRUE,$AN$9,IF(($P$7-$O$7=P10-O10),$AN$8,IF(OR(EXACT($O$7>$P$7,O10>P10)*EXACT($O$7=$P$7,O10=P10)*EXACT($O$7<$P$7,O10<P10)),$AN$7,0))) -> 5 | T10: =IF(OR(EXACT($R$7,R10)*(EXACT($S$7,S10)))=TRUE,$AN$9,IF(($S$7-$R$7=S10-R10),$AN$8,IF(OR(EXACT($R$7>$S$7,R10>S10)*EXACT($R$7=$S$7,R10=S10)*EXACT($R$7<$S$7,R10<S10)),$AN$7,0))) -> 5 | W10: =IF(OR(EXACT($U$7,U10)*(EXACT($V$7,V10)))=TRUE,$AN$9,IF(($V$7-$U$7=V10-U10),$AN$8,IF(OR(EXACT($U$7>$V$7,U10>V10)*EXACT($U$7=$V$7,U10=V10)*EXACT($U$7<$V$7,U10<V10)),$AN$7,0))) -> 5 | Z10: =IF(OR(EXACT($X$7,X10)*(EXACT($Y$7,Y10)))=TRUE,$AN$9,IF(($Y$7-$X$7=Y10-X10),$AN$8,IF(OR(EXACT($X$7>$Y$7,X10>Y10)*EXACT($X$7=$Y$7,X10=Y10)*EXACT($X$7<$Y$7,X10<Y10)),$AN$7,0))) -> 5 | AC10: =IF(OR(EXACT($AA$7,AA10)*(EXACT($AB$7,AB10)))=TRUE,$AN$9,IF(($AB$7-$AA$7=AB10-AA10),$AN$8,IF(OR(EXACT($AA$7>$AB$7,AA10>AB10)*EXACT($AA$7=$AB$7,AA10=AB10)*EXACT($AA$7<$AB$7,AA10<AB10)),$AN$7,0))) -> 5 | AG10: =E10+H10+K10+N10+Q10+T10+W10+Z10+AC10+AF10 -> 45 | AH10: ='26.Spieltag'!AI10 -> 358 | AI10: =AG10+AH10 -> 403 | AJ10: =RANK(AI10,$AI$8:$AI$27) -> 3
A11: =AJ11 -> 4 | B11: =#REF! -> #REF! | E11: =IF(OR(EXACT($C$7,C11)*(EXACT($D$7,D11)))=TRUE,$AN$9,IF(($D$7-$C$7=D11-C11),$AN$8,IF(OR(EXACT($C$7>$D$7,C11>D11)*EXACT($C$7=$D$7,C11=D11)*EXACT($C$7<$D$7,C11<D11)),$AN$7,0))) -> 5 | H11: =IF(OR(EXACT($F$7,F11)*(EXACT($G$7,G11)))=TRUE,$AN$9,IF(($G$7-$F$7=G11-F11),$AN$8,IF(OR(EXACT($F$7>$G$7,F11>G11)*EXACT($F$7=$G$7,F11=G11)*EXACT($F$7<$G$7,F11<G11)),$AN$7,0))) -> 5 | K11: =IF(OR(EXACT($I$7,I11)*(EXACT($J$7,J11)))=TRUE,$AN$9,IF(($J$7-$I$7=J11-I11),$AN$8,IF(OR(EXACT($I$7>$J$7,I11>J11)*EXACT($I$7=$J$7,I11=J11)*EXACT($I$7<$J$7,I11<J11)),$AN$7,0))) -> 5 | N11: =IF(OR(EXACT($L$7,L11)*(EXACT($M$7,M11)))=TRUE,$AN$9,IF(($M$7-$L$7=M11-L11),$AN$8,IF(OR(EXACT($L$7>$M$7,L11>M11)*EXACT($L$7=$M$7,L11=M11)*EXACT($L$7<$M$7,L11<M11)),$AN$7,0))) -> 5 | Q11: =IF(OR(EXACT($O$7,O11)*(EXACT($P$7,P11)))=TRUE,$AN$9,IF(($P$7-$O$7=P11-O11),$AN$8,IF(OR(EXACT($O$7>$P$7,O11>P11)*EXACT($O$7=$P$7,O11=P11)*EXACT($O$7<$P$7,O11<P11)),$AN$7,0))) -> 5 | T11: =IF(OR(EXACT($R$7,R11)*(EXACT($S$7,S11)))=TRUE,$AN$9,IF(($S$7-$R$7=S11-R11),$AN$8,IF(OR(EXACT($R$7>$S$7,R11>S11)*EXACT($R$7=$S$7,R11=S11)*EXACT($R$7<$S$7,R11<S11)),$AN$7,0))) -> 5 | W11: =IF(OR(EXACT($U$7,U11)*(EXACT($V$7,V11)))=TRUE,$AN$9,IF(($V$7-$U$7=V11-U11),$AN$8,IF(OR(EXACT($U$7>$V$7,U11>V11)*EXACT($U$7=$V$7,U11=V11)*EXACT($U$7<$V$7,U11<V11)),$AN$7,0))) -> 5 | Z11: =IF(OR(EXACT($X$7,X11)*(EXACT($Y$7,Y11)))=TRUE,$AN$9,IF(($Y$7-$X$7=Y11-X11),$AN$8,IF(OR(EXACT($X$7>$Y$7,X11>Y11)*EXACT($X$7=$Y$7,X11=Y11)*EXACT($X$7<$Y$7,X11<Y11)),$AN$7,0))) -> 5 | AC11: =IF(OR(EXACT($AA$7,AA11)*(EXACT($AB$7,AB11)))=TRUE,$AN$9,IF(($AB$7-$AA$7=AB11-AA11),$AN$8,IF(OR(EXACT($AA$7>$AB$7,AA11>AB11)*EXACT($AA$7=$AB$7,AA11=AB11)*EXACT($AA$7<$AB$7,AA11<AB11)),$AN$7,0))) -> 5 | AG11: =E11+H11+K11+N11+Q11+T11+W11+Z11+AC11+AF11 -> 45 | AH11: ='26.Spieltag'!AI11 -> 357 | AI11: =AG11+AH11 -> 402 | AJ11: =RANK(AI11,$AI$8:$AI$27) -> 4
A12: =AJ12 -> 5 | B12: =#REF! -> #REF! | E12: =IF(OR(EXACT($C$7,C12)*(EXACT($D$7,D12)))=TRUE,$AN$9,IF(($D$7-$C$7=D12-C12),$AN$8,IF(OR(EXACT($C$7>$D$7,C12>D12)*EXACT($C$7=$D$7,C12=D12)*EXACT($C$7<$D$7,C12<D12)),$AN$7,0))) -> 5 | H12: =IF(OR(EXACT($F$7,F12)*(EXACT($G$7,G12)))=TRUE,$AN$9,IF(($G$7-$F$7=G12-F12),$AN$8,IF(OR(EXACT($F$7>$G$7,F12>G12)*EXACT($F$7=$G$7,F12=G12)*EXACT($F$7<$G$7,F12<G12)),$AN$7,0))) -> 5 | K12: =IF(OR(EXACT($I$7,I12)*(EXACT($J$7,J12)))=TRUE,$AN$9,IF(($J$7-$I$7=J12-I12),$AN$8,IF(OR(EXACT($I$7>$J$7,I12>J12)*EXACT($I$7=$J$7,I12=J12)*EXACT($I$7<$J$7,I12<J12)),$AN$7,0))) -> 5 | N12: =IF(OR(EXACT($L$7,L12)*(EXACT($M$7,M12)))=TRUE,$AN$9,IF(($M$7-$L$7=M12-L12),$AN$8,IF(OR(EXACT($L$7>$M$7,L12>M12)*EXACT($L$7=$M$7,L12=M12)*EXACT($L$7<$M$7,L12<M12)),$AN$7,0))) -> 5 | Q12: =IF(OR(EXACT($O$7,O12)*(EXACT($P$7,P12)))=TRUE,$AN$9,IF(($P$7-$O$7=P12-O12),$AN$8,IF(OR(EXACT($O$7>$P$7,O12>P12)*EXACT($O$7=$P$7,O12=P12)*EXACT($O$7<$P$7,O12<P12)),$AN$7,0))) -> 5 | T12: =IF(OR(EXACT($R$7,R12)*(EXACT($S$7,S12)))=TRUE,$AN$9,IF(($S$7-$R$7=S12-R12),$AN$8,IF(OR(EXACT($R$7>$S$7,R12>S12)*EXACT($R$7=$S$7,R12=S12)*EXACT($R$7<$S$7,R12<S12)),$AN$7,0))) -> 5 | W12: =IF(OR(EXACT($U$7,U12)*(EXACT($V$7,V12)))=TRUE,$AN$9,IF(($V$7-$U$7=V12-U12),$AN$8,IF(OR(EXACT($U$7>$V$7,U12>V12)*EXACT($U$7=$V$7,U12=V12)*EXACT($U$7<$V$7,U12<V12)),$AN$7,0))) -> 5 | Z12: =IF(OR(EXACT($X$7,X12)*(EXACT($Y$7,Y12)))=TRUE,$AN$9,IF(($Y$7-$X$7=Y12-X12),$AN$8,IF(OR(EXACT($X$7>$Y$7,X12>Y12)*EXACT($X$7=$Y$7,X12=Y12)*EXACT($X$7<$Y$7,X12<Y12)),$AN$7,0))) -> 5 | AC12: =IF(OR(EXACT($AA$7,AA12)*(EXACT($AB$7,AB12)))=TRUE,$AN$9,IF(($AB$7-$AA$7=AB12-AA12),$AN$8,IF(OR(EXACT($AA$7>$AB$7,AA12>AB12)*EXACT($AA$7=$AB$7,AA12=AB12)*EXACT($AA$7<$AB$7,AA12<AB12)),$AN$7,0))) -> 5 | AG12: =E12+H12+K12+N12+Q12+T12+W12+Z12+AC12+AF12 -> 45 | AH12: ='26.Spieltag'!AI12 -> 349 | AI12: =AG12+AH12 -> 394 | AJ12: =RANK(AI12,$AI$8:$AI$27) -> 5
A13: =AJ13 -> 6 | B13: =#REF! -> #REF! | E13: =IF(OR(EXACT($C$7,C13)*(EXACT($D$7,D13)))=TRUE,$AN$9,IF(($D$7-$C$7=D13-C13),$AN$8,IF(OR(EXACT($C$7>$D$7,C13>D13)*EXACT($C$7=$D$7,C13=D13)*EXACT($C$7<$D$7,C13<D13)),$AN$7,0))) -> 5 | H13: =IF(OR(EXACT($F$7,F13)*(EXACT($G$7,G13)))=TRUE,$AN$9,IF(($G$7-$F$7=G13-F13),$AN$8,IF(OR(EXACT($F$7>$G$7,F13>G13)*EXACT($F$7=$G$7,F13=G13)*EXACT($F$7<$G$7,F13<G13)),$AN$7,0))) -> 5 | K13: =IF(OR(EXACT($I$7,I13)*(EXACT($J$7,J13)))=TRUE,$AN$9,IF(($J$7-$I$7=J13-I13),$AN$8,IF(OR(EXACT($I$7>$J$7,I13>J13)*EXACT($I$7=$J$7,I13=J13)*EXACT($I$7<$J$7,I13<J13)),$AN$7,0))) -> 5 | N13: =IF(OR(EXACT($L$7,L13)*(EXACT($M$7,M13)))=TRUE,$AN$9,IF(($M$7-$L$7=M13-L13),$AN$8,IF(OR(EXACT($L$7>$M$7,L13>M13)*EXACT($L$7=$M$7,L13=M13)*EXACT($L$7<$M$7,L13<M13)),$AN$7,0))) -> 5 | Q13: =IF(OR(EXACT($O$7,O13)*(EXACT($P$7,P13)))=TRUE,$AN$9,IF(($P$7-$O$7=P13-O13),$AN$8,IF(OR(EXACT($O$7>$P$7,O13>P13)*EXACT($O$7=$P$7,O13=P13)*EXACT($O$7<$P$7,O13<P13)),$AN$7,0))) -> 5 | T13: =IF(OR(EXACT($R$7,R13)*(EXACT($S$7,S13)))=TRUE,$AN$9,IF(($S$7-$R$7=S13-R13),$AN$8,IF(OR(EXACT($R$7>$S$7,R13>S13)*EXACT($R$7=$S$7,R13=S13)*EXACT($R$7<$S$7,R13<S13)),$AN$7,0))) -> 5 | W13: =IF(OR(EXACT($U$7,U13)*(EXACT($V$7,V13)))=TRUE,$AN$9,IF(($V$7-$U$7=V13-U13),$AN$8,IF(OR(EXACT($U$7>$V$7,U13>V13)*EXACT($U$7=$V$7,U13=V13)*EXACT($U$7<$V$7,U13<V13)),$AN$7,0))) -> 5 | Z13: =IF(OR(EXACT($X$7,X13)*(EXACT($Y$7,Y13)))=TRUE,$AN$9,IF(($Y$7-$X$7=Y13-X13),$AN$8,IF(OR(EXACT($X$7>$Y$7,X13>Y13)*EXACT($X$7=$Y$7,X13=Y13)*EXACT($X$7<$Y$7,X13<Y13)),$AN$7,0))) -> 5 | AC13: =IF(OR(EXACT($AA$7,AA13)*(EXACT($AB$7,AB13)))=TRUE,$AN$9,IF(($AB$7-$AA$7=AB13-AA13),$AN$8,IF(OR(EXACT($AA$7>$AB$7,AA13>AB13)*EXACT($AA$7=$AB$7,AA13=AB13)*EXACT($AA$7<$AB$7,AA13<AB13)),$AN$7,0))) -> 5 | AG13: =E13+H13+K13+N13+Q13+T13+W13+Z13+AC13+AF13 -> 45 | AH13: ='26.Spieltag'!AI13 -> 338 | AI13: =AG13+AH13 -> 383 | AJ13: =RANK(AI13,$AI$8:$AI$27) -> 6
A14: =AJ14 -> 7 | B14: =#REF! -> #REF! | E14: =IF(OR(EXACT($C$7,C14)*(EXACT($D$7,D14)))=TRUE,$AN$9,IF(($D$7-$C$7=D14-C14),$AN$8,IF(OR(EXACT($C$7>$D$7,C14>D14)*EXACT($C$7=$D$7,C14=D14)*EXACT($C$7<$D$7,C14<D14)),$AN$7,0))) -> 5 | H14: =IF(OR(EXACT($F$7,F14)*(EXACT($G$7,G14)))=TRUE,$AN$9,IF(($G$7-$F$7=G14-F14),$AN$8,IF(OR(EXACT($F$7>$G$7,F14>G14)*EXACT($F$7=$G$7,F14=G14)*EXACT($F$7<$G$7,F14<G14)),$AN$7,0))) -> 5 | K14: =IF(OR(EXACT($I$7,I14)*(EXACT($J$7,J14)))=TRUE,$AN$9,IF(($J$7-$I$7=J14-I14),$AN$8,IF(OR(EXACT($I$7>$J$7,I14>J14)*EXACT($I$7=$J$7,I14=J14)*EXACT($I$7<$J$7,I14<J14)),$AN$7,0))) -> 5 | N14: =IF(OR(EXACT($L$7,L14)*(EXACT($M$7,M14)))=TRUE,$AN$9,IF(($M$7-$L$7=M14-L14),$AN$8,IF(OR(EXACT($L$7>$M$7,L14>M14)*EXACT($L$7=$M$7,L14=M14)*EXACT($L$7<$M$7,L14<M14)),$AN$7,0))) -> 5 | Q14: =IF(OR(EXACT($O$7,O14)*(EXACT($P$7,P14)))=TRUE,$AN$9,IF(($P$7-$O$7=P14-O14),$AN$8,IF(OR(EXACT($O$7>$P$7,O14>P14)*EXACT($O$7=$P$7,O14=P14)*EXACT($O$7<$P$7,O14<P14)),$AN$7,0))) -> 5 | T14: =IF(OR(EXACT($R$7,R14)*(EXACT($S$7,S14)))=TRUE,$AN$9,IF(($S$7-$R$7=S14-R14),$AN$8,IF(OR(EXACT($R$7>$S$7,R14>S14)*EXACT($R$7=$S$7,R14=S14)*EXACT($R$7<$S$7,R14<S14)),$AN$7,0))) -> 5 | W14: =IF(OR(EXACT($U$7,U14)*(EXACT($V$7,V14)))=TRUE,$AN$9,IF(($V$7-$U$7=V14-U14),$AN$8,IF(OR(EXACT($U$7>$V$7,U14>V14)*EXACT($U$7=$V$7,U14=V14)*EXACT($U$7<$V$7,U14<V14)),$AN$7,0))) -> 5 | Z14: =IF(OR(EXACT($X$7,X14)*(EXACT($Y$7,Y14)))=TRUE,$AN$9,IF(($Y$7-$X$7=Y14-X14),$AN$8,IF(OR(EXACT($X$7>$Y$7,X14>Y14)*EXACT($X$7=$Y$7,X14=Y14)*EXACT($X$7<$Y$7,X14<Y14)),$AN$7,0))) -> 5 | AC14: =IF(OR(EXACT($AA$7,AA14)*(EXACT($AB$7,AB14)))=TRUE,$AN$9,IF(($AB$7-$AA$7=AB14-AA14),$AN$8,IF(OR(EXACT($AA$7>$AB$7,AA14>AB14)*EXACT($AA$7=$AB$7,AA14=AB14)*EXACT($AA$7<$AB$7,AA14<AB14)),$AN$7,0))) -> 5 | AG14: =E14+H14+K14+N14+Q14+T14+W14+Z14+AC14+AF14 -> 45 | AH14: ='26.Spieltag'!AI14 -> 337 | AI14: =AG14+AH14 -> 382 | AJ14: =RANK(AI14,$AI$8:$AI$27) -> 7
A15: =AJ15 -> 8 | B15: =#REF! -> #REF! | E15: =IF(OR(EXACT($C$7,C15)*(EXACT($D$7,D15)))=TRUE,$AN$9,IF(($D$7-$C$7=D15-C15),$AN$8,IF(OR(EXACT($C$7>$D$7,C15>D15)*EXACT($C$7=$D$7,C15=D15)*EXACT($C$7<$D$7,C15<D15)),$AN$7,0))) -> 5 | H15: =IF(OR(EXACT($F$7,F15)*(EXACT($G$7,G15)))=TRUE,$AN$9,IF(($G$7-$F$7=G15-F15),$AN$8,IF(OR(EXACT($F$7>$G$7,F15>G15)*EXACT($F$7=$G$7,F15=G15)*EXACT($F$7<$G$7,F15<G15)),$AN$7,0))) -> 5 | K15: =IF(OR(EXACT($I$7,I15)*(EXACT($J$7,J15)))=TRUE,$AN$9,IF(($J$7-$I$7=J15-I15),$AN$8,IF(OR(EXACT($I$7>$J$7,I15>J15)*EXACT($I$7=$J$7,I15=J15)*EXACT($I$7<$J$7,I15<J15)),$AN$7,0))) -> 5 | N15: =IF(OR(EXACT($L$7,L15)*(EXACT($M$7,M15)))=TRUE,$AN$9,IF(($M$7-$L$7=M15-L15),$AN$8,IF(OR(EXACT($L$7>$M$7,L15>M15)*EXACT($L$7=$M$7,L15=M15)*EXACT($L$7<$M$7,L15<M15)),$AN$7,0))) -> 5 | Q15: =IF(OR(EXACT($O$7,O15)*(EXACT($P$7,P15)))=TRUE,$AN$9,IF(($P$7-$O$7=P15-O15),$AN$8,IF(OR(EXACT($O$7>$P$7,O15>P15)*EXACT($O$7=$P$7,O15=P15)*EXACT($O$7<$P$7,O15<P15)),$AN$7,0))) -> 5 | T15: =IF(OR(EXACT($R$7,R15)*(EXACT($S$7,S15)))=TRUE,$AN$9,IF(($S$7-$R$7=S15-R15),$AN$8,IF(OR(EXACT($R$7>$S$7,R15>S15)*EXACT($R$7=$S$7,R15=S15)*EXACT($R$7<$S$7,R15<S15)),$AN$7,0))) -> 5 | W15: =IF(OR(EXACT($U$7,U15)*(EXACT($V$7,V15)))=TRUE,$AN$9,IF(($V$7-$U$7=V15-U15),$AN$8,IF(OR(EXACT($U$7>$V$7,U15>V15)*EXACT($U$7=$V$7,U15=V15)*EXACT($U$7<$V$7,U15<V15)),$AN$7,0))) -> 5 | Z15: =IF(OR(EXACT($X$7,X15)*(EXACT($Y$7,Y15)))=TRUE,$AN$9,IF(($Y$7-$X$7=Y15-X15),$AN$8,IF(OR(EXACT($X$7>$Y$7,X15>Y15)*EXACT($X$7=$Y$7,X15=Y15)*EXACT($X$7<$Y$7,X15<Y15)),$AN$7,0))) -> 5 | AC15: =IF(OR(EXACT($AA$7,AA15)*(EXACT($AB$7,AB15)))=TRUE,$AN$9,IF(($AB$7-$AA$7=AB15-AA15),$AN$8,IF(OR(EXACT($AA$7>$AB$7,AA15>AB15)*EXACT($AA$7=$AB$7,AA15=AB15)*EXACT($AA$7<$AB$7,AA15<AB15)),$AN$7,0))) -> 5 | AG15: =E15+H15+K15+N15+Q15+T15+W15+Z15+AC15+AF15 -> 45 | AH15: ='26.Spieltag'!AI15 -> 322 | AI15: =AG15+AH15 -> 367 | AJ15: =RANK(AI15,$AI$8:$AI$27) -> 8
A16: =AJ16 -> 9 | B16: =#REF! -> #REF! | E16: =IF(OR(EXACT($C$7,C16)*(EXACT($D$7,D16)))=TRUE,$AN$9,IF(($D$7-$C$7=D16-C16),$AN$8,IF(OR(EXACT($C$7>$D$7,C16>D16)*EXACT($C$7=$D$7,C16=D16)*EXACT($C$7<$D$7,C16<D16)),$AN$7,0))) -> 5 | H16: =IF(OR(EXACT($F$7,F16)*(EXACT($G$7,G16)))=TRUE,$AN$9,IF(($G$7-$F$7=G16-F16),$AN$8,IF(OR(EXACT($F$7>$G$7,F16>G16)*EXACT($F$7=$G$7,F16=G16)*EXACT($F$7<$G$7,F16<G16)),$AN$7,0))) -> 5 | K16: =IF(OR(EXACT($I$7,I16)*(EXACT($J$7,J16)))=TRUE,$AN$9,IF(($J$7-$I$7=J16-I16),$AN$8,IF(OR(EXACT($I$7>$J$7,I16>J16)*EXACT($I$7=$J$7,I16=J16)*EXACT($I$7<$J$7,I16<J16)),$AN$7,0))) -> 5 | N16: =IF(OR(EXACT($L$7,L16)*(EXACT($M$7,M16)))=TRUE,$AN$9,IF(($M$7-$L$7=M16-L16),$AN$8,IF(OR(EXACT($L$7>$M$7,L16>M16)*EXACT($L$7=$M$7,L16=M16)*EXACT($L$7<$M$7,L16<M16)),$AN$7,0))) -> 5 | Q16: =IF(OR(EXACT($O$7,O16)*(EXACT($P$7,P16)))=TRUE,$AN$9,IF(($P$7-$O$7=P16-O16),$AN$8,IF(OR(EXACT($O$7>$P$7,O16>P16)*EXACT($O$7=$P$7,O16=P16)*EXACT($O$7<$P$7,O16<P16)),$AN$7,0))) -> 5 | T16: =IF(OR(EXACT($R$7,R16)*(EXACT($S$7,S16)))=TRUE,$AN$9,IF(($S$7-$R$7=S16-R16),$AN$8,IF(OR(EXACT($R$7>$S$7,R16>S16)*EXACT($R$7=$S$7,R16=S16)*EXACT($R$7<$S$7,R16<S16)),$AN$7,0))) -> 5 | W16: =IF(OR(EXACT($U$7,U16)*(EXACT($V$7,V16)))=TRUE,$AN$9,IF(($V$7-$U$7=V16-U16),$AN$8,IF(OR(EXACT($U$7>$V$7,U16>V16)*EXACT($U$7=$V$7,U16=V16)*EXACT($U$7<$V$7,U16<V16)),$AN$7,0))) -> 5 | Z16: =IF(OR(EXACT($X$7,X16)*(EXACT($Y$7,Y16)))=TRUE,$AN$9,IF(($Y$7-$X$7=Y16-X16),$AN$8,IF(OR(EXACT($X$7>$Y$7,X16>Y16)*EXACT($X$7=$Y$7,X16=Y16)*EXACT($X$7<$Y$7,X16<Y16)),$AN$7,0))) -> 5 | AC16: =IF(OR(EXACT($AA$7,AA16)*(EXACT($AB$7,AB16)))=TRUE,$AN$9,IF(($AB$7-$AA$7=AB16-AA16),$AN$8,IF(OR(EXACT($AA$7>$AB$7,AA16>AB16)*EXACT($AA$7=$AB$7,AA16=AB16)*EXACT($AA$7<$AB$7,AA16<AB16)),$AN$7,0))) -> 5 | AG16: =E16+H16+K16+N16+Q16+T16+W16+Z16+AC16+AF16 -> 45 | AH16: ='26.Spieltag'!AI16 -> 321 | AI16: =AG16+AH16 -> 366 | AJ16: =RANK(AI16,$AI$8:$AI$27) -> 9
A17: =AJ17 -> 10 | B17: =#REF! -> #REF! | E17: =IF(OR(EXACT($C$7,C17)*(EXACT($D$7,D17)))=TRUE,$AN$9,IF(($D$7-$C$7=D17-C17),$AN$8,IF(OR(EXACT($C$7>$D$7,C17>D17)*EXACT($C$7=$D$7,C17=D17)*EXACT($C$7<$D$7,C17<D17)),$AN$7,0))) -> 5 | H17: =IF(OR(EXACT($F$7,F17)*(EXACT($G$7,G17)))=TRUE,$AN$9,IF(($G$7-$F$7=G17-F17),$AN$8,IF(OR(EXACT($F$7>$G$7,F17>G17)*EXACT($F$7=$G$7,F17=G17)*EXACT($F$7<$G$7,F17<G17)),$AN$7,0))) -> 5 | K17: =IF(OR(EXACT($I$7,I17)*(EXACT($J$7,J17)))=TRUE,$AN$9,IF(($J$7-$I$7=J17-I17),$AN$8,IF(OR(EXACT($I$7>$J$7,I17>J17)*EXACT($I$7=$J$7,I17=J17)*EXACT($I$7<$J$7,I17<J17)),$AN$7,0))) -> 5 | N17: =IF(OR(EXACT($L$7,L17)*(EXACT($M$7,M17)))=TRUE,$AN$9,IF(($M$7-$L$7=M17-L17),$AN$8,IF(OR(EXACT($L$7>$M$7,L17>M17)*EXACT($L$7=$M$7,L17=M17)*EXACT($L$7<$M$7,L17<M17)),$AN$7,0))) -> 5 | Q17: =IF(OR(EXACT($O$7,O17)*(EXACT($P$7,P17)))=TRUE,$AN$9,IF(($P$7-$O$7=P17-O17),$AN$8,IF(OR(EXACT($O$7>$P$7,O17>P17)*EXACT($O$7=$P$7,O17=P17)*EXACT($O$7<$P$7,O17<P17)),$AN$7,0))) -> 5 | T17: =IF(OR(EXACT($R$7,R17)*(EXACT($S$7,S17)))=TRUE,$AN$9,IF(($S$7-$R$7=S17-R17),$AN$8,IF(OR(EXACT($R$7>$S$7,R17>S17)*EXACT($R$7=$S$7,R17=S17)*EXACT($R$7<$S$7,R17<S17)),$AN$7,0))) -> 5 | W17: =IF(OR(EXACT($U$7,U17)*(EXACT($V$7,V17)))=TRUE,$AN$9,IF(($V$7-$U$7=V17-U17),$AN$8,IF(OR(EXACT($U$7>$V$7,U17>V17)*EXACT($U$7=$V$7,U17=V17)*EXACT($U$7<$V$7,U17<V17)),$AN$7,0))) -> 5 | Z17: =IF(OR(EXACT($X$7,X17)*(EXACT($Y$7,Y17)))=TRUE,$AN$9,IF(($Y$7-$X$7=Y17-X17),$AN$8,IF(OR(EXACT($X$7>$Y$7,X17>Y17)*EXACT($X$7=$Y$7,X17=Y17)*EXACT($X$7<$Y$7,X17<Y17)),$AN$7,0))) -> 5 | AC17: =IF(OR(EXACT($AA$7,AA17)*(EXACT($AB$7,AB17)))=TRUE,$AN$9,IF(($AB$7-$AA$7=AB17-AA17),$AN$8,IF(OR(EXACT($AA$7>$AB$7,AA17>AB17)*EXACT($AA$7=$AB$7,AA17=AB17)*EXACT($AA$7<$AB$7,AA17<AB17)),$AN$7,0))) -> 5 | AG17: =E17+H17+K17+N17+Q17+T17+W17+Z17+AC17+AF17 -> 45 | AH17: ='26.Spieltag'!AI17 -> 320 | AI17: =AG17+AH17 -> 365 | AJ17: =RANK(AI17,$AI$8:$AI$27) -> 10
A18: =AJ18 -> 10 | B18: =#REF! -> #REF! | E18: =IF(OR(EXACT($C$7,C18)*(EXACT($D$7,D18)))=TRUE,$AN$9,IF(($D$7-$C$7=D18-C18),$AN$8,IF(OR(EXACT($C$7>$D$7,C18>D18)*EXACT($C$7=$D$7,C18=D18)*EXACT($C$7<$D$7,C18<D18)),$AN$7,0))) -> 5 | H18: =IF(OR(EXACT($F$7,F18)*(EXACT($G$7,G18)))=TRUE,$AN$9,IF(($G$7-$F$7=G18-F18),$AN$8,IF(OR(EXACT($F$7>$G$7,F18>G18)*EXACT($F$7=$G$7,F18=G18)*EXACT($F$7<$G$7,F18<G18)),$AN$7,0))) -> 5 | K18: =IF(OR(EXACT($I$7,I18)*(EXACT($J$7,J18)))=TRUE,$AN$9,IF(($J$7-$I$7=J18-I18),$AN$8,IF(OR(EXACT($I$7>$J$7,I18>J18)*EXACT($I$7=$J$7,I18=J18)*EXACT($I$7<$J$7,I18<J18)),$AN$7,0))) -> 5 | N18: =IF(OR(EXACT($L$7,L18)*(EXACT($M$7,M18)))=TRUE,$AN$9,IF(($M$7-$L$7=M18-L18),$AN$8,IF(OR(EXACT($L$7>$M$7,L18>M18)*EXACT($L$7=$M$7,L18=M18)*EXACT($L$7<$M$7,L18<M18)),$AN$7,0))) -> 5 | Q18: =IF(OR(EXACT($O$7,O18)*(EXACT($P$7,P18)))=TRUE,$AN$9,IF(($P$7-$O$7=P18-O18),$AN$8,IF(OR(EXACT($O$7>$P$7,O18>P18)*EXACT($O$7=$P$7,O18=P18)*EXACT($O$7<$P$7,O18<P18)),$AN$7,0))) -> 5 | T18: =IF(OR(EXACT($R$7,R18)*(EXACT($S$7,S18)))=TRUE,$AN$9,IF(($S$7-$R$7=S18-R18),$AN$8,IF(OR(EXACT($R$7>$S$7,R18>S18)*EXACT($R$7=$S$7,R18=S18)*EXACT($R$7<$S$7,R18<S18)),$AN$7,0))) -> 5 | W18: =IF(OR(EXACT($U$7,U18)*(EXACT($V$7,V18)))=TRUE,$AN$9,IF(($V$7-$U$7=V18-U18),$AN$8,IF(OR(EXACT($U$7>$V$7,U18>V18)*EXACT($U$7=$V$7,U18=V18)*EXACT($U$7<$V$7,U18<V18)),$AN$7,0))) -> 5 | Z18: =IF(OR(EXACT($X$7,X18)*(EXACT($Y$7,Y18)))=TRUE,$AN$9,IF(($Y$7-$X$7=Y18-X18),$AN$8,IF(OR(EXACT($X$7>$Y$7,X18>Y18)*EXACT($X$7=$Y$7,X18=Y18)*EXACT($X$7<$Y$7,X18<Y18)),$AN$7,0))) -> 5 | AC18: =IF(OR(EXACT($AA$7,AA18)*(EXACT($AB$7,AB18)))=TRUE,$AN$9,IF(($AB$7-$AA$7=AB18-AA18),$AN$8,IF(OR(EXACT($AA$7>$AB$7,AA18>AB18)*EXACT($AA$7=$AB$7,AA18=AB18)*EXACT($AA$7<$AB$7,AA18<AB18)),$AN$7,0))) -> 5 | AG18: =E18+H18+K18+N18+Q18+T18+W18+Z18+AC18+AF18 -> 45 | AH18: ='26.Spieltag'!AI18 -> 320 | AI18: =AG18+AH18 -> 365 | AJ18: =RANK(AI18,$AI$8:$AI$27) -> 10
A19: =AJ19 -> 12 | B19: =#REF! -> #REF! | E19: =IF(OR(EXACT($C$7,C19)*(EXACT($D$7,D19)))=TRUE,$AN$9,IF(($D$7-$C$7=D19-C19),$AN$8,IF(OR(EXACT($C$7>$D$7,C19>D19)*EXACT($C$7=$D$7,C19=D19)*EXACT($C$7<$D$7,C19<D19)),$AN$7,0))) -> 5 | H19: =IF(OR(EXACT($F$7,F19)*(EXACT($G$7,G19)))=TRUE,$AN$9,IF(($G$7-$F$7=G19-F19),$AN$8,IF(OR(EXACT($F$7>$G$7,F19>G19)*EXACT($F$7=$G$7,F19=G19)*EXACT($F$7<$G$7,F19<G19)),$AN$7,0))) -> 5 | K19: =IF(OR(EXACT($I$7,I19)*(EXACT($J$7,J19)))=TRUE,$AN$9,IF(($J$7-$I$7=J19-I19),$AN$8,IF(OR(EXACT($I$7>$J$7,I19>J19)*EXACT($I$7=$J$7,I19=J19)*EXACT($I$7<$J$7,I19<J19)),$AN$7,0))) -> 5 | N19: =IF(OR(EXACT($L$7,L19)*(EXACT($M$7,M19)))=TRUE,$AN$9,IF(($M$7-$L$7=M19-L19),$AN$8,IF(OR(EXACT($L$7>$M$7,L19>M19)*EXACT($L$7=$M$7,L19=M19)*EXACT($L$7<$M$7,L19<M19)),$AN$7,0))) -> 5 | Q19: =IF(OR(EXACT($O$7,O19)*(EXACT($P$7,P19)))=TRUE,$AN$9,IF(($P$7-$O$7=P19-O19),$AN$8,IF(OR(EXACT($O$7>$P$7,O19>P19)*EXACT($O$7=$P$7,O19=P19)*EXACT($O$7<$P$7,O19<P19)),$AN$7,0))) -> 5 | T19: =IF(OR(EXACT($R$7,R19)*(EXACT($S$7,S19)))=TRUE,$AN$9,IF(($S$7-$R$7=S19-R19),$AN$8,IF(OR(EXACT($R$7>$S$7,R19>S19)*EXACT($R$7=$S$7,R19=S19)*EXACT($R$7<$S$7,R19<S19)),$AN$7,0))) -> 5 | W19: =IF(OR(EXACT($U$7,U19)*(EXACT($V$7,V19)))=TRUE,$AN$9,IF(($V$7-$U$7=V19-U19),$AN$8,IF(OR(EXACT($U$7>$V$7,U19>V19)*EXACT($U$7=$V$7,U19=V19)*EXACT($U$7<$V$7,U19<V19)),$AN$7,0))) -> 5 | Z19: =IF(OR(EXACT($X$7,X19)*(EXACT($Y$7,Y19)))=TRUE,$AN$9,IF(($Y$7-$X$7=Y19-X19),$AN$8,IF(OR(EXACT($X$7>$Y$7,X19>Y19)*EXACT($X$7=$Y$7,X19=Y19)*EXACT($X$7<$Y$7,X19<Y19)),$AN$7,0))) -> 5 | AC19: =IF(OR(EXACT($AA$7,AA19)*(EXACT($AB$7,AB19)))=TRUE,$AN$9,IF(($AB$7-$AA$7=AB19-AA19),$AN$8,IF(OR(EXACT($AA$7>$AB$7,AA19>AB19)*EXACT($AA$7=$AB$7,AA19=AB19)*EXACT($AA$7<$AB$7,AA19<AB19)),$AN$7,0))) -> 5 | AG19: =E19+H19+K19+N19+Q19+T19+W19+Z19+AC19+AF19 -> 45 | AH19: ='26.Spieltag'!AI19 -> 313 | AI19: =AG19+AH19 -> 358 | AJ19: =RANK(AI19,$AI$8:$AI$27) -> 12
A20: =AJ20 -> 13 | B20: =#REF! -> #REF! | E20: =IF(OR(EXACT($C$7,C20)*(EXACT($D$7,D20)))=TRUE,$AN$9,IF(($D$7-$C$7=D20-C20),$AN$8,IF(OR(EXACT($C$7>$D$7,C20>D20)*EXACT($C$7=$D$7,C20=D20)*EXACT($C$7<$D$7,C20<D20)),$AN$7,0))) -> 5 | H20: =IF(OR(EXACT($F$7,F20)*(EXACT($G$7,G20)))=TRUE,$AN$9,IF(($G$7-$F$7=G20-F20),$AN$8,IF(OR(EXACT($F$7>$G$7,F20>G20)*EXACT($F$7=$G$7,F20=G20)*EXACT($F$7<$G$7,F20<G20)),$AN$7,0))) -> 5 | K20: =IF(OR(EXACT($I$7,I20)*(EXACT($J$7,J20)))=TRUE,$AN$9,IF(($J$7-$I$7=J20-I20),$AN$8,IF(OR(EXACT($I$7>$J$7,I20>J20)*EXACT($I$7=$J$7,I20=J20)*EXACT($I$7<$J$7,I20<J20)),$AN$7,0))) -> 5 | N20: =IF(OR(EXACT($L$7,L20)*(EXACT($M$7,M20)))=TRUE,$AN$9,IF(($M$7-$L$7=M20-L20),$AN$8,IF(OR(EXACT($L$7>$M$7,L20>M20)*EXACT($L$7=$M$7,L20=M20)*EXACT($L$7<$M$7,L20<M20)),$AN$7,0))) -> 5 | Q20: =IF(OR(EXACT($O$7,O20)*(EXACT($P$7,P20)))=TRUE,$AN$9,IF(($P$7-$O$7=P20-O20),$AN$8,IF(OR(EXACT($O$7>$P$7,O20>P20)*EXACT($O$7=$P$7,O20=P20)*EXACT($O$7<$P$7,O20<P20)),$AN$7,0))) -> 5 | T20: =IF(OR(EXACT($R$7,R20)*(EXACT($S$7,S20)))=TRUE,$AN$9,IF(($S$7-$R$7=S20-R20),$AN$8,IF(OR(EXACT($R$7>$S$7,R20>S20)*EXACT($R$7=$S$7,R20=S20)*EXACT($R$7<$S$7,R20<S20)),$AN$7,0))) -> 5 | W20: =IF(OR(EXACT($U$7,U20)*(EXACT($V$7,V20)))=TRUE,$AN$9,IF(($V$7-$U$7=V20-U20),$AN$8,IF(OR(EXACT($U$7>$V$7,U20>V20)*EXACT($U$7=$V$7,U20=V20)*EXACT($U$7<$V$7,U20<V20)),$AN$7,0))) -> 5 | Z20: =IF(OR(EXACT($X$7,X20)*(EXACT($Y$7,Y20)))=TRUE,$AN$9,IF(($Y$7-$X$7=Y20-X20),$AN$8,IF(OR(EXACT($X$7>$Y$7,X20>Y20)*EXACT($X$7=$Y$7,X20=Y20)*EXACT($X$7<$Y$7,X20<Y20)),$AN$7,0))) -> 5 | AC20: =IF(OR(EXACT($AA$7,AA20)*(EXACT($AB$7,AB20)))=TRUE,$AN$9,IF(($AB$7-$AA$7=AB20-AA20),$AN$8,IF(OR(EXACT($AA$7>$AB$7,AA20>AB20)*EXACT($AA$7=$AB$7,AA20=AB20)*EXACT($AA$7<$AB$7,AA20<AB20)),$AN$7,0))) -> 5 | AG20: =E20+H20+K20+N20+Q20+T20+W20+Z20+AC20+AF20 -> 45 | AH20: ='26.Spieltag'!AI20 -> 306 | AI20: =AG20+AH20 -> 351 | AJ20: =RANK(AI20,$AI$8:$AI$27) -> 13
A21: =AJ21 -> 14 | B21: =#REF! -> #REF! | E21: =IF(OR(EXACT($C$7,C21)*(EXACT($D$7,D21)))=TRUE,$AN$9,IF(($D$7-$C$7=D21-C21),$AN$8,IF(OR(EXACT($C$7>$D$7,C21>D21)*EXACT($C$7=$D$7,C21=D21)*EXACT($C$7<$D$7,C21<D21)),$AN$7,0))) -> 5 | H21: =IF(OR(EXACT($F$7,F21)*(EXACT($G$7,G21)))=TRUE,$AN$9,IF(($G$7-$F$7=G21-F21),$AN$8,IF(OR(EXACT($F$7>$G$7,F21>G21)*EXACT($F$7=$G$7,F21=G21)*EXACT($F$7<$G$7,F21<G21)),$AN$7,0))) -> 5 | K21: =IF(OR(EXACT($I$7,I21)*(EXACT($J$7,J21)))=TRUE,$AN$9,IF(($J$7-$I$7=J21-I21),$AN$8,IF(OR(EXACT($I$7>$J$7,I21>J21)*EXACT($I$7=$J$7,I21=J21)*EXACT($I$7<$J$7,I21<J21)),$AN$7,0))) -> 5 | N21: =IF(OR(EXACT($L$7,L21)*(EXACT($M$7,M21)))=TRUE,$AN$9,IF(($M$7-$L$7=M21-L21),$AN$8,IF(OR(EXACT($L$7>$M$7,L21>M21)*EXACT($L$7=$M$7,L21=M21)*EXACT($L$7<$M$7,L21<M21)),$AN$7,0))) -> 5 | Q21: =IF(OR(EXACT($O$7,O21)*(EXACT($P$7,P21)))=TRUE,$AN$9,IF(($P$7-$O$7=P21-O21),$AN$8,IF(OR(EXACT($O$7>$P$7,O21>P21)*EXACT($O$7=$P$7,O21=P21)*EXACT($O$7<$P$7,O21<P21)),$AN$7,0))) -> 5 | T21: =IF(OR(EXACT($R$7,R21)*(EXACT($S$7,S21)))=TRUE,$AN$9,IF(($S$7-$R$7=S21-R21),$AN$8,IF(OR(EXACT($R$7>$S$7,R21>S21)*EXACT($R$7=$S$7,R21=S21)*EXACT($R$7<$S$7,R21<S21)),$AN$7,0))) -> 5 | W21: =IF(OR(EXACT($U$7,U21)*(EXACT($V$7,V21)))=TRUE,$AN$9,IF(($V$7-$U$7=V21-U21),$AN$8,IF(OR(EXACT($U$7>$V$7,U21>V21)*EXACT($U$7=$V$7,U21=V21)*EXACT($U$7<$V$7,U21<V21)),$AN$7,0))) -> 5 | Z21: =IF(OR(EXACT($X$7,X21)*(EXACT($Y$7,Y21)))=TRUE,$AN$9,IF(($Y$7-$X$7=Y21-X21),$AN$8,IF(OR(EXACT($X$7>$Y$7,X21>Y21)*EXACT($X$7=$Y$7,X21=Y21)*EXACT($X$7<$Y$7,X21<Y21)),$AN$7,0))) -> 5 | AC21: =IF(OR(EXACT($AA$7,AA21)*(EXACT($AB$7,AB21)))=TRUE,$AN$9,IF(($AB$7-$AA$7=AB21-AA21),$AN$8,IF(OR(EXACT($AA$7>$AB$7,AA21>AB21)*EXACT($AA$7=$AB$7,AA21=AB21)*EXACT($AA$7<$AB$7,AA21<AB21)),$AN$7,0))) -> 5 | AG21: =E21+H21+K21+N21+Q21+T21+W21+Z21+AC21+AF21 -> 45 | AH21: ='26.Spieltag'!AI21 -> 302 | AI21: =AG21+AH21 -> 347 | AJ21: =RANK(AI21,$AI$8:$AI$27) -> 14
... A27: =AJ27 -> 20 | B27: =#REF! -> #REF! | E27: =IF(OR(EXACT($C$7,C27)*(EXACT($D$7,D27)))=TRUE,$AN$9,IF(($D$7-$C$7=D27-C27),$AN$8,IF(OR(EXACT($C$7>$D$7,C27>D27)*EXACT($C$7=$D$7,C27=D27)*EXACT($C$7<$D$7,C27<D27)),$AN$7,0))) -> 5 | H27: =IF(OR(EXACT($F$7,F27)*(EXACT($G$7,G27)))=TRUE,$AN$9,IF(($G$7-$F$7=G27-F27),$AN$8,IF(OR(EXACT($F$7>$G$7,F27>G27)*EXACT($F$7=$G$7,F27=G27)*EXACT($F$7<$G$7,F27<G27)),$AN$7,0))) -> 5 | K27: =IF(OR(EXACT($I$7,I27)*(EXACT($J$7,J27)))=TRUE,$AN$9,IF(($J$7-$I$7=J27-I27),$AN$8,IF(OR(EXACT($I$7>$J$7,I27>J27)*EXACT($I$7=$J$7,I27=J27)*EXACT($I$7<$J$7,I27<J27)),$AN$7,0))) -> 5 | N27: =IF(OR(EXACT($L$7,L27)*(EXACT($M$7,M27)))=TRUE,$AN$9,IF(($M$7-$L$7=M27-L27),$AN$8,IF(OR(EXACT($L$7>$M$7,L27>M27)*EXACT($L$7=$M$7,L27=M27)*EXACT($L$7<$M$7,L27<M27)),$AN$7,0))) -> 5 | Q27: =IF(OR(EXACT($O$7,O27)*(EXACT($P$7,P27)))=TRUE,$AN$9,IF(($P$7-$O$7=P27-O27),$AN$8,IF(OR(EXACT($O$7>$P$7,O27>P27)*EXACT($O$7=$P$7,O27=P27)*EXACT($O$7<$P$7,O27<P27)),$AN$7,0))) -> 5 | T27: =IF(OR(EXACT($R$7,R27)*(EXACT($S$7,S27)))=TRUE,$AN$9,IF(($S$7-$R$7=S27-R27),$AN$8,IF(OR(EXACT($R$7>$S$7,R27>S27)*EXACT($R$7=$S$7,R27=S27)*EXACT($R$7<$S$7,R27<S27)),$AN$7,0))) -> 5 | W27: =IF(OR(EXACT($U$7,U27)*(EXACT($V$7,V27)))=TRUE,$AN$9,IF(($V$7-$U$7=V27-U27),$AN$8,IF(OR(EXACT($U$7>$V$7,U27>V27)*EXACT($U$7=$V$7,U27=V27)*EXACT($U$7<$V$7,U27<V27)),$AN$7,0))) -> 5 | Z27: =IF(OR(EXACT($X$7,X27)*(EXACT($Y$7,Y27)))=TRUE,$AN$9,IF(($Y$7-$X$7=Y27-X27),$AN$8,IF(OR(EXACT($X$7>$Y$7,X27>Y27)*EXACT($X$7=$Y$7,X27=Y27)*EXACT($X$7<$Y$7,X27<Y27)),$AN$7,0))) -> 5 | AC27: =IF(OR(EXACT($AA$7,AA27)*(EXACT($AB$7,AB27)))=TRUE,$AN$9,IF(($AB$7-$AA$7=AB27-AA27),$AN$8,IF(OR(EXACT($AA$7>$AB$7,AA27>AB27)*EXACT($AA$7=$AB$7,AA27=AB27)*EXACT($AA$7<$AB$7,AA27<AB27)),$AN$7,0))) -> 5 | AG27: =E27+H27+K27+N27+Q27+T27+W27+Z27+AC27+AF27 -> 45 | AH27: ='26.Spieltag'!AI27 -> 64 | AI27: =AG27+AH27 -> 109 | AJ27: =RANK(AI27,$AI$8:$AI$27) -> 20

Sheet 28.Spieltag
A4: 28. Spieltag | C4: Karlsruhe | F4: Braunschw. | I4: Darmstadt | L4: Düsseldorf | O4: Nürnberg | R4: Köln | U4: Schalke 04 | X4: Elversberg | AA4: Magdeburg
AG5: G E S A M T W E R T U N G
C6: Hannover | F6: Paderborn | I6: Fürth | L6: Pr. Münster | O6: H S V | R6: Hertha BSC | U6: Ulm | X6: Regensburg | AA6: Kaisersl. | AG6: Punkte | AH6: Punkte | AI6: Gesamt | AJ6: Platz | AK6: PUNKTEVERTEILUNG
A7: PLATZ | B7: ERGEBNISSE=> | E7: Pkt. | H7: Pkt. | K7: Pkt. | N7: Pkt. | Q7: Pkt. | T7: Pkt. | W7: Pkt. | Z7: Pkt. | AC7: Pkt. | AG7: Spieltag | AH7: bisher | AI7: Punkte | AK7: richtige Tendenz | AN7: 2
A8: =AJ8 -> 1 | B8: =#REF! -> #REF! | E8: =IF(OR(EXACT($C$7,C8)*(EXACT($D$7,D8)))=TRUE,$AN$9,IF(($D$7-$C$7=D8-C8),$AN$8,IF(OR(EXACT($C$7>$D$7,C8>D8)*EXACT($C$7=$D$7,C8=D8)*EXACT($C$7<$D$7,C8<D8)),$AN$7,0))) -> 5 | H8: =IF(OR(EXACT($F$7,F8)*(EXACT($G$7,G8)))=TRUE,$AN$9,IF(($G$7-$F$7=G8-F8),$AN$8,IF(OR(EXACT($F$7>$G$7,F8>G8)*EXACT($F$7=$G$7,F8=G8)*EXACT($F$7<$G$7,F8<G8)),$AN$7,0))) -> 5 | K8: =IF(OR(EXACT($I$7,I8)*(EXACT($J$7,J8)))=TRUE,$AN$9,IF(($J$7-$I$7=J8-I8),$AN$8,IF(OR(EXACT($I$7>$J$7,I8>J8)*EXACT($I$7=$J$7,I8=J8)*EXACT($I$7<$J$7,I8<J8)),$AN$7,0))) -> 5 | N8: =IF(OR(EXACT($L$7,L8)*(EXACT($M$7,M8)))=TRUE,$AN$9,IF(($M$7-$L$7=M8-L8),$AN$8,IF(OR(EXACT($L$7>$M$7,L8>M8)*EXACT($L$7=$M$7,L8=M8)*EXACT($L$7<$M$7,L8<M8)),$AN$7,0))) -> 5 | Q8: =IF(OR(EXACT($O$7,O8)*(EXACT($P$7,P8)))=TRUE,$AN$9,IF(($P$7-$O$7=P8-O8),$AN$8,IF(OR(EXACT($O$7>$P$7,O8>P8)*EXACT($O$7=$P$7,O8=P8)*EXACT($O$7<$P$7,O8<P8)),$AN$7,0))) -> 5 | T8: =IF(OR(EXACT($R$7,R8)*(EXACT($S$7,S8)))=TRUE,$AN$9,IF(($S$7-$R$7=S8-R8),$AN$8,IF(OR(EXACT($R$7>$S$7,R8>S8)*EXACT($R$7=$S$7,R8=S8)*EXACT($R$7<$S$7,R8<S8)),$AN$7,0))) -> 5 | W8: =IF(OR(EXACT($U$7,U8)*(EXACT($V$7,V8)))=TRUE,$AN$9,IF(($V$7-$U$7=V8-U8),$AN$8,IF(OR(EXACT($U$7>$V$7,U8>V8)*EXACT($U$7=$V$7,U8=V8)*EXACT($U$7<$V$7,U8<V8)),$AN$7,0))) -> 5 | Z8: =IF(OR(EXACT($X$7,X8)*(EXACT($Y$7,Y8)))=TRUE,$AN$9,IF(($Y$7-$X$7=Y8-X8),$AN$8,IF(OR(EXACT($X$7>$Y$7,X8>Y8)*EXACT($X$7=$Y$7,X8=Y8)*EXACT($X$7<$Y$7,X8<Y8)),$AN$7,0))) -> 5 | AC8: =IF(OR(EXACT($AA$7,AA8)*(EXACT($AB$7,AB8)))=TRUE,$AN$9,IF(($AB$7-$AA$7=AB8-AA8),$AN$8,IF(OR(EXACT($AA$7>$AB$7,AA8>AB8)*EXACT($AA$7=$AB$7,AA8=AB8)*EXACT($AA$7<$AB$7,AA8<AB8)),$AN$7,0))) -> 5 | AG8: =E8+H8+K8+N8+Q8+T8+W8+Z8+AC8+AF8 -> 45 | AH8: ='27.Spieltag'!AI8 -> 447 | AI8: =AG8+AH8 -> 492 | AJ8: =RANK(AI8,$AI$8:$AI$27) -> 1 | AK8: richtige Tend. + korr. Torabst. | AN8: 3
A9: =AJ9 -> 2 | B9: =#REF! -> #REF! | E9: =IF(OR(EXACT($C$7,C9)*(EXACT($D$7,D9)))=TRUE,$AN$9,IF(($D$7-$C$7=D9-C9),$AN$8,IF(OR(EXACT($C$7>$D$7,C9>D9)*EXACT($C$7=$D$7,C9=D9)*EXACT($C$7<$D$7,C9<D9)),$AN$7,0))) -> 5 | H9: =IF(OR(EXACT($F$7,F9)*(EXACT($G$7,G9)))=TRUE,$AN$9,IF(($G$7-$F$7=G9-F9),$AN$8,IF(OR(EXACT($F$7>$G$7,F9>G9)*EXACT($F$7=$G$7,F9=G9)*EXACT($F$7<$G$7,F9<G9)),$AN$7,0))) -> 5 | K9: =IF(OR(EXACT($I$7,I9)*(EXACT($J$7,J9)))=TRUE,$AN$9,IF(($J$7-$I$7=J9-I9),$AN$8,IF(OR(EXACT($I$7>$J$7,I9>J9)*EXACT($I$7=$J$7,I9=J9)*EXACT($I$7<$J$7,I9<J9)),$AN$7,0))) -> 5 | N9: =IF(OR(EXACT($L$7,L9)*(EXACT($M$7,M9)))=TRUE,$AN$9,IF(($M$7-$L$7=M9-L9),$AN$8,IF(OR(EXACT($L$7>$M$7,L9>M9)*EXACT($L$7=$M$7,L9=M9)*EXACT($L$7<$M$7,L9<M9)),$AN$7,0))) -> 5 | Q9: =IF(OR(EXACT($O$7,O9)*(EXACT($P$7,P9)))=TRUE,$AN$9,IF(($P$7-$O$7=P9-O9),$AN$8,IF(OR(EXACT($O$7>$P$7,O9>P9)*EXACT($O$7=$P$7,O9=P9)*EXACT($O$7<$P$7,O9<P9)),$AN$7,0))) -> 5 | T9: =IF(OR(EXACT($R$7,R9)*(EXACT($S$7,S9)))=TRUE,$AN$9,IF(($S$7-$R$7=S9-R9),$AN$8,IF(OR(EXACT($R$7>$S$7,R9>S9)*EXACT($R$7=$S$7,R9=S9)*EXACT($R$7<$S$7,R9<S9)),$AN$7,0))) -> 5 | W9: =IF(OR(EXACT($U$7,U9)*(EXACT($V$7,V9)))=TRUE,$AN$9,IF(($V$7-$U$7=V9-U9),$AN$8,IF(OR(EXACT($U$7>$V$7,U9>V9)*EXACT($U$7=$V$7,U9=V9)*EXACT($U$7<$V$7,U9<V9)),$AN$7,0))) -> 5 | Z9: =IF(OR(EXACT($X$7,X9)*(EXACT($Y$7,Y9)))=TRUE,$AN$9,IF(($Y$7-$X$7=Y9-X9),$AN$8,IF(OR(EXACT($X$7>$Y$7,X9>Y9)*EXACT($X$7=$Y$7,X9=Y9)*EXACT($X$7<$Y$7,X9<Y9)),$AN$7,0))) -> 5 | AC9: =IF(OR(EXACT($AA$7,AA9)*(EXACT($AB$7,AB9)))=TRUE,$AN$9,IF(($AB$7-$AA$7=AB9-AA9),$AN$8,IF(OR(EXACT($AA$7>$AB$7,AA9>AB9)*EXACT($AA$7=$AB$7,AA9=AB9)*EXACT($AA$7<$AB$7,AA9<AB9)),$AN$7,0))) -> 5 | AG9: =E9+H9+K9+N9+Q9+T9+W9+Z9+AC9+AF9 -> 45 | AH9: ='27.Spieltag'!AI9 -> 408 | AI9: =AG9+AH9 -> 453 | AJ9: =RANK(AI9,$AI$8:$AI$27) -> 2 | AK9: richtiges Ergebnis | AN9: 5
A10: =AJ10 -> 3 | B10: =#REF! -> #REF! | E10: =IF(OR(EXACT($C$7,C10)*(EXACT($D$7,D10)))=TRUE,$AN$9,IF(($D$7-$C$7=D10-C10),$AN$8,IF(OR(EXACT($C$7>$D$7,C10>D10)*EXACT($C$7=$D$7,C10=D10)*EXACT($C$7<$D$7,C10<D10)),$AN$7,0))) -> 5 | H10: =IF(OR(EXACT($F$7,F10)*(EXACT($G$7,G10)))=TRUE,$AN$9,IF(($G$7-$F$7=G10-F10),$AN$8,IF(OR(EXACT($F$7>$G$7,F10>G10)*EXACT($F$7=$G$7,F10=G10)*EXACT($F$7<$G$7,F10<G10)),$AN$7,0))) -> 5 | K10: =IF(OR(EXACT($I$7,I10)*(EXACT($J$7,J10)))=TRUE,$AN$9,IF(($J$7-$I$7=J10-I10),$AN$8,IF(OR(EXACT($I$7>$J$7,I10>J10)*EXACT($I$7=$J$7,I10=J10)*EXACT($I$7<$J$7,I10<J10)),$AN$7,0))) -> 5 | N10: =IF(OR(EXACT($L$7,L10)*(EXACT($M$7,M10)))=TRUE,$AN$9,IF(($M$7-$L$7=M10-L10),$AN$8,IF(OR(EXACT($L$7>$M$7,L10>M10)*EXACT($L$7=$M$7,L10=M10)*EXACT($L$7<$M$7,L10<M10)),$AN$7,0))) -> 5 | Q10: =IF(OR(EXACT($O$7,O10)*(EXACT($P$7,P10)))=TRUE,$AN$9,IF(($P$7-$O$7=P10-O10),$AN$8,IF(OR(EXACT($O$7>$P$7,O10>P10)*EXACT($O$7=$P$7,O10=P10)*EXACT($O$7<$P$7,O10<P10)),$AN$7,0))) -> 5 | T10: =IF(OR(EXACT($R$7,R10)*(EXACT($S$7,S10)))=TRUE,$AN$9,IF(($S$7-$R$7=S10-R10),$AN$8,IF(OR(EXACT($R$7>$S$7,R10>S10)*EXACT($R$7=$S$7,R10=S10)*EXACT($R$7<$S$7,R10<S10)),$AN$7,0))) -> 5 | W10: =IF(OR(EXACT($U$7,U10)*(EXACT($V$7,V10)))=TRUE,$AN$9,IF(($V$7-$U$7=V10-U10),$AN$8,IF(OR(EXACT($U$7>$V$7,U10>V10)*EXACT($U$7=$V$7,U10=V10)*EXACT($U$7<$V$7,U10<V10)),$AN$7,0))) -> 5 | Z10: =IF(OR(EXACT($X$7,X10)*(EXACT($Y$7,Y10)))=TRUE,$AN$9,IF(($Y$7-$X$7=Y10-X10),$AN$8,IF(OR(EXACT($X$7>$Y$7,X10>Y10)*EXACT($X$7=$Y$7,X10=Y10)*EXACT($X$7<$Y$7,X10<Y10)),$AN$7,0))) -> 5 | AC10: =IF(OR(EXACT($AA$7,AA10)*(EXACT($AB$7,AB10)))=TRUE,$AN$9,IF(($AB$7-$AA$7=AB10-AA10),$AN$8,IF(OR(EXACT($AA$7>$AB$7,AA10>AB10)*EXACT($AA$7=$AB$7,AA10=AB10)*EXACT($AA$7<$AB$7,AA10<AB10)),$AN$7,0))) -> 5 | AG10: =E10+H10+K10+N10+Q10+T10+W10+Z10+AC10+AF10 -> 45 | AH10: ='27.Spieltag'!AI10 -> 403 | AI10: =AG10+AH10 -> 448 | AJ10: =RANK(AI10,$AI$8:$AI$27) -> 3
A11: =AJ11 -> 4 | B11: =#REF! -> #REF! | E11: =IF(OR(EXACT($C$7,C11)*(EXACT($D$7,D11)))=TRUE,$AN$9,IF(($D$7-$C$7=D11-C11),$AN$8,IF(OR(EXACT($C$7>$D$7,C11>D11)*EXACT($C$7=$D$7,C11=D11)*EXACT($C$7<$D$7,C11<D11)),$AN$7,0))) -> 5 | H11: =IF(OR(EXACT($F$7,F11)*(EXACT($G$7,G11)))=TRUE,$AN$9,IF(($G$7-$F$7=G11-F11),$AN$8,IF(OR(EXACT($F$7>$G$7,F11>G11)*EXACT($F$7=$G$7,F11=G11)*EXACT($F$7<$G$7,F11<G11)),$AN$7,0))) -> 5 | K11: =IF(OR(EXACT($I$7,I11)*(EXACT($J$7,J11)))=TRUE,$AN$9,IF(($J$7-$I$7=J11-I11),$AN$8,IF(OR(EXACT($I$7>$J$7,I11>J11)*EXACT($I$7=$J$7,I11=J11)*EXACT($I$7<$J$7,I11<J11)),$AN$7,0))) -> 5 | N11: =IF(OR(EXACT($L$7,L11)*(EXACT($M$7,M11)))=TRUE,$AN$9,IF(($M$7-$L$7=M11-L11),$AN$8,IF(OR(EXACT($L$7>$M$7,L11>M11)*EXACT($L$7=$M$7,L11=M11)*EXACT($L$7<$M$7,L11<M11)),$AN$7,0))) -> 5 | Q11: =IF(OR(EXACT($O$7,O11)*(EXACT($P$7,P11)))=TRUE,$AN$9,IF(($P$7-$O$7=P11-O11),$AN$8,IF(OR(EXACT($O$7>$P$7,O11>P11)*EXACT($O$7=$P$7,O11=P11)*EXACT($O$7<$P$7,O11<P11)),$AN$7,0))) -> 5 | T11: =IF(OR(EXACT($R$7,R11)*(EXACT($S$7,S11)))=TRUE,$AN$9,IF(($S$7-$R$7=S11-R11),$AN$8,IF(OR(EXACT($R$7>$S$7,R11>S11)*EXACT($R$7=$S$7,R11=S11)*EXACT($R$7<$S$7,R11<S11)),$AN$7,0))) -> 5 | W11: =IF(OR(EXACT($U$7,U11)*(EXACT($V$7,V11)))=TRUE,$AN$9,IF(($V$7-$U$7=V11-U11),$AN$8,IF(OR(EXACT($U$7>$V$7,U11>V11)*EXACT($U$7=$V$7,U11=V11)*EXACT($U$7<$V$7,U11<V11)),$AN$7,0))) -> 5 | Z11: =IF(OR(EXACT($X$7,X11)*(EXACT($Y$7,Y11)))=TRUE,$AN$9,IF(($Y$7-$X$7=Y11-X11),$AN$8,IF(OR(EXACT($X$7>$Y$7,X11>Y11)*EXACT($X$7=$Y$7,X11=Y11)*EXACT($X$7<$Y$7,X11<Y11)),$AN$7,0))) -> 5 | AC11: =IF(OR(EXACT($AA$7,AA11)*(EXACT($AB$7,AB11)))=TRUE,$AN$9,IF(($AB$7-$AA$7=AB11-AA11),$AN$8,IF(OR(EXACT($AA$7>$AB$7,AA11>AB11)*EXACT($AA$7=$AB$7,AA11=AB11)*EXACT($AA$7<$AB$7,AA11<AB11)),$AN$7,0))) -> 5 | AG11: =E11+H11+K11+N11+Q11+T11+W11+Z11+AC11+AF11 -> 45 | AH11: ='27.Spieltag'!AI11 -> 402 | AI11: =AG11+AH11 -> 447 | AJ11: =RANK(AI11,$AI$8:$AI$27) -> 4
A12: =AJ12 -> 5 | B12: =#REF! -> #REF! | E12: =IF(OR(EXACT($C$7,C12)*(EXACT($D$7,D12)))=TRUE,$AN$9,IF(($D$7-$C$7=D12-C12),$AN$8,IF(OR(EXACT($C$7>$D$7,C12>D12)*EXACT($C$7=$D$7,C12=D12)*EXACT($C$7<$D$7,C12<D12)),$AN$7,0))) -> 5 | H12: =IF(OR(EXACT($F$7,F12)*(EXACT($G$7,G12)))=TRUE,$AN$9,IF(($G$7-$F$7=G12-F12),$AN$8,IF(OR(EXACT($F$7>$G$7,F12>G12)*EXACT($F$7=$G$7,F12=G12)*EXACT($F$7<$G$7,F12<G12)),$AN$7,0))) -> 5 | K12: =IF(OR(EXACT($I$7,I12)*(EXACT($J$7,J12)))=TRUE,$AN$9,IF(($J$7-$I$7=J12-I12),$AN$8,IF(OR(EXACT($I$7>$J$7,I12>J12)*EXACT($I$7=$J$7,I12=J12)*EXACT($I$7<$J$7,I12<J12)),$AN$7,0))) -> 5 | N12: =IF(OR(EXACT($L$7,L12)*(EXACT($M$7,M12)))=TRUE,$AN$9,IF(($M$7-$L$7=M12-L12),$AN$8,IF(OR(EXACT($L$7>$M$7,L12>M12)*EXACT($L$7=$M$7,L12=M12)*EXACT($L$7<$M$7,L12<M12)),$AN$7,0))) -> 5 | Q12: =IF(OR(EXACT($O$7,O12)*(EXACT($P$7,P12)))=TRUE,$AN$9,IF(($P$7-$O$7=P12-O12),$AN$8,IF(OR(EXACT($O$7>$P$7,O12>P12)*EXACT($O$7=$P$7,O12=P12)*EXACT($O$7<$P$7,O12<P12)),$AN$7,0))) -> 5 | T12: =IF(OR(EXACT($R$7,R12)*(EXACT($S$7,S12)))=TRUE,$AN$9,IF(($S$7-$R$7=S12-R12),$AN$8,IF(OR(EXACT($R$7>$S$7,R12>S12)*EXACT($R$7=$S$7,R12=S12)*EXACT($R$7<$S$7,R12<S12)),$AN$7,0))) -> 5 | W12: =IF(OR(EXACT($U$7,U12)*(EXACT($V$7,V12)))=TRUE,$AN$9,IF(($V$7-$U$7=V12-U12),$AN$8,IF(OR(EXACT($U$7>$V$7,U12>V12)*EXACT($U$7=$V$7,U12=V12)*EXACT($U$7<$V$7,U12<V12)),$AN$7,0))) -> 5 | Z12: =IF(OR(EXACT($X$7,X12)*(EXACT($Y$7,Y12)))=TRUE,$AN$9,IF(($Y$7-$X$7=Y12-X12),$AN$8,IF(OR(EXACT($X$7>$Y$7,X12>Y12)*EXACT($X$7=$Y$7,X12=Y12)*EXACT($X$7<$Y$7,X12<Y12)),$AN$7,0))) -> 5 | AC12: =IF(OR(EXACT($AA$7,AA12)*(EXACT($AB$7,AB12)))=TRUE,$AN$9,IF(($AB$7-$AA$7=AB12-AA12),$AN$8,IF(OR(EXACT($AA$7>$AB$7,AA12>AB12)*EXACT($AA$7=$AB$7,AA12=AB12)*EXACT($AA$7<$AB$7,AA12<AB12)),$AN$7,0))) -> 5 | AG12: =E12+H12+K12+N12+Q12+T12+W12+Z12+AC12+AF12 -> 45 | AH12: ='27.Spieltag'!AI12 -> 394 | AI12: =AG12+AH12 -> 439 | AJ12: =RANK(AI12,$AI$8:$AI$27) -> 5
A13: =AJ13 -> 6 | B13: =#REF! -> #REF! | E13: =IF(OR(EXACT($C$7,C13)*(EXACT($D$7,D13)))=TRUE,$AN$9,IF(($D$7-$C$7=D13-C13),$AN$8,IF(OR(EXACT($C$7>$D$7,C13>D13)*EXACT($C$7=$D$7,C13=D13)*EXACT($C$7<$D$7,C13<D13)),$AN$7,0))) -> 5 | H13: =IF(OR(EXACT($F$7,F13)*(EXACT($G$7,G13)))=TRUE,$AN$9,IF(($G$7-$F$7=G13-F13),$AN$8,IF(OR(EXACT($F$7>$G$7,F13>G13)*EXACT($F$7=$G$7,F13=G13)*EXACT($F$7<$G$7,F13<G13)),$AN$7,0))) -> 5 | K13: =IF(OR(EXACT($I$7,I13)*(EXACT($J$7,J13)))=TRUE,$AN$9,IF(($J$7-$I$7=J13-I13),$AN$8,IF(OR(EXACT($I$7>$J$7,I13>J13)*EXACT($I$7=$J$7,I13=J13)*EXACT($I$7<$J$7,I13<J13)),$AN$7,0))) -> 5 | N13: =IF(OR(EXACT($L$7,L13)*(EXACT($M$7,M13)))=TRUE,$AN$9,IF(($M$7-$L$7=M13-L13),$AN$8,IF(OR(EXACT($L$7>$M$7,L13>M13)*EXACT($L$7=$M$7,L13=M13)*EXACT($L$7<$M$7,L13<M13)),$AN$7,0))) -> 5 | Q13: =IF(OR(EXACT($O$7,O13)*(EXACT($P$7,P13)))=TRUE,$AN$9,IF(($P$7-$O$7=P13-O13),$AN$8,IF(OR(EXACT($O$7>$P$7,O13>P13)*EXACT($O$7=$P$7,O13=P13)*EXACT($O$7<$P$7,O13<P13)),$AN$7,0))) -> 5 | T13: =IF(OR(EXACT($R$7,R13)*(EXACT($S$7,S13)))=TRUE,$AN$9,IF(($S$7-$R$7=S13-R13),$AN$8,IF(OR(EXACT($R$7>$S$7,R13>S13)*EXACT($R$7=$S$7,R13=S13)*EXACT($R$7<$S$7,R13<S13)),$AN$7,0))) -> 5 | W13: =IF(OR(EXACT($U$7,U13)*(EXACT($V$7,V13)))=TRUE,$AN$9,IF(($V$7-$U$7=V13-U13),$AN$8,IF(OR(EXACT($U$7>$V$7,U13>V13)*EXACT($U$7=$V$7,U13=V13)*EXACT($U$7<$V$7,U13<V13)),$AN$7,0))) -> 5 | Z13: =IF(OR(EXACT($X$7,X13)*(EXACT($Y$7,Y13)))=TRUE,$AN$9,IF(($Y$7-$X$7=Y13-X13),$AN$8,IF(OR(EXACT($X$7>$Y$7,X13>Y13)*EXACT($X$7=$Y$7,X13=Y13)*EXACT($X$7<$Y$7,X13<Y13)),$AN$7,0))) -> 5 | AC13: =IF(OR(EXACT($AA$7,AA13)*(EXACT($AB$7,AB13)))=TRUE,$AN$9,IF(($AB$7-$AA$7=AB13-AA13),$AN$8,IF(OR(EXACT($AA$7>$AB$7,AA13>AB13)*EXACT($AA$7=$AB$7,AA13=AB13)*EXACT($AA$7<$AB$7,AA13<AB13)),$AN$7,0))) -> 5 | AG13: =E13+H13+K13+N13+Q13+T13+W13+Z13+AC13+AF13 -> 45 | AH13: ='27.Spieltag'!AI13 -> 383 | AI13: =AG13+AH13 -> 428 | AJ13: =RANK(AI13,$AI$8:$AI$27) -> 6
A14: =AJ14 -> 7 | B14: =#REF! -> #REF! | E14: =IF(OR(EXACT($C$7,C14)*(EXACT($D$7,D14)))=TRUE,$AN$9,IF(($D$7-$C$7=D14-C14),$AN$8,IF(OR(EXACT($C$7>$D$7,C14>D14)*EXACT($C$7=$D$7,C14=D14)*EXACT($C$7<$D$7,C14<D14)),$AN$7,0))) -> 5 | H14: =IF(OR(EXACT($F$7,F14)*(EXACT($G$7,G14)))=TRUE,$AN$9,IF(($G$7-$F$7=G14-F14),$AN$8,IF(OR(EXACT($F$7>$G$7,F14>G14)*EXACT($F$7=$G$7,F14=G14)*EXACT($F$7<$G$7,F14<G14)),$AN$7,0))) -> 5 | K14: =IF(OR(EXACT($I$7,I14)*(EXACT($J$7,J14)))=TRUE,$AN$9,IF(($J$7-$I$7=J14-I14),$AN$8,IF(OR(EXACT($I$7>$J$7,I14>J14)*EXACT($I$7=$J$7,I14=J14)*EXACT($I$7<$J$7,I14<J14)),$AN$7,0))) -> 5 | N14: =IF(OR(EXACT($L$7,L14)*(EXACT($M$7,M14)))=TRUE,$AN$9,IF(($M$7-$L$7=M14-L14),$AN$8,IF(OR(EXACT($L$7>$M$7,L14>M14)*EXACT($L$7=$M$7,L14=M14)*EXACT($L$7<$M$7,L14<M14)),$AN$7,0))) -> 5 | Q14: =IF(OR(EXACT($O$7,O14)*(EXACT($P$7,P14)))=TRUE,$AN$9,IF(($P$7-$O$7=P14-O14),$AN$8,IF(OR(EXACT($O$7>$P$7,O14>P14)*EXACT($O$7=$P$7,O14=P14)*EXACT($O$7<$P$7,O14<P14)),$AN$7,0))) -> 5 | T14: =IF(OR(EXACT($R$7,R14)*(EXACT($S$7,S14)))=TRUE,$AN$9,IF(($S$7-$R$7=S14-R14),$AN$8,IF(OR(EXACT($R$7>$S$7,R14>S14)*EXACT($R$7=$S$7,R14=S14)*EXACT($R$7<$S$7,R14<S14)),$AN$7,0))) -> 5 | W14: =IF(OR(EXACT($U$7,U14)*(EXACT($V$7,V14)))=TRUE,$AN$9,IF(($V$7-$U$7=V14-U14),$AN$8,IF(OR(EXACT($U$7>$V$7,U14>V14)*EXACT($U$7=$V$7,U14=V14)*EXACT($U$7<$V$7,U14<V14)),$AN$7,0))) -> 5 | Z14: =IF(OR(EXACT($X$7,X14)*(EXACT($Y$7,Y14)))=TRUE,$AN$9,IF(($Y$7-$X$7=Y14-X14),$AN$8,IF(OR(EXACT($X$7>$Y$7,X14>Y14)*EXACT($X$7=$Y$7,X14=Y14)*EXACT($X$7<$Y$7,X14<Y14)),$AN$7,0))) -> 5 | AC14: =IF(OR(EXACT($AA$7,AA14)*(EXACT($AB$7,AB14)))=TRUE,$AN$9,IF(($AB$7-$AA$7=AB14-AA14),$AN$8,IF(OR(EXACT($AA$7>$AB$7,AA14>AB14)*EXACT($AA$7=$AB$7,AA14=AB14)*EXACT($AA$7<$AB$7,AA14<AB14)),$AN$7,0))) -> 5 | AG14: =E14+H14+K14+N14+Q14+T14+W14+Z14+AC14+AF14 -> 45 | AH14: ='27.Spieltag'!AI14 -> 382 | AI14: =AG14+AH14 -> 427 | AJ14: =RANK(AI14,$AI$8:$AI$27) -> 7
A15: =AJ15 -> 8 | B15: =#REF! -> #REF! | E15: =IF(OR(EXACT($C$7,C15)*(EXACT($D$7,D15)))=TRUE,$AN$9,IF(($D$7-$C$7=D15-C15),$AN$8,IF(OR(EXACT($C$7>$D$7,C15>D15)*EXACT($C$7=$D$7,C15=D15)*EXACT($C$7<$D$7,C15<D15)),$AN$7,0))) -> 5 | H15: =IF(OR(EXACT($F$7,F15)*(EXACT($G$7,G15)))=TRUE,$AN$9,IF(($G$7-$F$7=G15-F15),$AN$8,IF(OR(EXACT($F$7>$G$7,F15>G15)*EXACT($F$7=$G$7,F15=G15)*EXACT($F$7<$G$7,F15<G15)),$AN$7,0))) -> 5 | K15: =IF(OR(EXACT($I$7,I15)*(EXACT($J$7,J15)))=TRUE,$AN$9,IF(($J$7-$I$7=J15-I15),$AN$8,IF(OR(EXACT($I$7>$J$7,I15>J15)*EXACT($I$7=$J$7,I15=J15)*EXACT($I$7<$J$7,I15<J15)),$AN$7,0))) -> 5 | N15: =IF(OR(EXACT($L$7,L15)*(EXACT($M$7,M15)))=TRUE,$AN$9,IF(($M$7-$L$7=M15-L15),$AN$8,IF(OR(EXACT($L$7>$M$7,L15>M15)*EXACT($L$7=$M$7,L15=M15)*EXACT($L$7<$M$7,L15<M15)),$AN$7,0))) -> 5 | Q15: =IF(OR(EXACT($O$7,O15)*(EXACT($P$7,P15)))=TRUE,$AN$9,IF(($P$7-$O$7=P15-O15),$AN$8,IF(OR(EXACT($O$7>$P$7,O15>P15)*EXACT($O$7=$P$7,O15=P15)*EXACT($O$7<$P$7,O15<P15)),$AN$7,0))) -> 5 | T15: =IF(OR(EXACT($R$7,R15)*(EXACT($S$7,S15)))=TRUE,$AN$9,IF(($S$7-$R$7=S15-R15),$AN$8,IF(OR(EXACT($R$7>$S$7,R15>S15)*EXACT($R$7=$S$7,R15=S15)*EXACT($R$7<$S$7,R15<S15)),$AN$7,0))) -> 5 | W15: =IF(OR(EXACT($U$7,U15)*(EXACT($V$7,V15)))=TRUE,$AN$9,IF(($V$7-$U$7=V15-U15),$AN$8,IF(OR(EXACT($U$7>$V$7,U15>V15)*EXACT($U$7=$V$7,U15=V15)*EXACT($U$7<$V$7,U15<V15)),$AN$7,0))) -> 5 | Z15: =IF(OR(EXACT($X$7,X15)*(EXACT($Y$7,Y15)))=TRUE,$AN$9,IF(($Y$7-$X$7=Y15-X15),$AN$8,IF(OR(EXACT($X$7>$Y$7,X15>Y15)*EXACT($X$7=$Y$7,X15=Y15)*EXACT($X$7<$Y$7,X15<Y15)),$AN$7,0))) -> 5 | AC15: =IF(OR(EXACT($AA$7,AA15)*(EXACT($AB$7,AB15)))=TRUE,$AN$9,IF(($AB$7-$AA$7=AB15-AA15),$AN$8,IF(OR(EXACT($AA$7>$AB$7,AA15>AB15)*EXACT($AA$7=$AB$7,AA15=AB15)*EXACT($AA$7<$AB$7,AA15<AB15)),$AN$7,0))) -> 5 | AG15: =E15+H15+K15+N15+Q15+T15+W15+Z15+AC15+AF15 -> 45 | AH15: ='27.Spieltag'!AI15 -> 367 | AI15: =AG15+AH15 -> 412 | AJ15: =RANK(AI15,$AI$8:$AI$27) -> 8
A16: =AJ16 -> 9 | B16: =#REF! -> #REF! | E16: =IF(OR(EXACT($C$7,C16)*(EXACT($D$7,D16)))=TRUE,$AN$9,IF(($D$7-$C$7=D16-C16),$AN$8,IF(OR(EXACT($C$7>$D$7,C16>D16)*EXACT($C$7=$D$7,C16=D16)*EXACT($C$7<$D$7,C16<D16)),$AN$7,0))) -> 5 | H16: =IF(OR(EXACT($F$7,F16)*(EXACT($G$7,G16)))=TRUE,$AN$9,IF(($G$7-$F$7=G16-F16),$AN$8,IF(OR(EXACT($F$7>$G$7,F16>G16)*EXACT($F$7=$G$7,F16=G16)*EXACT($F$7<$G$7,F16<G16)),$AN$7,0))) -> 5 | K16: =IF(OR(EXACT($I$7,I16)*(EXACT($J$7,J16)))=TRUE,$AN$9,IF(($J$7-$I$7=J16-I16),$AN$8,IF(OR(EXACT($I$7>$J$7,I16>J16)*EXACT($I$7=$J$7,I16=J16)*EXACT($I$7<$J$7,I16<J16)),$AN$7,0))) -> 5 | N16: =IF(OR(EXACT($L$7,L16)*(EXACT($M$7,M16)))=TRUE,$AN$9,IF(($M$7-$L$7=M16-L16),$AN$8,IF(OR(EXACT($L$7>$M$7,L16>M16)*EXACT($L$7=$M$7,L16=M16)*EXACT($L$7<$M$7,L16<M16)),$AN$7,0))) -> 5 | Q16: =IF(OR(EXACT($O$7,O16)*(EXACT($P$7,P16)))=TRUE,$AN$9,IF(($P$7-$O$7=P16-O16),$AN$8,IF(OR(EXACT($O$7>$P$7,O16>P16)*EXACT($O$7=$P$7,O16=P16)*EXACT($O$7<$P$7,O16<P16)),$AN$7,0))) -> 5 | T16: =IF(OR(EXACT($R$7,R16)*(EXACT($S$7,S16)))=TRUE,$AN$9,IF(($S$7-$R$7=S16-R16),$AN$8,IF(OR(EXACT($R$7>$S$7,R16>S16)*EXACT($R$7=$S$7,R16=S16)*EXACT($R$7<$S$7,R16<S16)),$AN$7,0))) -> 5 | W16: =IF(OR(EXACT($U$7,U16)*(EXACT($V$7,V16)))=TRUE,$AN$9,IF(($V$7-$U$7=V16-U16),$AN$8,IF(OR(EXACT($U$7>$V$7,U16>V16)*EXACT($U$7=$V$7,U16=V16)*EXACT($U$7<$V$7,U16<V16)),$AN$7,0))) -> 5 | Z16: =IF(OR(EXACT($X$7,X16)*(EXACT($Y$7,Y16)))=TRUE,$AN$9,IF(($Y$7-$X$7=Y16-X16),$AN$8,IF(OR(EXACT($X$7>$Y$7,X16>Y16)*EXACT($X$7=$Y$7,X16=Y16)*EXACT($X$7<$Y$7,X16<Y16)),$AN$7,0))) -> 5 | AC16: =IF(OR(EXACT($AA$7,AA16)*(EXACT($AB$7,AB16)))=TRUE,$AN$9,IF(($AB$7-$AA$7=AB16-AA16),$AN$8,IF(OR(EXACT($AA$7>$AB$7,AA16>AB16)*EXACT($AA$7=$AB$7,AA16=AB16)*EXACT($AA$7<$AB$7,AA16<AB16)),$AN$7,0))) -> 5 | AG16: =E16+H16+K16+N16+Q16+T16+W16+Z16+AC16+AF16 -> 45 | AH16: ='27.Spieltag'!AI16 -> 366 | AI16: =AG16+AH16 -> 411 | AJ16: =RANK(AI16,$AI$8:$AI$27) -> 9
A17: =AJ17 -> 10 | B17: =#REF! -> #REF! | E17: =IF(OR(EXACT($C$7,C17)*(EXACT($D$7,D17)))=TRUE,$AN$9,IF(($D$7-$C$7=D17-C17),$AN$8,IF(OR(EXACT($C$7>$D$7,C17>D17)*EXACT($C$7=$D$7,C17=D17)*EXACT($C$7<$D$7,C17<D17)),$AN$7,0))) -> 5 | H17: =IF(OR(EXACT($F$7,F17)*(EXACT($G$7,G17)))=TRUE,$AN$9,IF(($G$7-$F$7=G17-F17),$AN$8,IF(OR(EXACT($F$7>$G$7,F17>G17)*EXACT($F$7=$G$7,F17=G17)*EXACT($F$7<$G$7,F17<G17)),$AN$7,0))) -> 5 | K17: =IF(OR(EXACT($I$7,I17)*(EXACT($J$7,J17)))=TRUE,$AN$9,IF(($J$7-$I$7=J17-I17),$AN$8,IF(OR(EXACT($I$7>$J$7,I17>J17)*EXACT($I$7=$J$7,I17=J17)*EXACT($I$7<$J$7,I17<J17)),$AN$7,0))) -> 5 | N17: =IF(OR(EXACT($L$7,L17)*(EXACT($M$7,M17)))=TRUE,$AN$9,IF(($M$7-$L$7=M17-L17),$AN$8,IF(OR(EXACT($L$7>$M$7,L17>M17)*EXACT($L$7=$M$7,L17=M17)*EXACT($L$7<$M$7,L17<M17)),$AN$7,0))) -> 5 | Q17: =IF(OR(EXACT($O$7,O17)*(EXACT($P$7,P17)))=TRUE,$AN$9,IF(($P$7-$O$7=P17-O17),$AN$8,IF(OR(EXACT($O$7>$P$7,O17>P17)*EXACT($O$7=$P$7,O17=P17)*EXACT($O$7<$P$7,O17<P17)),$AN$7,0))) -> 5 | T17: =IF(OR(EXACT($R$7,R17)*(EXACT($S$7,S17)))=TRUE,$AN$9,IF(($S$7-$R$7=S17-R17),$AN$8,IF(OR(EXACT($R$7>$S$7,R17>S17)*EXACT($R$7=$S$7,R17=S17)*EXACT($R$7<$S$7,R17<S17)),$AN$7,0))) -> 5 | W17: =IF(OR(EXACT($U$7,U17)*(EXACT($V$7,V17)))=TRUE,$AN$9,IF(($V$7-$U$7=V17-U17),$AN$8,IF(OR(EXACT($U$7>$V$7,U17>V17)*EXACT($U$7=$V$7,U17=V17)*EXACT($U$7<$V$7,U17<V17)),$AN$7,0))) -> 5 | Z17: =IF(OR(EXACT($X$7,X17)*(EXACT($Y$7,Y17)))=TRUE,$AN$9,IF(($Y$7-$X$7=Y17-X17),$AN$8,IF(OR(EXACT($X$7>$Y$7,X17>Y17)*EXACT($X$7=$Y$7,X17=Y17)*EXACT($X$7<$Y$7,X17<Y17)),$AN$7,0))) -> 5 | AC17: =IF(OR(EXACT($AA$7,AA17)*(EXACT($AB$7,AB17)))=TRUE,$AN$9,IF(($AB$7-$AA$7=AB17-AA17),$AN$8,IF(OR(EXACT($AA$7>$AB$7,AA17>AB17)*EXACT($AA$7=$AB$7,AA17=AB17)*EXACT($AA$7<$AB$7,AA17<AB17)),$AN$7,0))) -> 5 | AG17: =E17+H17+K17+N17+Q17+T17+W17+Z17+AC17+AF17 -> 45 | AH17: ='27.Spieltag'!AI17 -> 365 | AI17: =AG17+AH17 -> 410 | AJ17: =RANK(AI17,$AI$8:$AI$27) -> 10
A18: =AJ18 -> 10 | B18: =#REF! -> #REF! | E18: =IF(OR(EXACT($C$7,C18)*(EXACT($D$7,D18)))=TRUE,$AN$9,IF(($D$7-$C$7=D18-C18),$AN$8,IF(OR(EXACT($C$7>$D$7,C18>D18)*EXACT($C$7=$D$7,C18=D18)*EXACT($C$7<$D$7,C18<D18)),$AN$7,0))) -> 5 | H18: =IF(OR(EXACT($F$7,F18)*(EXACT($G$7,G18)))=TRUE,$AN$9,IF(($G$7-$F$7=G18-F18),$AN$8,IF(OR(EXACT($F$7>$G$7,F18>G18)*EXACT($F$7=$G$7,F18=G18)*EXACT($F$7<$G$7,F18<G18)),$AN$7,0))) -> 5 | K18: =IF(OR(EXACT($I$7,I18)*(EXACT($J$7,J18)))=TRUE,$AN$9,IF(($J$7-$I$7=J18-I18),$AN$8,IF(OR(EXACT($I$7>$J$7,I18>J18)*EXACT($I$7=$J$7,I18=J18)*EXACT($I$7<$J$7,I18<J18)),$AN$7,0))) -> 5 | N18: =IF(OR(EXACT($L$7,L18)*(EXACT($M$7,M18)))=TRUE,$AN$9,IF(($M$7-$L$7=M18-L18),$AN$8,IF(OR(EXACT($L$7>$M$7,L18>M18)*EXACT($L$7=$M$7,L18=M18)*EXACT($L$7<$M$7,L18<M18)),$AN$7,0))) -> 5 | Q18: =IF(OR(EXACT($O$7,O18)*(EXACT($P$7,P18)))=TRUE,$AN$9,IF(($P$7-$O$7=P18-O18),$AN$8,IF(OR(EXACT($O$7>$P$7,O18>P18)*EXACT($O$7=$P$7,O18=P18)*EXACT($O$7<$P$7,O18<P18)),$AN$7,0))) -> 5 | T18: =IF(OR(EXACT($R$7,R18)*(EXACT($S$7,S18)))=TRUE,$AN$9,IF(($S$7-$R$7=S18-R18),$AN$8,IF(OR(EXACT($R$7>$S$7,R18>S18)*EXACT($R$7=$S$7,R18=S18)*EXACT($R$7<$S$7,R18<S18)),$AN$7,0))) -> 5 | W18: =IF(OR(EXACT($U$7,U18)*(EXACT($V$7,V18)))=TRUE,$AN$9,IF(($V$7-$U$7=V18-U18),$AN$8,IF(OR(EXACT($U$7>$V$7,U18>V18)*EXACT($U$7=$V$7,U18=V18)*EXACT($U$7<$V$7,U18<V18)),$AN$7,0))) -> 5 | Z18: =IF(OR(EXACT($X$7,X18)*(EXACT($Y$7,Y18)))=TRUE,$AN$9,IF(($Y$7-$X$7=Y18-X18),$AN$8,IF(OR(EXACT($X$7>$Y$7,X18>Y18)*EXACT($X$7=$Y$7,X18=Y18)*EXACT($X$7<$Y$7,X18<Y18)),$AN$7,0))) -> 5 | AC18: =IF(OR(EXACT($AA$7,AA18)*(EXACT($AB$7,AB18)))=TRUE,$AN$9,IF(($AB$7-$AA$7=AB18-AA18),$AN$8,IF(OR(EXACT($AA$7>$AB$7,AA18>AB18)*EXACT($AA$7=$AB$7,AA18=AB18)*EXACT($AA$7<$AB$7,AA18<AB18)),$AN$7,0))) -> 5 | AG18: =E18+H18+K18+N18+Q18+T18+W18+Z18+AC18+AF18 -> 45 | AH18: ='27.Spieltag'!AI18 -> 365 | AI18: =AG18+AH18 -> 410 | AJ18: =RANK(AI18,$AI$8:$AI$27) -> 10
A19: =AJ19 -> 12 | B19: =#REF! -> #REF! | E19: =IF(OR(EXACT($C$7,C19)*(EXACT($D$7,D19)))=TRUE,$AN$9,IF(($D$7-$C$7=D19-C19),$AN$8,IF(OR(EXACT($C$7>$D$7,C19>D19)*EXACT($C$7=$D$7,C19=D19)*EXACT($C$7<$D$7,C19<D19)),$AN$7,0))) -> 5 | H19: =IF(OR(EXACT($F$7,F19)*(EXACT($G$7,G19)))=TRUE,$AN$9,IF(($G$7-$F$7=G19-F19),$AN$8,IF(OR(EXACT($F$7>$G$7,F19>G19)*EXACT($F$7=$G$7,F19=G19)*EXACT($F$7<$G$7,F19<G19)),$AN$7,0))) -> 5 | K19: =IF(OR(EXACT($I$7,I19)*(EXACT($J$7,J19)))=TRUE,$AN$9,IF(($J$7-$I$7=J19-I19),$AN$8,IF(OR(EXACT($I$7>$J$7,I19>J19)*EXACT($I$7=$J$7,I19=J19)*EXACT($I$7<$J$7,I19<J19)),$AN$7,0))) -> 5 | N19: =IF(OR(EXACT($L$7,L19)*(EXACT($M$7,M19)))=TRUE,$AN$9,IF(($M$7-$L$7=M19-L19),$AN$8,IF(OR(EXACT($L$7>$M$7,L19>M19)*EXACT($L$7=$M$7,L19=M19)*EXACT($L$7<$M$7,L19<M19)),$AN$7,0))) -> 5 | Q19: =IF(OR(EXACT($O$7,O19)*(EXACT($P$7,P19)))=TRUE,$AN$9,IF(($P$7-$O$7=P19-O19),$AN$8,IF(OR(EXACT($O$7>$P$7,O19>P19)*EXACT($O$7=$P$7,O19=P19)*EXACT($O$7<$P$7,O19<P19)),$AN$7,0))) -> 5 | T19: =IF(OR(EXACT($R$7,R19)*(EXACT($S$7,S19)))=TRUE,$AN$9,IF(($S$7-$R$7=S19-R19),$AN$8,IF(OR(EXACT($R$7>$S$7,R19>S19)*EXACT($R$7=$S$7,R19=S19)*EXACT($R$7<$S$7,R19<S19)),$AN$7,0))) -> 5 | W19: =IF(OR(EXACT($U$7,U19)*(EXACT($V$7,V19)))=TRUE,$AN$9,IF(($V$7-$U$7=V19-U19),$AN$8,IF(OR(EXACT($U$7>$V$7,U19>V19)*EXACT($U$7=$V$7,U19=V19)*EXACT($U$7<$V$7,U19<V19)),$AN$7,0))) -> 5 | Z19: =IF(OR(EXACT($X$7,X19)*(EXACT($Y$7,Y19)))=TRUE,$AN$9,IF(($Y$7-$X$7=Y19-X19),$AN$8,IF(OR(EXACT($X$7>$Y$7,X19>Y19)*EXACT($X$7=$Y$7,X19=Y19)*EXACT($X$7<$Y$7,X19<Y19)),$AN$7,0))) -> 5 | AC19: =IF(OR(EXACT($AA$7,AA19)*(EXACT($AB$7,AB19)))=TRUE,$AN$9,IF(($AB$7-$AA$7=AB19-AA19),$AN$8,IF(OR(EXACT($AA$7>$AB$7,AA19>AB19)*EXACT($AA$7=$AB$7,AA19=AB19)*EXACT($AA$7<$AB$7,AA19<AB19)),$AN$7,0))) -> 5 | AG19: =E19+H19+K19+N19+Q19+T19+W19+Z19+AC19+AF19 -> 45 | AH19: ='27.Spieltag'!AI19 -> 358 | AI19: =AG19+AH19 -> 403 | AJ19: =RANK(AI19,$AI$8:$AI$27) -> 12
