Workbook

Sheet 1.Spieltag
A4: 1. Spieltag | C4: Schalke 04 | F4: Elversberg | I4: Paderborn | L4: Karlsruhe | O4: Darmstadt | R4: Bielefeld | U4: Hannover | X4: Magdeburg | AA4: Fürth
AG5: G E S A M T W E R T U N G
C6: Hertha BSC | F6: Nürnberg | I6: Kiel | L6: Pr. Münster | O6: Bochum | R6: Düsseldorf | U6: Kaisersl. | X6: Braunschw. | AA6: Dresden | AG6: Punkte | AH6: Punkte | AI6: Gesamt | AJ6: Platz | AK6: PUNKTEVERTEILUNG
A7: PLATZ | B7: ERGEBNISSE=> | C7: 2 | D7: 1 | E7: Pkt. | F7: 1 | G7: 0 | H7: Pkt. | I7: 2 | J7: 1 | K7: Pkt. | L7: 3 | M7: 2 | N7: Pkt. | O7: 4 | P7: 1 | Q7: Pkt. | R7: 5 | S7: 1 | T7: Pkt. | U7: 1 | V7: 0 | W7: Pkt. | X7: 0 | Y7: 1 | Z7: Pkt. | AA7: 3 | AB7: 2 | AC7: Pkt. | AG7: Spieltag | AH7: bisher | AI7: Punkte | AK7: richtige Tendenz | AN7: 2
A8: =AJ8 -> 7 | B8: ahaupt1904 | C8: 2 | D8: 1 | E8: =IF(OR(EXACT($C$7,C8)*(EXACT($D$7,D8)))=TRUE,$AN$9,IF(($D$7-$C$7=D8-C8),$AN$8,IF(OR(EXACT($C$7>$D$7,C8>D8)*EXACT($C$7=$D$7,C8=D8)*EXACT($C$7<$D$7,C8<D8)),$AN$7,0)))*4 -> 20 | F8: 2 | G8: 2 | H8: =IF(OR(EXACT($F$7,F8)*(EXACT($G$7,G8)))=TRUE,$AN$9,IF(($G$7-$F$7=G8-F8),$AN$8,IF(OR(EXACT($F$7>$G$7,F8>G8)*EXACT($F$7=$G$7,F8=G8)*EXACT($F$7<$G$7,F8<G8)),$AN$7,0))) -> 0 | I8: 2 | J8: 2 | K8: =IF(OR(EXACT($I$7,I8)*(EXACT($J$7,J8)))=TRUE,$AN$9,IF(($J$7-$I$7=J8-I8),$AN$8,IF(OR(EXACT($I$7>$J$7,I8>J8)*EXACT($I$7=$J$7,I8=J8)*EXACT($I$7<$J$7,I8<J8)),$AN$7,0))) -> 0 | L8: 2 | M8: 1 | N8: =IF(OR(EXACT($L$7,L8)*(EXACT($M$7,M8)))=TRUE,$AN$9,IF(($M$7-$L$7=M8-L8),$AN$8,IF(OR(EXACT($L$7>$M$7,L8>M8)*EXACT($L$7=$M$7,L8=M8)*EXACT($L$7<$M$7,L8<M8)),$AN$7,0))) -> 3 | O8: 1 | P8: 2 | Q8: =IF(OR(EXACT($O$7,O8)*(EXACT($P$7,P8)))=TRUE,$AN$9,IF(($P$7-$O$7=P8-O8),$AN$8,IF(OR(EXACT($O$7>$P$7,O8>P8)*EXACT($O$7=$P$7,O8=P8)*EXACT($O$7<$P$7,O8<P8)),$AN$7,0))) -> 0 | R8: 1 | S8: 3 | T8: =IF(OR(EXACT($R$7,R8)*(EXACT($S$7,S8)))=TRUE,$AN$9,IF(($S$7-$R$7=S8-R8),$AN$8,IF(OR(EXACT($R$7>$S$7,R8>S8)*EXACT($R$7=$S$7,R8=S8)*EXACT($R$7<$S$7,R8<S8)),$AN$7,0))) -> 0 | U8: 1 | V8: 1 | W8: =IF(OR(EXACT($U$7,U8)*(EXACT($V$7,V8)))=TRUE,$AN$9,IF(($V$7-$U$7=V8-U8),$AN$8,IF(OR(EXACT($U$7>$V$7,U8>V8)*EXACT($U$7=$V$7,U8=V8)*EXACT($U$7<$V$7,U8<V8)),$AN$7,0))) -> 0 | X8: 4 | Y8: 1 | Z8: =IF(OR(EXACT($X$7,X8)*(EXACT($Y$7,Y8)))=TRUE,$AN$9,IF(($Y$7-$X$7=Y8-X8),$AN$8,IF(OR(EXACT($X$7>$Y$7,X8>Y8)*EXACT($X$7=$Y$7,X8=Y8)*EXACT($X$7<$Y$7,X8<Y8)),$AN$7,0))) -> 0 | AA8: 2 | AB8: 1 | AC8: =IF(OR(EXACT($AA$7,AA8)*(EXACT($AB$7,AB8)))=TRUE,$AN$9,IF(($AB$7-$AA$7=AB8-AA8),$AN$8,IF(OR(EXACT($AA$7>$AB$7,AA8>AB8)*EXACT($AA$7=$AB$7,AA8=AB8)*EXACT($AA$7<$AB$7,AA8<AB8)),$AN$7,0))) -> 3 | AG8: =E8+K8+Q8+T8+N8+H8+W8+Z8+AC8+AF8 -> 26 | AI8: =AG8+AH8 -> 26 | AJ8: =RANK(AI8,$AI$8:$AI$53) -> 7 | AK8: richtige Tend. + korr. Torabst. | AN8: 3
A9: =AJ9 -> 8 | B9: Alexander18 | C9: 2 | D9: 1 | E9: =IF(OR(EXACT($C$7,C9)*(EXACT($D$7,D9)))=TRUE,$AN$9,IF(($D$7-$C$7=D9-C9),$AN$8,IF(OR(EXACT($C$7>$D$7,C9>D9)*EXACT($C$7=$D$7,C9=D9)*EXACT($C$7<$D$7,C9<D9)),$AN$7,0)))*4 -> 20 | F9: 1 | G9: 3 | H9: =IF(OR(EXACT($F$7,F9)*(EXACT($G$7,G9)))=TRUE,$AN$9,IF(($G$7-$F$7=G9-F9),$AN$8,IF(OR(EXACT($F$7>$G$7,F9>G9)*EXACT($F$7=$G$7,F9=G9)*EXACT($F$7<$G$7,F9<G9)),$AN$7,0))) -> 0 | I9: 0 | J9: 2 | K9: =IF(OR(EXACT($I$7,I9)*(EXACT($J$7,J9)))=TRUE,$AN$9,IF(($J$7-$I$7=J9-I9),$AN$8,IF(OR(EXACT($I$7>$J$7,I9>J9)*EXACT($I$7=$J$7,I9=J9)*EXACT($I$7<$J$7,I9<J9)),$AN$7,0))) -> 0 | L9: 2 | M9: 0 | N9: =IF(OR(EXACT($L$7,L9)*(EXACT($M$7,M9)))=TRUE,$AN$9,IF(($M$7-$L$7=M9-L9),$AN$8,IF(OR(EXACT($L$7>$M$7,L9>M9)*EXACT($L$7=$M$7,L9=M9)*EXACT($L$7<$M$7,L9<M9)),$AN$7,0))) -> 2 | O9: 2 | P9: 2 | Q9: =IF(OR(EXACT($O$7,O9)*(EXACT($P$7,P9)))=TRUE,$AN$9,IF(($P$7-$O$7=P9-O9),$AN$8,IF(OR(EXACT($O$7>$P$7,O9>P9)*EXACT($O$7=$P$7,O9=P9)*EXACT($O$7<$P$7,O9<P9)),$AN$7,0))) -> 0 | R9: 1 | S9: 0 | T9: =IF(OR(EXACT($R$7,R9)*(EXACT($S$7,S9)))=TRUE,$AN$9,IF(($S$7-$R$7=S9-R9),$AN$8,IF(OR(EXACT($R$7>$S$7,R9>S9)*EXACT($R$7=$S$7,R9=S9)*EXACT($R$7<$S$7,R9<S9)),$AN$7,0))) -> 2 | U9: 2 | V9: 3 | W9: =IF(OR(EXACT($U$7,U9)*(EXACT($V$7,V9)))=TRUE,$AN$9,IF(($V$7-$U$7=V9-U9),$AN$8,IF(OR(EXACT($U$7>$V$7,U9>V9)*EXACT($U$7=$V$7,U9=V9)*EXACT($U$7<$V$7,U9<V9)),$AN$7,0))) -> 0 | X9: 2 | Y9: 0 | Z9: =IF(OR(EXACT($X$7,X9)*(EXACT($Y$7,Y9)))=TRUE,$AN$9,IF(($Y$7-$X$7=Y9-X9),$AN$8,IF(OR(EXACT($X$7>$Y$7,X9>Y9)*EXACT($X$7=$Y$7,X9=Y9)*EXACT($X$7<$Y$7,X9<Y9)),$AN$7,0))) -> 0 | AA9: 0 | AB9: 1 | AC9: =IF(OR(EXACT($AA$7,AA9)*(EXACT($AB$7,AB9)))=TRUE,$AN$9,IF(($AB$7-$AA$7=AB9-AA9),$AN$8,IF(OR(EXACT($AA$7>$AB$7,AA9>AB9)*EXACT($AA$7=$AB$7,AA9=AB9)*EXACT($AA$7<$AB$7,AA9<AB9)),$AN$7,0))) -> 0 | AG9: =E9+K9+Q9+T9+N9+H9+W9+Z9+AC9+AF9 -> 24 | AI9: =AG9+AH9 -> 24 | AJ9: =RANK(AI9,$AI$8:$AI$53) -> 8 | AK9: richtiges Ergebnis | AN9: 5
A10: =AJ10 -> 2 | B10: atschi91 | C10: 1 | D10: 0 | E10: =IF(OR(EXACT($C$7,C10)*(EXACT($D$7,D10)))=TRUE,$AN$9,IF(($D$7-$C$7=D10-C10),$AN$8,IF(OR(EXACT($C$7>$D$7,C10>D10)*EXACT($C$7=$D$7,C10=D10)*EXACT($C$7<$D$7,C10<D10)),$AN$7,0)))*4 -> 12 | F10: 2 | G10: 1 | H10: =IF(OR(EXACT($F$7,F10)*(EXACT($G$7,G10)))=TRUE,$AN$9,IF(($G$7-$F$7=G10-F10),$AN$8,IF(OR(EXACT($F$7>$G$7,F10>G10)*EXACT($F$7=$G$7,F10=G10)*EXACT($F$7<$G$7,F10<G10)),$AN$7,0))) -> 3 | I10: 2 | J10: 1 | K10: =IF(OR(EXACT($I$7,I10)*(EXACT($J$7,J10)))=TRUE,$AN$9,IF(($J$7-$I$7=J10-I10),$AN$8,IF(OR(EXACT($I$7>$J$7,I10>J10)*EXACT($I$7=$J$7,I10=J10)*EXACT($I$7<$J$7,I10<J10)),$AN$7,0))) -> 5 | L10: 2 | M10: 1 | N10: =IF(OR(EXACT($L$7,L10)*(EXACT($M$7,M10)))=TRUE,$AN$9,IF(($M$7-$L$7=M10-L10),$AN$8,IF(OR(EXACT($L$7>$M$7,L10>M10)*EXACT($L$7=$M$7,L10=M10)*EXACT($L$7<$M$7,L10<M10)),$AN$7,0))) -> 3 | O10: 2 | P10: 1 | Q10: =IF(OR(EXACT($O$7,O10)*(EXACT($P$7,P10)))=TRUE,$AN$9,IF(($P$7-$O$7=P10-O10),$AN$8,IF(OR(EXACT($O$7>$P$7,O10>P10)*EXACT($O$7=$P$7,O10=P10)*EXACT($O$7<$P$7,O10<P10)),$AN$7,0))) -> 2 | R10: 2 | S10: 1 | T10: =IF(OR(EXACT($R$7,R10)*(EXACT($S$7,S10)))=TRUE,$AN$9,IF(($S$7-$R$7=S10-R10),$AN$8,IF(OR(EXACT($R$7>$S$7,R10>S10)*EXACT($R$7=$S$7,R10=S10)*EXACT($R$7<$S$7,R10<S10)),$AN$7,0))) -> 2 | U10: 2 | V10: 1 | W10: =IF(OR(EXACT($U$7,U10)*(EXACT($V$7,V10)))=TRUE,$AN$9,IF(($V$7-$U$7=V10-U10),$AN$8,IF(OR(EXACT($U$7>$V$7,U10>V10)*EXACT($U$7=$V$7,U10=V10)*EXACT($U$7<$V$7,U10<V10)),$AN$7,0))) -> 3 | X10: 2 | Y10: 1 | Z10: =IF(OR(EXACT($X$7,X10)*(EXACT($Y$7,Y10)))=TRUE,$AN$9,IF(($Y$7-$X$7=Y10-X10),$AN$8,IF(OR(EXACT($X$7>$Y$7,X10>Y10)*EXACT($X$7=$Y$7,X10=Y10)*EXACT($X$7<$Y$7,X10<Y10)),$AN$7,0))) -> 0 | AA10: 2 | AB10: 1 | AC10: =IF(OR(EXACT($AA$7,AA10)*(EXACT($AB$7,AB10)))=TRUE,$AN$9,IF(($AB$7-$AA$7=AB10-AA10),$AN$8,IF(OR(EXACT($AA$7>$AB$7,AA10>AB10)*EXACT($AA$7=$AB$7,AA10=AB10)*EXACT($AA$7<$AB$7,AA10<AB10)),$AN$7,0))) -> 3 | AG10: =E10+K10+Q10+T10+N10+H10+W10+Z10+AC10+AF10 -> 33 | AI10: =AG10+AH10 -> 33 | AJ10: =RANK(AI10,$AI$8:$AI$53) -> 2
A11: =AJ11 -> 8 | B11: CathaHaupt1904 | C11: 2 | D11: 1 | E11: =IF(OR(EXACT($C$7,C11)*(EXACT($D$7,D11)))=TRUE,$AN$9,IF(($D$7-$C$7=D11-C11),$AN$8,IF(OR(EXACT($C$7>$D$7,C11>D11)*EXACT($C$7=$D$7,C11=D11)*EXACT($C$7<$D$7,C11<D11)),$AN$7,0)))*4 -> 20 | F11: 1 | G11: 2 | H11: =IF(OR(EXACT($F$7,F11)*(EXACT($G$7,G11)))=TRUE,$AN$9,IF(($G$7-$F$7=G11-F11),$AN$8,IF(OR(EXACT($F$7>$G$7,F11>G11)*EXACT($F$7=$G$7,F11=G11)*EXACT($F$7<$G$7,F11<G11)),$AN$7,0))) -> 0 | I11: 0 | J11: 1 | K11: =IF(OR(EXACT($I$7,I11)*(EXACT($J$7,J11)))=TRUE,$AN$9,IF(($J$7-$I$7=J11-I11),$AN$8,IF(OR(EXACT($I$7>$J$7,I11>J11)*EXACT($I$7=$J$7,I11=J11)*EXACT($I$7<$J$7,I11<J11)),$AN$7,0))) -> 0 | L11: 2 | M11: 0 | N11: =IF(OR(EXACT($L$7,L11)*(EXACT($M$7,M11)))=TRUE,$AN$9,IF(($M$7-$L$7=M11-L11),$AN$8,IF(OR(EXACT($L$7>$M$7,L11>M11)*EXACT($L$7=$M$7,L11=M11)*EXACT($L$7<$M$7,L11<M11)),$AN$7,0))) -> 2 | O11: 3 | P11: 2 | Q11: =IF(OR(EXACT($O$7,O11)*(EXACT($P$7,P11)))=TRUE,$AN$9,IF(($P$7-$O$7=P11-O11),$AN$8,IF(OR(EXACT($O$7>$P$7,O11>P11)*EXACT($O$7=$P$7,O11=P11)*EXACT($O$7<$P$7,O11<P11)),$AN$7,0))) -> 2 | R11: 0 | S11: 2 | T11: =IF(OR(EXACT($R$7,R11)*(EXACT($S$7,S11)))=TRUE,$AN$9,IF(($S$7-$R$7=S11-R11),$AN$8,IF(OR(EXACT($R$7>$S$7,R11>S11)*EXACT($R$7=$S$7,R11=S11)*EXACT($R$7<$S$7,R11<S11)),$AN$7,0))) -> 0 | U11: 2 | V11: 2 | W11: =IF(OR(EXACT($U$7,U11)*(EXACT($V$7,V11)))=TRUE,$AN$9,IF(($V$7-$U$7=V11-U11),$AN$8,IF(OR(EXACT($U$7>$V$7,U11>V11)*EXACT($U$7=$V$7,U11=V11)*EXACT($U$7<$V$7,U11<V11)),$AN$7,0))) -> 0 | X11: 2 | Y11: 0 | Z11: =IF(OR(EXACT($X$7,X11)*(EXACT($Y$7,Y11)))=TRUE,$AN$9,IF(($Y$7-$X$7=Y11-X11),$AN$8,IF(OR(EXACT($X$7>$Y$7,X11>Y11)*EXACT($X$7=$Y$7,X11=Y11)*EXACT($X$7<$Y$7,X11<Y11)),$AN$7,0))) -> 0 | AA11: 1 | AB11: 2 | AC11: =IF(OR(EXACT($AA$7,AA11)*(EXACT($AB$7,AB11)))=TRUE,$AN$9,IF(($AB$7-$AA$7=AB11-AA11),$AN$8,IF(OR(EXACT($AA$7>$AB$7,AA11>AB11)*EXACT($AA$7=$AB$7,AA11=AB11)*EXACT($AA$7<$AB$7,AA11<AB11)),$AN$7,0))) -> 0 | AG11: =E11+K11+Q11+T11+N11+H11+W11+Z11+AC11+AF11 -> 24 | AI11: =AG11+AH11 -> 24 | AJ11: =RANK(AI11,$AI$8:$AI$53) -> 8
A12: =AJ12 -> 17 | B12: Dickmeis04 | C12: 3 | D12: 1 | E12: =IF(OR(EXACT($C$7,C12)*(EXACT($D$7,D12)))=TRUE,$AN$9,IF(($D$7-$C$7=D12-C12),$AN$8,IF(OR(EXACT($C$7>$D$7,C12>D12)*EXACT($C$7=$D$7,C12=D12)*EXACT($C$7<$D$7,C12<D12)),$AN$7,0)))*4 -> 8 | F12: 1 | G12: 1 | H12: =IF(OR(EXACT($F$7,F12)*(EXACT($G$7,G12)))=TRUE,$AN$9,IF(($G$7-$F$7=G12-F12),$AN$8,IF(OR(EXACT($F$7>$G$7,F12>G12)*EXACT($F$7=$G$7,F12=G12)*EXACT($F$7<$G$7,F12<G12)),$AN$7,0))) -> 0 | I12: 1 | J12: 1 | K12: =IF(OR(EXACT($I$7,I12)*(EXACT($J$7,J12)))=TRUE,$AN$9,IF(($J$7-$I$7=J12-I12),$AN$8,IF(OR(EXACT($I$7>$J$7,I12>J12)*EXACT($I$7=$J$7,I12=J12)*EXACT($I$7<$J$7,I12<J12)),$AN$7,0))) -> 0 | L12: 2 | M12: 0 | N12: =IF(OR(EXACT($L$7,L12)*(EXACT($M$7,M12)))=TRUE,$AN$9,IF(($M$7-$L$7=M12-L12),$AN$8,IF(OR(EXACT($L$7>$M$7,L12>M12)*EXACT($L$7=$M$7,L12=M12)*EXACT($L$7<$M$7,L12<M12)),$AN$7,0))) -> 2 | O12: 2 | P12: 2 | Q12: =IF(OR(EXACT($O$7,O12)*(EXACT($P$7,P12)))=TRUE,$AN$9,IF(($P$7-$O$7=P12-O12),$AN$8,IF(OR(EXACT($O$7>$P$7,O12>P12)*EXACT($O$7=$P$7,O12=P12)*EXACT($O$7<$P$7,O12<P12)),$AN$7,0))) -> 0 | R12: 2 | S12: 1 | T12: =IF(OR(EXACT($R$7,R12)*(EXACT($S$7,S12)))=TRUE,$AN$9,IF(($S$7-$R$7=S12-R12),$AN$8,IF(OR(EXACT($R$7>$S$7,R12>S12)*EXACT($R$7=$S$7,R12=S12)*EXACT($R$7<$S$7,R12<S12)),$AN$7,0))) -> 2 | U12: 2 | V12: 1 | W12: =IF(OR(EXACT($U$7,U12)*(EXACT($V$7,V12)))=TRUE,$AN$9,IF(($V$7-$U$7=V12-U12),$AN$8,IF(OR(EXACT($U$7>$V$7,U12>V12)*EXACT($U$7=$V$7,U12=V12)*EXACT($U$7<$V$7,U12<V12)),$AN$7,0))) -> 3 | X12: 3 | Y12: 0 | Z12: =IF(OR(EXACT($X$7,X12)*(EXACT($Y$7,Y12)))=TRUE,$AN$9,IF(($Y$7-$X$7=Y12-X12),$AN$8,IF(OR(EXACT($X$7>$Y$7,X12>Y12)*EXACT($X$7=$Y$7,X12=Y12)*EXACT($X$7<$Y$7,X12<Y12)),$AN$7,0))) -> 0 | AA12: 1 | AB12: 1 | AC12: =IF(OR(EXACT($AA$7,AA12)*(EXACT($AB$7,AB12)))=TRUE,$AN$9,IF(($AB$7-$AA$7=AB12-AA12),$AN$8,IF(OR(EXACT($AA$7>$AB$7,AA12>AB12)*EXACT($AA$7=$AB$7,AA12=AB12)*EXACT($AA$7<$AB$7,AA12<AB12)),$AN$7,0))) -> 0 | AG12: =E12+K12+Q12+T12+N12+H12+W12+Z12+AC12+AF12 -> 15 | AI12: =AG12+AH12 -> 15 | AJ12: =RANK(AI12,$AI$8:$AI$53) -> 17
A13: =AJ13 -> 17 | B13: fabian1904 | C13: 2 | D13: 0 | E13: =IF(OR(EXACT($C$7,C13)*(EXACT($D$7,D13)))=TRUE,$AN$9,IF(($D$7-$C$7=D13-C13),$AN$8,IF(OR(EXACT($C$7>$D$7,C13>D13)*EXACT($C$7=$D$7,C13=D13)*EXACT($C$7<$D$7,C13<D13)),$AN$7,0)))*4 -> 8 | F13: 1 | G13: 3 | H13: =IF(OR(EXACT($F$7,F13)*(EXACT($G$7,G13)))=TRUE,$AN$9,IF(($G$7-$F$7=G13-F13),$AN$8,IF(OR(EXACT($F$7>$G$7,F13>G13)*EXACT($F$7=$G$7,F13=G13)*EXACT($F$7<$G$7,F13<G13)),$AN$7,0))) -> 0 | I13: 1 | J13: 1 | K13: =IF(OR(EXACT($I$7,I13)*(EXACT($J$7,J13)))=TRUE,$AN$9,IF(($J$7-$I$7=J13-I13),$AN$8,IF(OR(EXACT($I$7>$J$7,I13>J13)*EXACT($I$7=$J$7,I13=J13)*EXACT($I$7<$J$7,I13<J13)),$AN$7,0))) -> 0 | L13: 3 | M13: 0 | N13: =IF(OR(EXACT($L$7,L13)*(EXACT($M$7,M13)))=TRUE,$AN$9,IF(($M$7-$L$7=M13-L13),$AN$8,IF(OR(EXACT($L$7>$M$7,L13>M13)*EXACT($L$7=$M$7,L13=M13)*EXACT($L$7<$M$7,L13<M13)),$AN$7,0))) -> 2 | O13: 0 | P13: 2 | Q13: =IF(OR(EXACT($O$7,O13)*(EXACT($P$7,P13)))=TRUE,$AN$9,IF(($P$7-$O$7=P13-O13),$AN$8,IF(OR(EXACT($O$7>$P$7,O13>P13)*EXACT($O$7=$P$7,O13=P13)*EXACT($O$7<$P$7,O13<P13)),$AN$7,0))) -> 0 | R13: 0 | S13: 1 | T13: =IF(OR(EXACT($R$7,R13)*(EXACT($S$7,S13)))=TRUE,$AN$9,IF(($S$7-$R$7=S13-R13),$AN$8,IF(OR(EXACT($R$7>$S$7,R13>S13)*EXACT($R$7=$S$7,R13=S13)*EXACT($R$7<$S$7,R13<S13)),$AN$7,0))) -> 0 | U13: 2 | V13: 1 | W13: =IF(OR(EXACT($U$7,U13)*(EXACT($V$7,V13)))=TRUE,$AN$9,IF(($V$7-$U$7=V13-U13),$AN$8,IF(OR(EXACT($U$7>$V$7,U13>V13)*EXACT($U$7=$V$7,U13=V13)*EXACT($U$7<$V$7,U13<V13)),$AN$7,0))) -> 3 | X13: 0 | Y13: 0 | Z13: =IF(OR(EXACT($X$7,X13)*(EXACT($Y$7,Y13)))=TRUE,$AN$9,IF(($Y$7-$X$7=Y13-X13),$AN$8,IF(OR(EXACT($X$7>$Y$7,X13>Y13)*EXACT($X$7=$Y$7,X13=Y13)*EXACT($X$7<$Y$7,X13<Y13)),$AN$7,0))) -> 0 | AA13: 2 | AB13: 0 | AC13: =IF(OR(EXACT($AA$7,AA13)*(EXACT($AB$7,AB13)))=TRUE,$AN$9,IF(($AB$7-$AA$7=AB13-AA13),$AN$8,IF(OR(EXACT($AA$7>$AB$7,AA13>AB13)*EXACT($AA$7=$AB$7,AA13=AB13)*EXACT($AA$7<$AB$7,AA13<AB13)),$AN$7,0))) -> 2 | AG13: =E13+K13+Q13+T13+N13+H13+W13+Z13+AC13+AF13 -> 15 | AI13: =AG13+AH13 -> 15 | AJ13: =RANK(AI13,$AI$8:$AI$53) -> 17
A14: =AJ14 -> 6 | B14: FlorianS04 | C14: 2 | D14: 1 | E14: =IF(OR(EXACT($C$7,C14)*(EXACT($D$7,D14)))=TRUE,$AN$9,IF(($D$7-$C$7=D14-C14),$AN$8,IF(OR(EXACT($C$7>$D$7,C14>D14)*EXACT($C$7=$D$7,C14=D14)*EXACT($C$7<$D$7,C14<D14)),$AN$7,0)))*4 -> 20 | F14: 1 | G14: 1 | H14: =IF(OR(EXACT($F$7,F14)*(EXACT($G$7,G14)))=TRUE,$AN$9,IF(($G$7-$F$7=G14-F14),$AN$8,IF(OR(EXACT($F$7>$G$7,F14>G14)*EXACT($F$7=$G$7,F14=G14)*EXACT($F$7<$G$7,F14<G14)),$AN$7,0))) -> 0 | I14: 2 | J14: 1 | K14: =IF(OR(EXACT($I$7,I14)*(EXACT($J$7,J14)))=TRUE,$AN$9,IF(($J$7-$I$7=J14-I14),$AN$8,IF(OR(EXACT($I$7>$J$7,I14>J14)*EXACT($I$7=$J$7,I14=J14)*EXACT($I$7<$J$7,I14<J14)),$AN$7,0))) -> 5 | L14: 2 | M14: 0 | N14: =IF(OR(EXACT($L$7,L14)*(EXACT($M$7,M14)))=TRUE,$AN$9,IF(($M$7-$L$7=M14-L14),$AN$8,IF(OR(EXACT($L$7>$M$7,L14>M14)*EXACT($L$7=$M$7,L14=M14)*EXACT($L$7<$M$7,L14<M14)),$AN$7,0))) -> 2 | O14: 1 | P14: 3 | Q14: =IF(OR(EXACT($O$7,O14)*(EXACT($P$7,P14)))=TRUE,$AN$9,IF(($P$7-$O$7=P14-O14),$AN$8,IF(OR(EXACT($O$7>$P$7,O14>P14)*EXACT($O$7=$P$7,O14=P14)*EXACT($O$7<$P$7,O14<P14)),$AN$7,0))) -> 0 | R14: 2 | S14: 2 | T14: =IF(OR(EXACT($R$7,R14)*(EXACT($S$7,S14)))=TRUE,$AN$9,IF(($S$7-$R$7=S14-R14),$AN$8,IF(OR(EXACT($R$7>$S$7,R14>S14)*EXACT($R$7=$S$7,R14=S14)*EXACT($R$7<$S$7,R14<S14)),$AN$7,0))) -> 0 | U14: 1 | V14: 1 | W14: =IF(OR(EXACT($U$7,U14)*(EXACT($V$7,V14)))=TRUE,$AN$9,IF(($V$7-$U$7=V14-U14),$AN$8,IF(OR(EXACT($U$7>$V$7,U14>V14)*EXACT($U$7=$V$7,U14=V14)*EXACT($U$7<$V$7,U14<V14)),$AN$7,0))) -> 0 | X14: 1 | Y14: 0 | Z14: =IF(OR(EXACT($X$7,X14)*(EXACT($Y$7,Y14)))=TRUE,$AN$9,IF(($Y$7-$X$7=Y14-X14),$AN$8,IF(OR(EXACT($X$7>$Y$7,X14>Y14)*EXACT($X$7=$Y$7,X14=Y14)*EXACT($X$7<$Y$7,X14<Y14)),$AN$7,0))) -> 0 | AA14: 0 | AB14: 0 | AC14: =IF(OR(EXACT($AA$7,AA14)*(EXACT($AB$7,AB14)))=TRUE,$AN$9,IF(($AB$7-$AA$7=AB14-AA14),$AN$8,IF(OR(EXACT($AA$7>$AB$7,AA14>AB14)*EXACT($AA$7=$AB$7,AA14=AB14)*EXACT($AA$7<$AB$7,AA14<AB14)),$AN$7,0))) -> 0 | AG14: =E14+K14+Q14+T14+N14+H14+W14+Z14+AC14+AF14 -> 27 | AI14: =AG14+AH14 -> 27 | AJ14: =RANK(AI14,$AI$8:$AI$53) -> 6
A15: =AJ15 -> 1 | B15: Franzi04 | C15: 2 | D15: 1 | E15: =IF(OR(EXACT($C$7,C15)*(EXACT($D$7,D15)))=TRUE,$AN$9,IF(($D$7-$C$7=D15-C15),$AN$8,IF(OR(EXACT($C$7>$D$7,C15>D15)*EXACT($C$7=$D$7,C15=D15)*EXACT($C$7<$D$7,C15<D15)),$AN$7,0)))*4 -> 20 | F15: 2 | G15: 1 | H15: =IF(OR(EXACT($F$7,F15)*(EXACT($G$7,G15)))=TRUE,$AN$9,IF(($G$7-$F$7=G15-F15),$AN$8,IF(OR(EXACT($F$7>$G$7,F15>G15)*EXACT($F$7=$G$7,F15=G15)*EXACT($F$7<$G$7,F15<G15)),$AN$7,0))) -> 3 | I15: 1 | J15: 2 | K15: =IF(OR(EXACT($I$7,I15)*(EXACT($J$7,J15)))=TRUE,$AN$9,IF(($J$7-$I$7=J15-I15),$AN$8,IF(OR(EXACT($I$7>$J$7,I15>J15)*EXACT($I$7=$J$7,I15=J15)*EXACT($I$7<$J$7,I15<J15)),$AN$7,0))) -> 0 | L15: 2 | M15: 1 | N15: =IF(OR(EXACT($L$7,L15)*(EXACT($M$7,M15)))=TRUE,$AN$9,IF(($M$7-$L$7=M15-L15),$AN$8,IF(OR(EXACT($L$7>$M$7,L15>M15)*EXACT($L$7=$M$7,L15=M15)*EXACT($L$7<$M$7,L15<M15)),$AN$7,0))) -> 3 | O15: 2 | P15: 1 | Q15: =IF(OR(EXACT($O$7,O15)*(EXACT($P$7,P15)))=TRUE,$AN$9,IF(($P$7-$O$7=P15-O15),$AN$8,IF(OR(EXACT($O$7>$P$7,O15>P15)*EXACT($O$7=$P$7,O15=P15)*EXACT($O$7<$P$7,O15<P15)),$AN$7,0))) -> 2 | R15: 0 | S15: 1 | T15: =IF(OR(EXACT($R$7,R15)*(EXACT($S$7,S15)))=TRUE,$AN$9,IF(($S$7-$R$7=S15-R15),$AN$8,IF(OR(EXACT($R$7>$S$7,R15>S15)*EXACT($R$7=$S$7,R15=S15)*EXACT($R$7<$S$7,R15<S15)),$AN$7,0))) -> 0 | U15: 2 | V15: 1 | W15: =IF(OR(EXACT($U$7,U15)*(EXACT($V$7,V15)))=TRUE,$AN$9,IF(($V$7-$U$7=V15-U15),$AN$8,IF(OR(EXACT($U$7>$V$7,U15>V15)*EXACT($U$7=$V$7,U15=V15)*EXACT($U$7<$V$7,U15<V15)),$AN$7,0))) -> 3 | X15: 2 | Y15: 0 | Z15: =IF(OR(EXACT($X$7,X15)*(EXACT($Y$7,Y15)))=TRUE,$AN$9,IF(($Y$7-$X$7=Y15-X15),$AN$8,IF(OR(EXACT($X$7>$Y$7,X15>Y15)*EXACT($X$7=$Y$7,X15=Y15)*EXACT($X$7<$Y$7,X15<Y15)),$AN$7,0))) -> 0 | AA15: 1 | AB15: 0 | AC15: =IF(OR(EXACT($AA$7,AA15)*(EXACT($AB$7,AB15)))=TRUE,$AN$9,IF(($AB$7-$AA$7=AB15-AA15),$AN$8,IF(OR(EXACT($AA$7>$AB$7,AA15>AB15)*EXACT($AA$7=$AB$7,AA15=AB15)*EXACT($AA$7<$AB$7,AA15<AB15)),$AN$7,0))) -> 3 | AG15: =E15+K15+Q15+T15+N15+H15+W15+Z15+AC15+AF15 -> 34 | AI15: =AG15+AH15 -> 34 | AJ15: =RANK(AI15,$AI$8:$AI$53) -> 1
A16: =AJ16 -> 17 | B16: Jean-Pierre | C16: 4 | D16: 1 | E16: =IF(OR(EXACT($C$7,C16)*(EXACT($D$7,D16)))=TRUE,$AN$9,IF(($D$7-$C$7=D16-C16),$AN$8,IF(OR(EXACT($C$7>$D$7,C16>D16)*EXACT($C$7=$D$7,C16=D16)*EXACT($C$7<$D$7,C16<D16)),$AN$7,0)))*4 -> 8 | F16: 1 | G16: 2 | H16: =IF(OR(EXACT($F$7,F16)*(EXACT($G$7,G16)))=TRUE,$AN$9,IF(($G$7-$F$7=G16-F16),$AN$8,IF(OR(EXACT($F$7>$G$7,F16>G16)*EXACT($F$7=$G$7,F16=G16)*EXACT($F$7<$G$7,F16<G16)),$AN$7,0))) -> 0 | I16: 3 | J16: 1 | K16: =IF(OR(EXACT($I$7,I16)*(EXACT($J$7,J16)))=TRUE,$AN$9,IF(($J$7-$I$7=J16-I16),$AN$8,IF(OR(EXACT($I$7>$J$7,I16>J16)*EXACT($I$7=$J$7,I16=J16)*EXACT($I$7<$J$7,I16<J16)),$AN$7,0))) -> 2 | L16: 2 | M16: 1 | N16: =IF(OR(EXACT($L$7,L16)*(EXACT($M$7,M16)))=TRUE,$AN$9,IF(($M$7-$L$7=M16-L16),$AN$8,IF(OR(EXACT($L$7>$M$7,L16>M16)*EXACT($L$7=$M$7,L16=M16)*EXACT($L$7<$M$7,L16<M16)),$AN$7,0))) -> 3 | O16: 1 | P16: 1 | Q16: =IF(OR(EXACT($O$7,O16)*(EXACT($P$7,P16)))=TRUE,$AN$9,IF(($P$7-$O$7=P16-O16),$AN$8,IF(OR(EXACT($O$7>$P$7,O16>P16)*EXACT($O$7=$P$7,O16=P16)*EXACT($O$7<$P$7,O16<P16)),$AN$7,0))) -> 0 | R16: 3 | S16: 1 | T16: =IF(OR(EXACT($R$7,R16)*(EXACT($S$7,S16)))=TRUE,$AN$9,IF(($S$7-$R$7=S16-R16),$AN$8,IF(OR(EXACT($R$7>$S$7,R16>S16)*EXACT($R$7=$S$7,R16=S16)*EXACT($R$7<$S$7,R16<S16)),$AN$7,0))) -> 2 | U16: 1 | V16: 1 | W16: =IF(OR(EXACT($U$7,U16)*(EXACT($V$7,V16)))=TRUE,$AN$9,IF(($V$7-$U$7=V16-U16),$AN$8,IF(OR(EXACT($U$7>$V$7,U16>V16)*EXACT($U$7=$V$7,U16=V16)*EXACT($U$7<$V$7,U16<V16)),$AN$7,0))) -> 0 | X16: 2 | Y16: 1 | Z16: =IF(OR(EXACT($X$7,X16)*(EXACT($Y$7,Y16)))=TRUE,$AN$9,IF(($Y$7-$X$7=Y16-X16),$AN$8,IF(OR(EXACT($X$7>$Y$7,X16>Y16)*EXACT($X$7=$Y$7,X16=Y16)*EXACT($X$7<$Y$7,X16<Y16)),$AN$7,0))) -> 0 | AA16: 1 | AB16: 2 | AC16: =IF(OR(EXACT($AA$7,AA16)*(EXACT($AB$7,AB16)))=TRUE,$AN$9,IF(($AB$7-$AA$7=AB16-AA16),$AN$8,IF(OR(EXACT($AA$7>$AB$7,AA16>AB16)*EXACT($AA$7=$AB$7,AA16=AB16)*EXACT($AA$7<$AB$7,AA16<AB16)),$AN$7,0))) -> 0 | AG16: =E16+K16+Q16+T16+N16+H16+W16+Z16+AC16+AF16 -> 15 | AI16: =AG16+AH16 -> 15 | AJ16: =RANK(AI16,$AI$8:$AI$53) -> 17
A17: =AJ17 -> 26 | B17: jupp04 | C17: 2 | D17: 2 | E17: =IF(OR(EXACT($C$7,C17)*(EXACT($D$7,D17)))=TRUE,$AN$9,IF(($D$7-$C$7=D17-C17),$AN$8,IF(OR(EXACT($C$7>$D$7,C17>D17)*EXACT($C$7=$D$7,C17=D17)*EXACT($C$7<$D$7,C17<D17)),$AN$7,0)))*4 -> 0 | F17: 1 | G17: 3 | H17: =IF(OR(EXACT($F$7,F17)*(EXACT($G$7,G17)))=TRUE,$AN$9,IF(($G$7-$F$7=G17-F17),$AN$8,IF(OR(EXACT($F$7>$G$7,F17>G17)*EXACT($F$7=$G$7,F17=G17)*EXACT($F$7<$G$7,F17<G17)),$AN$7,0))) -> 0 | I17: 1 | J17: 2 | K17: =IF(OR(EXACT($I$7,I17)*(EXACT($J$7,J17)))=TRUE,$AN$9,IF(($J$7-$I$7=J17-I17),$AN$8,IF(OR(EXACT($I$7>$J$7,I17>J17)*EXACT($I$7=$J$7,I17=J17)*EXACT($I$7<$J$7,I17<J17)),$AN$7,0))) -> 0 | L17: 2 | M17: 1 | N17: =IF(OR(EXACT($L$7,L17)*(EXACT($M$7,M17)))=TRUE,$AN$9,IF(($M$7-$L$7=M17-L17),$AN$8,IF(OR(EXACT($L$7>$M$7,L17>M17)*EXACT($L$7=$M$7,L17=M17)*EXACT($L$7<$M$7,L17<M17)),$AN$7,0))) -> 3 | O17: 1 | P17: 2 | Q17: =IF(OR(EXACT($O$7,O17)*(EXACT($P$7,P17)))=TRUE,$AN$9,IF(($P$7-$O$7=P17-O17),$AN$8,IF(OR(EXACT($O$7>$P$7,O17>P17)*EXACT($O$7=$P$7,O17=P17)*EXACT($O$7<$P$7,O17<P17)),$AN$7,0))) -> 0 | R17: 1 | S17: 3 | T17: =IF(OR(EXACT($R$7,R17)*(EXACT($S$7,S17)))=TRUE,$AN$9,IF(($S$7-$R$7=S17-R17),$AN$8,IF(OR(EXACT($R$7>$S$7,R17>S17)*EXACT($R$7=$S$7,R17=S17)*EXACT($R$7<$S$7,R17<S17)),$AN$7,0))) -> 0 | U17: 2 | V17: 3 | W17: =IF(OR(EXACT($U$7,U17)*(EXACT($V$7,V17)))=TRUE,$AN$9,IF(($V$7-$U$7=V17-U17),$AN$8,IF(OR(EXACT($U$7>$V$7,U17>V17)*EXACT($U$7=$V$7,U17=V17)*EXACT($U$7<$V$7,U17<V17)),$AN$7,0))) -> 0 | X17: 3 | Y17: 1 | Z17: =IF(OR(EXACT($X$7,X17)*(EXACT($Y$7,Y17)))=TRUE,$AN$9,IF(($Y$7-$X$7=Y17-X17),$AN$8,IF(OR(EXACT($X$7>$Y$7,X17>Y17)*EXACT($X$7=$Y$7,X17=Y17)*EXACT($X$7<$Y$7,X17<Y17)),$AN$7,0))) -> 0 | AA17: 2 | AB17: 2 | AC17: =IF(OR(EXACT($AA$7,AA17)*(EXACT($AB$7,AB17)))=TRUE,$AN$9,IF(($AB$7-$AA$7=AB17-AA17),$AN$8,IF(OR(EXACT($AA$7>$AB$7,AA17>AB17)*EXACT($AA$7=$AB$7,AA17=AB17)*EXACT($AA$7<$AB$7,AA17<AB17)),$AN$7,0))) -> 0 | AG17: =E17+K17+Q17+T17+N17+H17+W17+Z17+AC17+AF17 -> 3 | AI17: =AG17+AH17 -> 3 | AJ17: =RANK(AI17,$AI$8:$AI$53) -> 26
A18: =AJ18 -> 12 | B18: Justin_Ignr | C18: 1 | D18: 0 | E18: =IF(OR(EXACT($C$7,C18)*(EXACT($D$7,D18)))=TRUE,$AN$9,IF(($D$7-$C$7=D18-C18),$AN$8,IF(OR(EXACT($C$7>$D$7,C18>D18)*EXACT($C$7=$D$7,C18=D18)*EXACT($C$7<$D$7,C18<D18)),$AN$7,0)))*4 -> 12 | F18: 2 | G18: 2 | H18: =IF(OR(EXACT($F$7,F18)*(EXACT($G$7,G18)))=TRUE,$AN$9,IF(($G$7-$F$7=G18-F18),$AN$8,IF(OR(EXACT($F$7>$G$7,F18>G18)*EXACT($F$7=$G$7,F18=G18)*EXACT($F$7<$G$7,F18<G18)),$AN$7,0))) -> 0 | I18: 0 | J18: 2 | K18: =IF(OR(EXACT($I$7,I18)*(EXACT($J$7,J18)))=TRUE,$AN$9,IF(($J$7-$I$7=J18-I18),$AN$8,IF(OR(EXACT($I$7>$J$7,I18>J18)*EXACT($I$7=$J$7,I18=J18)*EXACT($I$7<$J$7,I18<J18)),$AN$7,0))) -> 0 | L18: 1 | M18: 0 | N18: =IF(OR(EXACT($L$7,L18)*(EXACT($M$7,M18)))=TRUE,$AN$9,IF(($M$7-$L$7=M18-L18),$AN$8,IF(OR(EXACT($L$7>$M$7,L18>M18)*EXACT($L$7=$M$7,L18=M18)*EXACT($L$7<$M$7,L18<M18)),$AN$7,0))) -> 3 | O18: 1 | P18: 2 | Q18: =IF(OR(EXACT($O$7,O18)*(EXACT($P$7,P18)))=TRUE,$AN$9,IF(($P$7-$O$7=P18-O18),$AN$8,IF(OR(EXACT($O$7>$P$7,O18>P18)*EXACT($O$7=$P$7,O18=P18)*EXACT($O$7<$P$7,O18<P18)),$AN$7,0))) -> 0 | R18: 0 | S18: 3 | T18: =IF(OR(EXACT($R$7,R18)*(EXACT($S$7,S18)))=TRUE,$AN$9,IF(($S$7-$R$7=S18-R18),$AN$8,IF(OR(EXACT($R$7>$S$7,R18>S18)*EXACT($R$7=$S$7,R18=S18)*EXACT($R$7<$S$7,R18<S18)),$AN$7,0))) -> 0 | U18: 2 | V18: 1 | W18: =IF(OR(EXACT($U$7,U18)*(EXACT($V$7,V18)))=TRUE,$AN$9,IF(($V$7-$U$7=V18-U18),$AN$8,IF(OR(EXACT($U$7>$V$7,U18>V18)*EXACT($U$7=$V$7,U18=V18)*EXACT($U$7<$V$7,U18<V18)),$AN$7,0))) -> 3 | X18: 2 | Y18: 0 | Z18: =IF(OR(EXACT($X$7,X18)*(EXACT($Y$7,Y18)))=TRUE,$AN$9,IF(($Y$7-$X$7=Y18-X18),$AN$8,IF(OR(EXACT($X$7>$Y$7,X18>Y18)*EXACT($X$7=$Y$7,X18=Y18)*EXACT($X$7<$Y$7,X18<Y18)),$AN$7,0))) -> 0 | AA18: 0 | AB18: 0 | AC18: =IF(OR(EXACT($AA$7,AA18)*(EXACT($AB$7,AB18)))=TRUE,$AN$9,IF(($AB$7-$AA$7=AB18-AA18),$AN$8,IF(OR(EXACT($AA$7>$AB$7,AA18>AB18)*EXACT($AA$7=$AB$7,AA18=AB18)*EXACT($AA$7<$AB$7,AA18<AB18)),$AN$7,0))) -> 0 | AG18: =E18+K18+Q18+T18+N18+H18+W18+Z18+AC18+AF18 -> 18 | AI18: =AG18+AH18 -> 18 | AJ18: =RANK(AI18,$AI$8:$AI$53) -> 12
A19: =AJ19 -> 13 | B19: Kiki | C19: 3 | D19: 1 | E19: =IF(OR(EXACT($C$7,C19)*(EXACT($D$7,D19)))=TRUE,$AN$9,IF(($D$7-$C$7=D19-C19),$AN$8,IF(OR(EXACT($C$7>$D$7,C19>D19)*EXACT($C$7=$D$7,C19=D19)*EXACT($C$7<$D$7,C19<D19)),$AN$7,0)))*4 -> 8 | F19: 2 | G19: 0 | H19: =IF(OR(EXACT($F$7,F19)*(EXACT($G$7,G19)))=TRUE,$AN$9,IF(($G$7-$F$7=G19-F19),$AN$8,IF(OR(EXACT($F$7>$G$7,F19>G19)*EXACT($F$7=$G$7,F19=G19)*EXACT($F$7<$G$7,F19<G19)),$AN$7,0))) -> 2 | I19: 1 | J19: 2 | K19: =IF(OR(EXACT($I$7,I19)*(EXACT($J$7,J19)))=TRUE,$AN$9,IF(($J$7-$I$7=J19-I19),$AN$8,IF(OR(EXACT($I$7>$J$7,I19>J19)*EXACT($I$7=$J$7,I19=J19)*EXACT($I$7<$J$7,I19<J19)),$AN$7,0))) -> 0 | L19: 2 | M19: 0 | N19: =IF(OR(EXACT($L$7,L19)*(EXACT($M$7,M19)))=TRUE,$AN$9,IF(($M$7-$L$7=M19-L19),$AN$8,IF(OR(EXACT($L$7>$M$7,L19>M19)*EXACT($L$7=$M$7,L19=M19)*EXACT($L$7<$M$7,L19<M19)),$AN$7,0))) -> 2 | O19: 1 | P19: 1 | Q19: =IF(OR(EXACT($O$7,O19)*(EXACT($P$7,P19)))=TRUE,$AN$9,IF(($P$7-$O$7=P19-O19),$AN$8,IF(OR(EXACT($O$7>$P$7,O19>P19)*EXACT($O$7=$P$7,O19=P19)*EXACT($O$7<$P$7,O19<P19)),$AN$7,0))) -> 0 | R19: 1 | S19: 2 | T19: =IF(OR(EXACT($R$7,R19)*(EXACT($S$7,S19)))=TRUE,$AN$9,IF(($S$7-$R$7=S19-R19),$AN$8,IF(OR(EXACT($R$7>$S$7,R19>S19)*EXACT($R$7=$S$7,R19=S19)*EXACT($R$7<$S$7,R19<S19)),$AN$7,0))) -> 0 | U19: 2 | V19: 0 | W19: =IF(OR(EXACT($U$7,U19)*(EXACT($V$7,V19)))=TRUE,$AN$9,IF(($V$7-$U$7=V19-U19),$AN$8,IF(OR(EXACT($U$7>$V$7,U19>V19)*EXACT($U$7=$V$7,U19=V19)*EXACT($U$7<$V$7,U19<V19)),$AN$7,0))) -> 2 | X19: 3 | Y19: 1 | Z19: =IF(OR(EXACT($X$7,X19)*(EXACT($Y$7,Y19)))=TRUE,$AN$9,IF(($Y$7-$X$7=Y19-X19),$AN$8,IF(OR(EXACT($X$7>$Y$7,X19>Y19)*EXACT($X$7=$Y$7,X19=Y19)*EXACT($X$7<$Y$7,X19<Y19)),$AN$7,0))) -> 0 | AA19: 2 | AB19: 1 | AC19: =IF(OR(EXACT($AA$7,AA19)*(EXACT($AB$7,AB19)))=TRUE,$AN$9,IF(($AB$7-$AA$7=AB19-AA19),$AN$8,IF(OR(EXACT($AA$7>$AB$7,AA19>AB19)*EXACT($AA$7=$AB$7,AA19=AB19)*EXACT($AA$7<$AB$7,AA19<AB19)),$AN$7,0))) -> 3 | AG19: =E19+K19+Q19+T19+N19+H19+W19+Z19+AC19+AF19 -> 17 | AI19: =AG19+AH19 -> 17 | AJ19: =RANK(AI19,$AI$8:$AI$53) -> 13
A20: =AJ20 -> 4 | B20: Lola04 | C20: 2 | D20: 1 | E20: =IF(OR(EXACT($C$7,C20)*(EXACT($D$7,D20)))=TRUE,$AN$9,IF(($D$7-$C$7=D20-C20),$AN$8,IF(OR(EXACT($C$7>$D$7,C20>D20)*EXACT($C$7=$D$7,C20=D20)*EXACT($C$7<$D$7,C20<D20)),$AN$7,0)))*4 -> 20 | F20: 1 | G20: 2 | H20: =IF(OR(EXACT($F$7,F20)*(EXACT($G$7,G20)))=TRUE,$AN$9,IF(($G$7-$F$7=G20-F20),$AN$8,IF(OR(EXACT($F$7>$G$7,F20>G20)*EXACT($F$7=$G$7,F20=G20)*EXACT($F$7<$G$7,F20<G20)),$AN$7,0))) -> 0 | I20: 1 | J20: 1 | K20: =IF(OR(EXACT($I$7,I20)*(EXACT($J$7,J20)))=TRUE,$AN$9,IF(($J$7-$I$7=J20-I20),$AN$8,IF(OR(EXACT($I$7>$J$7,I20>J20)*EXACT($I$7=$J$7,I20=J20)*EXACT($I$7<$J$7,I20<J20)),$AN$7,0))) -> 0 | L20: 3 | M20: 1 | N20: =IF(OR(EXACT($L$7,L20)*(EXACT($M$7,M20)))=TRUE,$AN$9,IF(($M$7-$L$7=M20-L20),$AN$8,IF(OR(EXACT($L$7>$M$7,L20>M20)*EXACT($L$7=$M$7,L20=M20)*EXACT($L$7<$M$7,L20<M20)),$AN$7,0))) -> 2 | O20: 3 | P20: 0 | Q20: =IF(OR(EXACT($O$7,O20)*(EXACT($P$7,P20)))=TRUE,$AN$9,IF(($P$7-$O$7=P20-O20),$AN$8,IF(OR(EXACT($O$7>$P$7,O20>P20)*EXACT($O$7=$P$7,O20=P20)*EXACT($O$7<$P$7,O20<P20)),$AN$7,0))) -> 3 | R20: 1 | S20: 3 | T20: =IF(OR(EXACT($R$7,R20)*(EXACT($S$7,S20)))=TRUE,$AN$9,IF(($S$7-$R$7=S20-R20),$AN$8,IF(OR(EXACT($R$7>$S$7,R20>S20)*EXACT($R$7=$S$7,R20=S20)*EXACT($R$7<$S$7,R20<S20)),$AN$7,0))) -> 0 | U20: 2 | V20: 1 | W20: =IF(OR(EXACT($U$7,U20)*(EXACT($V$7,V20)))=TRUE,$AN$9,IF(($V$7-$U$7=V20-U20),$AN$8,IF(OR(EXACT($U$7>$V$7,U20>V20)*EXACT($U$7=$V$7,U20=V20)*EXACT($U$7<$V$7,U20<V20)),$AN$7,0))) -> 3 | X20: 2 | Y20: 2 | Z20: =IF(OR(EXACT($X$7,X20)*(EXACT($Y$7,Y20)))=TRUE,$AN$9,IF(($Y$7-$X$7=Y20-X20),$AN$8,IF(OR(EXACT($X$7>$Y$7,X20>Y20)*EXACT($X$7=$Y$7,X20=Y20)*EXACT($X$7<$Y$7,X20<Y20)),$AN$7,0))) -> 0 | AA20: 2 | AB20: 1 | AC20: =IF(OR(EXACT($AA$7,AA20)*(EXACT($AB$7,AB20)))=TRUE,$AN$9,IF(($AB$7-$AA$7=AB20-AA20),$AN$8,IF(OR(EXACT($AA$7>$AB$7,AA20>AB20)*EXACT($AA$7=$AB$7,AA20=AB20)*EXACT($AA$7<$AB$7,AA20<AB20)),$AN$7,0))) -> 3 | AG20: =E20+K20+Q20+T20+N20+H20+W20+Z20+AC20+AF20 -> 31 | AI20: =AG20+AH20 -> 31 | AJ20: =RANK(AI20,$AI$8:$AI$53) -> 4
A21: =AJ21 -> 15 | B21: Master1 | C21: 3 | D21: 1 | E21: =IF(OR(EXACT($C$7,C21)*(EXACT($D$7,D21)))=TRUE,$AN$9,IF(($D$7-$C$7=D21-C21),$AN$8,IF(OR(EXACT($C$7>$D$7,C21>D21)*EXACT($C$7=$D$7,C21=D21)*EXACT($C$7<$D$7,C21<D21)),$AN$7,0)))*4 -> 8 | F21: 2 | G21: 2 | H21: =IF(OR(EXACT($F$7,F21)*(EXACT($G$7,G21)))=TRUE,$AN$9,IF(($G$7-$F$7=G21-F21),$AN$8,IF(OR(EXACT($F$7>$G$7,F21>G21)*EXACT($F$7=$G$7,F21=G21)*EXACT($F$7<$G$7,F21<G21)),$AN$7,0))) -> 0 | I21: 1 | J21: 1 | K21: =IF(OR(EXACT($I$7,I21)*(EXACT($J$7,J21)))=TRUE,$AN$9,IF(($J$7-$I$7=J21-I21),$AN$8,IF(OR(EXACT($I$7>$J$7,I21>J21)*EXACT($I$7=$J$7,I21=J21)*EXACT($I$7<$J$7,I21<J21)),$AN$7,0))) -> 0 | L21: 2 | M21: 1 | N21: =IF(OR(EXACT($L$7,L21)*(EXACT($M$7,M21)))=TRUE,$AN$9,IF(($M$7-$L$7=M21-L21),$AN$8,IF(OR(EXACT($L$7>$M$7,L21>M21)*EXACT($L$7=$M$7,L21=M21)*EXACT($L$7<$M$7,L21<M21)),$AN$7,0))) -> 3 | O21: 1 | P21: 2 | Q21: =IF(OR(EXACT($O$7,O21)*(EXACT($P$7,P21)))=TRUE,$AN$9,IF(($P$7-$O$7=P21-O21),$AN$8,IF(OR(EXACT($O$7>$P$7,O21>P21)*EXACT($O$7=$P$7,O21=P21)*EXACT($O$7<$P$7,O21<P21)),$AN$7,0))) -> 0 | R21: 1 | S21: 0 | T21: =IF(OR(EXACT($R$7,R21)*(EXACT($S$7,S21)))=TRUE,$AN$9,IF(($S$7-$R$7=S21-R21),$AN$8,IF(OR(EXACT($R$7>$S$7,R21>S21)*EXACT($R$7=$S$7,R21=S21)*EXACT($R$7<$S$7,R21<S21)),$AN$7,0))) -> 2 | U21: 3 | V21: 2 | W21: =IF(OR(EXACT($U$7,U21)*(EXACT($V$7,V21)))=TRUE,$AN$9,IF(($V$7-$U$7=V21-U21),$AN$8,IF(OR(EXACT($U$7>$V$7,U21>V21)*EXACT($U$7=$V$7,U21=V21)*EXACT($U$7<$V$7,U21<V21)),$AN$7,0))) -> 3 | X21: 2 | Y21: 1 | Z21: =IF(OR(EXACT($X$7,X21)*(EXACT($Y$7,Y21)))=TRUE,$AN$9,IF(($Y$7-$X$7=Y21-X21),$AN$8,IF(OR(EXACT($X$7>$Y$7,X21>Y21)*EXACT($X$7=$Y$7,X21=Y21)*EXACT($X$7<$Y$7,X21<Y21)),$AN$7,0))) -> 0 | AA21: 1 | AB21: 2 | AC21: =IF(OR(EXACT($AA$7,AA21)*(EXACT($AB$7,AB21)))=TRUE,$AN$9,IF(($AB$7-$AA$7=AB21-AA21),$AN$8,IF(OR(EXACT($AA$7>$AB$7,AA21>AB21)*EXACT($AA$7=$AB$7,AA21=AB21)*EXACT($AA$7<$AB$7,AA21<AB21)),$AN$7,0))) -> 0 | AG21: =E21+K21+Q21+T21+N21+H21+W21+Z21+AC21+AF21 -> 16 | AI21: =AG21+AH21 -> 16 | AJ21: =RANK(AI21,$AI$8:$AI$53) -> 15
A22: =AJ22 -> 13 | B22: Mike04 | C22: 2 | D22: 0 | E22: =IF(OR(EXACT($C$7,C22)*(EXACT($D$7,D22)))=TRUE,$AN$9,IF(($D$7-$C$7=D22-C22),$AN$8,IF(OR(EXACT($C$7>$D$7,C22>D22)*EXACT($C$7=$D$7,C22=D22)*EXACT($C$7<$D$7,C22<D22)),$AN$7,0)))*4 -> 8 | F22: 1 | G22: 2 | H22: =IF(OR(EXACT($F$7,F22)*(EXACT($G$7,G22)))=TRUE,$AN$9,IF(($G$7-$F$7=G22-F22),$AN$8,IF(OR(EXACT($F$7>$G$7,F22>G22)*EXACT($F$7=$G$7,F22=G22)*EXACT($F$7<$G$7,F22<G22)),$AN$7,0))) -> 0 | I22: 1 | J22: 1 | K22: =IF(OR(EXACT($I$7,I22)*(EXACT($J$7,J22)))=TRUE,$AN$9,IF(($J$7-$I$7=J22-I22),$AN$8,IF(OR(EXACT($I$7>$J$7,I22>J22)*EXACT($I$7=$J$7,I22=J22)*EXACT($I$7<$J$7,I22<J22)),$AN$7,0))) -> 0 | L22: 2 | M22: 0 | N22: =IF(OR(EXACT($L$7,L22)*(EXACT($M$7,M22)))=TRUE,$AN$9,IF(($M$7-$L$7=M22-L22),$AN$8,IF(OR(EXACT($L$7>$M$7,L22>M22)*EXACT($L$7=$M$7,L22=M22)*EXACT($L$7<$M$7,L22<M22)),$AN$7,0))) -> 2 | O22: 2 | P22: 1 | Q22: =IF(OR(EXACT($O$7,O22)*(EXACT($P$7,P22)))=TRUE,$AN$9,IF(($P$7-$O$7=P22-O22),$AN$8,IF(OR(EXACT($O$7>$P$7,O22>P22)*EXACT($O$7=$P$7,O22=P22)*EXACT($O$7<$P$7,O22<P22)),$AN$7,0))) -> 2 | R22: 1 | S22: 2 | T22: =IF(OR(EXACT($R$7,R22)*(EXACT($S$7,S22)))=TRUE,$AN$9,IF(($S$7-$R$7=S22-R22),$AN$8,IF(OR(EXACT($R$7>$S$7,R22>S22)*EXACT($R$7=$S$7,R22=S22)*EXACT($R$7<$S$7,R22<S22)),$AN$7,0))) -> 0 | U22: 2 | V22: 0 | W22: =IF(OR(EXACT($U$7,U22)*(EXACT($V$7,V22)))=TRUE,$AN$9,IF(($V$7-$U$7=V22-U22),$AN$8,IF(OR(EXACT($U$7>$V$7,U22>V22)*EXACT($U$7=$V$7,U22=V22)*EXACT($U$7<$V$7,U22<V22)),$AN$7,0))) -> 2 | X22: 1 | Y22: 2 | Z22: =IF(OR(EXACT($X$7,X22)*(EXACT($Y$7,Y22)))=TRUE,$AN$9,IF(($Y$7-$X$7=Y22-X22),$AN$8,IF(OR(EXACT($X$7>$Y$7,X22>Y22)*EXACT($X$7=$Y$7,X22=Y22)*EXACT($X$7<$Y$7,X22<Y22)),$AN$7,0))) -> 3 | AA22: 0 | AB22: 1 | AC22: =IF(OR(EXACT($AA$7,AA22)*(EXACT($AB$7,AB22)))=TRUE,$AN$9,IF(($AB$7-$AA$7=AB22-AA22),$AN$8,IF(OR(EXACT($AA$7>$AB$7,AA22>AB22)*EXACT($AA$7=$AB$7,AA22=AB22)*EXACT($AA$7<$AB$7,AA22<AB22)),$AN$7,0))) -> 0 | AG22: =E22+K22+Q22+T22+N22+H22+W22+Z22+AC22+AF22 -> 17 | AI22: =AG22+AH22 -> 17 | AJ22: =RANK(AI22,$AI$8:$AI$53) -> 13
A23: =AJ23 -> 23 | B23: Nico1904 | F23: 1 | G23: 2 | H23: =IF(OR(EXACT($F$7,F23)*(EXACT($G$7,G23)))=TRUE,$AN$9,IF(($G$7-$F$7=G23-F23),$AN$8,IF(OR(EXACT($F$7>$G$7,F23>G23)*EXACT($F$7=$G$7,F23=G23)*EXACT($F$7<$G$7,F23<G23)),$AN$7,0))) -> 0 | I23: 1 | J23: 2 | K23: =IF(OR(EXACT($I$7,I23)*(EXACT($J$7,J23)))=TRUE,$AN$9,IF(($J$7-$I$7=J23-I23),$AN$8,IF(OR(EXACT($I$7>$J$7,I23>J23)*EXACT($I$7=$J$7,I23=J23)*EXACT($I$7<$J$7,I23<J23)),$AN$7,0))) -> 0 | L23: 1 | M23: 1 | N23: =IF(OR(EXACT($L$7,L23)*(EXACT($M$7,M23)))=TRUE,$AN$9,IF(($M$7-$L$7=M23-L23),$AN$8,IF(OR(EXACT($L$7>$M$7,L23>M23)*EXACT($L$7=$M$7,L23=M23)*EXACT($L$7<$M$7,L23<M23)),$AN$7,0))) -> 0 | O23: 0 | P23: 2 | Q23: =IF(OR(EXACT($O$7,O23)*(EXACT($P$7,P23)))=TRUE,$AN$9,IF(($P$7-$O$7=P23-O23),$AN$8,IF(OR(EXACT($O$7>$P$7,O23>P23)*EXACT($O$7=$P$7,O23=P23)*EXACT($O$7<$P$7,O23<P23)),$AN$7,0))) -> 0 | R23: 1 | S23: 0 | T23: =IF(OR(EXACT($R$7,R23)*(EXACT($S$7,S23)))=TRUE,$AN$9,IF(($S$7-$R$7=S23-R23),$AN$8,IF(OR(EXACT($R$7>$S$7,R23>S23)*EXACT($R$7=$S$7,R23=S23)*EXACT($R$7<$S$7,R23<S23)),$AN$7,0))) -> 2 | U23: 2 | V23: 1 | W23: =IF(OR(EXACT($U$7,U23)*(EXACT($V$7,V23)))=TRUE,$AN$9,IF(($V$7-$U$7=V23-U23),$AN$8,IF(OR(EXACT($U$7>$V$7,U23>V23)*EXACT($U$7=$V$7,U23=V23)*EXACT($U$7<$V$7,U23<V23)),$AN$7,0))) -> 3 | X23: 1 | Y23: 2 | Z23: =IF(OR(EXACT($X$7,X23)*(EXACT($Y$7,Y23)))=TRUE,$AN$9,IF(($Y$7-$X$7=Y23-X23),$AN$8,IF(OR(EXACT($X$7>$Y$7,X23>Y23)*EXACT($X$7=$Y$7,X23=Y23)*EXACT($X$7<$Y$7,X23<Y23)),$AN$7,0))) -> 3 | AA23: 2 | AB23: 1 | AC23: =IF(OR(EXACT($AA$7,AA23)*(EXACT($AB$7,AB23)))=TRUE,$AN$9,IF(($AB$7-$AA$7=AB23-AA23),$AN$8,IF(OR(EXACT($AA$7>$AB$7,AA23>AB23)*EXACT($AA$7=$AB$7,AA23=AB23)*EXACT($AA$7<$AB$7,AA23<AB23)),$AN$7,0))) -> 3 | AG23: =E23+K23+Q23+T23+N23+H23+W23+Z23+AC23+AF23 -> 11 | AI23: =AG23+AH23 -> 11 | AJ23: =RANK(AI23,$AI$8:$AI$53) -> 23
A24: =AJ24 -> 11 | B24: Reinhold | C24: 2 | D24: 0 | E24: =IF(OR(EXACT($C$7,C24)*(EXACT($D$7,D24)))=TRUE,$AN$9,IF(($D$7-$C$7=D24-C24),$AN$8,IF(OR(EXACT($C$7>$D$7,C24>D24)*EXACT($C$7=$D$7,C24=D24)*EXACT($C$7<$D$7,C24<D24)),$AN$7,0)))*4 -> 8 | F24: 1 | G24: 4 | H24: =IF(OR(EXACT($F$7,F24)*(EXACT($G$7,G24)))=TRUE,$AN$9,IF(($G$7-$F$7=G24-F24),$AN$8,IF(OR(EXACT($F$7>$G$7,F24>G24)*EXACT($F$7=$G$7,F24=G24)*EXACT($F$7<$G$7,F24<G24)),$AN$7,0))) -> 0 | I24: 1 | J24: 1 | K24: =IF(OR(EXACT($I$7,I24)*(EXACT($J$7,J24)))=TRUE,$AN$9,IF(($J$7-$I$7=J24-I24),$AN$8,IF(OR(EXACT($I$7>$J$7,I24>J24)*EXACT($I$7=$J$7,I24=J24)*EXACT($I$7<$J$7,I24<J24)),$AN$7,0))) -> 0 | L24: 3 | M24: 1 | N24: =IF(OR(EXACT($L$7,L24)*(EXACT($M$7,M24)))=TRUE,$AN$9,IF(($M$7-$L$7=M24-L24),$AN$8,IF(OR(EXACT($L$7>$M$7,L24>M24)*EXACT($L$7=$M$7,L24=M24)*EXACT($L$7<$M$7,L24<M24)),$AN$7,0))) -> 2 | O24: 3 | P24: 2 | Q24: =IF(OR(EXACT($O$7,O24)*(EXACT($P$7,P24)))=TRUE,$AN$9,IF(($P$7-$O$7=P24-O24),$AN$8,IF(OR(EXACT($O$7>$P$7,O24>P24)*EXACT($O$7=$P$7,O24=P24)*EXACT($O$7<$P$7,O24<P24)),$AN$7,0))) -> 2 | R24: 1 | S24: 1 | T24: =IF(OR(EXACT($R$7,R24)*(EXACT($S$7,S24)))=TRUE,$AN$9,IF(($S$7-$R$7=S24-R24),$AN$8,IF(OR(EXACT($R$7>$S$7,R24>S24)*EXACT($R$7=$S$7,R24=S24)*EXACT($R$7<$S$7,R24<S24)),$AN$7,0))) -> 0 | U24: 2 | V24: 1 | W24: =IF(OR(EXACT($U$7,U24)*(EXACT($V$7,V24)))=TRUE,$AN$9,IF(($V$7-$U$7=V24-U24),$AN$8,IF(OR(EXACT($U$7>$V$7,U24>V24)*EXACT($U$7=$V$7,U24=V24)*EXACT($U$7<$V$7,U24<V24)),$AN$7,0))) -> 3 | X24: 2 | Y24: 3 | Z24: =IF(OR(EXACT($X$7,X24)*(EXACT($Y$7,Y24)))=TRUE,$AN$9,IF(($Y$7-$X$7=Y24-X24),$AN$8,IF(OR(EXACT($X$7>$Y$7,X24>Y24)*EXACT($X$7=$Y$7,X24=Y24)*EXACT($X$7<$Y$7,X24<Y24)),$AN$7,0))) -> 3 | AA24: 2 | AB24: 1 | AC24: =IF(OR(EXACT($AA$7,AA24)*(EXACT($AB$7,AB24)))=TRUE,$AN$9,IF(($AB$7-$AA$7=AB24-AA24),$AN$8,IF(OR(EXACT($AA$7>$AB$7,AA24>AB24)*EXACT($AA$7=$AB$7,AA24=AB24)*EXACT($AA$7<$AB$7,AA24<AB24)),$AN$7,0))) -> 3 | AG24: =E24+K24+Q24+T24+N24+H24+W24+Z24+AC24+AF24 -> 21 | AI24: =AG24+AH24 -> 21 | AJ24: =RANK(AI24,$AI$8:$AI$53) -> 11
A25: =AJ25 -> 5 | B25: ReneMause | C25: 1 | D25: 0 | E25: =IF(OR(EXACT($C$7,C25)*(EXACT($D$7,D25)))=TRUE,$AN$9,IF(($D$7-$C$7=D25-C25),$AN$8,IF(OR(EXACT($C$7>$D$7,C25>D25)*EXACT($C$7=$D$7,C25=D25)*EXACT($C$7<$D$7,C25<D25)),$AN$7,0)))*4 -> 12 | F25: 2 | G25: 0 | H25: =IF(OR(EXACT($F$7,F25)*(EXACT($G$7,G25)))=TRUE,$AN$9,IF(($G$7-$F$7=G25-F25),$AN$8,IF(OR(EXACT($F$7>$G$7,F25>G25)*EXACT($F$7=$G$7,F25=G25)*EXACT($F$7<$G$7,F25<G25)),$AN$7,0))) -> 2 | I25: 2 | J25: 1 | K25: =IF(OR(EXACT($I$7,I25)*(EXACT($J$7,J25)))=TRUE,$AN$9,IF(($J$7-$I$7=J25-I25),$AN$8,IF(OR(EXACT($I$7>$J$7,I25>J25)*EXACT($I$7=$J$7,I25=J25)*EXACT($I$7<$J$7,I25<J25)),$AN$7,0))) -> 5 | L25: 2 | M25: 0 | N25: =IF(OR(EXACT($L$7,L25)*(EXACT($M$7,M25)))=TRUE,$AN$9,IF(($M$7-$L$7=M25-L25),$AN$8,IF(OR(EXACT($L$7>$M$7,L25>M25)*EXACT($L$7=$M$7,L25=M25)*EXACT($L$7<$M$7,L25<M25)),$AN$7,0))) -> 2 | O25: 1 | P25: 3 | Q25: =IF(OR(EXACT($O$7,O25)*(EXACT($P$7,P25)))=TRUE,$AN$9,IF(($P$7-$O$7=P25-O25),$AN$8,IF(OR(EXACT($O$7>$P$7,O25>P25)*EXACT($O$7=$P$7,O25=P25)*EXACT($O$7<$P$7,O25<P25)),$AN$7,0))) -> 0 | R25: 2 | S25: 1 | T25: =IF(OR(EXACT($R$7,R25)*(EXACT($S$7,S25)))=TRUE,$AN$9,IF(($S$7-$R$7=S25-R25),$AN$8,IF(OR(EXACT($R$7>$S$7,R25>S25)*EXACT($R$7=$S$7,R25=S25)*EXACT($R$7<$S$7,R25<S25)),$AN$7,0))) -> 2 | U25: 3 | V25: 2 | W25: =IF(OR(EXACT($U$7,U25)*(EXACT($V$7,V25)))=TRUE,$AN$9,IF(($V$7-$U$7=V25-U25),$AN$8,IF(OR(EXACT($U$7>$V$7,U25>V25)*EXACT($U$7=$V$7,U25=V25)*EXACT($U$7<$V$7,U25<V25)),$AN$7,0))) -> 3 | X25: 2 | Y25: 0 | Z25: =IF(OR(EXACT($X$7,X25)*(EXACT($Y$7,Y25)))=TRUE,$AN$9,IF(($Y$7-$X$7=Y25-X25),$AN$8,IF(OR(EXACT($X$7>$Y$7,X25>Y25)*EXACT($X$7=$Y$7,X25=Y25)*EXACT($X$7<$Y$7,X25<Y25)),$AN$7,0))) -> 0 | AA25: 1 | AB25: 0 | AC25: =IF(OR(EXACT($AA$7,AA25)*(EXACT($AB$7,AB25)))=TRUE,$AN$9,IF(($AB$7-$AA$7=AB25-AA25),$AN$8,IF(OR(EXACT($AA$7>$AB$7,AA25>AB25)*EXACT($AA$7=$AB$7,AA25=AB25)*EXACT($AA$7<$AB$7,AA25<AB25)),$AN$7,0))) -> 3 | AG25: =E25+K25+Q25+T25+N25+H25+W25+Z25+AC25+AF25 -> 29 | AI25: =AG25+AH25 -> 29 | AJ25: =RANK(AI25,$AI$8:$AI$53) -> 5
A26: =AJ26 -> 17 | B26: Ricardo04 | C26: 2 | D26: 0 | E26: =IF(OR(EXACT($C$7,C26)*(EXACT($D$7,D26)))=TRUE,$AN$9,IF(($D$7-$C$7=D26-C26),$AN$8,IF(OR(EXACT($C$7>$D$7,C26>D26)*EXACT($C$7=$D$7,C26=D26)*EXACT($C$7<$D$7,C26<D26)),$AN$7,0)))*4 -> 8 | F26: 1 | G26: 2 | H26: =IF(OR(EXACT($F$7,F26)*(EXACT($G$7,G26)))=TRUE,$AN$9,IF(($G$7-$F$7=G26-F26),$AN$8,IF(OR(EXACT($F$7>$G$7,F26>G26)*EXACT($F$7=$G$7,F26=G26)*EXACT($F$7<$G$7,F26<G26)),$AN$7,0))) -> 0 | I26: 2 | J26: 1 | K26: =IF(OR(EXACT($I$7,I26)*(EXACT($J$7,J26)))=TRUE,$AN$9,IF(($J$7-$I$7=J26-I26),$AN$8,IF(OR(EXACT($I$7>$J$7,I26>J26)*EXACT($I$7=$J$7,I26=J26)*EXACT($I$7<$J$7,I26<J26)),$AN$7,0))) -> 5 | L26: 2 | M26: 0 | N26: =IF(OR(EXACT($L$7,L26)*(EXACT($M$7,M26)))=TRUE,$AN$9,IF(($M$7-$L$7=M26-L26),$AN$8,IF(OR(EXACT($L$7>$M$7,L26>M26)*EXACT($L$7=$M$7,L26=M26)*EXACT($L$7<$M$7,L26<M26)),$AN$7,0))) -> 2 | O26: 1 | P26: 1 | Q26: =IF(OR(EXACT($O$7,O26)*(EXACT($P$7,P26)))=TRUE,$AN$9,IF(($P$7-$O$7=P26-O26),$AN$8,IF(OR(EXACT($O$7>$P$7,O26>P26)*EXACT($O$7=$P$7,O26=P26)*EXACT($O$7<$P$7,O26<P26)),$AN$7,0))) -> 0 | R26: 0 | S26: 2 | T26: =IF(OR(EXACT($R$7,R26)*(EXACT($S$7,S26)))=TRUE,$AN$9,IF(($S$7-$R$7=S26-R26),$AN$8,IF(OR(EXACT($R$7>$S$7,R26>S26)*EXACT($R$7=$S$7,R26=S26)*EXACT($R$7<$S$7,R26<S26)),$AN$7,0))) -> 0 | U26: 1 | V26: 2 | W26: =IF(OR(EXACT($U$7,U26)*(EXACT($V$7,V26)))=TRUE,$AN$9,IF(($V$7-$U$7=V26-U26),$AN$8,IF(OR(EXACT($U$7>$V$7,U26>V26)*EXACT($U$7=$V$7,U26=V26)*EXACT($U$7<$V$7,U26<V26)),$AN$7,0))) -> 0 | X26: 2 | Y26: 0 | Z26: =IF(OR(EXACT($X$7,X26)*(EXACT($Y$7,Y26)))=TRUE,$AN$9,IF(($Y$7-$X$7=Y26-X26),$AN$8,IF(OR(EXACT($X$7>$Y$7,X26>Y26)*EXACT($X$7=$Y$7,X26=Y26)*EXACT($X$7<$Y$7,X26<Y26)),$AN$7,0))) -> 0 | AA26: 0 | AB26: 1 | AC26: =IF(OR(EXACT($AA$7,AA26)*(EXACT($AB$7,AB26)))=TRUE,$AN$9,IF(($AB$7-$AA$7=AB26-AA26),$AN$8,IF(OR(EXACT($AA$7>$AB$7,AA26>AB26)*EXACT($AA$7=$AB$7,AA26=AB26)*EXACT($AA$7<$AB$7,AA26<AB26)),$AN$7,0))) -> 0 | AG26: =E26+K26+Q26+T26+N26+H26+W26+Z26+AC26+AF26 -> 15 | AI26: =AG26+AH26 -> 15 | AJ26: =RANK(AI26,$AI$8:$AI$53) -> 17
A27: =AJ27 -> 23 | B27: Schalt04 | C27: 1 | D27: 1 | E27: =IF(OR(EXACT($C$7,C27)*(EXACT($D$7,D27)))=TRUE,$AN$9,IF(($D$7-$C$7=D27-C27),$AN$8,IF(OR(EXACT($C$7>$D$7,C27>D27)*EXACT($C$7=$D$7,C27=D27)*EXACT($C$7<$D$7,C27<D27)),$AN$7,0)))*4 -> 0 | F27: 2 | G27: 1 | H27: =IF(OR(EXACT($F$7,F27)*(EXACT($G$7,G27)))=TRUE,$AN$9,IF(($G$7-$F$7=G27-F27),$AN$8,IF(OR(EXACT($F$7>$G$7,F27>G27)*EXACT($F$7=$G$7,F27=G27)*EXACT($F$7<$G$7,F27<G27)),$AN$7,0))) -> 3 | I27: 0 | J27: 0 | K27: =IF(OR(EXACT($I$7,I27)*(EXACT($J$7,J27)))=TRUE,$AN$9,IF(($J$7-$I$7=J27-I27),$AN$8,IF(OR(EXACT($I$7>$J$7,I27>J27)*EXACT($I$7=$J$7,I27=J27)*EXACT($I$7<$J$7,I27<J27)),$AN$7,0))) -> 0 | L27: 1 | M27: 0 | N27: =IF(OR(EXACT($L$7,L27)*(EXACT($M$7,M27)))=TRUE,$AN$9,IF(($M$7-$L$7=M27-L27),$AN$8,IF(OR(EXACT($L$7>$M$7,L27>M27)*EXACT($L$7=$M$7,L27=M27)*EXACT($L$7<$M$7,L27<M27)),$AN$7,0))) -> 3 | O27: 2 | P27: 2 | Q27: =IF(OR(EXACT($O$7,O27)*(EXACT($P$7,P27)))=TRUE,$AN$9,IF(($P$7-$O$7=P27-O27),$AN$8,IF(OR(EXACT($O$7>$P$7,O27>P27)*EXACT($O$7=$P$7,O27=P27)*EXACT($O$7<$P$7,O27<P27)),$AN$7,0))) -> 0 | R27: 1 | S27: 3 | T27: =IF(OR(EXACT($R$7,R27)*(EXACT($S$7,S27)))=TRUE,$AN$9,IF(($S$7-$R$7=S27-R27),$AN$8,IF(OR(EXACT($R$7>$S$7,R27>S27)*EXACT($R$7=$S$7,R27=S27)*EXACT($R$7<$S$7,R27<S27)),$AN$7,0))) -> 0 | U27: 3 | V27: 1 | W27: =IF(OR(EXACT($U$7,U27)*(EXACT($V$7,V27)))=TRUE,$AN$9,IF(($V$7-$U$7=V27-U27),$AN$8,IF(OR(EXACT($U$7>$V$7,U27>V27)*EXACT($U$7=$V$7,U27=V27)*EXACT($U$7<$V$7,U27<V27)),$AN$7,0))) -> 2 | X27: 2 | Y27: 0 | Z27: =IF(OR(EXACT($X$7,X27)*(EXACT($Y$7,Y27)))=TRUE,$AN$9,IF(($Y$7-$X$7=Y27-X27),$AN$8,IF(OR(EXACT($X$7>$Y$7,X27>Y27)*EXACT($X$7=$Y$7,X27=Y27)*EXACT($X$7<$Y$7,X27<Y27)),$AN$7,0))) -> 0 | AA27: 1 | AB27: 0 | AC27: =IF(OR(EXACT($AA$7,AA27)*(EXACT($AB$7,AB27)))=TRUE,$AN$9,IF(($AB$7-$AA$7=AB27-AA27),$AN$8,IF(OR(EXACT($AA$7>$AB$7,AA27>AB27)*EXACT($AA$7=$AB$7,AA27=AB27)*EXACT($AA$7<$AB$7,AA27<AB27)),$AN$7,0))) -> 3 | AG27: =E27+K27+Q27+T27+N27+H27+W27+Z27+AC27+AF27 -> 11 | AI27: =AG27+AH27 -> 11 | AJ27: =RANK(AI27,$AI$8:$AI$53) -> 23
A28: =AJ28 -> 15 | B28: schmiddi04 | C28: 2 | D28: 0 | E28: =IF(OR(EXACT($C$7,C28)*(EXACT($D$7,D28)))=TRUE,$AN$9,IF(($D$7-$C$7=D28-C28),$AN$8,IF(OR(EXACT($C$7>$D$7,C28>D28)*EXACT($C$7=$D$7,C28=D28)*EXACT($C$7<$D$7,C28<D28)),$AN$7,0)))*4 -> 8 | F28: 0 | G28: 1 | H28: =IF(OR(EXACT($F$7,F28)*(EXACT($G$7,G28)))=TRUE,$AN$9,IF(($G$7-$F$7=G28-F28),$AN$8,IF(OR(EXACT($F$7>$G$7,F28>G28)*EXACT($F$7=$G$7,F28=G28)*EXACT($F$7<$G$7,F28<G28)),$AN$7,0))) -> 0 | I28: 1 | J28: 1 | K28: =IF(OR(EXACT($I$7,I28)*(EXACT($J$7,J28)))=TRUE,$AN$9,IF(($J$7-$I$7=J28-I28),$AN$8,IF(OR(EXACT($I$7>$J$7,I28>J28)*EXACT($I$7=$J$7,I28=J28)*EXACT($I$7<$J$7,I28<J28)),$AN$7,0))) -> 0 | L28: 2 | M28: 1 | N28: =IF(OR(EXACT($L$7,L28)*(EXACT($M$7,M28)))=TRUE,$AN$9,IF(($M$7-$L$7=M28-L28),$AN$8,IF(OR(EXACT($L$7>$M$7,L28>M28)*EXACT($L$7=$M$7,L28=M28)*EXACT($L$7<$M$7,L28<M28)),$AN$7,0))) -> 3 | O28: 0 | P28: 2 | Q28: =IF(OR(EXACT($O$7,O28)*(EXACT($P$7,P28)))=TRUE,$AN$9,IF(($P$7-$O$7=P28-O28),$AN$8,IF(OR(EXACT($O$7>$P$7,O28>P28)*EXACT($O$7=$P$7,O28=P28)*EXACT($O$7<$P$7,O28<P28)),$AN$7,0))) -> 0 | R28: 1 | S28: 2 | T28: =IF(OR(EXACT($R$7,R28)*(EXACT($S$7,S28)))=TRUE,$AN$9,IF(($S$7-$R$7=S28-R28),$AN$8,IF(OR(EXACT($R$7>$S$7,R28>S28)*EXACT($R$7=$S$7,R28=S28)*EXACT($R$7<$S$7,R28<S28)),$AN$7,0))) -> 0 | U28: 1 | V28: 0 | W28: =IF(OR(EXACT($U$7,U28)*(EXACT($V$7,V28)))=TRUE,$AN$9,IF(($V$7-$U$7=V28-U28),$AN$8,IF(OR(EXACT($U$7>$V$7,U28>V28)*EXACT($U$7=$V$7,U28=V28)*EXACT($U$7<$V$7,U28<V28)),$AN$7,0))) -> 5 | X28: 1 | Y28: 1 | Z28: =IF(OR(EXACT($X$7,X28)*(EXACT($Y$7,Y28)))=TRUE,$AN$9,IF(($Y$7-$X$7=Y28-X28),$AN$8,IF(OR(EXACT($X$7>$Y$7,X28>Y28)*EXACT($X$7=$Y$7,X28=Y28)*EXACT($X$7<$Y$7,X28<Y28)),$AN$7,0))) -> 0 | AA28: 0 | AB28: 0 | AC28: =IF(OR(EXACT($AA$7,AA28)*(EXACT($AB$7,AB28)))=TRUE,$AN$9,IF(($AB$7-$AA$7=AB28-AA28),$AN$8,IF(OR(EXACT($AA$7>$AB$7,AA28>AB28)*EXACT($AA$7=$AB$7,AA28=AB28)*EXACT($AA$7<$AB$7,AA28<AB28)),$AN$7,0))) -> 0 | AG28: =E28+K28+Q28+T28+N28+H28+W28+Z28+AC28+AF28 -> 16 | AI28: =AG28+AH28 -> 16 | AJ28: =RANK(AI28,$AI$8:$AI$53) -> 15
A29: =AJ29 -> 3 | B29: shiny | C29: 2 | D29: 1 | E29: =IF(OR(EXACT($C$7,C29)*(EXACT($D$7,D29)))=TRUE,$AN$9,IF(($D$7-$C$7=D29-C29),$AN$8,IF(OR(EXACT($C$7>$D$7,C29>D29)*EXACT($C$7=$D$7,C29=D29)*EXACT($C$7<$D$7,C29<D29)),$AN$7,0)))*4 -> 20 | F29: 2 | G29: 1 | H29: =IF(OR(EXACT($F$7,F29)*(EXACT($G$7,G29)))=TRUE,$AN$9,IF(($G$7-$F$7=G29-F29),$AN$8,IF(OR(EXACT($F$7>$G$7,F29>G29)*EXACT($F$7=$G$7,F29=G29)*EXACT($F$7<$G$7,F29<G29)),$AN$7,0))) -> 3 | I29: 2 | J29: 1 | K29: =IF(OR(EXACT($I$7,I29)*(EXACT($J$7,J29)))=TRUE,$AN$9,IF(($J$7-$I$7=J29-I29),$AN$8,IF(OR(EXACT($I$7>$J$7,I29>J29)*EXACT($I$7=$J$7,I29=J29)*EXACT($I$7<$J$7,I29<J29)),$AN$7,0))) -> 5 | L29: 3 | M29: 0 | N29: =IF(OR(EXACT($L$7,L29)*(EXACT($M$7,M29)))=TRUE,$AN$9,IF(($M$7-$L$7=M29-L29),$AN$8,IF(OR(EXACT($L$7>$M$7,L29>M29)*EXACT($L$7=$M$7,L29=M29)*EXACT($L$7<$M$7,L29<M29)),$AN$7,0))) -> 2 | O29: 1 | P29: 2 | Q29: =IF(OR(EXACT($O$7,O29)*(EXACT($P$7,P29)))=TRUE,$AN$9,IF(($P$7-$O$7=P29-O29),$AN$8,IF(OR(EXACT($O$7>$P$7,O29>P29)*EXACT($O$7=$P$7,O29=P29)*EXACT($O$7<$P$7,O29<P29)),$AN$7,0))) -> 0 | R29: 0 | S29: 2 | T29: =IF(OR(EXACT($R$7,R29)*(EXACT($S$7,S29)))=TRUE,$AN$9,IF(($S$7-$R$7=S29-R29),$AN$8,IF(OR(EXACT($R$7>$S$7,R29>S29)*EXACT($R$7=$S$7,R29=S29)*EXACT($R$7<$S$7,R29<S29)),$AN$7,0))) -> 0 | U29: 1 | V29: 1 | W29: =IF(OR(EXACT($U$7,U29)*(EXACT($V$7,V29)))=TRUE,$AN$9,IF(($V$7-$U$7=V29-U29),$AN$8,IF(OR(EXACT($U$7>$V$7,U29>V29)*EXACT($U$7=$V$7,U29=V29)*EXACT($U$7<$V$7,U29<V29)),$AN$7,0))) -> 0 | X29: 2 | Y29: 0 | Z29: =IF(OR(EXACT($X$7,X29)*(EXACT($Y$7,Y29)))=TRUE,$AN$9,IF(($Y$7-$X$7=Y29-X29),$AN$8,IF(OR(EXACT($X$7>$Y$7,X29>Y29)*EXACT($X$7=$Y$7,X29=Y29)*EXACT($X$7<$Y$7,X29<Y29)),$AN$7,0))) -> 0 | AA29: 2 | AB29: 0 | AC29: =IF(OR(EXACT($AA$7,AA29)*(EXACT($AB$7,AB29)))=TRUE,$AN$9,IF(($AB$7-$AA$7=AB29-AA29),$AN$8,IF(OR(EXACT($AA$7>$AB$7,AA29>AB29)*EXACT($AA$7=$AB$7,AA29=AB29)*EXACT($AA$7<$AB$7,AA29<AB29)),$AN$7,0))) -> 2 | AG29: =E29+K29+Q29+T29+N29+H29+W29+Z29+AC29+AF29 -> 32 | AI29: =AG29+AH29 -> 32 | AJ29: =RANK(AI29,$AI$8:$AI$53) -> 3
A30: =AJ30 -> 17 | B30: Silfa04 | C30: 3 | D30: 1 | E30: =IF(OR(EXACT($C$7,C30)*(EXACT($D$7,D30)))=TRUE,$AN$9,IF(($D$7-$C$7=D30-C30),$AN$8,IF(OR(EXACT($C$7>$D$7,C30>D30)*EXACT($C$7=$D$7,C30=D30)*EXACT($C$7<$D$7,C30<D30)),$AN$7,0)))*4 -> 8 | F30: 1 | G30: 2 | H30: =IF(OR(EXACT($F$7,F30)*(EXACT($G$7,G30)))=TRUE,$AN$9,IF(($G$7-$F$7=G30-F30),$AN$8,IF(OR(EXACT($F$7>$G$7,F30>G30)*EXACT($F$7=$G$7,F30=G30)*EXACT($F$7<$G$7,F30<G30)),$AN$7,0))) -> 0 | I30: 2 | J30: 2 | K30: =IF(OR(EXACT($I$7,I30)*(EXACT($J$7,J30)))=TRUE,$AN$9,IF(($J$7-$I$7=J30-I30),$AN$8,IF(OR(EXACT($I$7>$J$7,I30>J30)*EXACT($I$7=$J$7,I30=J30)*EXACT($I$7<$J$7,I30<J30)),$AN$7,0))) -> 0 | L30: 1 | M30: 1 | N30: =IF(OR(EXACT($L$7,L30)*(EXACT($M$7,M30)))=TRUE,$AN$9,IF(($M$7-$L$7=M30-L30),$AN$8,IF(OR(EXACT($L$7>$M$7,L30>M30)*EXACT($L$7=$M$7,L30=M30)*EXACT($L$7<$M$7,L30<M30)),$AN$7,0))) -> 0 | O30: 0 | P30: 4 | Q30: =IF(OR(EXACT($O$7,O30)*(EXACT($P$7,P30)))=TRUE,$AN$9,IF(($P$7-$O$7=P30-O30),$AN$8,IF(OR(EXACT($O$7>$P$7,O30>P30)*EXACT($O$7=$P$7,O30=P30)*EXACT($O$7<$P$7,O30<P30)),$AN$7,0))) -> 0 | R30: 1 | S30: 0 | T30: =IF(OR(EXACT($R$7,R30)*(EXACT($S$7,S30)))=TRUE,$AN$9,IF(($S$7-$R$7=S30-R30),$AN$8,IF(OR(EXACT($R$7>$S$7,R30>S30)*EXACT($R$7=$S$7,R30=S30)*EXACT($R$7<$S$7,R30<S30)),$AN$7,0))) -> 2 | U30: 3 | V30: 2 | W30: =IF(OR(EXACT($U$7,U30)*(EXACT($V$7,V30)))=TRUE,$AN$9,IF(($V$7-$U$7=V30-U30),$AN$8,IF(OR(EXACT($U$7>$V$7,U30>V30)*EXACT($U$7=$V$7,U30=V30)*EXACT($U$7<$V$7,U30<V30)),$AN$7,0))) -> 3 | X30: 0 | Y30: 2 | Z30: =IF(OR(EXACT($X$7,X30)*(EXACT($Y$7,Y30)))=TRUE,$AN$9,IF(($Y$7-$X$7=Y30-X30),$AN$8,IF(OR(EXACT($X$7>$Y$7,X30>Y30)*EXACT($X$7=$Y$7,X30=Y30)*EXACT($X$7<$Y$7,X30<Y30)),$AN$7,0))) -> 2 | AA30: 0 | AB30: 1 | AC30: =IF(OR(EXACT($AA$7,AA30)*(EXACT($AB$7,AB30)))=TRUE,$AN$9,IF(($AB$7-$AA$7=AB30-AA30),$AN$8,IF(OR(EXACT($AA$7>$AB$7,AA30>AB30)*EXACT($AA$7=$AB$7,AA30=AB30)*EXACT($AA$7<$AB$7,AA30<AB30)),$AN$7,0))) -> 0 | AG30: =E30+K30+Q30+T30+N30+H30+W30+Z30+AC30+AF30 -> 15 | AI30: =AG30+AH30 -> 15 | AJ30: =RANK(AI30,$AI$8:$AI$53) -> 17
A31: =AJ31 -> 10 | B31: Tanja04 | C31: 1 | D31: 0 | E31: =IF(OR(EXACT($C$7,C31)*(EXACT($D$7,D31)))=TRUE,$AN$9,IF(($D$7-$C$7=D31-C31),$AN$8,IF(OR(EXACT($C$7>$D$7,C31>D31)*EXACT($C$7=$D$7,C31=D31)*EXACT($C$7<$D$7,C31<D31)),$AN$7,0)))*4 -> 12 | F31: 0 | G31: 2 | H31: =IF(OR(EXACT($F$7,F31)*(EXACT($G$7,G31)))=TRUE,$AN$9,IF(($G$7-$F$7=G31-F31),$AN$8,IF(OR(EXACT($F$7>$G$7,F31>G31)*EXACT($F$7=$G$7,F31=G31)*EXACT($F$7<$G$7,F31<G31)),$AN$7,0))) -> 0 | I31: 1 | J31: 1 | K31: =IF(OR(EXACT($I$7,I31)*(EXACT($J$7,J31)))=TRUE,$AN$9,IF(($J$7-$I$7=J31-I31),$AN$8,IF(OR(EXACT($I$7>$J$7,I31>J31)*EXACT($I$7=$J$7,I31=J31)*EXACT($I$7<$J$7,I31<J31)),$AN$7,0))) -> 0 | L31: 2 | M31: 0 | N31: =IF(OR(EXACT($L$7,L31)*(EXACT($M$7,M31)))=TRUE,$AN$9,IF(($M$7-$L$7=M31-L31),$AN$8,IF(OR(EXACT($L$7>$M$7,L31>M31)*EXACT($L$7=$M$7,L31=M31)*EXACT($L$7<$M$7,L31<M31)),$AN$7,0))) -> 2 | O31: 0 | P31: 1 | Q31: =IF(OR(EXACT($O$7,O31)*(EXACT($P$7,P31)))=TRUE,$AN$9,IF(($P$7-$O$7=P31-O31),$AN$8,IF(OR(EXACT($O$7>$P$7,O31>P31)*EXACT($O$7=$P$7,O31=P31)*EXACT($O$7<$P$7,O31<P31)),$AN$7,0))) -> 0 | R31: 0 | S31: 2 | T31: =IF(OR(EXACT($R$7,R31)*(EXACT($S$7,S31)))=TRUE,$AN$9,IF(($S$7-$R$7=S31-R31),$AN$8,IF(OR(EXACT($R$7>$S$7,R31>S31)*EXACT($R$7=$S$7,R31=S31)*EXACT($R$7<$S$7,R31<S31)),$AN$7,0))) -> 0 | U31: 1 | V31: 0 | W31: =IF(OR(EXACT($U$7,U31)*(EXACT($V$7,V31)))=TRUE,$AN$9,IF(($V$7-$U$7=V31-U31),$AN$8,IF(OR(EXACT($U$7>$V$7,U31>V31)*EXACT($U$7=$V$7,U31=V31)*EXACT($U$7<$V$7,U31<V31)),$AN$7,0))) -> 5 | X31: 1 | Y31: 1 | Z31: =IF(OR(EXACT($X$7,X31)*(EXACT($Y$7,Y31)))=TRUE,$AN$9,IF(($Y$7-$X$7=Y31-X31),$AN$8,IF(OR(EXACT($X$7>$Y$7,X31>Y31)*EXACT($X$7=$Y$7,X31=Y31)*EXACT($X$7<$Y$7,X31<Y31)),$AN$7,0))) -> 0 | AA31: 1 | AB31: 0 | AC31: =IF(OR(EXACT($AA$7,AA31)*(EXACT($AB$7,AB31)))=TRUE,$AN$9,IF(($AB$7-$AA$7=AB31-AA31),$AN$8,IF(OR(EXACT($AA$7>$AB$7,AA31>AB31)*EXACT($AA$7=$AB$7,AA31=AB31)*EXACT($AA$7<$AB$7,AA31<AB31)),$AN$7,0))) -> 3 | AG31: =E31+K31+Q31+T31+N31+H31+W31+Z31+AC31+AF31 -> 22 | AI31: =AG31+AH31 -> 22 | AJ31: =RANK(AI31,$AI$8:$AI$53) -> 10
A32: =AJ32 -> 25 | B32: Th. Bülles | F32: 1 | G32: 2 | H32: =IF(OR(EXACT($F$7,F32)*(EXACT($G$7,G32)))=TRUE,$AN$9,IF(($G$7-$F$7=G32-F32),$AN$8,IF(OR(EXACT($F$7>$G$7,F32>G32)*EXACT($F$7=$G$7,F32=G32)*EXACT($F$7<$G$7,F32<G32)),$AN$7,0))) -> 0 | I32: 1 | J32: 1 | K32: =IF(OR(EXACT($I$7,I32)*(EXACT($J$7,J32)))=TRUE,$AN$9,IF(($J$7-$I$7=J32-I32),$AN$8,IF(OR(EXACT($I$7>$J$7,I32>J32)*EXACT($I$7=$J$7,I32=J32)*EXACT($I$7<$J$7,I32<J32)),$AN$7,0))) -> 0 | L32: 2 | M32: 0 | N32: =IF(OR(EXACT($L$7,L32)*(EXACT($M$7,M32)))=TRUE,$AN$9,IF(($M$7-$L$7=M32-L32),$AN$8,IF(OR(EXACT($L$7>$M$7,L32>M32)*EXACT($L$7=$M$7,L32=M32)*EXACT($L$7<$M$7,L32<M32)),$AN$7,0))) -> 2 | O32: 2 | P32: 1 | Q32: =IF(OR(EXACT($O$7,O32)*(EXACT($P$7,P32)))=TRUE,$AN$9,IF(($P$7-$O$7=P32-O32),$AN$8,IF(OR(EXACT($O$7>$P$7,O32>P32)*EXACT($O$7=$P$7,O32=P32)*EXACT($O$7<$P$7,O32<P32)),$AN$7,0))) -> 2 | R32: 1 | S32: 2 | T32: =IF(OR(EXACT($R$7,R32)*(EXACT($S$7,S32)))=TRUE,$AN$9,IF(($S$7-$R$7=S32-R32),$AN$8,IF(OR(EXACT($R$7>$S$7,R32>S32)*EXACT($R$7=$S$7,R32=S32)*EXACT($R$7<$S$7,R32<S32)),$AN$7,0))) -> 0 | U32: 2 | V32: 1 | W32: =IF(OR(EXACT($U$7,U32)*(EXACT($V$7,V32)))=TRUE,$AN$9,IF(($V$7-$U$7=V32-U32),$AN$8,IF(OR(EXACT($U$7>$V$7,U32>V32)*EXACT($U$7=$V$7,U32=V32)*EXACT($U$7<$V$7,U32<V32)),$AN$7,0))) -> 3 | X32: 2 | Y32: 0 | Z32: =IF(OR(EXACT($X$7,X32)*(EXACT($Y$7,Y32)))=TRUE,$AN$9,IF(($Y$7-$X$7=Y32-X32),$AN$8,IF(OR(EXACT($X$7>$Y$7,X32>Y32)*EXACT($X$7=$Y$7,X32=Y32)*EXACT($X$7<$Y$7,X32<Y32)),$AN$7,0))) -> 0 | AA32: 2 | AB32: 0 | AC32: =IF(OR(EXACT($AA$7,AA32)*(EXACT($AB$7,AB32)))=TRUE,$AN$9,IF(($AB$7-$AA$7=AB32-AA32),$AN$8,IF(OR(EXACT($AA$7>$AB$7,AA32>AB32)*EXACT($AA$7=$AB$7,AA32=AB32)*EXACT($AA$7<$AB$7,AA32<AB32)),$AN$7,0))) -> 2 | AG32: =E32+K32+Q32+T32+N32+H32+W32+Z32+AC32+AF32 -> 9 | AI32: =AG32+AH32 -> 9 | AJ32: =RANK(AI32,$AI$8:$AI$53) -> 25
A33: =AJ33 -> 22 | B33: UltraGE | C33: 2 | D33: 0 | E33: =IF(OR(EXACT($C$7,C33)*(EXACT($D$7,D33)))=TRUE,$AN$9,IF(($D$7-$C$7=D33-C33),$AN$8,IF(OR(EXACT($C$7>$D$7,C33>D33)*EXACT($C$7=$D$7,C33=D33)*EXACT($C$7<$D$7,C33<D33)),$AN$7,0)))*4 -> 8 | F33: 1 | G33: 2 | H33: =IF(OR(EXACT($F$7,F33)*(EXACT($G$7,G33)))=TRUE,$AN$9,IF(($G$7-$F$7=G33-F33),$AN$8,IF(OR(EXACT($F$7>$G$7,F33>G33)*EXACT($F$7=$G$7,F33=G33)*EXACT($F$7<$G$7,F33<G33)),$AN$7,0))) -> 0 | I33: 1 | J33: 2 | K33: =IF(OR(EXACT($I$7,I33)*(EXACT($J$7,J33)))=TRUE,$AN$9,IF(($J$7-$I$7=J33-I33),$AN$8,IF(OR(EXACT($I$7>$J$7,I33>J33)*EXACT($I$7=$J$7,I33=J33)*EXACT($I$7<$J$7,I33<J33)),$AN$7,0))) -> 0 | L33: 2 | M33: 0 | N33: =IF(OR(EXACT($L$7,L33)*(EXACT($M$7,M33)))=TRUE,$AN$9,IF(($M$7-$L$7=M33-L33),$AN$8,IF(OR(EXACT($L$7>$M$7,L33>M33)*EXACT($L$7=$M$7,L33=M33)*EXACT($L$7<$M$7,L33<M33)),$AN$7,0))) -> 2 | O33: 1 | P33: 2 | Q33: =IF(OR(EXACT($O$7,O33)*(EXACT($P$7,P33)))=TRUE,$AN$9,IF(($P$7-$O$7=P33-O33),$AN$8,IF(OR(EXACT($O$7>$P$7,O33>P33)*EXACT($O$7=$P$7,O33=P33)*EXACT($O$7<$P$7,O33<P33)),$AN$7,0))) -> 0 | R33: 1 | S33: 3 | T33: =IF(OR(EXACT($R$7,R33)*(EXACT($S$7,S33)))=TRUE,$AN$9,IF(($S$7-$R$7=S33-R33),$AN$8,IF(OR(EXACT($R$7>$S$7,R33>S33)*EXACT($R$7=$S$7,R33=S33)*EXACT($R$7<$S$7,R33<S33)),$AN$7,0))) -> 0 | U33: 2 | V33: 1 | W33: =IF(OR(EXACT($U$7,U33)*(EXACT($V$7,V33)))=TRUE,$AN$9,IF(($V$7-$U$7=V33-U33),$AN$8,IF(OR(EXACT($U$7>$V$7,U33>V33)*EXACT($U$7=$V$7,U33=V33)*EXACT($U$7<$V$7,U33<V33)),$AN$7,0))) -> 3 | X33: 3 | Y33: 1 | Z33: =IF(OR(EXACT($X$7,X33)*(EXACT($Y$7,Y33)))=TRUE,$AN$9,IF(($Y$7-$X$7=Y33-X33),$AN$8,IF(OR(EXACT($X$7>$Y$7,X33>Y33)*EXACT($X$7=$Y$7,X33=Y33)*EXACT($X$7<$Y$7,X33<Y33)),$AN$7,0))) -> 0 | AA33: 1 | AB33: 2 | AC33: =IF(OR(EXACT($AA$7,AA33)*(EXACT($AB$7,AB33)))=TRUE,$AN$9,IF(($AB$7-$AA$7=AB33-AA33),$AN$8,IF(OR(EXACT($AA$7>$AB$7,AA33>AB33)*EXACT($AA$7=$AB$7,AA33=AB33)*EXACT($AA$7<$AB$7,AA33<AB33)),$AN$7,0))) -> 0 | AG33: =E33+K33+Q33+T33+N33+H33+W33+Z33+AC33+AF33 -> 13 | AI33: =AG33+AH33 -> 13 | AJ33: =RANK(AI33,$AI$8:$AI$53) -> 22

Sheet 2.Spieltag 
A4: 2. Spieltag | C4: Nürnberg | F4: Pr. Münster | I4: Düsseldorf | L4: Braunschw. | O4: Dresden | R4: Kaisersl. | U4: Kiel | X4: Bochum | AA4: Hertha BSC
AG5: G E S A M T W E R T U N G
C6: Darmstadt | F6: Paderborn | I6: Hannover | L6: Fürth | O6: Magdeburg | R6: Schalke 04 | U6: Bielefeld | X6: Elversberg | AA6: Karlsruhe | AG6: Punkte | AH6: Punkte | AI6: Gesamt | AJ6: Platz | AK6: PUNKTEVERTEILUNG
A7: PLATZ | B7: ERGEBNISSE=> | C7: 0 | D7: 1 | E7: Pkt. | F7: 1 | G7: 1 | H7: Pkt. | I7: 0 | J7: 2 | K7: Pkt. | L7: 3 | M7: 2 | N7: Pkt. | O7: 1 | P7: 2 | Q7: Pkt. | R7: 1 | S7: 0 | T7: Pkt. | U7: 0 | V7: 2 | W7: Pkt. | X7: 2 | Y7: 0 | Z7: Pkt. | AA7: 0 | AB7: 0 | AC7: Pkt. | AG7: Spieltag | AH7: bisher | AI7: Punkte | AK7: richtige Tendenz | AN7: 2
A8: =AJ8 -> 8 | B8: ='1.Spieltag'!B8 -> ahaupt1904 | C8: 2 | D8: 1 | E8: =IF(OR(EXACT($C$7,C8)*(EXACT($D$7,D8)))=TRUE,$AN$9,IF(($D$7-$C$7=D8-C8),$AN$8,IF(OR(EXACT($C$7>$D$7,C8>D8)*EXACT($C$7=$D$7,C8=D8)*EXACT($C$7<$D$7,C8<D8)),$AN$7,0))) -> 0 | F8: 1 | G8: 3 | H8: =IF(OR(EXACT($F$7,F8)*(EXACT($G$7,G8)))=TRUE,$AN$9,IF(($G$7-$F$7=G8-F8),$AN$8,IF(OR(EXACT($F$7>$G$7,F8>G8)*EXACT($F$7=$G$7,F8=G8)*EXACT($F$7<$G$7,F8<G8)),$AN$7,0))) -> 0 | I8: 2 | J8: 2 | K8: =IF(OR(EXACT($I$7,I8)*(EXACT($J$7,J8)))=TRUE,$AN$9,IF(($J$7-$I$7=J8-I8),$AN$8,IF(OR(EXACT($I$7>$J$7,I8>J8)*EXACT($I$7=$J$7,I8=J8)*EXACT($I$7<$J$7,I8<J8)),$AN$7,0))) -> 0 | L8: 1 | M8: 1 | N8: =IF(OR(EXACT($L$7,L8)*(EXACT($M$7,M8)))=TRUE,$AN$9,IF(($M$7-$L$7=M8-L8),$AN$8,IF(OR(EXACT($L$7>$M$7,L8>M8)*EXACT($L$7=$M$7,L8=M8)*EXACT($L$7<$M$7,L8<M8)),$AN$7,0))) -> 0 | O8: 2 | P8: 1 | Q8: =IF(OR(EXACT($O$7,O8)*(EXACT($P$7,P8)))=TRUE,$AN$9,IF(($P$7-$O$7=P8-O8),$AN$8,IF(OR(EXACT($O$7>$P$7,O8>P8)*EXACT($O$7=$P$7,O8=P8)*EXACT($O$7<$P$7,O8<P8)),$AN$7,0))) -> 0 | R8: 2 | S8: 2 | T8: =IF(OR(EXACT($R$7,R8)*(EXACT($S$7,S8)))=TRUE,$AN$9,IF(($S$7-$R$7=S8-R8),$AN$8,IF(OR(EXACT($R$7>$S$7,R8>S8)*EXACT($R$7=$S$7,R8=S8)*EXACT($R$7<$S$7,R8<S8)),$AN$7,0)))*4 -> 0 | U8: 2 | V8: 1 | W8: =IF(OR(EXACT($U$7,U8)*(EXACT($V$7,V8)))=TRUE,$AN$9,IF(($V$7-$U$7=V8-U8),$AN$8,IF(OR(EXACT($U$7>$V$7,U8>V8)*EXACT($U$7=$V$7,U8=V8)*EXACT($U$7<$V$7,U8<V8)),$AN$7,0))) -> 0 | X8: 3 | Y8: 1 | Z8: =IF(OR(EXACT($X$7,X8)*(EXACT($Y$7,Y8)))=TRUE,$AN$9,IF(($Y$7-$X$7=Y8-X8),$AN$8,IF(OR(EXACT($X$7>$Y$7,X8>Y8)*EXACT($X$7=$Y$7,X8=Y8)*EXACT($X$7<$Y$7,X8<Y8)),$AN$7,0))) -> 3 | AA8: 2 | AB8: 1 | AC8: =IF(OR(EXACT($AA$7,AA8)*(EXACT($AB$7,AB8)))=TRUE,$AN$9,IF(($AB$7-$AA$7=AB8-AA8),$AN$8,IF(OR(EXACT($AA$7>$AB$7,AA8>AB8)*EXACT($AA$7=$AB$7,AA8=AB8)*EXACT($AA$7<$AB$7,AA8<AB8)),$AN$7,0))) -> 0 | AG8: =E8+H8+K8+N8+Q8+T8+W8+Z8+AC8+AF8 -> 3 | AH8: ='1.Spieltag'!AI8 -> 26 | AI8: =AG8+AH8 -> 29 | AJ8: =RANK(AI8,$AI$8:$AI$53) -> 8 | AK8: richtige Tend. + korr. Torabst. | AN8: 3
A9: =AJ9 -> 15 | B9: ='1.Spieltag'!B9 -> Alexander18 | C9: 2 | D9: 1 | E9: =IF(OR(EXACT($C$7,C9)*(EXACT($D$7,D9)))=TRUE,$AN$9,IF(($D$7-$C$7=D9-C9),$AN$8,IF(OR(EXACT($C$7>$D$7,C9>D9)*EXACT($C$7=$D$7,C9=D9)*EXACT($C$7<$D$7,C9<D9)),$AN$7,0))) -> 0 | F9: 0 | G9: 2 | H9: =IF(OR(EXACT($F$7,F9)*(EXACT($G$7,G9)))=TRUE,$AN$9,IF(($G$7-$F$7=G9-F9),$AN$8,IF(OR(EXACT($F$7>$G$7,F9>G9)*EXACT($F$7=$G$7,F9=G9)*EXACT($F$7<$G$7,F9<G9)),$AN$7,0))) -> 0 | I9: 1 | J9: 1 | K9: =IF(OR(EXACT($I$7,I9)*(EXACT($J$7,J9)))=TRUE,$AN$9,IF(($J$7-$I$7=J9-I9),$AN$8,IF(OR(EXACT($I$7>$J$7,I9>J9)*EXACT($I$7=$J$7,I9=J9)*EXACT($I$7<$J$7,I9<J9)),$AN$7,0))) -> 0 | L9: 0 | M9: 0 | N9: =IF(OR(EXACT($L$7,L9)*(EXACT($M$7,M9)))=TRUE,$AN$9,IF(($M$7-$L$7=M9-L9),$AN$8,IF(OR(EXACT($L$7>$M$7,L9>M9)*EXACT($L$7=$M$7,L9=M9)*EXACT($L$7<$M$7,L9<M9)),$AN$7,0))) -> 0 | O9: 2 | P9: 1 | Q9: =IF(OR(EXACT($O$7,O9)*(EXACT($P$7,P9)))=TRUE,$AN$9,IF(($P$7-$O$7=P9-O9),$AN$8,IF(OR(EXACT($O$7>$P$7,O9>P9)*EXACT($O$7=$P$7,O9=P9)*EXACT($O$7<$P$7,O9<P9)),$AN$7,0))) -> 0 | R9: 1 | S9: 3 | T9: =IF(OR(EXACT($R$7,R9)*(EXACT($S$7,S9)))=TRUE,$AN$9,IF(($S$7-$R$7=S9-R9),$AN$8,IF(OR(EXACT($R$7>$S$7,R9>S9)*EXACT($R$7=$S$7,R9=S9)*EXACT($R$7<$S$7,R9<S9)),$AN$7,0)))*4 -> 0 | U9: 1 | V9: 2 | W9: =IF(OR(EXACT($U$7,U9)*(EXACT($V$7,V9)))=TRUE,$AN$9,IF(($V$7-$U$7=V9-U9),$AN$8,IF(OR(EXACT($U$7>$V$7,U9>V9)*EXACT($U$7=$V$7,U9=V9)*EXACT($U$7<$V$7,U9<V9)),$AN$7,0))) -> 2 | X9: 1 | Y9: 1 | Z9: =IF(OR(EXACT($X$7,X9)*(EXACT($Y$7,Y9)))=TRUE,$AN$9,IF(($Y$7-$X$7=Y9-X9),$AN$8,IF(OR(EXACT($X$7>$Y$7,X9>Y9)*EXACT($X$7=$Y$7,X9=Y9)*EXACT($X$7<$Y$7,X9<Y9)),$AN$7,0))) -> 0 | AA9: 0 | AB9: 3 | AC9: =IF(OR(EXACT($AA$7,AA9)*(EXACT($AB$7,AB9)))=TRUE,$AN$9,IF(($AB$7-$AA$7=AB9-AA9),$AN$8,IF(OR(EXACT($AA$7>$AB$7,AA9>AB9)*EXACT($AA$7=$AB$7,AA9=AB9)*EXACT($AA$7<$AB$7,AA9<AB9)),$AN$7,0))) -> 0 | AG9: =E9+H9+K9+N9+Q9+T9+W9+Z9+AC9+AF9 -> 2 | AH9: ='1.Spieltag'!AI9 -> 24 | AI9: =AG9+AH9 -> 26 | AJ9: =RANK(AI9,$AI$8:$AI$53) -> 15 | AK9: richtiges Ergebnis | AN9: 5
A10: =AJ10 -> 6 | B10: ='1.Spieltag'!B10 -> atschi91 | C10: 2 | D10: 1 | E10: =IF(OR(EXACT($C$7,C10)*(EXACT($D$7,D10)))=TRUE,$AN$9,IF(($D$7-$C$7=D10-C10),$AN$8,IF(OR(EXACT($C$7>$D$7,C10>D10)*EXACT($C$7=$D$7,C10=D10)*EXACT($C$7<$D$7,C10<D10)),$AN$7,0))) -> 0 | F10: 1 | G10: 2 | H10: =IF(OR(EXACT($F$7,F10)*(EXACT($G$7,G10)))=TRUE,$AN$9,IF(($G$7-$F$7=G10-F10),$AN$8,IF(OR(EXACT($F$7>$G$7,F10>G10)*EXACT($F$7=$G$7,F10=G10)*EXACT($F$7<$G$7,F10<G10)),$AN$7,0))) -> 0 | I10: 2 | J10: 1 | K10: =IF(OR(EXACT($I$7,I10)*(EXACT($J$7,J10)))=TRUE,$AN$9,IF(($J$7-$I$7=J10-I10),$AN$8,IF(OR(EXACT($I$7>$J$7,I10>J10)*EXACT($I$7=$J$7,I10=J10)*EXACT($I$7<$J$7,I10<J10)),$AN$7,0))) -> 0 | L10: 1 | M10: 2 | N10: =IF(OR(EXACT($L$7,L10)*(EXACT($M$7,M10)))=TRUE,$AN$9,IF(($M$7-$L$7=M10-L10),$AN$8,IF(OR(EXACT($L$7>$M$7,L10>M10)*EXACT($L$7=$M$7,L10=M10)*EXACT($L$7<$M$7,L10<M10)),$AN$7,0))) -> 0 | O10: 2 | P10: 1 | Q10: =IF(OR(EXACT($O$7,O10)*(EXACT($P$7,P10)))=TRUE,$AN$9,IF(($P$7-$O$7=P10-O10),$AN$8,IF(OR(EXACT($O$7>$P$7,O10>P10)*EXACT($O$7=$P$7,O10=P10)*EXACT($O$7<$P$7,O10<P10)),$AN$7,0))) -> 0 | R10: 1 | S10: 2 | T10: =IF(OR(EXACT($R$7,R10)*(EXACT($S$7,S10)))=TRUE,$AN$9,IF(($S$7-$R$7=S10-R10),$AN$8,IF(OR(EXACT($R$7>$S$7,R10>S10)*EXACT($R$7=$S$7,R10=S10)*EXACT($R$7<$S$7,R10<S10)),$AN$7,0)))*4 -> 0 | U10: 2 | V10: 1 | W10: =IF(OR(EXACT($U$7,U10)*(EXACT($V$7,V10)))=TRUE,$AN$9,IF(($V$7-$U$7=V10-U10),$AN$8,IF(OR(EXACT($U$7>$V$7,U10>V10)*EXACT($U$7=$V$7,U10=V10)*EXACT($U$7<$V$7,U10<V10)),$AN$7,0))) -> 0 | X10: 2 | Y10: 1 | Z10: =IF(OR(EXACT($X$7,X10)*(EXACT($Y$7,Y10)))=TRUE,$AN$9,IF(($Y$7-$X$7=Y10-X10),$AN$8,IF(OR(EXACT($X$7>$Y$7,X10>Y10)*EXACT($X$7=$Y$7,X10=Y10)*EXACT($X$7<$Y$7,X10<Y10)),$AN$7,0))) -> 2 | AA10: 1 | AB10: 2 | AC10: =IF(OR(EXACT($AA$7,AA10)*(EXACT($AB$7,AB10)))=TRUE,$AN$9,IF(($AB$7-$AA$7=AB10-AA10),$AN$8,IF(OR(EXACT($AA$7>$AB$7,AA10>AB10)*EXACT($AA$7=$AB$7,AA10=AB10)*EXACT($AA$7<$AB$7,AA10<AB10)),$AN$7,0))) -> 0 | AG10: =E10+H10+K10+N10+Q10+T10+W10+Z10+AC10+AF10 -> 2 | AH10: ='1.Spieltag'!AI10 -> 33 | AI10: =AG10+AH10 -> 35 | AJ10: =RANK(AI10,$AI$8:$AI$53) -> 6
A11: =AJ11 -> 12 | B11: ='1.Spieltag'!B11 -> CathaHaupt1904 | C11: 2 | D11: 1 | E11: =IF(OR(EXACT($C$7,C11)*(EXACT($D$7,D11)))=TRUE,$AN$9,IF(($D$7-$C$7=D11-C11),$AN$8,IF(OR(EXACT($C$7>$D$7,C11>D11)*EXACT($C$7=$D$7,C11=D11)*EXACT($C$7<$D$7,C11<D11)),$AN$7,0))) -> 0 | F11: 0 | G11: 1 | H11: =IF(OR(EXACT($F$7,F11)*(EXACT($G$7,G11)))=TRUE,$AN$9,IF(($G$7-$F$7=G11-F11),$AN$8,IF(OR(EXACT($F$7>$G$7,F11>G11)*EXACT($F$7=$G$7,F11=G11)*EXACT($F$7<$G$7,F11<G11)),$AN$7,0))) -> 0 | I11: 2 | J11: 1 | K11: =IF(OR(EXACT($I$7,I11)*(EXACT($J$7,J11)))=TRUE,$AN$9,IF(($J$7-$I$7=J11-I11),$AN$8,IF(OR(EXACT($I$7>$J$7,I11>J11)*EXACT($I$7=$J$7,I11=J11)*EXACT($I$7<$J$7,I11<J11)),$AN$7,0))) -> 0 | L11: 1 | M11: 0 | N11: =IF(OR(EXACT($L$7,L11)*(EXACT($M$7,M11)))=TRUE,$AN$9,IF(($M$7-$L$7=M11-L11),$AN$8,IF(OR(EXACT($L$7>$M$7,L11>M11)*EXACT($L$7=$M$7,L11=M11)*EXACT($L$7<$M$7,L11<M11)),$AN$7,0))) -> 3 | O11: 2 | P11: 2 | Q11: =IF(OR(EXACT($O$7,O11)*(EXACT($P$7,P11)))=TRUE,$AN$9,IF(($P$7-$O$7=P11-O11),$AN$8,IF(OR(EXACT($O$7>$P$7,O11>P11)*EXACT($O$7=$P$7,O11=P11)*EXACT($O$7<$P$7,O11<P11)),$AN$7,0))) -> 0 | R11: 0 | S11: 2 | T11: =IF(OR(EXACT($R$7,R11)*(EXACT($S$7,S11)))=TRUE,$AN$9,IF(($S$7-$R$7=S11-R11),$AN$8,IF(OR(EXACT($R$7>$S$7,R11>S11)*EXACT($R$7=$S$7,R11=S11)*EXACT($R$7<$S$7,R11<S11)),$AN$7,0)))*4 -> 0 | U11: 1 | V11: 0 | W11: =IF(OR(EXACT($U$7,U11)*(EXACT($V$7,V11)))=TRUE,$AN$9,IF(($V$7-$U$7=V11-U11),$AN$8,IF(OR(EXACT($U$7>$V$7,U11>V11)*EXACT($U$7=$V$7,U11=V11)*EXACT($U$7<$V$7,U11<V11)),$AN$7,0))) -> 0 | X11: 0 | Y11: 2 | Z11: =IF(OR(EXACT($X$7,X11)*(EXACT($Y$7,Y11)))=TRUE,$AN$9,IF(($Y$7-$X$7=Y11-X11),$AN$8,IF(OR(EXACT($X$7>$Y$7,X11>Y11)*EXACT($X$7=$Y$7,X11=Y11)*EXACT($X$7<$Y$7,X11<Y11)),$AN$7,0))) -> 0 | AA11: 3 | AB11: 1 | AC11: =IF(OR(EXACT($AA$7,AA11)*(EXACT($AB$7,AB11)))=TRUE,$AN$9,IF(($AB$7-$AA$7=AB11-AA11),$AN$8,IF(OR(EXACT($AA$7>$AB$7,AA11>AB11)*EXACT($AA$7=$AB$7,AA11=AB11)*EXACT($AA$7<$AB$7,AA11<AB11)),$AN$7,0))) -> 0 | AG11: =E11+H11+K11+N11+Q11+T11+W11+Z11+AC11+AF11 -> 3 | AH11: ='1.Spieltag'!AI11 -> 24 | AI11: =AG11+AH11 -> 27 | AJ11: =RANK(AI11,$AI$8:$AI$53) -> 12
A12: =AJ12 -> 17 | B12: ='1.Spieltag'!B12 -> Dickmeis04 | C12: 2 | D12: 2 | E12: =IF(OR(EXACT($C$7,C12)*(EXACT($D$7,D12)))=TRUE,$AN$9,IF(($D$7-$C$7=D12-C12),$AN$8,IF(OR(EXACT($C$7>$D$7,C12>D12)*EXACT($C$7=$D$7,C12=D12)*EXACT($C$7<$D$7,C12<D12)),$AN$7,0))) -> 0 | F12: 1 | G12: 1 | H12: =IF(OR(EXACT($F$7,F12)*(EXACT($G$7,G12)))=TRUE,$AN$9,IF(($G$7-$F$7=G12-F12),$AN$8,IF(OR(EXACT($F$7>$G$7,F12>G12)*EXACT($F$7=$G$7,F12=G12)*EXACT($F$7<$G$7,F12<G12)),$AN$7,0))) -> 5 | I12: 2 | J12: 2 | K12: =IF(OR(EXACT($I$7,I12)*(EXACT($J$7,J12)))=TRUE,$AN$9,IF(($J$7-$I$7=J12-I12),$AN$8,IF(OR(EXACT($I$7>$J$7,I12>J12)*EXACT($I$7=$J$7,I12=J12)*EXACT($I$7<$J$7,I12<J12)),$AN$7,0))) -> 0 | L12: 3 | M12: 1 | N12: =IF(OR(EXACT($L$7,L12)*(EXACT($M$7,M12)))=TRUE,$AN$9,IF(($M$7-$L$7=M12-L12),$AN$8,IF(OR(EXACT($L$7>$M$7,L12>M12)*EXACT($L$7=$M$7,L12=M12)*EXACT($L$7<$M$7,L12<M12)),$AN$7,0))) -> 2 | O12: 1 | P12: 1 | Q12: =IF(OR(EXACT($O$7,O12)*(EXACT($P$7,P12)))=TRUE,$AN$9,IF(($P$7-$O$7=P12-O12),$AN$8,IF(OR(EXACT($O$7>$P$7,O12>P12)*EXACT($O$7=$P$7,O12=P12)*EXACT($O$7<$P$7,O12<P12)),$AN$7,0))) -> 0 | R12: 1 | S12: 2 | T12: =IF(OR(EXACT($R$7,R12)*(EXACT($S$7,S12)))=TRUE,$AN$9,IF(($S$7-$R$7=S12-R12),$AN$8,IF(OR(EXACT($R$7>$S$7,R12>S12)*EXACT($R$7=$S$7,R12=S12)*EXACT($R$7<$S$7,R12<S12)),$AN$7,0)))*4 -> 0 | U12: 1 | V12: 1 | W12: =IF(OR(EXACT($U$7,U12)*(EXACT($V$7,V12)))=TRUE,$AN$9,IF(($V$7-$U$7=V12-U12),$AN$8,IF(OR(EXACT($U$7>$V$7,U12>V12)*EXACT($U$7=$V$7,U12=V12)*EXACT($U$7<$V$7,U12<V12)),$AN$7,0))) -> 0 | X12: 3 | Y12: 1 | Z12: =IF(OR(EXACT($X$7,X12)*(EXACT($Y$7,Y12)))=TRUE,$AN$9,IF(($Y$7-$X$7=Y12-X12),$AN$8,IF(OR(EXACT($X$7>$Y$7,X12>Y12)*EXACT($X$7=$Y$7,X12=Y12)*EXACT($X$7<$Y$7,X12<Y12)),$AN$7,0))) -> 3 | AA12: 3 | AB12: 1 | AC12: =IF(OR(EXACT($AA$7,AA12)*(EXACT($AB$7,AB12)))=TRUE,$AN$9,IF(($AB$7-$AA$7=AB12-AA12),$AN$8,IF(OR(EXACT($AA$7>$AB$7,AA12>AB12)*EXACT($AA$7=$AB$7,AA12=AB12)*EXACT($AA$7<$AB$7,AA12<AB12)),$AN$7,0))) -> 0 | AG12: =E12+H12+K12+N12+Q12+T12+W12+Z12+AC12+AF12 -> 10 | AH12: ='1.Spieltag'!AI12 -> 15 | AI12: =AG12+AH12 -> 25 | AJ12: =RANK(AI12,$AI$8:$AI$53) -> 17
A13: =AJ13 -> 18 | B13: ='1.Spieltag'!B13 -> fabian1904 | C13: 1 | D13: 3 | E13: =IF(OR(EXACT($C$7,C13)*(EXACT($D$7,D13)))=TRUE,$AN$9,IF(($D$7-$C$7=D13-C13),$AN$8,IF(OR(EXACT($C$7>$D$7,C13>D13)*EXACT($C$7=$D$7,C13=D13)*EXACT($C$7<$D$7,C13<D13)),$AN$7,0))) -> 2 | F13: 0 | G13: 2 | H13: =IF(OR(EXACT($F$7,F13)*(EXACT($G$7,G13)))=TRUE,$AN$9,IF(($G$7-$F$7=G13-F13),$AN$8,IF(OR(EXACT($F$7>$G$7,F13>G13)*EXACT($F$7=$G$7,F13=G13)*EXACT($F$7<$G$7,F13<G13)),$AN$7,0))) -> 0 | I13: 2 | J13: 1 | K13: =IF(OR(EXACT($I$7,I13)*(EXACT($J$7,J13)))=TRUE,$AN$9,IF(($J$7-$I$7=J13-I13),$AN$8,IF(OR(EXACT($I$7>$J$7,I13>J13)*EXACT($I$7=$J$7,I13=J13)*EXACT($I$7<$J$7,I13<J13)),$AN$7,0))) -> 0 | L13: 3 | M13: 0 | N13: =IF(OR(EXACT($L$7,L13)*(EXACT($M$7,M13)))=TRUE,$AN$9,IF(($M$7-$L$7=M13-L13),$AN$8,IF(OR(EXACT($L$7>$M$7,L13>M13)*EXACT($L$7=$M$7,L13=M13)*EXACT($L$7<$M$7,L13<M13)),$AN$7,0))) -> 2 | O13: 1 | P13: 2 | Q13: =IF(OR(EXACT($O$7,O13)*(EXACT($P$7,P13)))=TRUE,$AN$9,IF(($P$7-$O$7=P13-O13),$AN$8,IF(OR(EXACT($O$7>$P$7,O13>P13)*EXACT($O$7=$P$7,O13=P13)*EXACT($O$7<$P$7,O13<P13)),$AN$7,0))) -> 5 | R13: 0 | S13: 2 | T13: =IF(OR(EXACT($R$7,R13)*(EXACT($S$7,S13)))=TRUE,$AN$9,IF(($S$7-$R$7=S13-R13),$AN$8,IF(OR(EXACT($R$7>$S$7,R13>S13)*EXACT($R$7=$S$7,R13=S13)*EXACT($R$7<$S$7,R13<S13)),$AN$7,0)))*4 -> 0 | U13: 2 | V13: 2 | W13: =IF(OR(EXACT($U$7,U13)*(EXACT($V$7,V13)))=TRUE,$AN$9,IF(($V$7-$U$7=V13-U13),$AN$8,IF(OR(EXACT($U$7>$V$7,U13>V13)*EXACT($U$7=$V$7,U13=V13)*EXACT($U$7<$V$7,U13<V13)),$AN$7,0))) -> 0 | X13: 0 | Y13: 0 | Z13: =IF(OR(EXACT($X$7,X13)*(EXACT($Y$7,Y13)))=TRUE,$AN$9,IF(($Y$7-$X$7=Y13-X13),$AN$8,IF(OR(EXACT($X$7>$Y$7,X13>Y13)*EXACT($X$7=$Y$7,X13=Y13)*EXACT($X$7<$Y$7,X13<Y13)),$AN$7,0))) -> 0 | AA13: 4 | AB13: 1 | AC13: =IF(OR(EXACT($AA$7,AA13)*(EXACT($AB$7,AB13)))=TRUE,$AN$9,IF(($AB$7-$AA$7=AB13-AA13),$AN$8,IF(OR(EXACT($AA$7>$AB$7,AA13>AB13)*EXACT($AA$7=$AB$7,AA13=AB13)*EXACT($AA$7<$AB$7,AA13<AB13)),$AN$7,0))) -> 0 | AG13: =E13+H13+K13+N13+Q13+T13+W13+Z13+AC13+AF13 -> 9 | AH13: ='1.Spieltag'!AI13 -> 15 | AI13: =AG13+AH13 -> 24 | AJ13: =RANK(AI13,$AI$8:$AI$53) -> 18
A14: =AJ14 -> 12 | B14: ='1.Spieltag'!B14 -> FlorianS04 | C14: 1 | D14: 0 | E14: =IF(OR(EXACT($C$7,C14)*(EXACT($D$7,D14)))=TRUE,$AN$9,IF(($D$7-$C$7=D14-C14),$AN$8,IF(OR(EXACT($C$7>$D$7,C14>D14)*EXACT($C$7=$D$7,C14=D14)*EXACT($C$7<$D$7,C14<D14)),$AN$7,0))) -> 0 | F14: 0 | G14: 1 | H14: =IF(OR(EXACT($F$7,F14)*(EXACT($G$7,G14)))=TRUE,$AN$9,IF(($G$7-$F$7=G14-F14),$AN$8,IF(OR(EXACT($F$7>$G$7,F14>G14)*EXACT($F$7=$G$7,F14=G14)*EXACT($F$7<$G$7,F14<G14)),$AN$7,0))) -> 0 | I14: 2 | J14: 1 | K14: =IF(OR(EXACT($I$7,I14)*(EXACT($J$7,J14)))=TRUE,$AN$9,IF(($J$7-$I$7=J14-I14),$AN$8,IF(OR(EXACT($I$7>$J$7,I14>J14)*EXACT($I$7=$J$7,I14=J14)*EXACT($I$7<$J$7,I14<J14)),$AN$7,0))) -> 0 | L14: 2 | M14: 2 | N14: =IF(OR(EXACT($L$7,L14)*(EXACT($M$7,M14)))=TRUE,$AN$9,IF(($M$7-$L$7=M14-L14),$AN$8,IF(OR(EXACT($L$7>$M$7,L14>M14)*EXACT($L$7=$M$7,L14=M14)*EXACT($L$7<$M$7,L14<M14)),$AN$7,0))) -> 0 | O14: 1 | P14: 0 | Q14: =IF(OR(EXACT($O$7,O14)*(EXACT($P$7,P14)))=TRUE,$AN$9,IF(($P$7-$O$7=P14-O14),$AN$8,IF(OR(EXACT($O$7>$P$7,O14>P14)*EXACT($O$7=$P$7,O14=P14)*EXACT($O$7<$P$7,O14<P14)),$AN$7,0))) -> 0 | R14: 1 | S14: 2 | T14: =IF(OR(EXACT($R$7,R14)*(EXACT($S$7,S14)))=TRUE,$AN$9,IF(($S$7-$R$7=S14-R14),$AN$8,IF(OR(EXACT($R$7>$S$7,R14>S14)*EXACT($R$7=$S$7,R14=S14)*EXACT($R$7<$S$7,R14<S14)),$AN$7,0)))*4 -> 0 | U14: 1 | V14: 1 | W14: =IF(OR(EXACT($U$7,U14)*(EXACT($V$7,V14)))=TRUE,$AN$9,IF(($V$7-$U$7=V14-U14),$AN$8,IF(OR(EXACT($U$7>$V$7,U14>V14)*EXACT($U$7=$V$7,U14=V14)*EXACT($U$7<$V$7,U14<V14)),$AN$7,0))) -> 0 | X14: 0 | Y14: 1 | Z14: =IF(OR(EXACT($X$7,X14)*(EXACT($Y$7,Y14)))=TRUE,$AN$9,IF(($Y$7-$X$7=Y14-X14),$AN$8,IF(OR(EXACT($X$7>$Y$7,X14>Y14)*EXACT($X$7=$Y$7,X14=Y14)*EXACT($X$7<$Y$7,X14<Y14)),$AN$7,0))) -> 0 | AA14: 1 | AB14: 0 | AC14: =IF(OR(EXACT($AA$7,AA14)*(EXACT($AB$7,AB14)))=TRUE,$AN$9,IF(($AB$7-$AA$7=AB14-AA14),$AN$8,IF(OR(EXACT($AA$7>$AB$7,AA14>AB14)*EXACT($AA$7=$AB$7,AA14=AB14)*EXACT($AA$7<$AB$7,AA14<AB14)),$AN$7,0))) -> 0 | AG14: =E14+H14+K14+N14+Q14+T14+W14+Z14+AC14+AF14 -> 0 | AH14: ='1.Spieltag'!AI14 -> 27 | AI14: =AG14+AH14 -> 27 | AJ14: =RANK(AI14,$AI$8:$AI$53) -> 12
A15: =AJ15 -> 1 | B15: ='1.Spieltag'!B15 -> Franzi04 | C15: 1 | D15: 3 | E15: =IF(OR(EXACT($C$7,C15)*(EXACT($D$7,D15)))=TRUE,$AN$9,IF(($D$7-$C$7=D15-C15),$AN$8,IF(OR(EXACT($C$7>$D$7,C15>D15)*EXACT($C$7=$D$7,C15=D15)*EXACT($C$7<$D$7,C15<D15)),$AN$7,0))) -> 2 | F15: 1 | G15: 2 | H15: =IF(OR(EXACT($F$7,F15)*(EXACT($G$7,G15)))=TRUE,$AN$9,IF(($G$7-$F$7=G15-F15),$AN$8,IF(OR(EXACT($F$7>$G$7,F15>G15)*EXACT($F$7=$G$7,F15=G15)*EXACT($F$7<$G$7,F15<G15)),$AN$7,0))) -> 0 | I15: 1 | J15: 2 | K15: =IF(OR(EXACT($I$7,I15)*(EXACT($J$7,J15)))=TRUE,$AN$9,IF(($J$7-$I$7=J15-I15),$AN$8,IF(OR(EXACT($I$7>$J$7,I15>J15)*EXACT($I$7=$J$7,I15=J15)*EXACT($I$7<$J$7,I15<J15)),$AN$7,0))) -> 2 | L15: 2 | M15: 1 | N15: =IF(OR(EXACT($L$7,L15)*(EXACT($M$7,M15)))=TRUE,$AN$9,IF(($M$7-$L$7=M15-L15),$AN$8,IF(OR(EXACT($L$7>$M$7,L15>M15)*EXACT($L$7=$M$7,L15=M15)*EXACT($L$7<$M$7,L15<M15)),$AN$7,0))) -> 3 | O15: 2 | P15: 0 | Q15: =IF(OR(EXACT($O$7,O15)*(EXACT($P$7,P15)))=TRUE,$AN$9,IF(($P$7-$O$7=P15-O15),$AN$8,IF(OR(EXACT($O$7>$P$7,O15>P15)*EXACT($O$7=$P$7,O15=P15)*EXACT($O$7<$P$7,O15<P15)),$AN$7,0))) -> 0 | R15: 1 | S15: 2 | T15: =IF(OR(EXACT($R$7,R15)*(EXACT($S$7,S15)))=TRUE,$AN$9,IF(($S$7-$R$7=S15-R15),$AN$8,IF(OR(EXACT($R$7>$S$7,R15>S15)*EXACT($R$7=$S$7,R15=S15)*EXACT($R$7<$S$7,R15<S15)),$AN$7,0)))*4 -> 0 | U15: 1 | V15: 3 | W15: =IF(OR(EXACT($U$7,U15)*(EXACT($V$7,V15)))=TRUE,$AN$9,IF(($V$7-$U$7=V15-U15),$AN$8,IF(OR(EXACT($U$7>$V$7,U15>V15)*EXACT($U$7=$V$7,U15=V15)*EXACT($U$7<$V$7,U15<V15)),$AN$7,0))) -> 3 | X15: 1 | Y15: 2 | Z15: =IF(OR(EXACT($X$7,X15)*(EXACT($Y$7,Y15)))=TRUE,$AN$9,IF(($Y$7-$X$7=Y15-X15),$AN$8,IF(OR(EXACT($X$7>$Y$7,X15>Y15)*EXACT($X$7=$Y$7,X15=Y15)*EXACT($X$7<$Y$7,X15<Y15)),$AN$7,0))) -> 0 | AA15: 2 | AB15: 1 | AC15: =IF(OR(EXACT($AA$7,AA15)*(EXACT($AB$7,AB15)))=TRUE,$AN$9,IF(($AB$7-$AA$7=AB15-AA15),$AN$8,IF(OR(EXACT($AA$7>$AB$7,AA15>AB15)*EXACT($AA$7=$AB$7,AA15=AB15)*EXACT($AA$7<$AB$7,AA15<AB15)),$AN$7,0))) -> 0 | AG15: =E15+H15+K15+N15+Q15+T15+W15+Z15+AC15+AF15 -> 10 | AH15: ='1.Spieltag'!AI15 -> 34 | AI15: =AG15+AH15 -> 44 | AJ15: =RANK(AI15,$AI$8:$AI$53) -> 1
A16: =AJ16 -> 15 | B16: ='1.Spieltag'!B16 -> Jean-Pierre | C16: 2 | D16: 1 | E16: =IF(OR(EXACT($C$7,C16)*(EXACT($D$7,D16)))=TRUE,$AN$9,IF(($D$7-$C$7=D16-C16),$AN$8,IF(OR(EXACT($C$7>$D$7,C16>D16)*EXACT($C$7=$D$7,C16=D16)*EXACT($C$7<$D$7,C16<D16)),$AN$7,0))) -> 0 | F16: 1 | G16: 2 | H16: =IF(OR(EXACT($F$7,F16)*(EXACT($G$7,G16)))=TRUE,$AN$9,IF(($G$7-$F$7=G16-F16),$AN$8,IF(OR(EXACT($F$7>$G$7,F16>G16)*EXACT($F$7=$G$7,F16=G16)*EXACT($F$7<$G$7,F16<G16)),$AN$7,0))) -> 0 | I16: 1 | J16: 3 | K16: =IF(OR(EXACT($I$7,I16)*(EXACT($J$7,J16)))=TRUE,$AN$9,IF(($J$7-$I$7=J16-I16),$AN$8,IF(OR(EXACT($I$7>$J$7,I16>J16)*EXACT($I$7=$J$7,I16=J16)*EXACT($I$7<$J$7,I16<J16)),$AN$7,0))) -> 3 | L16: 2 | M16: 1 | N16: =IF(OR(EXACT($L$7,L16)*(EXACT($M$7,M16)))=TRUE,$AN$9,IF(($M$7-$L$7=M16-L16),$AN$8,IF(OR(EXACT($L$7>$M$7,L16>M16)*EXACT($L$7=$M$7,L16=M16)*EXACT($L$7<$M$7,L16<M16)),$AN$7,0))) -> 3 | O16: 1 | P16: 1 | Q16: =IF(OR(EXACT($O$7,O16)*(EXACT($P$7,P16)))=TRUE,$AN$9,IF(($P$7-$O$7=P16-O16),$AN$8,IF(OR(EXACT($O$7>$P$7,O16>P16)*EXACT($O$7=$P$7,O16=P16)*EXACT($O$7<$P$7,O16<P16)),$AN$7,0))) -> 0 | R16: 1 | S16: 3 | T16: =IF(OR(EXACT($R$7,R16)*(EXACT($S$7,S16)))=TRUE,$AN$9,IF(($S$7-$R$7=S16-R16),$AN$8,IF(OR(EXACT($R$7>$S$7,R16>S16)*EXACT($R$7=$S$7,R16=S16)*EXACT($R$7<$S$7,R16<S16)),$AN$7,0)))*4 -> 0 | U16: 1 | V16: 1 | W16: =IF(OR(EXACT($U$7,U16)*(EXACT($V$7,V16)))=TRUE,$AN$9,IF(($V$7-$U$7=V16-U16),$AN$8,IF(OR(EXACT($U$7>$V$7,U16>V16)*EXACT($U$7=$V$7,U16=V16)*EXACT($U$7<$V$7,U16<V16)),$AN$7,0))) -> 0 | X16: 2 | Y16: 1 | Z16: =IF(OR(EXACT($X$7,X16)*(EXACT($Y$7,Y16)))=TRUE,$AN$9,IF(($Y$7-$X$7=Y16-X16),$AN$8,IF(OR(EXACT($X$7>$Y$7,X16>Y16)*EXACT($X$7=$Y$7,X16=Y16)*EXACT($X$7<$Y$7,X16<Y16)),$AN$7,0))) -> 2 | AA16: 1 | AB16: 1 | AC16: =IF(OR(EXACT($AA$7,AA16)*(EXACT($AB$7,AB16)))=TRUE,$AN$9,IF(($AB$7-$AA$7=AB16-AA16),$AN$8,IF(OR(EXACT($AA$7>$AB$7,AA16>AB16)*EXACT($AA$7=$AB$7,AA16=AB16)*EXACT($AA$7<$AB$7,AA16<AB16)),$AN$7,0))) -> 3 | AG16: =E16+K16+Q16+T16+N16+H16+W16+Z16+AC16+AF16 -> 11 | AH16: ='1.Spieltag'!AI16 -> 15 | AI16: =AG16+AH16 -> 26 | AJ16: =RANK(AI16,$AI$8:$AI$53) -> 15
A17: =AJ17 -> 26 | B17: ='1.Spieltag'!B17 -> jupp04 | C17: 2 | D17: 1 | E17: =IF(OR(EXACT($C$7,C17)*(EXACT($D$7,D17)))=TRUE,$AN$9,IF(($D$7-$C$7=D17-C17),$AN$8,IF(OR(EXACT($C$7>$D$7,C17>D17)*EXACT($C$7=$D$7,C17=D17)*EXACT($C$7<$D$7,C17<D17)),$AN$7,0))) -> 0 | F17: 1 | G17: 2 | H17: =IF(OR(EXACT($F$7,F17)*(EXACT($G$7,G17)))=TRUE,$AN$9,IF(($G$7-$F$7=G17-F17),$AN$8,IF(OR(EXACT($F$7>$G$7,F17>G17)*EXACT($F$7=$G$7,F17=G17)*EXACT($F$7<$G$7,F17<G17)),$AN$7,0))) -> 0 | I17: 2 | J17: 1 | K17: =IF(OR(EXACT($I$7,I17)*(EXACT($J$7,J17)))=TRUE,$AN$9,IF(($J$7-$I$7=J17-I17),$AN$8,IF(OR(EXACT($I$7>$J$7,I17>J17)*EXACT($I$7=$J$7,I17=J17)*EXACT($I$7<$J$7,I17<J17)),$AN$7,0))) -> 0 | L17: 3 | M17: 1 | N17: =IF(OR(EXACT($L$7,L17)*(EXACT($M$7,M17)))=TRUE,$AN$9,IF(($M$7-$L$7=M17-L17),$AN$8,IF(OR(EXACT($L$7>$M$7,L17>M17)*EXACT($L$7=$M$7,L17=M17)*EXACT($L$7<$M$7,L17<M17)),$AN$7,0))) -> 2 | O17: 2 | P17: 2 | Q17: =IF(OR(EXACT($O$7,O17)*(EXACT($P$7,P17)))=TRUE,$AN$9,IF(($P$7-$O$7=P17-O17),$AN$8,IF(OR(EXACT($O$7>$P$7,O17>P17)*EXACT($O$7=$P$7,O17=P17)*EXACT($O$7<$P$7,O17<P17)),$AN$7,0))) -> 0 | R17: 2 | S17: 2 | T17: =IF(OR(EXACT($R$7,R17)*(EXACT($S$7,S17)))=TRUE,$AN$9,IF(($S$7-$R$7=S17-R17),$AN$8,IF(OR(EXACT($R$7>$S$7,R17>S17)*EXACT($R$7=$S$7,R17=S17)*EXACT($R$7<$S$7,R17<S17)),$AN$7,0)))*4 -> 0 | U17: 2 | V17: 1 | W17: =IF(OR(EXACT($U$7,U17)*(EXACT($V$7,V17)))=TRUE,$AN$9,IF(($V$7-$U$7=V17-U17),$AN$8,IF(OR(EXACT($U$7>$V$7,U17>V17)*EXACT($U$7=$V$7,U17=V17)*EXACT($U$7<$V$7,U17<V17)),$AN$7,0))) -> 0 | X17: 3 | Y17: 1 | Z17: =IF(OR(EXACT($X$7,X17)*(EXACT($Y$7,Y17)))=TRUE,$AN$9,IF(($Y$7-$X$7=Y17-X17),$AN$8,IF(OR(EXACT($X$7>$Y$7,X17>Y17)*EXACT($X$7=$Y$7,X17=Y17)*EXACT($X$7<$Y$7,X17<Y17)),$AN$7,0))) -> 3 | AA17: 3 | AB17: 1 | AC17: =IF(OR(EXACT($AA$7,AA17)*(EXACT($AB$7,AB17)))=TRUE,$AN$9,IF(($AB$7-$AA$7=AB17-AA17),$AN$8,IF(OR(EXACT($AA$7>$AB$7,AA17>AB17)*EXACT($AA$7=$AB$7,AA17=AB17)*EXACT($AA$7<$AB$7,AA17<AB17)),$AN$7,0))) -> 0 | AG17: =E17+H17+K17+N17+Q17+T17+W17+Z17+AC17+AF17 -> 5 | AH17: ='1.Spieltag'!AI17 -> 3 | AI17: =AG17+AH17 -> 8 | AJ17: =RANK(AI17,$AI$8:$AI$53) -> 26
A18: =AJ18 -> 10 | B18: ='1.Spieltag'!B18 -> Justin_Ignr | C18: 2 | D18: 1 | E18: =IF(OR(EXACT($C$7,C18)*(EXACT($D$7,D18)))=TRUE,$AN$9,IF(($D$7-$C$7=D18-C18),$AN$8,IF(OR(EXACT($C$7>$D$7,C18>D18)*EXACT($C$7=$D$7,C18=D18)*EXACT($C$7<$D$7,C18<D18)),$AN$7,0))) -> 0 | F18: 2 | G18: 1 | H18: =IF(OR(EXACT($F$7,F18)*(EXACT($G$7,G18)))=TRUE,$AN$9,IF(($G$7-$F$7=G18-F18),$AN$8,IF(OR(EXACT($F$7>$G$7,F18>G18)*EXACT($F$7=$G$7,F18=G18)*EXACT($F$7<$G$7,F18<G18)),$AN$7,0))) -> 0 | I18: 1 | J18: 1 | K18: =IF(OR(EXACT($I$7,I18)*(EXACT($J$7,J18)))=TRUE,$AN$9,IF(($J$7-$I$7=J18-I18),$AN$8,IF(OR(EXACT($I$7>$J$7,I18>J18)*EXACT($I$7=$J$7,I18=J18)*EXACT($I$7<$J$7,I18<J18)),$AN$7,0))) -> 0 | L18: 2 | M18: 0 | N18: =IF(OR(EXACT($L$7,L18)*(EXACT($M$7,M18)))=TRUE,$AN$9,IF(($M$7-$L$7=M18-L18),$AN$8,IF(OR(EXACT($L$7>$M$7,L18>M18)*EXACT($L$7=$M$7,L18=M18)*EXACT($L$7<$M$7,L18<M18)),$AN$7,0))) -> 2 | O18: 0 | P18: 1 | Q18: =IF(OR(EXACT($O$7,O18)*(EXACT($P$7,P18)))=TRUE,$AN$9,IF(($P$7-$O$7=P18-O18),$AN$8,IF(OR(EXACT($O$7>$P$7,O18>P18)*EXACT($O$7=$P$7,O18=P18)*EXACT($O$7<$P$7,O18<P18)),$AN$7,0))) -> 3 | R18: 0 | S18: 2 | T18: =IF(OR(EXACT($R$7,R18)*(EXACT($S$7,S18)))=TRUE,$AN$9,IF(($S$7-$R$7=S18-R18),$AN$8,IF(OR(EXACT($R$7>$S$7,R18>S18)*EXACT($R$7=$S$7,R18=S18)*EXACT($R$7<$S$7,R18<S18)),$AN$7,0)))*4 -> 0 | U18: 1 | V18: 3 | W18: =IF(OR(EXACT($U$7,U18)*(EXACT($V$7,V18)))=TRUE,$AN$9,IF(($V$7-$U$7=V18-U18),$AN$8,IF(OR(EXACT($U$7>$V$7,U18>V18)*EXACT($U$7=$V$7,U18=V18)*EXACT($U$7<$V$7,U18<V18)),$AN$7,0))) -> 3 | X18: 3 | Y18: 0 | Z18: =IF(OR(EXACT($X$7,X18)*(EXACT($Y$7,Y18)))=TRUE,$AN$9,IF(($Y$7-$X$7=Y18-X18),$AN$8,IF(OR(EXACT($X$7>$Y$7,X18>Y18)*EXACT($X$7=$Y$7,X18=Y18)*EXACT($X$7<$Y$7,X18<Y18)),$AN$7,0))) -> 2 | AA18: 3 | AB18: 2 | AC18: =IF(OR(EXACT($AA$7,AA18)*(EXACT($AB$7,AB18)))=TRUE,$AN$9,IF(($AB$7-$AA$7=AB18-AA18),$AN$8,IF(OR(EXACT($AA$7>$AB$7,AA18>AB18)*EXACT($AA$7=$AB$7,AA18=AB18)*EXACT($AA$7<$AB$7,AA18<AB18)),$AN$7,0))) -> 0 | AG18: =E18+H18+K18+N18+Q18+T18+W18+Z18+AC18+AF18 -> 10 | AH18: ='1.Spieltag'!AI18 -> 18 | AI18: =AG18+AH18 -> 28 | AJ18: =RANK(AI18,$AI$8:$AI$53) -> 10
A19: =AJ19 -> 12 | B19: ='1.Spieltag'!B19 -> Kiki | C19: 3 | D19: 1 | E19: =IF(OR(EXACT($C$7,C19)*(EXACT($D$7,D19)))=TRUE,$AN$9,IF(($D$7-$C$7=D19-C19),$AN$8,IF(OR(EXACT($C$7>$D$7,C19>D19)*EXACT($C$7=$D$7,C19=D19)*EXACT($C$7<$D$7,C19<D19)),$AN$7,0))) -> 0 | F19: 0 | G19: 2 | H19: =IF(OR(EXACT($F$7,F19)*(EXACT($G$7,G19)))=TRUE,$AN$9,IF(($G$7-$F$7=G19-F19),$AN$8,IF(OR(EXACT($F$7>$G$7,F19>G19)*EXACT($F$7=$G$7,F19=G19)*EXACT($F$7<$G$7,F19<G19)),$AN$7,0))) -> 0 | I19: 2 | J19: 1 | K19: =IF(OR(EXACT($I$7,I19)*(EXACT($J$7,J19)))=TRUE,$AN$9,IF(($J$7-$I$7=J19-I19),$AN$8,IF(OR(EXACT($I$7>$J$7,I19>J19)*EXACT($I$7=$J$7,I19=J19)*EXACT($I$7<$J$7,I19<J19)),$AN$7,0))) -> 0 | L19: 2 | M19: 1 | N19: =IF(OR(EXACT($L$7,L19)*(EXACT($M$7,M19)))=TRUE,$AN$9,IF(($M$7-$L$7=M19-L19),$AN$8,IF(OR(EXACT($L$7>$M$7,L19>M19)*EXACT($L$7=$M$7,L19=M19)*EXACT($L$7<$M$7,L19<M19)),$AN$7,0))) -> 3 | O19: 1 | P19: 2 | Q19: =IF(OR(EXACT($O$7,O19)*(EXACT($P$7,P19)))=TRUE,$AN$9,IF(($P$7-$O$7=P19-O19),$AN$8,IF(OR(EXACT($O$7>$P$7,O19>P19)*EXACT($O$7=$P$7,O19=P19)*EXACT($O$7<$P$7,O19<P19)),$AN$7,0))) -> 5 | R19: 1 | S19: 2 | T19: =IF(OR(EXACT($R$7,R19)*(EXACT($S$7,S19)))=TRUE,$AN$9,IF(($S$7-$R$7=S19-R19),$AN$8,IF(OR(EXACT($R$7>$S$7,R19>S19)*EXACT($R$7=$S$7,R19=S19)*EXACT($R$7<$S$7,R19<S19)),$AN$7,0)))*4 -> 0 | U19: 2 | V19: 1 | W19: =IF(OR(EXACT($U$7,U19)*(EXACT($V$7,V19)))=TRUE,$AN$9,IF(($V$7-$U$7=V19-U19),$AN$8,IF(OR(EXACT($U$7>$V$7,U19>V19)*EXACT($U$7=$V$7,U19=V19)*EXACT($U$7<$V$7,U19<V19)),$AN$7,0))) -> 0 | X19: 2 | Y19: 1 | Z19: =IF(OR(EXACT($X$7,X19)*(EXACT($Y$7,Y19)))=TRUE,$AN$9,IF(($Y$7-$X$7=Y19-X19),$AN$8,IF(OR(EXACT($X$7>$Y$7,X19>Y19)*EXACT($X$7=$Y$7,X19=Y19)*EXACT($X$7<$Y$7,X19<Y19)),$AN$7,0))) -> 2 | AA19: 2 | AB19: 1 | AC19: =IF(OR(EXACT($AA$7,AA19)*(EXACT($AB$7,AB19)))=TRUE,$AN$9,IF(($AB$7-$AA$7=AB19-AA19),$AN$8,IF(OR(EXACT($AA$7>$AB$7,AA19>AB19)*EXACT($AA$7=$AB$7,AA19=AB19)*EXACT($AA$7<$AB$7,AA19<AB19)),$AN$7,0))) -> 0 | AG19: =E19+H19+K19+N19+Q19+T19+W19+Z19+AC19+AF19 -> 10 | AH19: ='1.Spieltag'!AI19 -> 17 | AI19: =AG19+AH19 -> 27 | AJ19: =RANK(AI19,$AI$8:$AI$53) -> 12
A20: =AJ20 -> 3 | B20: ='1.Spieltag'!B20 -> Lola04 | C20: 2 | D20: 1 | E20: =IF(OR(EXACT($C$7,C20)*(EXACT($D$7,D20)))=TRUE,$AN$9,IF(($D$7-$C$7=D20-C20),$AN$8,IF(OR(EXACT($C$7>$D$7,C20>D20)*EXACT($C$7=$D$7,C20=D20)*EXACT($C$7<$D$7,C20<D20)),$AN$7,0))) -> 0 | F20: 1 | G20: 0 | H20: =IF(OR(EXACT($F$7,F20)*(EXACT($G$7,G20)))=TRUE,$AN$9,IF(($G$7-$F$7=G20-F20),$AN$8,IF(OR(EXACT($F$7>$G$7,F20>G20)*EXACT($F$7=$G$7,F20=G20)*EXACT($F$7<$G$7,F20<G20)),$AN$7,0))) -> 0 | I20: 3 | J20: 1 | K20: =IF(OR(EXACT($I$7,I20)*(EXACT($J$7,J20)))=TRUE,$AN$9,IF(($J$7-$I$7=J20-I20),$AN$8,IF(OR(EXACT($I$7>$J$7,I20>J20)*EXACT($I$7=$J$7,I20=J20)*EXACT($I$7<$J$7,I20<J20)),$AN$7,0))) -> 0 | L20: 3 | M20: 2 | N20: =IF(OR(EXACT($L$7,L20)*(EXACT($M$7,M20)))=TRUE,$AN$9,IF(($M$7-$L$7=M20-L20),$AN$8,IF(OR(EXACT($L$7>$M$7,L20>M20)*EXACT($L$7=$M$7,L20=M20)*EXACT($L$7<$M$7,L20<M20)),$AN$7,0))) -> 5 | O20: 1 | P20: 1 | Q20: =IF(OR(EXACT($O$7,O20)*(EXACT($P$7,P20)))=TRUE,$AN$9,IF(($P$7-$O$7=P20-O20),$AN$8,IF(OR(EXACT($O$7>$P$7,O20>P20)*EXACT($O$7=$P$7,O20=P20)*EXACT($O$7<$P$7,O20<P20)),$AN$7,0))) -> 0 | R20: 1 | S20: 2 | T20: =IF(OR(EXACT($R$7,R20)*(EXACT($S$7,S20)))=TRUE,$AN$9,IF(($S$7-$R$7=S20-R20),$AN$8,IF(OR(EXACT($R$7>$S$7,R20>S20)*EXACT($R$7=$S$7,R20=S20)*EXACT($R$7<$S$7,R20<S20)),$AN$7,0)))*4 -> 0 | U20: 2 | V20: 1 | W20: =IF(OR(EXACT($U$7,U20)*(EXACT($V$7,V20)))=TRUE,$AN$9,IF(($V$7-$U$7=V20-U20),$AN$8,IF(OR(EXACT($U$7>$V$7,U20>V20)*EXACT($U$7=$V$7,U20=V20)*EXACT($U$7<$V$7,U20<V20)),$AN$7,0))) -> 0 | X20: 3 | Y20: 2 | Z20: =IF(OR(EXACT($X$7,X20)*(EXACT($Y$7,Y20)))=TRUE,$AN$9,IF(($Y$7-$X$7=Y20-X20),$AN$8,IF(OR(EXACT($X$7>$Y$7,X20>Y20)*EXACT($X$7=$Y$7,X20=Y20)*EXACT($X$7<$Y$7,X20<Y20)),$AN$7,0))) -> 2 | AA20: 2 | AB20: 1 | AC20: =IF(OR(EXACT($AA$7,AA20)*(EXACT($AB$7,AB20)))=TRUE,$AN$9,IF(($AB$7-$AA$7=AB20-AA20),$AN$8,IF(OR(EXACT($AA$7>$AB$7,AA20>AB20)*EXACT($AA$7=$AB$7,AA20=AB20)*EXACT($AA$7<$AB$7,AA20<AB20)),$AN$7,0))) -> 0 | AG20: =E20+H20+K20+N20+Q20+T20+W20+Z20+AC20+AF20 -> 7 | AH20: ='1.Spieltag'!AI20 -> 31 | AI20: =AG20+AH20 -> 38 | AJ20: =RANK(AI20,$AI$8:$AI$53) -> 3
A21: =AJ21 -> 18 | B21: ='1.Spieltag'!B21 -> Master1 | C21: 2 | D21: 1 | E21: =IF(OR(EXACT($C$7,C21)*(EXACT($D$7,D21)))=TRUE,$AN$9,IF(($D$7-$C$7=D21-C21),$AN$8,IF(OR(EXACT($C$7>$D$7,C21>D21)*EXACT($C$7=$D$7,C21=D21)*EXACT($C$7<$D$7,C21<D21)),$AN$7,0))) -> 0 | F21: 1 | G21: 1 | H21: =IF(OR(EXACT($F$7,F21)*(EXACT($G$7,G21)))=TRUE,$AN$9,IF(($G$7-$F$7=G21-F21),$AN$8,IF(OR(EXACT($F$7>$G$7,F21>G21)*EXACT($F$7=$G$7,F21=G21)*EXACT($F$7<$G$7,F21<G21)),$AN$7,0))) -> 5 | I21: 2 | J21: 2 | K21: =IF(OR(EXACT($I$7,I21)*(EXACT($J$7,J21)))=TRUE,$AN$9,IF(($J$7-$I$7=J21-I21),$AN$8,IF(OR(EXACT($I$7>$J$7,I21>J21)*EXACT($I$7=$J$7,I21=J21)*EXACT($I$7<$J$7,I21<J21)),$AN$7,0))) -> 0 | L21: 1 | M21: 1 | N21: =IF(OR(EXACT($L$7,L21)*(EXACT($M$7,M21)))=TRUE,$AN$9,IF(($M$7-$L$7=M21-L21),$AN$8,IF(OR(EXACT($L$7>$M$7,L21>M21)*EXACT($L$7=$M$7,L21=M21)*EXACT($L$7<$M$7,L21<M21)),$AN$7,0))) -> 0 | O21: 2 | P21: 1 | Q21: =IF(OR(EXACT($O$7,O21)*(EXACT($P$7,P21)))=TRUE,$AN$9,IF(($P$7-$O$7=P21-O21),$AN$8,IF(OR(EXACT($O$7>$P$7,O21>P21)*EXACT($O$7=$P$7,O21=P21)*EXACT($O$7<$P$7,O21<P21)),$AN$7,0))) -> 0 | R21: 1 | S21: 2 | T21: =IF(OR(EXACT($R$7,R21)*(EXACT($S$7,S21)))=TRUE,$AN$9,IF(($S$7-$R$7=S21-R21),$AN$8,IF(OR(EXACT($R$7>$S$7,R21>S21)*EXACT($R$7=$S$7,R21=S21)*EXACT($R$7<$S$7,R21<S21)),$AN$7,0)))*4 -> 0 | U21: 1 | V21: 3 | W21: =IF(OR(EXACT($U$7,U21)*(EXACT($V$7,V21)))=TRUE,$AN$9,IF(($V$7-$U$7=V21-U21),$AN$8,IF(OR(EXACT($U$7>$V$7,U21>V21)*EXACT($U$7=$V$7,U21=V21)*EXACT($U$7<$V$7,U21<V21)),$AN$7,0))) -> 3 | X21: 2 | Y21: 2 | Z21: =IF(OR(EXACT($X$7,X21)*(EXACT($Y$7,Y21)))=TRUE,$AN$9,IF(($Y$7-$X$7=Y21-X21),$AN$8,IF(OR(EXACT($X$7>$Y$7,X21>Y21)*EXACT($X$7=$Y$7,X21=Y21)*EXACT($X$7<$Y$7,X21<Y21)),$AN$7,0))) -> 0 | AA21: 1 | AB21: 2 | AC21: =IF(OR(EXACT($AA$7,AA21)*(EXACT($AB$7,AB21)))=TRUE,$AN$9,IF(($AB$7-$AA$7=AB21-AA21),$AN$8,IF(OR(EXACT($AA$7>$AB$7,AA21>AB21)*EXACT($AA$7=$AB$7,AA21=AB21)*EXACT($AA$7<$AB$7,AA21<AB21)),$AN$7,0))) -> 0 | AG21: =E21+H21+K21+N21+Q21+T21+W21+Z21+AC21+AF21 -> 8 | AH21: ='1.Spieltag'!AI21 -> 16 | AI21: =AG21+AH21 -> 24 | AJ21: =RANK(AI21,$AI$8:$AI$53) -> 18
A22: =AJ22 -> 20 | B22: ='1.Spieltag'!B22 -> Mike04 | C22: 2 | D22: 1 | E22: =IF(OR(EXACT($C$7,C22)*(EXACT($D$7,D22)))=TRUE,$AN$9,IF(($D$7-$C$7=D22-C22),$AN$8,IF(OR(EXACT($C$7>$D$7,C22>D22)*EXACT($C$7=$D$7,C22=D22)*EXACT($C$7<$D$7,C22<D22)),$AN$7,0))) -> 0 | F22: 0 | G22: 2 | H22: =IF(OR(EXACT($F$7,F22)*(EXACT($G$7,G22)))=TRUE,$AN$9,IF(($G$7-$F$7=G22-F22),$AN$8,IF(OR(EXACT($F$7>$G$7,F22>G22)*EXACT($F$7=$G$7,F22=G22)*EXACT($F$7<$G$7,F22<G22)),$AN$7,0))) -> 0 | I22: 2 | J22: 1 | K22: =IF(OR(EXACT($I$7,I22)*(EXACT($J$7,J22)))=TRUE,$AN$9,IF(($J$7-$I$7=J22-I22),$AN$8,IF(OR(EXACT($I$7>$J$7,I22>J22)*EXACT($I$7=$J$7,I22=J22)*EXACT($I$7<$J$7,I22<J22)),$AN$7,0))) -> 0 | L22: 1 | M22: 0 | N22: =IF(OR(EXACT($L$7,L22)*(EXACT($M$7,M22)))=TRUE,$AN$9,IF(($M$7-$L$7=M22-L22),$AN$8,IF(OR(EXACT($L$7>$M$7,L22>M22)*EXACT($L$7=$M$7,L22=M22)*EXACT($L$7<$M$7,L22<M22)),$AN$7,0))) -> 3 | O22: 2 | P22: 0 | Q22: =IF(OR(EXACT($O$7,O22)*(EXACT($P$7,P22)))=TRUE,$AN$9,IF(($P$7-$O$7=P22-O22),$AN$8,IF(OR(EXACT($O$7>$P$7,O22>P22)*EXACT($O$7=$P$7,O22=P22)*EXACT($O$7<$P$7,O22<P22)),$AN$7,0))) -> 0 | R22: 0 | S22: 2 | T22: =IF(OR(EXACT($R$7,R22)*(EXACT($S$7,S22)))=TRUE,$AN$9,IF(($S$7-$R$7=S22-R22),$AN$8,IF(OR(EXACT($R$7>$S$7,R22>S22)*EXACT($R$7=$S$7,R22=S22)*EXACT($R$7<$S$7,R22<S22)),$AN$7,0)))*4 -> 0 | U22: 1 | V22: 1 | W22: =IF(OR(EXACT($U$7,U22)*(EXACT($V$7,V22)))=TRUE,$AN$9,IF(($V$7-$U$7=V22-U22),$AN$8,IF(OR(EXACT($U$7>$V$7,U22>V22)*EXACT($U$7=$V$7,U22=V22)*EXACT($U$7<$V$7,U22<V22)),$AN$7,0))) -> 0 | X22: 2 | Y22: 1 | Z22: =IF(OR(EXACT($X$7,X22)*(EXACT($Y$7,Y22)))=TRUE,$AN$9,IF(($Y$7-$X$7=Y22-X22),$AN$8,IF(OR(EXACT($X$7>$Y$7,X22>Y22)*EXACT($X$7=$Y$7,X22=Y22)*EXACT($X$7<$Y$7,X22<Y22)),$AN$7,0))) -> 2 | AA22: 2 | AB22: 1 | AC22: =IF(OR(EXACT($AA$7,AA22)*(EXACT($AB$7,AB22)))=TRUE,$AN$9,IF(($AB$7-$AA$7=AB22-AA22),$AN$8,IF(OR(EXACT($AA$7>$AB$7,AA22>AB22)*EXACT($AA$7=$AB$7,AA22=AB22)*EXACT($AA$7<$AB$7,AA22<AB22)),$AN$7,0))) -> 0 | AG22: =E22+H22+K22+N22+Q22+T22+W22+Z22+AC22+AF22 -> 5 | AH22: ='1.Spieltag'!AI22 -> 17 | AI22: =AG22+AH22 -> 22 | AJ22: =RANK(AI22,$AI$8:$AI$53) -> 20
A23: =AJ23 -> 25 | B23: ='1.Spieltag'!B23 -> Nico1904 | AG23: =E23+H23+K23+N23+Q23+T23+W23+Z23+AC23+AF23 -> 0 | AH23: ='1.Spieltag'!AI23 -> 11 | AI23: =AG23+AH23 -> 11 | AJ23: =RANK(AI23,$AI$8:$AI$53) -> 25
A24: =AJ24 -> 5 | B24: ='1.Spieltag'!B24 -> Reinhold | C24: 1 | D24: 2 | E24: =IF(OR(EXACT($C$7,C24)*(EXACT($D$7,D24)))=TRUE,$AN$9,IF(($D$7-$C$7=D24-C24),$AN$8,IF(OR(EXACT($C$7>$D$7,C24>D24)*EXACT($C$7=$D$7,C24=D24)*EXACT($C$7<$D$7,C24<D24)),$AN$7,0))) -> 3 | F24: 2 | G24: 2 | H24: =IF(OR(EXACT($F$7,F24)*(EXACT($G$7,G24)))=TRUE,$AN$9,IF(($G$7-$F$7=G24-F24),$AN$8,IF(OR(EXACT($F$7>$G$7,F24>G24)*EXACT($F$7=$G$7,F24=G24)*EXACT($F$7<$G$7,F24<G24)),$AN$7,0))) -> 3 | I24: 1 | J24: 2 | K24: =IF(OR(EXACT($I$7,I24)*(EXACT($J$7,J24)))=TRUE,$AN$9,IF(($J$7-$I$7=J24-I24),$AN$8,IF(OR(EXACT($I$7>$J$7,I24>J24)*EXACT($I$7=$J$7,I24=J24)*EXACT($I$7<$J$7,I24<J24)),$AN$7,0))) -> 2 | L24: 2 | M24: 1 | N24: =IF(OR(EXACT($L$7,L24)*(EXACT($M$7,M24)))=TRUE,$AN$9,IF(($M$7-$L$7=M24-L24),$AN$8,IF(OR(EXACT($L$7>$M$7,L24>M24)*EXACT($L$7=$M$7,L24=M24)*EXACT($L$7<$M$7,L24<M24)),$AN$7,0))) -> 3 | O24: 1 | P24: 3 | Q24: =IF(OR(EXACT($O$7,O24)*(EXACT($P$7,P24)))=TRUE,$AN$9,IF(($P$7-$O$7=P24-O24),$AN$8,IF(OR(EXACT($O$7>$P$7,O24>P24)*EXACT($O$7=$P$7,O24=P24)*EXACT($O$7<$P$7,O24<P24)),$AN$7,0))) -> 2 | R24: 1 | S24: 3 | T24: =IF(OR(EXACT($R$7,R24)*(EXACT($S$7,S24)))=TRUE,$AN$9,IF(($S$7-$R$7=S24-R24),$AN$8,IF(OR(EXACT($R$7>$S$7,R24>S24)*EXACT($R$7=$S$7,R24=S24)*EXACT($R$7<$S$7,R24<S24)),$AN$7,0)))*4 -> 0 | U24: 2 | V24: 2 | W24: =IF(OR(EXACT($U$7,U24)*(EXACT($V$7,V24)))=TRUE,$AN$9,IF(($V$7-$U$7=V24-U24),$AN$8,IF(OR(EXACT($U$7>$V$7,U24>V24)*EXACT($U$7=$V$7,U24=V24)*EXACT($U$7<$V$7,U24<V24)),$AN$7,0))) -> 0 | X24: 2 | Y24: 1 | Z24: =IF(OR(EXACT($X$7,X24)*(EXACT($Y$7,Y24)))=TRUE,$AN$9,IF(($Y$7-$X$7=Y24-X24),$AN$8,IF(OR(EXACT($X$7>$Y$7,X24>Y24)*EXACT($X$7=$Y$7,X24=Y24)*EXACT($X$7<$Y$7,X24<Y24)),$AN$7,0))) -> 2 | AA24: 3 | AB24: 1 | AC24: =IF(OR(EXACT($AA$7,AA24)*(EXACT($AB$7,AB24)))=TRUE,$AN$9,IF(($AB$7-$AA$7=AB24-AA24),$AN$8,IF(OR(EXACT($AA$7>$AB$7,AA24>AB24)*EXACT($AA$7=$AB$7,AA24=AB24)*EXACT($AA$7<$AB$7,AA24<AB24)),$AN$7,0))) -> 0 | AG24: =E24+H24+K24+N24+Q24+T24+W24+Z24+AC24+AF24 -> 15 | AH24: ='1.Spieltag'!AI24 -> 21 | AI24: =AG24+AH24 -> 36 | AJ24: =RANK(AI24,$AI$8:$AI$53) -> 5
A25: =AJ25 -> 2 | B25: ='1.Spieltag'!B25 -> ReneMause | C25: 2 | D25: 1 | E25: =IF(OR(EXACT($C$7,C25)*(EXACT($D$7,D25)))=TRUE,$AN$9,IF(($D$7-$C$7=D25-C25),$AN$8,IF(OR(EXACT($C$7>$D$7,C25>D25)*EXACT($C$7=$D$7,C25=D25)*EXACT($C$7<$D$7,C25<D25)),$AN$7,0))) -> 0 | F25: 1 | G25: 1 | H25: =IF(OR(EXACT($F$7,F25)*(EXACT($G$7,G25)))=TRUE,$AN$9,IF(($G$7-$F$7=G25-F25),$AN$8,IF(OR(EXACT($F$7>$G$7,F25>G25)*EXACT($F$7=$G$7,F25=G25)*EXACT($F$7<$G$7,F25<G25)),$AN$7,0))) -> 5 | I25: 3 | J25: 1 | K25: =IF(OR(EXACT($I$7,I25)*(EXACT($J$7,J25)))=TRUE,$AN$9,IF(($J$7-$I$7=J25-I25),$AN$8,IF(OR(EXACT($I$7>$J$7,I25>J25)*EXACT($I$7=$J$7,I25=J25)*EXACT($I$7<$J$7,I25<J25)),$AN$7,0))) -> 0 | L25: 2 | M25: 2 | N25: =IF(OR(EXACT($L$7,L25)*(EXACT($M$7,M25)))=TRUE,$AN$9,IF(($M$7-$L$7=M25-L25),$AN$8,IF(OR(EXACT($L$7>$M$7,L25>M25)*EXACT($L$7=$M$7,L25=M25)*EXACT($L$7<$M$7,L25<M25)),$AN$7,0))) -> 0 | O25: 1 | P25: 0 | Q25: =IF(OR(EXACT($O$7,O25)*(EXACT($P$7,P25)))=TRUE,$AN$9,IF(($P$7-$O$7=P25-O25),$AN$8,IF(OR(EXACT($O$7>$P$7,O25>P25)*EXACT($O$7=$P$7,O25=P25)*EXACT($O$7<$P$7,O25<P25)),$AN$7,0))) -> 0 | R25: 0 | S25: 1 | T25: =IF(OR(EXACT($R$7,R25)*(EXACT($S$7,S25)))=TRUE,$AN$9,IF(($S$7-$R$7=S25-R25),$AN$8,IF(OR(EXACT($R$7>$S$7,R25>S25)*EXACT($R$7=$S$7,R25=S25)*EXACT($R$7<$S$7,R25<S25)),$AN$7,0)))*4 -> 0 | U25: 2 | V25: 0 | W25: =IF(OR(EXACT($U$7,U25)*(EXACT($V$7,V25)))=TRUE,$AN$9,IF(($V$7-$U$7=V25-U25),$AN$8,IF(OR(EXACT($U$7>$V$7,U25>V25)*EXACT($U$7=$V$7,U25=V25)*EXACT($U$7<$V$7,U25<V25)),$AN$7,0))) -> 0 | X25: 2 | Y25: 0 | Z25: =IF(OR(EXACT($X$7,X25)*(EXACT($Y$7,Y25)))=TRUE,$AN$9,IF(($Y$7-$X$7=Y25-X25),$AN$8,IF(OR(EXACT($X$7>$Y$7,X25>Y25)*EXACT($X$7=$Y$7,X25=Y25)*EXACT($X$7<$Y$7,X25<Y25)),$AN$7,0))) -> 5 | AA25: 3 | AB25: 2 | AC25: =IF(OR(EXACT($AA$7,AA25)*(EXACT($AB$7,AB25)))=TRUE,$AN$9,IF(($AB$7-$AA$7=AB25-AA25),$AN$8,IF(OR(EXACT($AA$7>$AB$7,AA25>AB25)*EXACT($AA$7=$AB$7,AA25=AB25)*EXACT($AA$7<$AB$7,AA25<AB25)),$AN$7,0))) -> 0 | AG25: =E25+H25+K25+N25+Q25+T25+W25+Z25+AC25+AF25 -> 10 | AH25: ='1.Spieltag'!AI25 -> 29 | AI25: =AG25+AH25 -> 39 | AJ25: =RANK(AI25,$AI$8:$AI$53) -> 2
A26: =AJ26 -> 8 | B26: ='1.Spieltag'!B26 -> Ricardo04 | C26: 1 | D26: 2 | E26: =IF(OR(EXACT($C$7,C26)*(EXACT($D$7,D26)))=TRUE,$AN$9,IF(($D$7-$C$7=D26-C26),$AN$8,IF(OR(EXACT($C$7>$D$7,C26>D26)*EXACT($C$7=$D$7,C26=D26)*EXACT($C$7<$D$7,C26<D26)),$AN$7,0))) -> 3 | F26: 1 | G26: 3 | H26: =IF(OR(EXACT($F$7,F26)*(EXACT($G$7,G26)))=TRUE,$AN$9,IF(($G$7-$F$7=G26-F26),$AN$8,IF(OR(EXACT($F$7>$G$7,F26>G26)*EXACT($F$7=$G$7,F26=G26)*EXACT($F$7<$G$7,F26<G26)),$AN$7,0))) -> 0 | I26: 2 | J26: 1 | K26: =IF(OR(EXACT($I$7,I26)*(EXACT($J$7,J26)))=TRUE,$AN$9,IF(($J$7-$I$7=J26-I26),$AN$8,IF(OR(EXACT($I$7>$J$7,I26>J26)*EXACT($I$7=$J$7,I26=J26)*EXACT($I$7<$J$7,I26<J26)),$AN$7,0))) -> 0 | L26: 3 | M26: 1 | N26: =IF(OR(EXACT($L$7,L26)*(EXACT($M$7,M26)))=TRUE,$AN$9,IF(($M$7-$L$7=M26-L26),$AN$8,IF(OR(EXACT($L$7>$M$7,L26>M26)*EXACT($L$7=$M$7,L26=M26)*EXACT($L$7<$M$7,L26<M26)),$AN$7,0))) -> 2 | O26: 1 | P26: 2 | Q26: =IF(OR(EXACT($O$7,O26)*(EXACT($P$7,P26)))=TRUE,$AN$9,IF(($P$7-$O$7=P26-O26),$AN$8,IF(OR(EXACT($O$7>$P$7,O26>P26)*EXACT($O$7=$P$7,O26=P26)*EXACT($O$7<$P$7,O26<P26)),$AN$7,0))) -> 5 | R26: 0 | S26: 2 | T26: =IF(OR(EXACT($R$7,R26)*(EXACT($S$7,S26)))=TRUE,$AN$9,IF(($S$7-$R$7=S26-R26),$AN$8,IF(OR(EXACT($R$7>$S$7,R26>S26)*EXACT($R$7=$S$7,R26=S26)*EXACT($R$7<$S$7,R26<S26)),$AN$7,0)))*4 -> 0 | U26: 1 | V26: 2 | W26: =IF(OR(EXACT($U$7,U26)*(EXACT($V$7,V26)))=TRUE,$AN$9,IF(($V$7-$U$7=V26-U26),$AN$8,IF(OR(EXACT($U$7>$V$7,U26>V26)*EXACT($U$7=$V$7,U26=V26)*EXACT($U$7<$V$7,U26<V26)),$AN$7,0))) -> 2 | X26: 2 | Y26: 1 | Z26: =IF(OR(EXACT($X$7,X26)*(EXACT($Y$7,Y26)))=TRUE,$AN$9,IF(($Y$7-$X$7=Y26-X26),$AN$8,IF(OR(EXACT($X$7>$Y$7,X26>Y26)*EXACT($X$7=$Y$7,X26=Y26)*EXACT($X$7<$Y$7,X26<Y26)),$AN$7,0))) -> 2 | AA26: 2 | AB26: 1 | AC26: =IF(OR(EXACT($AA$7,AA26)*(EXACT($AB$7,AB26)))=TRUE,$AN$9,IF(($AB$7-$AA$7=AB26-AA26),$AN$8,IF(OR(EXACT($AA$7>$AB$7,AA26>AB26)*EXACT($AA$7=$AB$7,AA26=AB26)*EXACT($AA$7<$AB$7,AA26<AB26)),$AN$7,0))) -> 0 | AG26: =E26+H26+K26+N26+Q26+T26+W26+Z26+AC26+AF26 -> 14 | AH26: ='1.Spieltag'!AI26 -> 15 | AI26: =AG26+AH26 -> 29 | AJ26: =RANK(AI26,$AI$8:$AI$53) -> 8
A27: =AJ27 -> 24 | B27: ='1.Spieltag'!B27 -> Schalt04 | C27: 2 | D27: 1 | E27: =IF(OR(EXACT($C$7,C27)*(EXACT($D$7,D27)))=TRUE,$AN$9,IF(($D$7-$C$7=D27-C27),$AN$8,IF(OR(EXACT($C$7>$D$7,C27>D27)*EXACT($C$7=$D$7,C27=D27)*EXACT($C$7<$D$7,C27<D27)),$AN$7,0))) -> 0 | F27: 1 | G27: 2 | H27: =IF(OR(EXACT($F$7,F27)*(EXACT($G$7,G27)))=TRUE,$AN$9,IF(($G$7-$F$7=G27-F27),$AN$8,IF(OR(EXACT($F$7>$G$7,F27>G27)*EXACT($F$7=$G$7,F27=G27)*EXACT($F$7<$G$7,F27<G27)),$AN$7,0))) -> 0 | I27: 2 | J27: 0 | K27: =IF(OR(EXACT($I$7,I27)*(EXACT($J$7,J27)))=TRUE,$AN$9,IF(($J$7-$I$7=J27-I27),$AN$8,IF(OR(EXACT($I$7>$J$7,I27>J27)*EXACT($I$7=$J$7,I27=J27)*EXACT($I$7<$J$7,I27<J27)),$AN$7,0))) -> 0 | L27: 1 | M27: 1 | N27: =IF(OR(EXACT($L$7,L27)*(EXACT($M$7,M27)))=TRUE,$AN$9,IF(($M$7-$L$7=M27-L27),$AN$8,IF(OR(EXACT($L$7>$M$7,L27>M27)*EXACT($L$7=$M$7,L27=M27)*EXACT($L$7<$M$7,L27<M27)),$AN$7,0))) -> 0 | O27: 1 | P27: 1 | Q27: =IF(OR(EXACT($O$7,O27)*(EXACT($P$7,P27)))=TRUE,$AN$9,IF(($P$7-$O$7=P27-O27),$AN$8,IF(OR(EXACT($O$7>$P$7,O27>P27)*EXACT($O$7=$P$7,O27=P27)*EXACT($O$7<$P$7,O27<P27)),$AN$7,0))) -> 0 | R27: 1 | S27: 2 | T27: =IF(OR(EXACT($R$7,R27)*(EXACT($S$7,S27)))=TRUE,$AN$9,IF(($S$7-$R$7=S27-R27),$AN$8,IF(OR(EXACT($R$7>$S$7,R27>S27)*EXACT($R$7=$S$7,R27=S27)*EXACT($R$7<$S$7,R27<S27)),$AN$7,0)))*4 -> 0 | U27: 1 | V27: 1 | W27: =IF(OR(EXACT($U$7,U27)*(EXACT($V$7,V27)))=TRUE,$AN$9,IF(($V$7-$U$7=V27-U27),$AN$8,IF(OR(EXACT($U$7>$V$7,U27>V27)*EXACT($U$7=$V$7,U27=V27)*EXACT($U$7<$V$7,U27<V27)),$AN$7,0))) -> 0 | X27: 2 | Y27: 1 | Z27: =IF(OR(EXACT($X$7,X27)*(EXACT($Y$7,Y27)))=TRUE,$AN$9,IF(($Y$7-$X$7=Y27-X27),$AN$8,IF(OR(EXACT($X$7>$Y$7,X27>Y27)*EXACT($X$7=$Y$7,X27=Y27)*EXACT($X$7<$Y$7,X27<Y27)),$AN$7,0))) -> 2 | AA27: 2 | AB27: 1 | AC27: =IF(OR(EXACT($AA$7,AA27)*(EXACT($AB$7,AB27)))=TRUE,$AN$9,IF(($AB$7-$AA$7=AB27-AA27),$AN$8,IF(OR(EXACT($AA$7>$AB$7,AA27>AB27)*EXACT($AA$7=$AB$7,AA27=AB27)*EXACT($AA$7<$AB$7,AA27<AB27)),$AN$7,0))) -> 0 | AG27: =E27+H27+K27+N27+Q27+T27+W27+Z27+AC27+AF27 -> 2 | AH27: ='1.Spieltag'!AI27 -> 11 | AI27: =AG27+AH27 -> 13 | AJ27: =RANK(AI27,$AI$8:$AI$53) -> 24
A28: =AJ28 -> 10 | B28: ='1.Spieltag'!B28 -> schmiddi04 | C28: 1 | D28: 0 | E28: =IF(OR(EXACT($C$7,C28)*(EXACT($D$7,D28)))=TRUE,$AN$9,IF(($D$7-$C$7=D28-C28),$AN$8,IF(OR(EXACT($C$7>$D$7,C28>D28)*EXACT($C$7=$D$7,C28=D28)*EXACT($C$7<$D$7,C28<D28)),$AN$7,0))) -> 0 | F28: 1 | G28: 1 | H28: =IF(OR(EXACT($F$7,F28)*(EXACT($G$7,G28)))=TRUE,$AN$9,IF(($G$7-$F$7=G28-F28),$AN$8,IF(OR(EXACT($F$7>$G$7,F28>G28)*EXACT($F$7=$G$7,F28=G28)*EXACT($F$7<$G$7,F28<G28)),$AN$7,0))) -> 5 | I28: 1 | J28: 0 | K28: =IF(OR(EXACT($I$7,I28)*(EXACT($J$7,J28)))=TRUE,$AN$9,IF(($J$7-$I$7=J28-I28),$AN$8,IF(OR(EXACT($I$7>$J$7,I28>J28)*EXACT($I$7=$J$7,I28=J28)*EXACT($I$7<$J$7,I28<J28)),$AN$7,0))) -> 0 | L28: 2 | M28: 1 | N28: =IF(OR(EXACT($L$7,L28)*(EXACT($M$7,M28)))=TRUE,$AN$9,IF(($M$7-$L$7=M28-L28),$AN$8,IF(OR(EXACT($L$7>$M$7,L28>M28)*EXACT($L$7=$M$7,L28=M28)*EXACT($L$7<$M$7,L28<M28)),$AN$7,0))) -> 3 | O28: 0 | P28: 2 | Q28: =IF(OR(EXACT($O$7,O28)*(EXACT($P$7,P28)))=TRUE,$AN$9,IF(($P$7-$O$7=P28-O28),$AN$8,IF(OR(EXACT($O$7>$P$7,O28>P28)*EXACT($O$7=$P$7,O28=P28)*EXACT($O$7<$P$7,O28<P28)),$AN$7,0))) -> 2 | R28: 0 | S28: 1 | T28: =IF(OR(EXACT($R$7,R28)*(EXACT($S$7,S28)))=TRUE,$AN$9,IF(($S$7-$R$7=S28-R28),$AN$8,IF(OR(EXACT($R$7>$S$7,R28>S28)*EXACT($R$7=$S$7,R28=S28)*EXACT($R$7<$S$7,R28<S28)),$AN$7,0)))*4 -> 0 | U28: 1 | V28: 1 | W28: =IF(OR(EXACT($U$7,U28)*(EXACT($V$7,V28)))=TRUE,$AN$9,IF(($V$7-$U$7=V28-U28),$AN$8,IF(OR(EXACT($U$7>$V$7,U28>V28)*EXACT($U$7=$V$7,U28=V28)*EXACT($U$7<$V$7,U28<V28)),$AN$7,0))) -> 0 | X28: 1 | Y28: 0 | Z28: =IF(OR(EXACT($X$7,X28)*(EXACT($Y$7,Y28)))=TRUE,$AN$9,IF(($Y$7-$X$7=Y28-X28),$AN$8,IF(OR(EXACT($X$7>$Y$7,X28>Y28)*EXACT($X$7=$Y$7,X28=Y28)*EXACT($X$7<$Y$7,X28<Y28)),$AN$7,0))) -> 2 | AA28: 0 | AB28: 2 | AC28: =IF(OR(EXACT($AA$7,AA28)*(EXACT($AB$7,AB28)))=TRUE,$AN$9,IF(($AB$7-$AA$7=AB28-AA28),$AN$8,IF(OR(EXACT($AA$7>$AB$7,AA28>AB28)*EXACT($AA$7=$AB$7,AA28=AB28)*EXACT($AA$7<$AB$7,AA28<AB28)),$AN$7,0))) -> 0 | AG28: =E28+H28+K28+N28+Q28+T28+W28+Z28+AC28+AF28 -> 12 | AH28: ='1.Spieltag'!AI28 -> 16 | AI28: =AG28+AH28 -> 28 | AJ28: =RANK(AI28,$AI$8:$AI$53) -> 10
A29: =AJ29 -> 7 | B29: ='1.Spieltag'!B29 -> shiny | C29: 2 | D29: 1 | E29: =IF(OR(EXACT($C$7,C29)*(EXACT($D$7,D29)))=TRUE,$AN$9,IF(($D$7-$C$7=D29-C29),$AN$8,IF(OR(EXACT($C$7>$D$7,C29>D29)*EXACT($C$7=$D$7,C29=D29)*EXACT($C$7<$D$7,C29<D29)),$AN$7,0))) -> 0 | F29: 1 | G29: 2 | H29: =IF(OR(EXACT($F$7,F29)*(EXACT($G$7,G29)))=TRUE,$AN$9,IF(($G$7-$F$7=G29-F29),$AN$8,IF(OR(EXACT($F$7>$G$7,F29>G29)*EXACT($F$7=$G$7,F29=G29)*EXACT($F$7<$G$7,F29<G29)),$AN$7,0))) -> 0 | I29: 2 | J29: 0 | K29: =IF(OR(EXACT($I$7,I29)*(EXACT($J$7,J29)))=TRUE,$AN$9,IF(($J$7-$I$7=J29-I29),$AN$8,IF(OR(EXACT($I$7>$J$7,I29>J29)*EXACT($I$7=$J$7,I29=J29)*EXACT($I$7<$J$7,I29<J29)),$AN$7,0))) -> 0 | L29: 1 | M29: 1 | N29: =IF(OR(EXACT($L$7,L29)*(EXACT($M$7,M29)))=TRUE,$AN$9,IF(($M$7-$L$7=M29-L29),$AN$8,IF(OR(EXACT($L$7>$M$7,L29>M29)*EXACT($L$7=$M$7,L29=M29)*EXACT($L$7<$M$7,L29<M29)),$AN$7,0))) -> 0 | O29: 1 | P29: 1 | Q29: =IF(OR(EXACT($O$7,O29)*(EXACT($P$7,P29)))=TRUE,$AN$9,IF(($P$7-$O$7=P29-O29),$AN$8,IF(OR(EXACT($O$7>$P$7,O29>P29)*EXACT($O$7=$P$7,O29=P29)*EXACT($O$7<$P$7,O29<P29)),$AN$7,0))) -> 0 | R29: 1 | S29: 2 | T29: =IF(OR(EXACT($R$7,R29)*(EXACT($S$7,S29)))=TRUE,$AN$9,IF(($S$7-$R$7=S29-R29),$AN$8,IF(OR(EXACT($R$7>$S$7,R29>S29)*EXACT($R$7=$S$7,R29=S29)*EXACT($R$7<$S$7,R29<S29)),$AN$7,0)))*4 -> 0 | U29: 2 | V29: 0 | W29: =IF(OR(EXACT($U$7,U29)*(EXACT($V$7,V29)))=TRUE,$AN$9,IF(($V$7-$U$7=V29-U29),$AN$8,IF(OR(EXACT($U$7>$V$7,U29>V29)*EXACT($U$7=$V$7,U29=V29)*EXACT($U$7<$V$7,U29<V29)),$AN$7,0))) -> 0 | X29: 2 | Y29: 1 | Z29: =IF(OR(EXACT($X$7,X29)*(EXACT($Y$7,Y29)))=TRUE,$AN$9,IF(($Y$7-$X$7=Y29-X29),$AN$8,IF(OR(EXACT($X$7>$Y$7,X29>Y29)*EXACT($X$7=$Y$7,X29=Y29)*EXACT($X$7<$Y$7,X29<Y29)),$AN$7,0))) -> 2 | AA29: 2 | AB29: 1 | AC29: =IF(OR(EXACT($AA$7,AA29)*(EXACT($AB$7,AB29)))=TRUE,$AN$9,IF(($AB$7-$AA$7=AB29-AA29),$AN$8,IF(OR(EXACT($AA$7>$AB$7,AA29>AB29)*EXACT($AA$7=$AB$7,AA29=AB29)*EXACT($AA$7<$AB$7,AA29<AB29)),$AN$7,0))) -> 0 | AG29: =E29+H29+K29+N29+Q29+T29+W29+Z29+AC29+AF29 -> 2 | AH29: ='1.Spieltag'!AI29 -> 32 | AI29: =AG29+AH29 -> 34 | AJ29: =RANK(AI29,$AI$8:$AI$53) -> 7
A30: =AJ30 -> 20 | B30: ='1.Spieltag'!B30 -> Silfa04 | C30: 1 | D30: 0 | E30: =IF(OR(EXACT($C$7,C30)*(EXACT($D$7,D30)))=TRUE,$AN$9,IF(($D$7-$C$7=D30-C30),$AN$8,IF(OR(EXACT($C$7>$D$7,C30>D30)*EXACT($C$7=$D$7,C30=D30)*EXACT($C$7<$D$7,C30<D30)),$AN$7,0))) -> 0 | F30: 0 | G30: 2 | H30: =IF(OR(EXACT($F$7,F30)*(EXACT($G$7,G30)))=TRUE,$AN$9,IF(($G$7-$F$7=G30-F30),$AN$8,IF(OR(EXACT($F$7>$G$7,F30>G30)*EXACT($F$7=$G$7,F30=G30)*EXACT($F$7<$G$7,F30<G30)),$AN$7,0))) -> 0 | I30: 2 | J30: 3 | K30: =IF(OR(EXACT($I$7,I30)*(EXACT($J$7,J30)))=TRUE,$AN$9,IF(($J$7-$I$7=J30-I30),$AN$8,IF(OR(EXACT($I$7>$J$7,I30>J30)*EXACT($I$7=$J$7,I30=J30)*EXACT($I$7<$J$7,I30<J30)),$AN$7,0))) -> 2 | O30: 2 | P30: 2 | Q30: =IF(OR(EXACT($O$7,O30)*(EXACT($P$7,P30)))=TRUE,$AN$9,IF(($P$7-$O$7=P30-O30),$AN$8,IF(OR(EXACT($O$7>$P$7,O30>P30)*EXACT($O$7=$P$7,O30=P30)*EXACT($O$7<$P$7,O30<P30)),$AN$7,0))) -> 0 | R30: 0 | S30: 2 | T30: =IF(OR(EXACT($R$7,R30)*(EXACT($S$7,S30)))=TRUE,$AN$9,IF(($S$7-$R$7=S30-R30),$AN$8,IF(OR(EXACT($R$7>$S$7,R30>S30)*EXACT($R$7=$S$7,R30=S30)*EXACT($R$7<$S$7,R30<S30)),$AN$7,0)))*4 -> 0 | U30: 1 | V30: 2 | W30: =IF(OR(EXACT($U$7,U30)*(EXACT($V$7,V30)))=TRUE,$AN$9,IF(($V$7-$U$7=V30-U30),$AN$8,IF(OR(EXACT($U$7>$V$7,U30>V30)*EXACT($U$7=$V$7,U30=V30)*EXACT($U$7<$V$7,U30<V30)),$AN$7,0))) -> 2 | X30: 0 | Y30: 3 | Z30: =IF(OR(EXACT($X$7,X30)*(EXACT($Y$7,Y30)))=TRUE,$AN$9,IF(($Y$7-$X$7=Y30-X30),$AN$8,IF(OR(EXACT($X$7>$Y$7,X30>Y30)*EXACT($X$7=$Y$7,X30=Y30)*EXACT($X$7<$Y$7,X30<Y30)),$AN$7,0))) -> 0 | AA30: 1 | AB30: 1 | AC30: =IF(OR(EXACT($AA$7,AA30)*(EXACT($AB$7,AB30)))=TRUE,$AN$9,IF(($AB$7-$AA$7=AB30-AA30),$AN$8,IF(OR(EXACT($AA$7>$AB$7,AA30>AB30)*EXACT($AA$7=$AB$7,AA30=AB30)*EXACT($AA$7<$AB$7,AA30<AB30)),$AN$7,0))) -> 3 | AG30: =E30+H30+K30+N30+Q30+T30+W30+Z30+AC30+AF30 -> 7 | AH30: ='1.Spieltag'!AI30 -> 15 | AI30: =AG30+AH30 -> 22 | AJ30: =RANK(AI30,$AI$8:$AI$53) -> 20
A31: =AJ31 -> 3 | B31: ='1.Spieltag'!B31 -> Tanja04 | C31: 1 | D31: 2 | E31: =IF(OR(EXACT($C$7,C31)*(EXACT($D$7,D31)))=TRUE,$AN$9,IF(($D$7-$C$7=D31-C31),$AN$8,IF(OR(EXACT($C$7>$D$7,C31>D31)*EXACT($C$7=$D$7,C31=D31)*EXACT($C$7<$D$7,C31<D31)),$AN$7,0))) -> 3 | F31: 0 | G31: 2 | H31: =IF(OR(EXACT($F$7,F31)*(EXACT($G$7,G31)))=TRUE,$AN$9,IF(($G$7-$F$7=G31-F31),$AN$8,IF(OR(EXACT($F$7>$G$7,F31>G31)*EXACT($F$7=$G$7,F31=G31)*EXACT($F$7<$G$7,F31<G31)),$AN$7,0))) -> 0 | I31: 1 | J31: 1 | K31: =IF(OR(EXACT($I$7,I31)*(EXACT($J$7,J31)))=TRUE,$AN$9,IF(($J$7-$I$7=J31-I31),$AN$8,IF(OR(EXACT($I$7>$J$7,I31>J31)*EXACT($I$7=$J$7,I31=J31)*EXACT($I$7<$J$7,I31<J31)),$AN$7,0))) -> 0 | L31: 2 | M31: 1 | N31: =IF(OR(EXACT($L$7,L31)*(EXACT($M$7,M31)))=TRUE,$AN$9,IF(($M$7-$L$7=M31-L31),$AN$8,IF(OR(EXACT($L$7>$M$7,L31>M31)*EXACT($L$7=$M$7,L31=M31)*EXACT($L$7<$M$7,L31<M31)),$AN$7,0))) -> 3 | O31: 1 | P31: 0 | Q31: =IF(OR(EXACT($O$7,O31)*(EXACT($P$7,P31)))=TRUE,$AN$9,IF(($P$7-$O$7=P31-O31),$AN$8,IF(OR(EXACT($O$7>$P$7,O31>P31)*EXACT($O$7=$P$7,O31=P31)*EXACT($O$7<$P$7,O31<P31)),$AN$7,0))) -> 0 | R31: 0 | S31: 1 | T31: =IF(OR(EXACT($R$7,R31)*(EXACT($S$7,S31)))=TRUE,$AN$9,IF(($S$7-$R$7=S31-R31),$AN$8,IF(OR(EXACT($R$7>$S$7,R31>S31)*EXACT($R$7=$S$7,R31=S31)*EXACT($R$7<$S$7,R31<S31)),$AN$7,0)))*4 -> 0 | U31: 1 | V31: 2 | W31: =IF(OR(EXACT($U$7,U31)*(EXACT($V$7,V31)))=TRUE,$AN$9,IF(($V$7-$U$7=V31-U31),$AN$8,IF(OR(EXACT($U$7>$V$7,U31>V31)*EXACT($U$7=$V$7,U31=V31)*EXACT($U$7<$V$7,U31<V31)),$AN$7,0))) -> 2 | X31: 2 | Y31: 0 | Z31: =IF(OR(EXACT($X$7,X31)*(EXACT($Y$7,Y31)))=TRUE,$AN$9,IF(($Y$7-$X$7=Y31-X31),$AN$8,IF(OR(EXACT($X$7>$Y$7,X31>Y31)*EXACT($X$7=$Y$7,X31=Y31)*EXACT($X$7<$Y$7,X31<Y31)),$AN$7,0))) -> 5 | AA31: 1 | AB31: 1 | AC31: =IF(OR(EXACT($AA$7,AA31)*(EXACT($AB$7,AB31)))=TRUE,$AN$9,IF(($AB$7-$AA$7=AB31-AA31),$AN$8,IF(OR(EXACT($AA$7>$AB$7,AA31>AB31)*EXACT($AA$7=$AB$7,AA31=AB31)*EXACT($AA$7<$AB$7,AA31<AB31)),$AN$7,0))) -> 3 | AG31: =E31+H31+K31+N31+Q31+T31+W31+Z31+AC31+AF31 -> 16 | AH31: ='1.Spieltag'!AI31 -> 22 | AI31: =AG31+AH31 -> 38 | AJ31: =RANK(AI31,$AI$8:$AI$53) -> 3
A32: =AJ32 -> 23 | B32: ='1.Spieltag'!B32 -> Th. Bülles | C32: 2 | D32: 1 | E32: =IF(OR(EXACT($C$7,C32)*(EXACT($D$7,D32)))=TRUE,$AN$9,IF(($D$7-$C$7=D32-C32),$AN$8,IF(OR(EXACT($C$7>$D$7,C32>D32)*EXACT($C$7=$D$7,C32=D32)*EXACT($C$7<$D$7,C32<D32)),$AN$7,0))) -> 0 | F32: 1 | G32: 3 | H32: =IF(OR(EXACT($F$7,F32)*(EXACT($G$7,G32)))=TRUE,$AN$9,IF(($G$7-$F$7=G32-F32),$AN$8,IF(OR(EXACT($F$7>$G$7,F32>G32)*EXACT($F$7=$G$7,F32=G32)*EXACT($F$7<$G$7,F32<G32)),$AN$7,0))) -> 0 | I32: 2 | J32: 2 | K32: =IF(OR(EXACT($I$7,I32)*(EXACT($J$7,J32)))=TRUE,$AN$9,IF(($J$7-$I$7=J32-I32),$AN$8,IF(OR(EXACT($I$7>$J$7,I32>J32)*EXACT($I$7=$J$7,I32=J32)*EXACT($I$7<$J$7,I32<J32)),$AN$7,0))) -> 0 | L32: 1 | M32: 1 | N32: =IF(OR(EXACT($L$7,L32)*(EXACT($M$7,M32)))=TRUE,$AN$9,IF(($M$7-$L$7=M32-L32),$AN$8,IF(OR(EXACT($L$7>$M$7,L32>M32)*EXACT($L$7=$M$7,L32=M32)*EXACT($L$7<$M$7,L32<M32)),$AN$7,0))) -> 0 | O32: 0 | P32: 2 | Q32: =IF(OR(EXACT($O$7,O32)*(EXACT($P$7,P32)))=TRUE,$AN$9,IF(($P$7-$O$7=P32-O32),$AN$8,IF(OR(EXACT($O$7>$P$7,O32>P32)*EXACT($O$7=$P$7,O32=P32)*EXACT($O$7<$P$7,O32<P32)),$AN$7,0))) -> 2 | R32: 1 | S32: 1 | T32: =IF(OR(EXACT($R$7,R32)*(EXACT($S$7,S32)))=TRUE,$AN$9,IF(($S$7-$R$7=S32-R32),$AN$8,IF(OR(EXACT($R$7>$S$7,R32>S32)*EXACT($R$7=$S$7,R32=S32)*EXACT($R$7<$S$7,R32<S32)),$AN$7,0)))*4 -> 0 | U32: 3 | V32: 0 | W32: =IF(OR(EXACT($U$7,U32)*(EXACT($V$7,V32)))=TRUE,$AN$9,IF(($V$7-$U$7=V32-U32),$AN$8,IF(OR(EXACT($U$7>$V$7,U32>V32)*EXACT($U$7=$V$7,U32=V32)*EXACT($U$7<$V$7,U32<V32)),$AN$7,0))) -> 0 | X32: 2 | Y32: 0 | Z32: =IF(OR(EXACT($X$7,X32)*(EXACT($Y$7,Y32)))=TRUE,$AN$9,IF(($Y$7-$X$7=Y32-X32),$AN$8,IF(OR(EXACT($X$7>$Y$7,X32>Y32)*EXACT($X$7=$Y$7,X32=Y32)*EXACT($X$7<$Y$7,X32<Y32)),$AN$7,0))) -> 5 | AA32: 2 | AB32: 1 | AC32: =IF(OR(EXACT($AA$7,AA32)*(EXACT($AB$7,AB32)))=TRUE,$AN$9,IF(($AB$7-$AA$7=AB32-AA32),$AN$8,IF(OR(EXACT($AA$7>$AB$7,AA32>AB32)*EXACT($AA$7=$AB$7,AA32=AB32)*EXACT($AA$7<$AB$7,AA32<AB32)),$AN$7,0))) -> 0 | AG32: =E32+H32+K32+N32+Q32+T32+W32+Z32+AC32+AF32 -> 7 | AH32: ='1.Spieltag'!AI32 -> 9 | AI32: =AG32+AH32 -> 16 | AJ32: =RANK(AI32,$AI$8:$AI$53) -> 23
A33: =AJ33 -> 22 | B33: ='1.Spieltag'!B33 -> UltraGE | C33: 2 | D33: 1 | E33: =IF(OR(EXACT($C$7,C33)*(EXACT($D$7,D33)))=TRUE,$AN$9,IF(($D$7-$C$7=D33-C33),$AN$8,IF(OR(EXACT($C$7>$D$7,C33>D33)*EXACT($C$7=$D$7,C33=D33)*EXACT($C$7<$D$7,C33<D33)),$AN$7,0))) -> 0 | F33: 1 | G33: 2 | H33: =IF(OR(EXACT($F$7,F33)*(EXACT($G$7,G33)))=TRUE,$AN$9,IF(($G$7-$F$7=G33-F33),$AN$8,IF(OR(EXACT($F$7>$G$7,F33>G33)*EXACT($F$7=$G$7,F33=G33)*EXACT($F$7<$G$7,F33<G33)),$AN$7,0))) -> 0 | I33: 2 | J33: 0 | K33: =IF(OR(EXACT($I$7,I33)*(EXACT($J$7,J33)))=TRUE,$AN$9,IF(($J$7-$I$7=J33-I33),$AN$8,IF(OR(EXACT($I$7>$J$7,I33>J33)*EXACT($I$7=$J$7,I33=J33)*EXACT($I$7<$J$7,I33<J33)),$AN$7,0))) -> 0 | L33: 3 | M33: 1 | N33: =IF(OR(EXACT($L$7,L33)*(EXACT($M$7,M33)))=TRUE,$AN$9,IF(($M$7-$L$7=M33-L33),$AN$8,IF(OR(EXACT($L$7>$M$7,L33>M33)*EXACT($L$7=$M$7,L33=M33)*EXACT($L$7<$M$7,L33<M33)),$AN$7,0))) -> 2 | O33: 2 | P33: 2 | Q33: =IF(OR(EXACT($O$7,O33)*(EXACT($P$7,P33)))=TRUE,$AN$9,IF(($P$7-$O$7=P33-O33),$AN$8,IF(OR(EXACT($O$7>$P$7,O33>P33)*EXACT($O$7=$P$7,O33=P33)*EXACT($O$7<$P$7,O33<P33)),$AN$7,0))) -> 0 | R33: 1 | S33: 2 | T33: =IF(OR(EXACT($R$7,R33)*(EXACT($S$7,S33)))=TRUE,$AN$9,IF(($S$7-$R$7=S33-R33),$AN$8,IF(OR(EXACT($R$7>$S$7,R33>S33)*EXACT($R$7=$S$7,R33=S33)*EXACT($R$7<$S$7,R33<S33)),$AN$7,0)))*4 -> 0 | U33: 2 | V33: 1 | W33: =IF(OR(EXACT($U$7,U33)*(EXACT($V$7,V33)))=TRUE,$AN$9,IF(($V$7-$U$7=V33-U33),$AN$8,IF(OR(EXACT($U$7>$V$7,U33>V33)*EXACT($U$7=$V$7,U33=V33)*EXACT($U$7<$V$7,U33<V33)),$AN$7,0))) -> 0 | X33: 2 | Y33: 1 | Z33: =IF(OR(EXACT($X$7,X33)*(EXACT($Y$7,Y33)))=TRUE,$AN$9,IF(($Y$7-$X$7=Y33-X33),$AN$8,IF(OR(EXACT($X$7>$Y$7,X33>Y33)*EXACT($X$7=$Y$7,X33=Y33)*EXACT($X$7<$Y$7,X33<Y33)),$AN$7,0))) -> 2 | AA33: 3 | AB33: 1 | AC33: =IF(OR(EXACT($AA$7,AA33)*(EXACT($AB$7,AB33)))=TRUE,$AN$9,IF(($AB$7-$AA$7=AB33-AA33),$AN$8,IF(OR(EXACT($AA$7>$AB$7,AA33>AB33)*EXACT($AA$7=$AB$7,AA33=AB33)*EXACT($AA$7<$AB$7,AA33<AB33)),$AN$7,0))) -> 0 | AG33: =E33+H33+K33+N33+Q33+T33+W33+Z33+AC33+AF33 -> 4 | AH33: ='1.Spieltag'!AI33 -> 13 | AI33: =AG33+AH33 -> 17 | AJ33: =RANK(AI33,$AI$8:$AI$53) -> 22

Sheet 3.Spieltag
A4: 3. Spieltag | C4: Elversberg | F4: Pr. Münster | I4: Paderborn | L4: Karlsruhe | O4: Hannover | R4: Schalke 04 | U4: Darmstadt | X4: Fürth | AA4: Bielefeld
AG5: G E S A M T W E R T U N G | AT5: 24
C6: Kaisersl. | F6: Nürnberg | I6: Düsseldorf | L6: Braunschw. | O6: Magdeburg | R6: Bochum | U6: Hertha BSC | X6: Kiel | AA6: Dresden | AG6: Punkte | AH6: Punkte | AI6: Gesamt | AJ6: Platz | AK6: PUNKTEVERTEILUNG
A7: PLATZ | B7: ERGEBNISSE=> | C7: 2 | D7: 1 | E7: Pkt. | F7: 2 | G7: 1 | H7: Pkt. | I7: 1 | J7: 2 | K7: Pkt. | L7: 2 | M7: 0 | N7: Pkt. | O7: 3 | P7: 1 | Q7: Pkt. | R7: 2 | S7: 1 | T7: Pkt. | U7: 0 | V7: 0 | W7: Pkt. | X7: 0 | Y7: 2 | Z7: Pkt. | AA7: 1 | AB7: 2 | AC7: Pkt. | AG7: Spieltag | AH7: bisher | AI7: Punkte | AK7: richtige Tendenz | AN7: 2
A8: =AJ8 -> 7 | B8: ='1.Spieltag'!B8 -> ahaupt1904 | C8: 1 | D8: 2 | E8: =IF(OR(EXACT($C$7,C8)*(EXACT($D$7,D8)))=TRUE,$AN$9,IF(($D$7-$C$7=D8-C8),$AN$8,IF(OR(EXACT($C$7>$D$7,C8>D8)*EXACT($C$7=$D$7,C8=D8)*EXACT($C$7<$D$7,C8<D8)),$AN$7,0))) -> 0 | F8: 2 | G8: 2 | H8: =IF(OR(EXACT($F$7,F8)*(EXACT($G$7,G8)))=TRUE,$AN$9,IF(($G$7-$F$7=G8-F8),$AN$8,IF(OR(EXACT($F$7>$G$7,F8>G8)*EXACT($F$7=$G$7,F8=G8)*EXACT($F$7<$G$7,F8<G8)),$AN$7,0))) -> 0 | I8: 2 | J8: 1 | K8: =IF(OR(EXACT($I$7,I8)*(EXACT($J$7,J8)))=TRUE,$AN$9,IF(($J$7-$I$7=J8-I8),$AN$8,IF(OR(EXACT($I$7>$J$7,I8>J8)*EXACT($I$7=$J$7,I8=J8)*EXACT($I$7<$J$7,I8<J8)),$AN$7,0))) -> 0 | L8: 2 | M8: 1 | N8: =IF(OR(EXACT($L$7,L8)*(EXACT($M$7,M8)))=TRUE,$AN$9,IF(($M$7-$L$7=M8-L8),$AN$8,IF(OR(EXACT($L$7>$M$7,L8>M8)*EXACT($L$7=$M$7,L8=M8)*EXACT($L$7<$M$7,L8<M8)),$AN$7,0))) -> 2 | O8: 2 | P8: 2 | Q8: =IF(OR(EXACT($O$7,O8)*(EXACT($P$7,P8)))=TRUE,$AN$9,IF(($P$7-$O$7=P8-O8),$AN$8,IF(OR(EXACT($O$7>$P$7,O8>P8)*EXACT($O$7=$P$7,O8=P8)*EXACT($O$7<$P$7,O8<P8)),$AN$7,0))) -> 0 | R8: 2 | S8: 1 | T8: =IF(OR(EXACT($R$7,R8)*(EXACT($S$7,S8)))=TRUE,$AN$9,IF(($S$7-$R$7=S8-R8),$AN$8,IF(OR(EXACT($R$7>$S$7,R8>S8)*EXACT($R$7=$S$7,R8=S8)*EXACT($R$7<$S$7,R8<S8)),$AN$7,0)))*4 -> 20 | U8: 3 | V8: 3 | W8: =IF(OR(EXACT($U$7,U8)*(EXACT($V$7,V8)))=TRUE,$AN$9,IF(($V$7-$U$7=V8-U8),$AN$8,IF(OR(EXACT($U$7>$V$7,U8>V8)*EXACT($U$7=$V$7,U8=V8)*EXACT($U$7<$V$7,U8<V8)),$AN$7,0))) -> 3 | X8: 1 | Y8: 2 | Z8: =IF(OR(EXACT($X$7,X8)*(EXACT($Y$7,Y8)))=TRUE,$AN$9,IF(($Y$7-$X$7=Y8-X8),$AN$8,IF(OR(EXACT($X$7>$Y$7,X8>Y8)*EXACT($X$7=$Y$7,X8=Y8)*EXACT($X$7<$Y$7,X8<Y8)),$AN$7,0))) -> 2 | AA8: 2 | AB8: 0 | AC8: =IF(OR(EXACT($AA$7,AA8)*(EXACT($AB$7,AB8)))=TRUE,$AN$9,IF(($AB$7-$AA$7=AB8-AA8),$AN$8,IF(OR(EXACT($AA$7>$AB$7,AA8>AB8)*EXACT($AA$7=$AB$7,AA8=AB8)*EXACT($AA$7<$AB$7,AA8<AB8)),$AN$7,0))) -> 0 | AG8: =E8+H8+K8+N8+Q8+T8+W8+Z8+AC8+AF8 -> 27 | AH8: ='2.Spieltag '!AI8 -> 29 | AI8: =AG8+AH8 -> 56 | AJ8: =RANK(AI8,$AI$8:$AI$53) -> 7 | AK8: richtige Tend. + korr. Torabst. | AN8: 3
A9: =AJ9 -> 15 | B9: ='1.Spieltag'!B9 -> Alexander18 | C9: 2 | D9: 1 | E9: =IF(OR(EXACT($C$7,C9)*(EXACT($D$7,D9)))=TRUE,$AN$9,IF(($D$7-$C$7=D9-C9),$AN$8,IF(OR(EXACT($C$7>$D$7,C9>D9)*EXACT($C$7=$D$7,C9=D9)*EXACT($C$7<$D$7,C9<D9)),$AN$7,0))) -> 5 | F9: 0 | G9: 2 | H9: =IF(OR(EXACT($F$7,F9)*(EXACT($G$7,G9)))=TRUE,$AN$9,IF(($G$7-$F$7=G9-F9),$AN$8,IF(OR(EXACT($F$7>$G$7,F9>G9)*EXACT($F$7=$G$7,F9=G9)*EXACT($F$7<$G$7,F9<G9)),$AN$7,0))) -> 0 | I9: 1 | J9: 1 | K9: =IF(OR(EXACT($I$7,I9)*(EXACT($J$7,J9)))=TRUE,$AN$9,IF(($J$7-$I$7=J9-I9),$AN$8,IF(OR(EXACT($I$7>$J$7,I9>J9)*EXACT($I$7=$J$7,I9=J9)*EXACT($I$7<$J$7,I9<J9)),$AN$7,0))) -> 0 | L9: 3 | M9: 1 | N9: =IF(OR(EXACT($L$7,L9)*(EXACT($M$7,M9)))=TRUE,$AN$9,IF(($M$7-$L$7=M9-L9),$AN$8,IF(OR(EXACT($L$7>$M$7,L9>M9)*EXACT($L$7=$M$7,L9=M9)*EXACT($L$7<$M$7,L9<M9)),$AN$7,0))) -> 3 | O9: 2 | P9: 1 | Q9: =IF(OR(EXACT($O$7,O9)*(EXACT($P$7,P9)))=TRUE,$AN$9,IF(($P$7-$O$7=P9-O9),$AN$8,IF(OR(EXACT($O$7>$P$7,O9>P9)*EXACT($O$7=$P$7,O9=P9)*EXACT($O$7<$P$7,O9<P9)),$AN$7,0))) -> 2 | R9: 3 | S9: 1 | T9: =IF(OR(EXACT($R$7,R9)*(EXACT($S$7,S9)))=TRUE,$AN$9,IF(($S$7-$R$7=S9-R9),$AN$8,IF(OR(EXACT($R$7>$S$7,R9>S9)*EXACT($R$7=$S$7,R9=S9)*EXACT($R$7<$S$7,R9<S9)),$AN$7,0)))*4 -> 8 | U9: 1 | V9: 2 | W9: =IF(OR(EXACT($U$7,U9)*(EXACT($V$7,V9)))=TRUE,$AN$9,IF(($V$7-$U$7=V9-U9),$AN$8,IF(OR(EXACT($U$7>$V$7,U9>V9)*EXACT($U$7=$V$7,U9=V9)*EXACT($U$7<$V$7,U9<V9)),$AN$7,0))) -> 0 | X9: 2 | Y9: 2 | Z9: =IF(OR(EXACT($X$7,X9)*(EXACT($Y$7,Y9)))=TRUE,$AN$9,IF(($Y$7-$X$7=Y9-X9),$AN$8,IF(OR(EXACT($X$7>$Y$7,X9>Y9)*EXACT($X$7=$Y$7,X9=Y9)*EXACT($X$7<$Y$7,X9<Y9)),$AN$7,0))) -> 0 | AA9: 2 | AB9: 1 | AC9: =IF(OR(EXACT($AA$7,AA9)*(EXACT($AB$7,AB9)))=TRUE,$AN$9,IF(($AB$7-$AA$7=AB9-AA9),$AN$8,IF(OR(EXACT($AA$7>$AB$7,AA9>AB9)*EXACT($AA$7=$AB$7,AA9=AB9)*EXACT($AA$7<$AB$7,AA9<AB9)),$AN$7,0))) -> 0 | AG9: =E9+H9+K9+N9+Q9+T9+W9+Z9+AC9+AF9 -> 18 | AH9: ='2.Spieltag '!AI9 -> 26 | AI9: =AG9+AH9 -> 44 | AJ9: =RANK(AI9,$AI$8:$AI$53) -> 15 | AK9: richtiges Ergebnis | AN9: 5
A10: =AJ10 -> 6 | B10: ='1.Spieltag'!B10 -> atschi91 | C10: 2 | D10: 1 | E10: =IF(OR(EXACT($C$7,C10)*(EXACT($D$7,D10)))=TRUE,$AN$9,IF(($D$7-$C$7=D10-C10),$AN$8,IF(OR(EXACT($C$7>$D$7,C10>D10)*EXACT($C$7=$D$7,C10=D10)*EXACT($C$7<$D$7,C10<D10)),$AN$7,0))) -> 5 | F10: 2 | G10: 1 | H10: =IF(OR(EXACT($F$7,F10)*(EXACT($G$7,G10)))=TRUE,$AN$9,IF(($G$7-$F$7=G10-F10),$AN$8,IF(OR(EXACT($F$7>$G$7,F10>G10)*EXACT($F$7=$G$7,F10=G10)*EXACT($F$7<$G$7,F10<G10)),$AN$7,0))) -> 5 | I10: 2 | J10: 1 | K10: =IF(OR(EXACT($I$7,I10)*(EXACT($J$7,J10)))=TRUE,$AN$9,IF(($J$7-$I$7=J10-I10),$AN$8,IF(OR(EXACT($I$7>$J$7,I10>J10)*EXACT($I$7=$J$7,I10=J10)*EXACT($I$7<$J$7,I10<J10)),$AN$7,0))) -> 0 | L10: 2 | M10: 1 | N10: =IF(OR(EXACT($L$7,L10)*(EXACT($M$7,M10)))=TRUE,$AN$9,IF(($M$7-$L$7=M10-L10),$AN$8,IF(OR(EXACT($L$7>$M$7,L10>M10)*EXACT($L$7=$M$7,L10=M10)*EXACT($L$7<$M$7,L10<M10)),$AN$7,0))) -> 2 | O10: 1 | P10: 0 | Q10: =IF(OR(EXACT($O$7,O10)*(EXACT($P$7,P10)))=TRUE,$AN$9,IF(($P$7-$O$7=P10-O10),$AN$8,IF(OR(EXACT($O$7>$P$7,O10>P10)*EXACT($O$7=$P$7,O10=P10)*EXACT($O$7<$P$7,O10<P10)),$AN$7,0))) -> 2 | R10: 2 | S10: 0 | T10: =IF(OR(EXACT($R$7,R10)*(EXACT($S$7,S10)))=TRUE,$AN$9,IF(($S$7-$R$7=S10-R10),$AN$8,IF(OR(EXACT($R$7>$S$7,R10>S10)*EXACT($R$7=$S$7,R10=S10)*EXACT($R$7<$S$7,R10<S10)),$AN$7,0)))*4 -> 8 | U10: 2 | V10: 1 | W10: =IF(OR(EXACT($U$7,U10)*(EXACT($V$7,V10)))=TRUE,$AN$9,IF(($V$7-$U$7=V10-U10),$AN$8,IF(OR(EXACT($U$7>$V$7,U10>V10)*EXACT($U$7=$V$7,U10=V10)*EXACT($U$7<$V$7,U10<V10)),$AN$7,0))) -> 0 | X10: 2 | Y10: 1 | Z10: =IF(OR(EXACT($X$7,X10)*(EXACT($Y$7,Y10)))=TRUE,$AN$9,IF(($Y$7-$X$7=Y10-X10),$AN$8,IF(OR(EXACT($X$7>$Y$7,X10>Y10)*EXACT($X$7=$Y$7,X10=Y10)*EXACT($X$7<$Y$7,X10<Y10)),$AN$7,0))) -> 0 | AA10: 2 | AB10: 1 | AC10: =IF(OR(EXACT($AA$7,AA10)*(EXACT($AB$7,AB10)))=TRUE,$AN$9,IF(($AB$7-$AA$7=AB10-AA10),$AN$8,IF(OR(EXACT($AA$7>$AB$7,AA10>AB10)*EXACT($AA$7=$AB$7,AA10=AB10)*EXACT($AA$7<$AB$7,AA10<AB10)),$AN$7,0))) -> 0 | AG10: =E10+H10+K10+N10+Q10+T10+W10+Z10+AC10+AF10 -> 22 | AH10: ='2.Spieltag '!AI10 -> 35 | AI10: =AG10+AH10 -> 57 | AJ10: =RANK(AI10,$AI$8:$AI$53) -> 6
A11: =AJ11 -> 10 | B11: ='1.Spieltag'!B11 -> CathaHaupt1904 | C11: 1 | D11: 2 | E11: =IF(OR(EXACT($C$7,C11)*(EXACT($D$7,D11)))=TRUE,$AN$9,IF(($D$7-$C$7=D11-C11),$AN$8,IF(OR(EXACT($C$7>$D$7,C11>D11)*EXACT($C$7=$D$7,C11=D11)*EXACT($C$7<$D$7,C11<D11)),$AN$7,0))) -> 0 | F11: 0 | G11: 1 | H11: =IF(OR(EXACT($F$7,F11)*(EXACT($G$7,G11)))=TRUE,$AN$9,IF(($G$7-$F$7=G11-F11),$AN$8,IF(OR(EXACT($F$7>$G$7,F11>G11)*EXACT($F$7=$G$7,F11=G11)*EXACT($F$7<$G$7,F11<G11)),$AN$7,0))) -> 0 | I11: 2 | J11: 0 | K11: =IF(OR(EXACT($I$7,I11)*(EXACT($J$7,J11)))=TRUE,$AN$9,IF(($J$7-$I$7=J11-I11),$AN$8,IF(OR(EXACT($I$7>$J$7,I11>J11)*EXACT($I$7=$J$7,I11=J11)*EXACT($I$7<$J$7,I11<J11)),$AN$7,0))) -> 0 | L11: 1 | M11: 0 | N11: =IF(OR(EXACT($L$7,L11)*(EXACT($M$7,M11)))=TRUE,$AN$9,IF(($M$7-$L$7=M11-L11),$AN$8,IF(OR(EXACT($L$7>$M$7,L11>M11)*EXACT($L$7=$M$7,L11=M11)*EXACT($L$7<$M$7,L11<M11)),$AN$7,0))) -> 2 | O11: 1 | P11: 0 | Q11: =IF(OR(EXACT($O$7,O11)*(EXACT($P$7,P11)))=TRUE,$AN$9,IF(($P$7-$O$7=P11-O11),$AN$8,IF(OR(EXACT($O$7>$P$7,O11>P11)*EXACT($O$7=$P$7,O11=P11)*EXACT($O$7<$P$7,O11<P11)),$AN$7,0))) -> 2 | R11: 2 | S11: 1 | T11: =IF(OR(EXACT($R$7,R11)*(EXACT($S$7,S11)))=TRUE,$AN$9,IF(($S$7-$R$7=S11-R11),$AN$8,IF(OR(EXACT($R$7>$S$7,R11>S11)*EXACT($R$7=$S$7,R11=S11)*EXACT($R$7<$S$7,R11<S11)),$AN$7,0)))*4 -> 20 | U11: 0 | V11: 2 | W11: =IF(OR(EXACT($U$7,U11)*(EXACT($V$7,V11)))=TRUE,$AN$9,IF(($V$7-$U$7=V11-U11),$AN$8,IF(OR(EXACT($U$7>$V$7,U11>V11)*EXACT($U$7=$V$7,U11=V11)*EXACT($U$7<$V$7,U11<V11)),$AN$7,0))) -> 0 | X11: 1 | Y11: 1 | Z11: =IF(OR(EXACT($X$7,X11)*(EXACT($Y$7,Y11)))=TRUE,$AN$9,IF(($Y$7-$X$7=Y11-X11),$AN$8,IF(OR(EXACT($X$7>$Y$7,X11>Y11)*EXACT($X$7=$Y$7,X11=Y11)*EXACT($X$7<$Y$7,X11<Y11)),$AN$7,0))) -> 0 | AA11: 1 | AB11: 0 | AC11: =IF(OR(EXACT($AA$7,AA11)*(EXACT($AB$7,AB11)))=TRUE,$AN$9,IF(($AB$7-$AA$7=AB11-AA11),$AN$8,IF(OR(EXACT($AA$7>$AB$7,AA11>AB11)*EXACT($AA$7=$AB$7,AA11=AB11)*EXACT($AA$7<$AB$7,AA11<AB11)),$AN$7,0))) -> 0 | AG11: =E11+H11+K11+N11+Q11+T11+W11+Z11+AC11+AF11 -> 24 | AH11: ='2.Spieltag '!AI11 -> 27 | AI11: =AG11+AH11 -> 51 | AJ11: =RANK(AI11,$AI$8:$AI$53) -> 10
A12: =AJ12 -> 11 | B12: ='1.Spieltag'!B12 -> Dickmeis04 | C12: 2 | D12: 1 | E12: =IF(OR(EXACT($C$7,C12)*(EXACT($D$7,D12)))=TRUE,$AN$9,IF(($D$7-$C$7=D12-C12),$AN$8,IF(OR(EXACT($C$7>$D$7,C12>D12)*EXACT($C$7=$D$7,C12=D12)*EXACT($C$7<$D$7,C12<D12)),$AN$7,0))) -> 5 | F12: 2 | G12: 1 | H12: =IF(OR(EXACT($F$7,F12)*(EXACT($G$7,G12)))=TRUE,$AN$9,IF(($G$7-$F$7=G12-F12),$AN$8,IF(OR(EXACT($F$7>$G$7,F12>G12)*EXACT($F$7=$G$7,F12=G12)*EXACT($F$7<$G$7,F12<G12)),$AN$7,0))) -> 5 | I12: 3 | J12: 1 | K12: =IF(OR(EXACT($I$7,I12)*(EXACT($J$7,J12)))=TRUE,$AN$9,IF(($J$7-$I$7=J12-I12),$AN$8,IF(OR(EXACT($I$7>$J$7,I12>J12)*EXACT($I$7=$J$7,I12=J12)*EXACT($I$7<$J$7,I12<J12)),$AN$7,0))) -> 0 | L12: 1 | M12: 1 | N12: =IF(OR(EXACT($L$7,L12)*(EXACT($M$7,M12)))=TRUE,$AN$9,IF(($M$7-$L$7=M12-L12),$AN$8,IF(OR(EXACT($L$7>$M$7,L12>M12)*EXACT($L$7=$M$7,L12=M12)*EXACT($L$7<$M$7,L12<M12)),$AN$7,0))) -> 0 | O12: 2 | P12: 1 | Q12: =IF(OR(EXACT($O$7,O12)*(EXACT($P$7,P12)))=TRUE,$AN$9,IF(($P$7-$O$7=P12-O12),$AN$8,IF(OR(EXACT($O$7>$P$7,O12>P12)*EXACT($O$7=$P$7,O12=P12)*EXACT($O$7<$P$7,O12<P12)),$AN$7,0))) -> 2 | R12: 3 | S12: 1 | T12: =IF(OR(EXACT($R$7,R12)*(EXACT($S$7,S12)))=TRUE,$AN$9,IF(($S$7-$R$7=S12-R12),$AN$8,IF(OR(EXACT($R$7>$S$7,R12>S12)*EXACT($R$7=$S$7,R12=S12)*EXACT($R$7<$S$7,R12<S12)),$AN$7,0)))*4 -> 8 | U12: 3 | V12: 1 | W12: =IF(OR(EXACT($U$7,U12)*(EXACT($V$7,V12)))=TRUE,$AN$9,IF(($V$7-$U$7=V12-U12),$AN$8,IF(OR(EXACT($U$7>$V$7,U12>V12)*EXACT($U$7=$V$7,U12=V12)*EXACT($U$7<$V$7,U12<V12)),$AN$7,0))) -> 0 | X12: 1 | Y12: 3 | Z12: =IF(OR(EXACT($X$7,X12)*(EXACT($Y$7,Y12)))=TRUE,$AN$9,IF(($Y$7-$X$7=Y12-X12),$AN$8,IF(OR(EXACT($X$7>$Y$7,X12>Y12)*EXACT($X$7=$Y$7,X12=Y12)*EXACT($X$7<$Y$7,X12<Y12)),$AN$7,0))) -> 3 | AA12: 3 | AB12: 1 | AC12: =IF(OR(EXACT($AA$7,AA12)*(EXACT($AB$7,AB12)))=TRUE,$AN$9,IF(($AB$7-$AA$7=AB12-AA12),$AN$8,IF(OR(EXACT($AA$7>$AB$7,AA12>AB12)*EXACT($AA$7=$AB$7,AA12=AB12)*EXACT($AA$7<$AB$7,AA12<AB12)),$AN$7,0))) -> 0 | AG12: =E12+H12+K12+N12+Q12+T12+W12+Z12+AC12+AF12 -> 23 | AH12: ='2.Spieltag '!AI12 -> 25 | AI12: =AG12+AH12 -> 48 | AJ12: =RANK(AI12,$AI$8:$AI$53) -> 11
A13: =AJ13 -> 17 | B13: ='1.Spieltag'!B13 -> fabian1904 | C13: 1 | D13: 2 | E13: =IF(OR(EXACT($C$7,C13)*(EXACT($D$7,D13)))=TRUE,$AN$9,IF(($D$7-$C$7=D13-C13),$AN$8,IF(OR(EXACT($C$7>$D$7,C13>D13)*EXACT($C$7=$D$7,C13=D13)*EXACT($C$7<$D$7,C13<D13)),$AN$7,0))) -> 0 | F13: 1 | G13: 1 | H13: =IF(OR(EXACT($F$7,F13)*(EXACT($G$7,G13)))=TRUE,$AN$9,IF(($G$7-$F$7=G13-F13),$AN$8,IF(OR(EXACT($F$7>$G$7,F13>G13)*EXACT($F$7=$G$7,F13=G13)*EXACT($F$7<$G$7,F13<G13)),$AN$7,0))) -> 0 | I13: 0 | J13: 2 | K13: =IF(OR(EXACT($I$7,I13)*(EXACT($J$7,J13)))=TRUE,$AN$9,IF(($J$7-$I$7=J13-I13),$AN$8,IF(OR(EXACT($I$7>$J$7,I13>J13)*EXACT($I$7=$J$7,I13=J13)*EXACT($I$7<$J$7,I13<J13)),$AN$7,0))) -> 2 | L13: 3 | M13: 1 | N13: =IF(OR(EXACT($L$7,L13)*(EXACT($M$7,M13)))=TRUE,$AN$9,IF(($M$7-$L$7=M13-L13),$AN$8,IF(OR(EXACT($L$7>$M$7,L13>M13)*EXACT($L$7=$M$7,L13=M13)*EXACT($L$7<$M$7,L13<M13)),$AN$7,0))) -> 3 | O13: 2 | P13: 0 | Q13: =IF(OR(EXACT($O$7,O13)*(EXACT($P$7,P13)))=TRUE,$AN$9,IF(($P$7-$O$7=P13-O13),$AN$8,IF(OR(EXACT($O$7>$P$7,O13>P13)*EXACT($O$7=$P$7,O13=P13)*EXACT($O$7<$P$7,O13<P13)),$AN$7,0))) -> 3 | R13: 3 | S13: 0 | T13: =IF(OR(EXACT($R$7,R13)*(EXACT($S$7,S13)))=TRUE,$AN$9,IF(($S$7-$R$7=S13-R13),$AN$8,IF(OR(EXACT($R$7>$S$7,R13>S13)*EXACT($R$7=$S$7,R13=S13)*EXACT($R$7<$S$7,R13<S13)),$AN$7,0)))*4 -> 8 | U13: 1 | V13: 0 | W13: =IF(OR(EXACT($U$7,U13)*(EXACT($V$7,V13)))=TRUE,$AN$9,IF(($V$7-$U$7=V13-U13),$AN$8,IF(OR(EXACT($U$7>$V$7,U13>V13)*EXACT($U$7=$V$7,U13=V13)*EXACT($U$7<$V$7,U13<V13)),$AN$7,0))) -> 0 | X13: 1 | Y13: 4 | Z13: =IF(OR(EXACT($X$7,X13)*(EXACT($Y$7,Y13)))=TRUE,$AN$9,IF(($Y$7-$X$7=Y13-X13),$AN$8,IF(OR(EXACT($X$7>$Y$7,X13>Y13)*EXACT($X$7=$Y$7,X13=Y13)*EXACT($X$7<$Y$7,X13<Y13)),$AN$7,0))) -> 2 | AA13: 2 | AB13: 0 | AC13: =IF(OR(EXACT($AA$7,AA13)*(EXACT($AB$7,AB13)))=TRUE,$AN$9,IF(($AB$7-$AA$7=AB13-AA13),$AN$8,IF(OR(EXACT($AA$7>$AB$7,AA13>AB13)*EXACT($AA$7=$AB$7,AA13=AB13)*EXACT($AA$7<$AB$7,AA13<AB13)),$AN$7,0))) -> 0 | AG13: =E13+H13+K13+N13+Q13+T13+W13+Z13+AC13+AF13 -> 18 | AH13: ='2.Spieltag '!AI13 -> 24 | AI13: =AG13+AH13 -> 42 | AJ13: =RANK(AI13,$AI$8:$AI$53) -> 17
A14: =AJ14 -> 21 | B14: ='1.Spieltag'!B14 -> FlorianS04 | C14: 1 | D14: 3 | E14: =IF(OR(EXACT($C$7,C14)*(EXACT($D$7,D14)))=TRUE,$AN$9,IF(($D$7-$C$7=D14-C14),$AN$8,IF(OR(EXACT($C$7>$D$7,C14>D14)*EXACT($C$7=$D$7,C14=D14)*EXACT($C$7<$D$7,C14<D14)),$AN$7,0))) -> 0 | F14: 1 | G14: 0 | H14: =IF(OR(EXACT($F$7,F14)*(EXACT($G$7,G14)))=TRUE,$AN$9,IF(($G$7-$F$7=G14-F14),$AN$8,IF(OR(EXACT($F$7>$G$7,F14>G14)*EXACT($F$7=$G$7,F14=G14)*EXACT($F$7<$G$7,F14<G14)),$AN$7,0))) -> 3 | I14: 3 | J14: 1 | K14: =IF(OR(EXACT($I$7,I14)*(EXACT($J$7,J14)))=TRUE,$AN$9,IF(($J$7-$I$7=J14-I14),$AN$8,IF(OR(EXACT($I$7>$J$7,I14>J14)*EXACT($I$7=$J$7,I14=J14)*EXACT($I$7<$J$7,I14<J14)),$AN$7,0))) -> 0 | L14: 2 | M14: 1 | N14: =IF(OR(EXACT($L$7,L14)*(EXACT($M$7,M14)))=TRUE,$AN$9,IF(($M$7-$L$7=M14-L14),$AN$8,IF(OR(EXACT($L$7>$M$7,L14>M14)*EXACT($L$7=$M$7,L14=M14)*EXACT($L$7<$M$7,L14<M14)),$AN$7,0))) -> 2 | O14: 2 | P14: 2 | Q14: =IF(OR(EXACT($O$7,O14)*(EXACT($P$7,P14)))=TRUE,$AN$9,IF(($P$7-$O$7=P14-O14),$AN$8,IF(OR(EXACT($O$7>$P$7,O14>P14)*EXACT($O$7=$P$7,O14=P14)*EXACT($O$7<$P$7,O14<P14)),$AN$7,0))) -> 0 | R14: 2 | S14: 2 | T14: =IF(OR(EXACT($R$7,R14)*(EXACT($S$7,S14)))=TRUE,$AN$9,IF(($S$7-$R$7=S14-R14),$AN$8,IF(OR(EXACT($R$7>$S$7,R14>S14)*EXACT($R$7=$S$7,R14=S14)*EXACT($R$7<$S$7,R14<S14)),$AN$7,0)))*4 -> 0 | U14: 1 | V14: 0 | W14: =IF(OR(EXACT($U$7,U14)*(EXACT($V$7,V14)))=TRUE,$AN$9,IF(($V$7-$U$7=V14-U14),$AN$8,IF(OR(EXACT($U$7>$V$7,U14>V14)*EXACT($U$7=$V$7,U14=V14)*EXACT($U$7<$V$7,U14<V14)),$AN$7,0))) -> 0 | X14: 0 | Y14: 1 | Z14: =IF(OR(EXACT($X$7,X14)*(EXACT($Y$7,Y14)))=TRUE,$AN$9,IF(($Y$7-$X$7=Y14-X14),$AN$8,IF(OR(EXACT($X$7>$Y$7,X14>Y14)*EXACT($X$7=$Y$7,X14=Y14)*EXACT($X$7<$Y$7,X14<Y14)),$AN$7,0))) -> 2 | AA14: 3 | AB14: 1 | AC14: =IF(OR(EXACT($AA$7,AA14)*(EXACT($AB$7,AB14)))=TRUE,$AN$9,IF(($AB$7-$AA$7=AB14-AA14),$AN$8,IF(OR(EXACT($AA$7>$AB$7,AA14>AB14)*EXACT($AA$7=$AB$7,AA14=AB14)*EXACT($AA$7<$AB$7,AA14<AB14)),$AN$7,0))) -> 0 | AG14: =E14+H14+K14+N14+Q14+T14+W14+Z14+AC14+AF14 -> 7 | AH14: ='2.Spieltag '!AI14 -> 27 | AI14: =AG14+AH14 -> 34 | AJ14: =RANK(AI14,$AI$8:$AI$53) -> 21
A15: =AJ15 -> 2 | B15: ='1.Spieltag'!B15 -> Franzi04 | C15: 1 | D15: 2 | E15: =IF(OR(EXACT($C$7,C15)*(EXACT($D$7,D15)))=TRUE,$AN$9,IF(($D$7-$C$7=D15-C15),$AN$8,IF(OR(EXACT($C$7>$D$7,C15>D15)*EXACT($C$7=$D$7,C15=D15)*EXACT($C$7<$D$7,C15<D15)),$AN$7,0))) -> 0 | F15: 2 | G15: 2 | H15: =IF(OR(EXACT($F$7,F15)*(EXACT($G$7,G15)))=TRUE,$AN$9,IF(($G$7-$F$7=G15-F15),$AN$8,IF(OR(EXACT($F$7>$G$7,F15>G15)*EXACT($F$7=$G$7,F15=G15)*EXACT($F$7<$G$7,F15<G15)),$AN$7,0))) -> 0 | I15: 2 | J15: 1 | K15: =IF(OR(EXACT($I$7,I15)*(EXACT($J$7,J15)))=TRUE,$AN$9,IF(($J$7-$I$7=J15-I15),$AN$8,IF(OR(EXACT($I$7>$J$7,I15>J15)*EXACT($I$7=$J$7,I15=J15)*EXACT($I$7<$J$7,I15<J15)),$AN$7,0))) -> 0 | L15: 1 | M15: 2 | N15: =IF(OR(EXACT($L$7,L15)*(EXACT($M$7,M15)))=TRUE,$AN$9,IF(($M$7-$L$7=M15-L15),$AN$8,IF(OR(EXACT($L$7>$M$7,L15>M15)*EXACT($L$7=$M$7,L15=M15)*EXACT($L$7<$M$7,L15<M15)),$AN$7,0))) -> 0 | O15: 1 | P15: 2 | Q15: =IF(OR(EXACT($O$7,O15)*(EXACT($P$7,P15)))=TRUE,$AN$9,IF(($P$7-$O$7=P15-O15),$AN$8,IF(OR(EXACT($O$7>$P$7,O15>P15)*EXACT($O$7=$P$7,O15=P15)*EXACT($O$7<$P$7,O15<P15)),$AN$7,0))) -> 0 | R15: 2 | S15: 1 | T15: =IF(OR(EXACT($R$7,R15)*(EXACT($S$7,S15)))=TRUE,$AN$9,IF(($S$7-$R$7=S15-R15),$AN$8,IF(OR(EXACT($R$7>$S$7,R15>S15)*EXACT($R$7=$S$7,R15=S15)*EXACT($R$7<$S$7,R15<S15)),$AN$7,0)))*4 -> 20 | U15: 3 | V15: 1 | W15: =IF(OR(EXACT($U$7,U15)*(EXACT($V$7,V15)))=TRUE,$AN$9,IF(($V$7-$U$7=V15-U15),$AN$8,IF(OR(EXACT($U$7>$V$7,U15>V15)*EXACT($U$7=$V$7,U15=V15)*EXACT($U$7<$V$7,U15<V15)),$AN$7,0))) -> 0 | X15: 2 | Y15: 1 | Z15: =IF(OR(EXACT($X$7,X15)*(EXACT($Y$7,Y15)))=TRUE,$AN$9,IF(($Y$7-$X$7=Y15-X15),$AN$8,IF(OR(EXACT($X$7>$Y$7,X15>Y15)*EXACT($X$7=$Y$7,X15=Y15)*EXACT($X$7<$Y$7,X15<Y15)),$AN$7,0))) -> 0 | AA15: 2 | AB15: 1 | AC15: =IF(OR(EXACT($AA$7,AA15)*(EXACT($AB$7,AB15)))=TRUE,$AN$9,IF(($AB$7-$AA$7=AB15-AA15),$AN$8,IF(OR(EXACT($AA$7>$AB$7,AA15>AB15)*EXACT($AA$7=$AB$7,AA15=AB15)*EXACT($AA$7<$AB$7,AA15<AB15)),$AN$7,0))) -> 0 | AG15: =E15+H15+K15+N15+Q15+T15+W15+Z15+AC15+AF15 -> 20 | AH15: ='2.Spieltag '!AI15 -> 44 | AI15: =AG15+AH15 -> 64 | AJ15: =RANK(AI15,$AI$8:$AI$53) -> 2
A16: =AJ16 -> 20 | B16: ='1.Spieltag'!B16 -> Jean-Pierre | C16: 1 | D16: 3 | E16: =IF(OR(EXACT($C$7,C16)*(EXACT($D$7,D16)))=TRUE,$AN$9,IF(($D$7-$C$7=D16-C16),$AN$8,IF(OR(EXACT($C$7>$D$7,C16>D16)*EXACT($C$7=$D$7,C16=D16)*EXACT($C$7<$D$7,C16<D16)),$AN$7,0))) -> 0 | F16: 1 | G16: 1 | H16: =IF(OR(EXACT($F$7,F16)*(EXACT($G$7,G16)))=TRUE,$AN$9,IF(($G$7-$F$7=G16-F16),$AN$8,IF(OR(EXACT($F$7>$G$7,F16>G16)*EXACT($F$7=$G$7,F16=G16)*EXACT($F$7<$G$7,F16<G16)),$AN$7,0))) -> 0 | I16: 3 | J16: 1 | K16: =IF(OR(EXACT($I$7,I16)*(EXACT($J$7,J16)))=TRUE,$AN$9,IF(($J$7-$I$7=J16-I16),$AN$8,IF(OR(EXACT($I$7>$J$7,I16>J16)*EXACT($I$7=$J$7,I16=J16)*EXACT($I$7<$J$7,I16<J16)),$AN$7,0))) -> 0 | L16: 1 | M16: 1 | N16: =IF(OR(EXACT($L$7,L16)*(EXACT($M$7,M16)))=TRUE,$AN$9,IF(($M$7-$L$7=M16-L16),$AN$8,IF(OR(EXACT($L$7>$M$7,L16>M16)*EXACT($L$7=$M$7,L16=M16)*EXACT($L$7<$M$7,L16<M16)),$AN$7,0))) -> 0 | O16: 1 | P16: 2 | Q16: =IF(OR(EXACT($O$7,O16)*(EXACT($P$7,P16)))=TRUE,$AN$9,IF(($P$7-$O$7=P16-O16),$AN$8,IF(OR(EXACT($O$7>$P$7,O16>P16)*EXACT($O$7=$P$7,O16=P16)*EXACT($O$7<$P$7,O16<P16)),$AN$7,0))) -> 0 | R16: 2 | S16: 0 | T16: =IF(OR(EXACT($R$7,R16)*(EXACT($S$7,S16)))=TRUE,$AN$9,IF(($S$7-$R$7=S16-R16),$AN$8,IF(OR(EXACT($R$7>$S$7,R16>S16)*EXACT($R$7=$S$7,R16=S16)*EXACT($R$7<$S$7,R16<S16)),$AN$7,0)))*4 -> 8 | U16: 1 | V16: 0 | W16: =IF(OR(EXACT($U$7,U16)*(EXACT($V$7,V16)))=TRUE,$AN$9,IF(($V$7-$U$7=V16-U16),$AN$8,IF(OR(EXACT($U$7>$V$7,U16>V16)*EXACT($U$7=$V$7,U16=V16)*EXACT($U$7<$V$7,U16<V16)),$AN$7,0))) -> 0 | X16: 0 | Y16: 1 | Z16: =IF(OR(EXACT($X$7,X16)*(EXACT($Y$7,Y16)))=TRUE,$AN$9,IF(($Y$7-$X$7=Y16-X16),$AN$8,IF(OR(EXACT($X$7>$Y$7,X16>Y16)*EXACT($X$7=$Y$7,X16=Y16)*EXACT($X$7<$Y$7,X16<Y16)),$AN$7,0))) -> 2 | AA16: 2 | AB16: 1 | AC16: =IF(OR(EXACT($AA$7,AA16)*(EXACT($AB$7,AB16)))=TRUE,$AN$9,IF(($AB$7-$AA$7=AB16-AA16),$AN$8,IF(OR(EXACT($AA$7>$AB$7,AA16>AB16)*EXACT($AA$7=$AB$7,AA16=AB16)*EXACT($AA$7<$AB$7,AA16<AB16)),$AN$7,0))) -> 0 | AG16: =E16+H16+K16+N16+Q16+T16+W16+Z16+AC16+AF16 -> 10 | AH16: ='2.Spieltag '!AI16 -> 26 | AI16: =AG16+AH16 -> 36 | AJ16: =RANK(AI16,$AI$8:$AI$53) -> 20
A17: =AJ17 -> 23 | B17: ='1.Spieltag'!B17 -> jupp04 | C17: 1 | D17: 2 | E17: =IF(OR(EXACT($C$7,C17)*(EXACT($D$7,D17)))=TRUE,$AN$9,IF(($D$7-$C$7=D17-C17),$AN$8,IF(OR(EXACT($C$7>$D$7,C17>D17)*EXACT($C$7=$D$7,C17=D17)*EXACT($C$7<$D$7,C17<D17)),$AN$7,0))) -> 0 | F17: 1 | G17: 2 | H17: =IF(OR(EXACT($F$7,F17)*(EXACT($G$7,G17)))=TRUE,$AN$9,IF(($G$7-$F$7=G17-F17),$AN$8,IF(OR(EXACT($F$7>$G$7,F17>G17)*EXACT($F$7=$G$7,F17=G17)*EXACT($F$7<$G$7,F17<G17)),$AN$7,0))) -> 0 | I17: 2 | J17: 2 | K17: =IF(OR(EXACT($I$7,I17)*(EXACT($J$7,J17)))=TRUE,$AN$9,IF(($J$7-$I$7=J17-I17),$AN$8,IF(OR(EXACT($I$7>$J$7,I17>J17)*EXACT($I$7=$J$7,I17=J17)*EXACT($I$7<$J$7,I17<J17)),$AN$7,0))) -> 0 | L17: 1 | M17: 1 | N17: =IF(OR(EXACT($L$7,L17)*(EXACT($M$7,M17)))=TRUE,$AN$9,IF(($M$7-$L$7=M17-L17),$AN$8,IF(OR(EXACT($L$7>$M$7,L17>M17)*EXACT($L$7=$M$7,L17=M17)*EXACT($L$7<$M$7,L17<M17)),$AN$7,0))) -> 0 | O17: 1 | P17: 2 | Q17: =IF(OR(EXACT($O$7,O17)*(EXACT($P$7,P17)))=TRUE,$AN$9,IF(($P$7-$O$7=P17-O17),$AN$8,IF(OR(EXACT($O$7>$P$7,O17>P17)*EXACT($O$7=$P$7,O17=P17)*EXACT($O$7<$P$7,O17<P17)),$AN$7,0))) -> 0 | R17: 2 | S17: 1 | T17: =IF(OR(EXACT($R$7,R17)*(EXACT($S$7,S17)))=TRUE,$AN$9,IF(($S$7-$R$7=S17-R17),$AN$8,IF(OR(EXACT($R$7>$S$7,R17>S17)*EXACT($R$7=$S$7,R17=S17)*EXACT($R$7<$S$7,R17<S17)),$AN$7,0)))*4 -> 20 | U17: 1 | V17: 2 | W17: =IF(OR(EXACT($U$7,U17)*(EXACT($V$7,V17)))=TRUE,$AN$9,IF(($V$7-$U$7=V17-U17),$AN$8,IF(OR(EXACT($U$7>$V$7,U17>V17)*EXACT($U$7=$V$7,U17=V17)*EXACT($U$7<$V$7,U17<V17)),$AN$7,0))) -> 0 | X17: 3 | Y17: 2 | Z17: =IF(OR(EXACT($X$7,X17)*(EXACT($Y$7,Y17)))=TRUE,$AN$9,IF(($Y$7-$X$7=Y17-X17),$AN$8,IF(OR(EXACT($X$7>$Y$7,X17>Y17)*EXACT($X$7=$Y$7,X17=Y17)*EXACT($X$7<$Y$7,X17<Y17)),$AN$7,0))) -> 0 | AA17: 2 | AB17: 0 | AC17: =IF(OR(EXACT($AA$7,AA17)*(EXACT($AB$7,AB17)))=TRUE,$AN$9,IF(($AB$7-$AA$7=AB17-AA17),$AN$8,IF(OR(EXACT($AA$7>$AB$7,AA17>AB17)*EXACT($AA$7=$AB$7,AA17=AB17)*EXACT($AA$7<$AB$7,AA17<AB17)),$AN$7,0))) -> 0 | AG17: =E17+H17+K17+N17+Q17+T17+W17+Z17+AC17+AF17 -> 20 | AH17: ='2.Spieltag '!AI17 -> 8 | AI17: =AG17+AH17 -> 28 | AJ17: =RANK(AI17,$AI$8:$AI$53) -> 23
A18: =AJ18 -> 9 | B18: ='1.Spieltag'!B18 -> Justin_Ignr | C18: 1 | D18: 0 | E18: =IF(OR(EXACT($C$7,C18)*(EXACT($D$7,D18)))=TRUE,$AN$9,IF(($D$7-$C$7=D18-C18),$AN$8,IF(OR(EXACT($C$7>$D$7,C18>D18)*EXACT($C$7=$D$7,C18=D18)*EXACT($C$7<$D$7,C18<D18)),$AN$7,0))) -> 3 | F18: 0 | G18: 2 | H18: =IF(OR(EXACT($F$7,F18)*(EXACT($G$7,G18)))=TRUE,$AN$9,IF(($G$7-$F$7=G18-F18),$AN$8,IF(OR(EXACT($F$7>$G$7,F18>G18)*EXACT($F$7=$G$7,F18=G18)*EXACT($F$7<$G$7,F18<G18)),$AN$7,0))) -> 0 | I18: 1 | J18: 2 | K18: =IF(OR(EXACT($I$7,I18)*(EXACT($J$7,J18)))=TRUE,$AN$9,IF(($J$7-$I$7=J18-I18),$AN$8,IF(OR(EXACT($I$7>$J$7,I18>J18)*EXACT($I$7=$J$7,I18=J18)*EXACT($I$7<$J$7,I18<J18)),$AN$7,0))) -> 5 | L18: 3 | M18: 1 | N18: =IF(OR(EXACT($L$7,L18)*(EXACT($M$7,M18)))=TRUE,$AN$9,IF(($M$7-$L$7=M18-L18),$AN$8,IF(OR(EXACT($L$7>$M$7,L18>M18)*EXACT($L$7=$M$7,L18=M18)*EXACT($L$7<$M$7,L18<M18)),$AN$7,0))) -> 3 | O18: 2 | P18: 0 | Q18: =IF(OR(EXACT($O$7,O18)*(EXACT($P$7,P18)))=TRUE,$AN$9,IF(($P$7-$O$7=P18-O18),$AN$8,IF(OR(EXACT($O$7>$P$7,O18>P18)*EXACT($O$7=$P$7,O18=P18)*EXACT($O$7<$P$7,O18<P18)),$AN$7,0))) -> 3 | R18: 3 | S18: 1 | T18: =IF(OR(EXACT($R$7,R18)*(EXACT($S$7,S18)))=TRUE,$AN$9,IF(($S$7-$R$7=S18-R18),$AN$8,IF(OR(EXACT($R$7>$S$7,R18>S18)*EXACT($R$7=$S$7,R18=S18)*EXACT($R$7<$S$7,R18<S18)),$AN$7,0)))*4 -> 8 | U18: 1 | V18: 2 | W18: =IF(OR(EXACT($U$7,U18)*(EXACT($V$7,V18)))=TRUE,$AN$9,IF(($V$7-$U$7=V18-U18),$AN$8,IF(OR(EXACT($U$7>$V$7,U18>V18)*EXACT($U$7=$V$7,U18=V18)*EXACT($U$7<$V$7,U18<V18)),$AN$7,0))) -> 0 | X18: 0 | Y18: 1 | Z18: =IF(OR(EXACT($X$7,X18)*(EXACT($Y$7,Y18)))=TRUE,$AN$9,IF(($Y$7-$X$7=Y18-X18),$AN$8,IF(OR(EXACT($X$7>$Y$7,X18>Y18)*EXACT($X$7=$Y$7,X18=Y18)*EXACT($X$7<$Y$7,X18<Y18)),$AN$7,0))) -> 2 | AA18: 2 | AB18: 0 | AC18: =IF(OR(EXACT($AA$7,AA18)*(EXACT($AB$7,AB18)))=TRUE,$AN$9,IF(($AB$7-$AA$7=AB18-AA18),$AN$8,IF(OR(EXACT($AA$7>$AB$7,AA18>AB18)*EXACT($AA$7=$AB$7,AA18=AB18)*EXACT($AA$7<$AB$7,AA18<AB18)),$AN$7,0))) -> 0 | AG18: =E18+K18+Q18+T18+N18+H18+W18+Z18+AC18+AF18 -> 24 | AH18: ='2.Spieltag '!AI18 -> 28 | AI18: =AG18+AH18 -> 52 | AJ18: =RANK(AI18,$AI$8:$AI$53) -> 9
A19: =AJ19 -> 8 | B19: ='1.Spieltag'!B19 -> Kiki | C19: 1 | D19: 1 | E19: =IF(OR(EXACT($C$7,C19)*(EXACT($D$7,D19)))=TRUE,$AN$9,IF(($D$7-$C$7=D19-C19),$AN$8,IF(OR(EXACT($C$7>$D$7,C19>D19)*EXACT($C$7=$D$7,C19=D19)*EXACT($C$7<$D$7,C19<D19)),$AN$7,0))) -> 0 | F19: 1 | G19: 2 | H19: =IF(OR(EXACT($F$7,F19)*(EXACT($G$7,G19)))=TRUE,$AN$9,IF(($G$7-$F$7=G19-F19),$AN$8,IF(OR(EXACT($F$7>$G$7,F19>G19)*EXACT($F$7=$G$7,F19=G19)*EXACT($F$7<$G$7,F19<G19)),$AN$7,0))) -> 0 | I19: 1 | J19: 1 | K19: =IF(OR(EXACT($I$7,I19)*(EXACT($J$7,J19)))=TRUE,$AN$9,IF(($J$7-$I$7=J19-I19),$AN$8,IF(OR(EXACT($I$7>$J$7,I19>J19)*EXACT($I$7=$J$7,I19=J19)*EXACT($I$7<$J$7,I19<J19)),$AN$7,0))) -> 0 | L19: 2 | M19: 0 | N19: =IF(OR(EXACT($L$7,L19)*(EXACT($M$7,M19)))=TRUE,$AN$9,IF(($M$7-$L$7=M19-L19),$AN$8,IF(OR(EXACT($L$7>$M$7,L19>M19)*EXACT($L$7=$M$7,L19=M19)*EXACT($L$7<$M$7,L19<M19)),$AN$7,0))) -> 5 | O19: 1 | P19: 2 | Q19: =IF(OR(EXACT($O$7,O19)*(EXACT($P$7,P19)))=TRUE,$AN$9,IF(($P$7-$O$7=P19-O19),$AN$8,IF(OR(EXACT($O$7>$P$7,O19>P19)*EXACT($O$7=$P$7,O19=P19)*EXACT($O$7<$P$7,O19<P19)),$AN$7,0))) -> 0 | R19: 2 | S19: 1 | T19: =IF(OR(EXACT($R$7,R19)*(EXACT($S$7,S19)))=TRUE,$AN$9,IF(($S$7-$R$7=S19-R19),$AN$8,IF(OR(EXACT($R$7>$S$7,R19>S19)*EXACT($R$7=$S$7,R19=S19)*EXACT($R$7<$S$7,R19<S19)),$AN$7,0)))*4 -> 20 | U19: 2 | V19: 1 | W19: =IF(OR(EXACT($U$7,U19)*(EXACT($V$7,V19)))=TRUE,$AN$9,IF(($V$7-$U$7=V19-U19),$AN$8,IF(OR(EXACT($U$7>$V$7,U19>V19)*EXACT($U$7=$V$7,U19=V19)*EXACT($U$7<$V$7,U19<V19)),$AN$7,0))) -> 0 | X19: 1 | Y19: 2 | Z19: =IF(OR(EXACT($X$7,X19)*(EXACT($Y$7,Y19)))=TRUE,$AN$9,IF(($Y$7-$X$7=Y19-X19),$AN$8,IF(OR(EXACT($X$7>$Y$7,X19>Y19)*EXACT($X$7=$Y$7,X19=Y19)*EXACT($X$7<$Y$7,X19<Y19)),$AN$7,0))) -> 2 | AA19: 1 | AB19: 1 | AC19: =IF(OR(EXACT($AA$7,AA19)*(EXACT($AB$7,AB19)))=TRUE,$AN$9,IF(($AB$7-$AA$7=AB19-AA19),$AN$8,IF(OR(EXACT($AA$7>$AB$7,AA19>AB19)*EXACT($AA$7=$AB$7,AA19=AB19)*EXACT($AA$7<$AB$7,AA19<AB19)),$AN$7,0))) -> 0 | AG19: =E19+K19+Q19+T19+N19+H19+W19+Z19+AC19+AF19 -> 27 | AH19: ='2.Spieltag '!AI19 -> 27 | AI19: =AG19+AH19 -> 54 | AJ19: =RANK(AI19,$AI$8:$AI$53) -> 8
A20: =AJ20 -> 3 | B20: ='1.Spieltag'!B20 -> Lola04 | C20: 3 | D20: 1 | E20: =IF(OR(EXACT($C$7,C20)*(EXACT($D$7,D20)))=TRUE,$AN$9,IF(($D$7-$C$7=D20-C20),$AN$8,IF(OR(EXACT($C$7>$D$7,C20>D20)*EXACT($C$7=$D$7,C20=D20)*EXACT($C$7<$D$7,C20<D20)),$AN$7,0))) -> 2 | F20: 1 | G20: 1 | H20: =IF(OR(EXACT($F$7,F20)*(EXACT($G$7,G20)))=TRUE,$AN$9,IF(($G$7-$F$7=G20-F20),$AN$8,IF(OR(EXACT($F$7>$G$7,F20>G20)*EXACT($F$7=$G$7,F20=G20)*EXACT($F$7<$G$7,F20<G20)),$AN$7,0))) -> 0 | I20: 2 | J20: 1 | K20: =IF(OR(EXACT($I$7,I20)*(EXACT($J$7,J20)))=TRUE,$AN$9,IF(($J$7-$I$7=J20-I20),$AN$8,IF(OR(EXACT($I$7>$J$7,I20>J20)*EXACT($I$7=$J$7,I20=J20)*EXACT($I$7<$J$7,I20<J20)),$AN$7,0))) -> 0 | L20: 2 | M20: 1 | N20: =IF(OR(EXACT($L$7,L20)*(EXACT($M$7,M20)))=TRUE,$AN$9,IF(($M$7-$L$7=M20-L20),$AN$8,IF(OR(EXACT($L$7>$M$7,L20>M20)*EXACT($L$7=$M$7,L20=M20)*EXACT($L$7<$M$7,L20<M20)),$AN$7,0))) -> 2 | O20: 3 | P20: 1 | Q20: =IF(OR(EXACT($O$7,O20)*(EXACT($P$7,P20)))=TRUE,$AN$9,IF(($P$7-$O$7=P20-O20),$AN$8,IF(OR(EXACT($O$7>$P$7,O20>P20)*EXACT($O$7=$P$7,O20=P20)*EXACT($O$7<$P$7,O20<P20)),$AN$7,0))) -> 5 | R20: 1 | S20: 0 | T20: =IF(OR(EXACT($R$7,R20)*(EXACT($S$7,S20)))=TRUE,$AN$9,IF(($S$7-$R$7=S20-R20),$AN$8,IF(OR(EXACT($R$7>$S$7,R20>S20)*EXACT($R$7=$S$7,R20=S20)*EXACT($R$7<$S$7,R20<S20)),$AN$7,0)))*4 -> 12 | U20: 2 | V20: 1 | W20: =IF(OR(EXACT($U$7,U20)*(EXACT($V$7,V20)))=TRUE,$AN$9,IF(($V$7-$U$7=V20-U20),$AN$8,IF(OR(EXACT($U$7>$V$7,U20>V20)*EXACT($U$7=$V$7,U20=V20)*EXACT($U$7<$V$7,U20<V20)),$AN$7,0))) -> 0 | X20: 1 | Y20: 2 | Z20: =IF(OR(EXACT($X$7,X20)*(EXACT($Y$7,Y20)))=TRUE,$AN$9,IF(($Y$7-$X$7=Y20-X20),$AN$8,IF(OR(EXACT($X$7>$Y$7,X20>Y20)*EXACT($X$7=$Y$7,X20=Y20)*EXACT($X$7<$Y$7,X20<Y20)),$AN$7,0))) -> 2 | AA20: 3 | AB20: 0 | AC20: =IF(OR(EXACT($AA$7,AA20)*(EXACT($AB$7,AB20)))=TRUE,$AN$9,IF(($AB$7-$AA$7=AB20-AA20),$AN$8,IF(OR(EXACT($AA$7>$AB$7,AA20>AB20)*EXACT($AA$7=$AB$7,AA20=AB20)*EXACT($AA$7<$AB$7,AA20<AB20)),$AN$7,0))) -> 0 | AG20: =E20+K20+Q20+T20+N20+H20+W20+Z20+AC20+AF20 -> 23 | AH20: ='2.Spieltag '!AI20 -> 38 | AI20: =AG20+AH20 -> 61 | AJ20: =RANK(AI20,$AI$8:$AI$53) -> 3
A21: =AJ21 -> 17 | B21: ='1.Spieltag'!B21 -> Master1 | C21: 1 | D21: 1 | E21: =IF(OR(EXACT($C$7,C21)*(EXACT($D$7,D21)))=TRUE,$AN$9,IF(($D$7-$C$7=D21-C21),$AN$8,IF(OR(EXACT($C$7>$D$7,C21>D21)*EXACT($C$7=$D$7,C21=D21)*EXACT($C$7<$D$7,C21<D21)),$AN$7,0))) -> 0 | F21: 2 | G21: 1 | H21: =IF(OR(EXACT($F$7,F21)*(EXACT($G$7,G21)))=TRUE,$AN$9,IF(($G$7-$F$7=G21-F21),$AN$8,IF(OR(EXACT($F$7>$G$7,F21>G21)*EXACT($F$7=$G$7,F21=G21)*EXACT($F$7<$G$7,F21<G21)),$AN$7,0))) -> 5 | I21: 2 | J21: 1 | K21: =IF(OR(EXACT($I$7,I21)*(EXACT($J$7,J21)))=TRUE,$AN$9,IF(($J$7-$I$7=J21-I21),$AN$8,IF(OR(EXACT($I$7>$J$7,I21>J21)*EXACT($I$7=$J$7,I21=J21)*EXACT($I$7<$J$7,I21<J21)),$AN$7,0))) -> 0 | L21: 3 | M21: 1 | N21: =IF(OR(EXACT($L$7,L21)*(EXACT($M$7,M21)))=TRUE,$AN$9,IF(($M$7-$L$7=M21-L21),$AN$8,IF(OR(EXACT($L$7>$M$7,L21>M21)*EXACT($L$7=$M$7,L21=M21)*EXACT($L$7<$M$7,L21<M21)),$AN$7,0))) -> 3 | O21: 1 | P21: 0 | Q21: =IF(OR(EXACT($O$7,O21)*(EXACT($P$7,P21)))=TRUE,$AN$9,IF(($P$7-$O$7=P21-O21),$AN$8,IF(OR(EXACT($O$7>$P$7,O21>P21)*EXACT($O$7=$P$7,O21=P21)*EXACT($O$7<$P$7,O21<P21)),$AN$7,0))) -> 2 | R21: 3 | S21: 1 | T21: =IF(OR(EXACT($R$7,R21)*(EXACT($S$7,S21)))=TRUE,$AN$9,IF(($S$7-$R$7=S21-R21),$AN$8,IF(OR(EXACT($R$7>$S$7,R21>S21)*EXACT($R$7=$S$7,R21=S21)*EXACT($R$7<$S$7,R21<S21)),$AN$7,0)))*4 -> 8 | U21: 2 | V21: 0 | W21: =IF(OR(EXACT($U$7,U21)*(EXACT($V$7,V21)))=TRUE,$AN$9,IF(($V$7-$U$7=V21-U21),$AN$8,IF(OR(EXACT($U$7>$V$7,U21>V21)*EXACT($U$7=$V$7,U21=V21)*EXACT($U$7<$V$7,U21<V21)),$AN$7,0))) -> 0 | X21: 1 | Y21: 1 | Z21: =IF(OR(EXACT($X$7,X21)*(EXACT($Y$7,Y21)))=TRUE,$AN$9,IF(($Y$7-$X$7=Y21-X21),$AN$8,IF(OR(EXACT($X$7>$Y$7,X21>Y21)*EXACT($X$7=$Y$7,X21=Y21)*EXACT($X$7<$Y$7,X21<Y21)),$AN$7,0))) -> 0 | AA21: 1 | AB21: 0 | AC21: =IF(OR(EXACT($AA$7,AA21)*(EXACT($AB$7,AB21)))=TRUE,$AN$9,IF(($AB$7-$AA$7=AB21-AA21),$AN$8,IF(OR(EXACT($AA$7>$AB$7,AA21>AB21)*EXACT($AA$7=$AB$7,AA21=AB21)*EXACT($AA$7<$AB$7,AA21<AB21)),$AN$7,0))) -> 0 | AG21: =E21+K21+Q21+T21+N21+H21+W21+Z21+AC21+AF21 -> 18 | AH21: ='2.Spieltag '!AI21 -> 24 | AI21: =AG21+AH21 -> 42 | AJ21: =RANK(AI21,$AI$8:$AI$53) -> 17
A22: =AJ22 -> 17 | B22: ='1.Spieltag'!B22 -> Mike04 | C22: 1 | D22: 1 | E22: =IF(OR(EXACT($C$7,C22)*(EXACT($D$7,D22)))=TRUE,$AN$9,IF(($D$7-$C$7=D22-C22),$AN$8,IF(OR(EXACT($C$7>$D$7,C22>D22)*EXACT($C$7=$D$7,C22=D22)*EXACT($C$7<$D$7,C22<D22)),$AN$7,0))) -> 0 | F22: 2 | G22: 1 | H22: =IF(OR(EXACT($F$7,F22)*(EXACT($G$7,G22)))=TRUE,$AN$9,IF(($G$7-$F$7=G22-F22),$AN$8,IF(OR(EXACT($F$7>$G$7,F22>G22)*EXACT($F$7=$G$7,F22=G22)*EXACT($F$7<$G$7,F22<G22)),$AN$7,0))) -> 5 | I22: 2 | J22: 1 | K22: =IF(OR(EXACT($I$7,I22)*(EXACT($J$7,J22)))=TRUE,$AN$9,IF(($J$7-$I$7=J22-I22),$AN$8,IF(OR(EXACT($I$7>$J$7,I22>J22)*EXACT($I$7=$J$7,I22=J22)*EXACT($I$7<$J$7,I22<J22)),$AN$7,0))) -> 0 | L22: 2 | M22: 0 | N22: =IF(OR(EXACT($L$7,L22)*(EXACT($M$7,M22)))=TRUE,$AN$9,IF(($M$7-$L$7=M22-L22),$AN$8,IF(OR(EXACT($L$7>$M$7,L22>M22)*EXACT($L$7=$M$7,L22=M22)*EXACT($L$7<$M$7,L22<M22)),$AN$7,0))) -> 5 | O22: 2 | P22: 1 | Q22: =IF(OR(EXACT($O$7,O22)*(EXACT($P$7,P22)))=TRUE,$AN$9,IF(($P$7-$O$7=P22-O22),$AN$8,IF(OR(EXACT($O$7>$P$7,O22>P22)*EXACT($O$7=$P$7,O22=P22)*EXACT($O$7<$P$7,O22<P22)),$AN$7,0))) -> 2 | R22: 2 | S22: 0 | T22: =IF(OR(EXACT($R$7,R22)*(EXACT($S$7,S22)))=TRUE,$AN$9,IF(($S$7-$R$7=S22-R22),$AN$8,IF(OR(EXACT($R$7>$S$7,R22>S22)*EXACT($R$7=$S$7,R22=S22)*EXACT($R$7<$S$7,R22<S22)),$AN$7,0)))*4 -> 8 | U22: 1 | V22: 0 | W22: =IF(OR(EXACT($U$7,U22)*(EXACT($V$7,V22)))=TRUE,$AN$9,IF(($V$7-$U$7=V22-U22),$AN$8,IF(OR(EXACT($U$7>$V$7,U22>V22)*EXACT($U$7=$V$7,U22=V22)*EXACT($U$7<$V$7,U22<V22)),$AN$7,0))) -> 0 | X22: 2 | Y22: 1 | Z22: =IF(OR(EXACT($X$7,X22)*(EXACT($Y$7,Y22)))=TRUE,$AN$9,IF(($Y$7-$X$7=Y22-X22),$AN$8,IF(OR(EXACT($X$7>$Y$7,X22>Y22)*EXACT($X$7=$Y$7,X22=Y22)*EXACT($X$7<$Y$7,X22<Y22)),$AN$7,0))) -> 0 | AA22: 2 | AB22: 0 | AC22: =IF(OR(EXACT($AA$7,AA22)*(EXACT($AB$7,AB22)))=TRUE,$AN$9,IF(($AB$7-$AA$7=AB22-AA22),$AN$8,IF(OR(EXACT($AA$7>$AB$7,AA22>AB22)*EXACT($AA$7=$AB$7,AA22=AB22)*EXACT($AA$7<$AB$7,AA22<AB22)),$AN$7,0))) -> 0 | AG22: =E22+K22+Q22+T22+N22+H22+W22+Z22+AC22+AF22 -> 20 | AH22: ='2.Spieltag '!AI22 -> 22 | AI22: =AG22+AH22 -> 42 | AJ22: =RANK(AI22,$AI$8:$AI$53) -> 17
A23: =AJ23 -> 26 | B23: ='1.Spieltag'!B23 -> Nico1904 | AG23: =E23+K23+Q23+T23+N23+H23+W23+Z23+AC23+AF23 -> 0 | AH23: ='2.Spieltag '!AI23 -> 11 | AI23: =AG23+AH23 -> 11 | AJ23: =RANK(AI23,$AI$8:$AI$53) -> 26
A24: =AJ24 -> 12 | B24: ='1.Spieltag'!B24 -> Reinhold | C24: 1 | D24: 1 | E24: =IF(OR(EXACT($C$7,C24)*(EXACT($D$7,D24)))=TRUE,$AN$9,IF(($D$7-$C$7=D24-C24),$AN$8,IF(OR(EXACT($C$7>$D$7,C24>D24)*EXACT($C$7=$D$7,C24=D24)*EXACT($C$7<$D$7,C24<D24)),$AN$7,0))) -> 0 | F24: 1 | G24: 2 | H24: =IF(OR(EXACT($F$7,F24)*(EXACT($G$7,G24)))=TRUE,$AN$9,IF(($G$7-$F$7=G24-F24),$AN$8,IF(OR(EXACT($F$7>$G$7,F24>G24)*EXACT($F$7=$G$7,F24=G24)*EXACT($F$7<$G$7,F24<G24)),$AN$7,0))) -> 0 | I24: 1 | J24: 1 | K24: =IF(OR(EXACT($I$7,I24)*(EXACT($J$7,J24)))=TRUE,$AN$9,IF(($J$7-$I$7=J24-I24),$AN$8,IF(OR(EXACT($I$7>$J$7,I24>J24)*EXACT($I$7=$J$7,I24=J24)*EXACT($I$7<$J$7,I24<J24)),$AN$7,0))) -> 0 | L24: 2 | M24: 2 | N24: =IF(OR(EXACT($L$7,L24)*(EXACT($M$7,M24)))=TRUE,$AN$9,IF(($M$7-$L$7=M24-L24),$AN$8,IF(OR(EXACT($L$7>$M$7,L24>M24)*EXACT($L$7=$M$7,L24=M24)*EXACT($L$7<$M$7,L24<M24)),$AN$7,0))) -> 0 | O24: 2 | P24: 0 | Q24: =IF(OR(EXACT($O$7,O24)*(EXACT($P$7,P24)))=TRUE,$AN$9,IF(($P$7-$O$7=P24-O24),$AN$8,IF(OR(EXACT($O$7>$P$7,O24>P24)*EXACT($O$7=$P$7,O24=P24)*EXACT($O$7<$P$7,O24<P24)),$AN$7,0))) -> 3 | R24: 3 | S24: 1 | T24: =IF(OR(EXACT($R$7,R24)*(EXACT($S$7,S24)))=TRUE,$AN$9,IF(($S$7-$R$7=S24-R24),$AN$8,IF(OR(EXACT($R$7>$S$7,R24>S24)*EXACT($R$7=$S$7,R24=S24)*EXACT($R$7<$S$7,R24<S24)),$AN$7,0)))*4 -> 8 | U24: 3 | V24: 1 | W24: =IF(OR(EXACT($U$7,U24)*(EXACT($V$7,V24)))=TRUE,$AN$9,IF(($V$7-$U$7=V24-U24),$AN$8,IF(OR(EXACT($U$7>$V$7,U24>V24)*EXACT($U$7=$V$7,U24=V24)*EXACT($U$7<$V$7,U24<V24)),$AN$7,0))) -> 0 | X24: 1 | Y24: 0 | Z24: =IF(OR(EXACT($X$7,X24)*(EXACT($Y$7,Y24)))=TRUE,$AN$9,IF(($Y$7-$X$7=Y24-X24),$AN$8,IF(OR(EXACT($X$7>$Y$7,X24>Y24)*EXACT($X$7=$Y$7,X24=Y24)*EXACT($X$7<$Y$7,X24<Y24)),$AN$7,0))) -> 0 | AA24: 3 | AB24: 1 | AC24: =IF(OR(EXACT($AA$7,AA24)*(EXACT($AB$7,AB24)))=TRUE,$AN$9,IF(($AB$7-$AA$7=AB24-AA24),$AN$8,IF(OR(EXACT($AA$7>$AB$7,AA24>AB24)*EXACT($AA$7=$AB$7,AA24=AB24)*EXACT($AA$7<$AB$7,AA24<AB24)),$AN$7,0))) -> 0 | AG24: =E24+K24+Q24+T24+N24+H24+W24+Z24+AC24+AF24 -> 11 | AH24: ='2.Spieltag '!AI24 -> 36 | AI24: =AG24+AH24 -> 47 | AJ24: =RANK(AI24,$AI$8:$AI$53) -> 12
A25: =AJ25 -> 3 | B25: ='1.Spieltag'!B25 -> ReneMause | C25: 2 | D25: 1 | E25: =IF(OR(EXACT($C$7,C25)*(EXACT($D$7,D25)))=TRUE,$AN$9,IF(($D$7-$C$7=D25-C25),$AN$8,IF(OR(EXACT($C$7>$D$7,C25>D25)*EXACT($C$7=$D$7,C25=D25)*EXACT($C$7<$D$7,C25<D25)),$AN$7,0))) -> 5 | F25: 2 | G25: 0 | H25: =IF(OR(EXACT($F$7,F25)*(EXACT($G$7,G25)))=TRUE,$AN$9,IF(($G$7-$F$7=G25-F25),$AN$8,IF(OR(EXACT($F$7>$G$7,F25>G25)*EXACT($F$7=$G$7,F25=G25)*EXACT($F$7<$G$7,F25<G25)),$AN$7,0))) -> 2 | I25: 2 | J25: 2 | K25: =IF(OR(EXACT($I$7,I25)*(EXACT($J$7,J25)))=TRUE,$AN$9,IF(($J$7-$I$7=J25-I25),$AN$8,IF(OR(EXACT($I$7>$J$7,I25>J25)*EXACT($I$7=$J$7,I25=J25)*EXACT($I$7<$J$7,I25<J25)),$AN$7,0))) -> 0 | L25: 2 | M25: 0 | N25: =IF(OR(EXACT($L$7,L25)*(EXACT($M$7,M25)))=TRUE,$AN$9,IF(($M$7-$L$7=M25-L25),$AN$8,IF(OR(EXACT($L$7>$M$7,L25>M25)*EXACT($L$7=$M$7,L25=M25)*EXACT($L$7<$M$7,L25<M25)),$AN$7,0))) -> 5 | O25: 1 | P25: 2 | Q25: =IF(OR(EXACT($O$7,O25)*(EXACT($P$7,P25)))=TRUE,$AN$9,IF(($P$7-$O$7=P25-O25),$AN$8,IF(OR(EXACT($O$7>$P$7,O25>P25)*EXACT($O$7=$P$7,O25=P25)*EXACT($O$7<$P$7,O25<P25)),$AN$7,0))) -> 0 | R25: 2 | S25: 0 | T25: =IF(OR(EXACT($R$7,R25)*(EXACT($S$7,S25)))=TRUE,$AN$9,IF(($S$7-$R$7=S25-R25),$AN$8,IF(OR(EXACT($R$7>$S$7,R25>S25)*EXACT($R$7=$S$7,R25=S25)*EXACT($R$7<$S$7,R25<S25)),$AN$7,0)))*4 -> 8 | U25: 2 | V25: 0 | W25: =IF(OR(EXACT($U$7,U25)*(EXACT($V$7,V25)))=TRUE,$AN$9,IF(($V$7-$U$7=V25-U25),$AN$8,IF(OR(EXACT($U$7>$V$7,U25>V25)*EXACT($U$7=$V$7,U25=V25)*EXACT($U$7<$V$7,U25<V25)),$AN$7,0))) -> 0 | X25: 0 | Y25: 1 | Z25: =IF(OR(EXACT($X$7,X25)*(EXACT($Y$7,Y25)))=TRUE,$AN$9,IF(($Y$7-$X$7=Y25-X25),$AN$8,IF(OR(EXACT($X$7>$Y$7,X25>Y25)*EXACT($X$7=$Y$7,X25=Y25)*EXACT($X$7<$Y$7,X25<Y25)),$AN$7,0))) -> 2 | AA25: 2 | AB25: 0 | AC25: =IF(OR(EXACT($AA$7,AA25)*(EXACT($AB$7,AB25)))=TRUE,$AN$9,IF(($AB$7-$AA$7=AB25-AA25),$AN$8,IF(OR(EXACT($AA$7>$AB$7,AA25>AB25)*EXACT($AA$7=$AB$7,AA25=AB25)*EXACT($AA$7<$AB$7,AA25<AB25)),$AN$7,0))) -> 0 | AG25: =E25+H25+K25+N25+Q25+T25+W25+Z25+AC25+AF25 -> 22 | AH25: ='2.Spieltag '!AI25 -> 39 | AI25: =AG25+AH25 -> 61 | AJ25: =RANK(AI25,$AI$8:$AI$53) -> 3
A26: =AJ26 -> 13 | B26: ='1.Spieltag'!B26 -> Ricardo04 | C26: 1 | D26: 2 | E26: =IF(OR(EXACT($C$7,C26)*(EXACT($D$7,D26)))=TRUE,$AN$9,IF(($D$7-$C$7=D26-C26),$AN$8,IF(OR(EXACT($C$7>$D$7,C26>D26)*EXACT($C$7=$D$7,C26=D26)*EXACT($C$7<$D$7,C26<D26)),$AN$7,0))) -> 0 | F26: 1 | G26: 2 | H26: =IF(OR(EXACT($F$7,F26)*(EXACT($G$7,G26)))=TRUE,$AN$9,IF(($G$7-$F$7=G26-F26),$AN$8,IF(OR(EXACT($F$7>$G$7,F26>G26)*EXACT($F$7=$G$7,F26=G26)*EXACT($F$7<$G$7,F26<G26)),$AN$7,0))) -> 0 | I26: 1 | J26: 2 | K26: =IF(OR(EXACT($I$7,I26)*(EXACT($J$7,J26)))=TRUE,$AN$9,IF(($J$7-$I$7=J26-I26),$AN$8,IF(OR(EXACT($I$7>$J$7,I26>J26)*EXACT($I$7=$J$7,I26=J26)*EXACT($I$7<$J$7,I26<J26)),$AN$7,0))) -> 5 | L26: 1 | M26: 2 | N26: =IF(OR(EXACT($L$7,L26)*(EXACT($M$7,M26)))=TRUE,$AN$9,IF(($M$7-$L$7=M26-L26),$AN$8,IF(OR(EXACT($L$7>$M$7,L26>M26)*EXACT($L$7=$M$7,L26=M26)*EXACT($L$7<$M$7,L26<M26)),$AN$7,0))) -> 0 | O26: 2 | P26: 1 | Q26: =IF(OR(EXACT($O$7,O26)*(EXACT($P$7,P26)))=TRUE,$AN$9,IF(($P$7-$O$7=P26-O26),$AN$8,IF(OR(EXACT($O$7>$P$7,O26>P26)*EXACT($O$7=$P$7,O26=P26)*EXACT($O$7<$P$7,O26<P26)),$AN$7,0))) -> 2 | R26: 3 | S26: 0 | T26: =IF(OR(EXACT($R$7,R26)*(EXACT($S$7,S26)))=TRUE,$AN$9,IF(($S$7-$R$7=S26-R26),$AN$8,IF(OR(EXACT($R$7>$S$7,R26>S26)*EXACT($R$7=$S$7,R26=S26)*EXACT($R$7<$S$7,R26<S26)),$AN$7,0)))*4 -> 8 | U26: 2 | V26: 1 | W26: =IF(OR(EXACT($U$7,U26)*(EXACT($V$7,V26)))=TRUE,$AN$9,IF(($V$7-$U$7=V26-U26),$AN$8,IF(OR(EXACT($U$7>$V$7,U26>V26)*EXACT($U$7=$V$7,U26=V26)*EXACT($U$7<$V$7,U26<V26)),$AN$7,0))) -> 0 | X26: 1 | Y26: 2 | Z26: =IF(OR(EXACT($X$7,X26)*(EXACT($Y$7,Y26)))=TRUE,$AN$9,IF(($Y$7-$X$7=Y26-X26),$AN$8,IF(OR(EXACT($X$7>$Y$7,X26>Y26)*EXACT($X$7=$Y$7,X26=Y26)*EXACT($X$7<$Y$7,X26<Y26)),$AN$7,0))) -> 2 | AA26: 2 | AB26: 1 | AC26: =IF(OR(EXACT($AA$7,AA26)*(EXACT($AB$7,AB26)))=TRUE,$AN$9,IF(($AB$7-$AA$7=AB26-AA26),$AN$8,IF(OR(EXACT($AA$7>$AB$7,AA26>AB26)*EXACT($AA$7=$AB$7,AA26=AB26)*EXACT($AA$7<$AB$7,AA26<AB26)),$AN$7,0))) -> 0 | AG26: =E26+H26+K26+N26+Q26+T26+W26+Z26+AC26+AF26 -> 17 | AH26: ='2.Spieltag '!AI26 -> 29 | AI26: =AG26+AH26 -> 46 | AJ26: =RANK(AI26,$AI$8:$AI$53) -> 13
A27: =AJ27 -> 25 | B27: ='1.Spieltag'!B27 -> Schalt04 | C27: 0 | D27: 3 | E27: =IF(OR(EXACT($C$7,C27)*(EXACT($D$7,D27)))=TRUE,$AN$9,IF(($D$7-$C$7=D27-C27),$AN$8,IF(OR(EXACT($C$7>$D$7,C27>D27)*EXACT($C$7=$D$7,C27=D27)*EXACT($C$7<$D$7,C27<D27)),$AN$7,0))) -> 0 | F27: 1 | G27: 2 | H27: =IF(OR(EXACT($F$7,F27)*(EXACT($G$7,G27)))=TRUE,$AN$9,IF(($G$7-$F$7=G27-F27),$AN$8,IF(OR(EXACT($F$7>$G$7,F27>G27)*EXACT($F$7=$G$7,F27=G27)*EXACT($F$7<$G$7,F27<G27)),$AN$7,0))) -> 0 | I27: 2 | J27: 2 | K27: =IF(OR(EXACT($I$7,I27)*(EXACT($J$7,J27)))=TRUE,$AN$9,IF(($J$7-$I$7=J27-I27),$AN$8,IF(OR(EXACT($I$7>$J$7,I27>J27)*EXACT($I$7=$J$7,I27=J27)*EXACT($I$7<$J$7,I27<J27)),$AN$7,0))) -> 0 | L27: 1 | M27: 1 | N27: =IF(OR(EXACT($L$7,L27)*(EXACT($M$7,M27)))=TRUE,$AN$9,IF(($M$7-$L$7=M27-L27),$AN$8,IF(OR(EXACT($L$7>$M$7,L27>M27)*EXACT($L$7=$M$7,L27=M27)*EXACT($L$7<$M$7,L27<M27)),$AN$7,0))) -> 0 | O27: 2 | P27: 1 | Q27: =IF(OR(EXACT($O$7,O27)*(EXACT($P$7,P27)))=TRUE,$AN$9,IF(($P$7-$O$7=P27-O27),$AN$8,IF(OR(EXACT($O$7>$P$7,O27>P27)*EXACT($O$7=$P$7,O27=P27)*EXACT($O$7<$P$7,O27<P27)),$AN$7,0))) -> 2 | R27: 3 | S27: 1 | T27: =IF(OR(EXACT($R$7,R27)*(EXACT($S$7,S27)))=TRUE,$AN$9,IF(($S$7-$R$7=S27-R27),$AN$8,IF(OR(EXACT($R$7>$S$7,R27>S27)*EXACT($R$7=$S$7,R27=S27)*EXACT($R$7<$S$7,R27<S27)),$AN$7,0)))*4 -> 8 | U27: 0 | V27: 2 | W27: =IF(OR(EXACT($U$7,U27)*(EXACT($V$7,V27)))=TRUE,$AN$9,IF(($V$7-$U$7=V27-U27),$AN$8,IF(OR(EXACT($U$7>$V$7,U27>V27)*EXACT($U$7=$V$7,U27=V27)*EXACT($U$7<$V$7,U27<V27)),$AN$7,0))) -> 0 | X27: 0 | Y27: 1 | Z27: =IF(OR(EXACT($X$7,X27)*(EXACT($Y$7,Y27)))=TRUE,$AN$9,IF(($Y$7-$X$7=Y27-X27),$AN$8,IF(OR(EXACT($X$7>$Y$7,X27>Y27)*EXACT($X$7=$Y$7,X27=Y27)*EXACT($X$7<$Y$7,X27<Y27)),$AN$7,0))) -> 2 | AA27: 1 | AB27: 0 | AC27: =IF(OR(EXACT($AA$7,AA27)*(EXACT($AB$7,AB27)))=TRUE,$AN$9,IF(($AB$7-$AA$7=AB27-AA27),$AN$8,IF(OR(EXACT($AA$7>$AB$7,AA27>AB27)*EXACT($AA$7=$AB$7,AA27=AB27)*EXACT($AA$7<$AB$7,AA27<AB27)),$AN$7,0))) -> 0 | AG27: =E27+H27+K27+N27+Q27+T27+W27+Z27+AC27+AF27 -> 12 | AH27: ='2.Spieltag '!AI27 -> 13 | AI27: =AG27+AH27 -> 25 | AJ27: =RANK(AI27,$AI$8:$AI$53) -> 25
A28: =AJ28 -> 15 | B28: ='1.Spieltag'!B28 -> schmiddi04 | C28: 0 | D28: 1 | E28: =IF(OR(EXACT($C$7,C28)*(EXACT($D$7,D28)))=TRUE,$AN$9,IF(($D$7-$C$7=D28-C28),$AN$8,IF(OR(EXACT($C$7>$D$7,C28>D28)*EXACT($C$7=$D$7,C28=D28)*EXACT($C$7<$D$7,C28<D28)),$AN$7,0))) -> 0 | F28: 1 | G28: 2 | H28: =IF(OR(EXACT($F$7,F28)*(EXACT($G$7,G28)))=TRUE,$AN$9,IF(($G$7-$F$7=G28-F28),$AN$8,IF(OR(EXACT($F$7>$G$7,F28>G28)*EXACT($F$7=$G$7,F28=G28)*EXACT($F$7<$G$7,F28<G28)),$AN$7,0))) -> 0 | I28: 0 | J28: 1 | K28: =IF(OR(EXACT($I$7,I28)*(EXACT($J$7,J28)))=TRUE,$AN$9,IF(($J$7-$I$7=J28-I28),$AN$8,IF(OR(EXACT($I$7>$J$7,I28>J28)*EXACT($I$7=$J$7,I28=J28)*EXACT($I$7<$J$7,I28<J28)),$AN$7,0))) -> 3 | L28: 1 | M28: 1 | N28: =IF(OR(EXACT($L$7,L28)*(EXACT($M$7,M28)))=TRUE,$AN$9,IF(($M$7-$L$7=M28-L28),$AN$8,IF(OR(EXACT($L$7>$M$7,L28>M28)*EXACT($L$7=$M$7,L28=M28)*EXACT($L$7<$M$7,L28<M28)),$AN$7,0))) -> 0 | O28: 2 | P28: 1 | Q28: =IF(OR(EXACT($O$7,O28)*(EXACT($P$7,P28)))=TRUE,$AN$9,IF(($P$7-$O$7=P28-O28),$AN$8,IF(OR(EXACT($O$7>$P$7,O28>P28)*EXACT($O$7=$P$7,O28=P28)*EXACT($O$7<$P$7,O28<P28)),$AN$7,0))) -> 2 | R28: 3 | S28: 0 | T28: =IF(OR(EXACT($R$7,R28)*(EXACT($S$7,S28)))=TRUE,$AN$9,IF(($S$7-$R$7=S28-R28),$AN$8,IF(OR(EXACT($R$7>$S$7,R28>S28)*EXACT($R$7=$S$7,R28=S28)*EXACT($R$7<$S$7,R28<S28)),$AN$7,0)))*4 -> 8 | U28: 1 | V28: 2 | W28: =IF(OR(EXACT($U$7,U28)*(EXACT($V$7,V28)))=TRUE,$AN$9,IF(($V$7-$U$7=V28-U28),$AN$8,IF(OR(EXACT($U$7>$V$7,U28>V28)*EXACT($U$7=$V$7,U28=V28)*EXACT($U$7<$V$7,U28<V28)),$AN$7,0))) -> 0 | X28: 1 | Y28: 0 | Z28: =IF(OR(EXACT($X$7,X28)*(EXACT($Y$7,Y28)))=TRUE,$AN$9,IF(($Y$7-$X$7=Y28-X28),$AN$8,IF(OR(EXACT($X$7>$Y$7,X28>Y28)*EXACT($X$7=$Y$7,X28=Y28)*EXACT($X$7<$Y$7,X28<Y28)),$AN$7,0))) -> 0 | AA28: 0 | AB28: 1 | AC28: =IF(OR(EXACT($AA$7,AA28)*(EXACT($AB$7,AB28)))=TRUE,$AN$9,IF(($AB$7-$AA$7=AB28-AA28),$AN$8,IF(OR(EXACT($AA$7>$AB$7,AA28>AB28)*EXACT($AA$7=$AB$7,AA28=AB28)*EXACT($AA$7<$AB$7,AA28<AB28)),$AN$7,0))) -> 3 | AG28: =E28+H28+K28+N28+Q28+T28+W28+Z28+AC28+AF28 -> 16 | AH28: ='2.Spieltag '!AI28 -> 28 | AI28: =AG28+AH28 -> 44 | AJ28: =RANK(AI28,$AI$8:$AI$53) -> 15
A29: =AJ29 -> 1 | B29: ='1.Spieltag'!B29 -> shiny | C29: 2 | D29: 1 | E29: =IF(OR(EXACT($C$7,C29)*(EXACT($D$7,D29)))=TRUE,$AN$9,IF(($D$7-$C$7=D29-C29),$AN$8,IF(OR(EXACT($C$7>$D$7,C29>D29)*EXACT($C$7=$D$7,C29=D29)*EXACT($C$7<$D$7,C29<D29)),$AN$7,0))) -> 5 | F29: 2 | G29: 1 | H29: =IF(OR(EXACT($F$7,F29)*(EXACT($G$7,G29)))=TRUE,$AN$9,IF(($G$7-$F$7=G29-F29),$AN$8,IF(OR(EXACT($F$7>$G$7,F29>G29)*EXACT($F$7=$G$7,F29=G29)*EXACT($F$7<$G$7,F29<G29)),$AN$7,0))) -> 5 | I29: 1 | J29: 1 | K29: =IF(OR(EXACT($I$7,I29)*(EXACT($J$7,J29)))=TRUE,$AN$9,IF(($J$7-$I$7=J29-I29),$AN$8,IF(OR(EXACT($I$7>$J$7,I29>J29)*EXACT($I$7=$J$7,I29=J29)*EXACT($I$7<$J$7,I29<J29)),$AN$7,0))) -> 0 | L29: 2 | M29: 1 | N29: =IF(OR(EXACT($L$7,L29)*(EXACT($M$7,M29)))=TRUE,$AN$9,IF(($M$7-$L$7=M29-L29),$AN$8,IF(OR(EXACT($L$7>$M$7,L29>M29)*EXACT($L$7=$M$7,L29=M29)*EXACT($L$7<$M$7,L29<M29)),$AN$7,0))) -> 2 | O29: 2 | P29: 1 | Q29: =IF(OR(EXACT($O$7,O29)*(EXACT($P$7,P29)))=TRUE,$AN$9,IF(($P$7-$O$7=P29-O29),$AN$8,IF(OR(EXACT($O$7>$P$7,O29>P29)*EXACT($O$7=$P$7,O29=P29)*EXACT($O$7<$P$7,O29<P29)),$AN$7,0))) -> 2 | R29: 2 | S29: 1 | T29: =IF(OR(EXACT($R$7,R29)*(EXACT($S$7,S29)))=TRUE,$AN$9,IF(($S$7-$R$7=S29-R29),$AN$8,IF(OR(EXACT($R$7>$S$7,R29>S29)*EXACT($R$7=$S$7,R29=S29)*EXACT($R$7<$S$7,R29<S29)),$AN$7,0)))*4 -> 20 | U29: 2 | V29: 1 | W29: =IF(OR(EXACT($U$7,U29)*(EXACT($V$7,V29)))=TRUE,$AN$9,IF(($V$7-$U$7=V29-U29),$AN$8,IF(OR(EXACT($U$7>$V$7,U29>V29)*EXACT($U$7=$V$7,U29=V29)*EXACT($U$7<$V$7,U29<V29)),$AN$7,0))) -> 0 | X29: 2 | Y29: 1 | Z29: =IF(OR(EXACT($X$7,X29)*(EXACT($Y$7,Y29)))=TRUE,$AN$9,IF(($Y$7-$X$7=Y29-X29),$AN$8,IF(OR(EXACT($X$7>$Y$7,X29>Y29)*EXACT($X$7=$Y$7,X29=Y29)*EXACT($X$7<$Y$7,X29<Y29)),$AN$7,0))) -> 0 | AA29: 2 | AB29: 1 | AC29: =IF(OR(EXACT($AA$7,AA29)*(EXACT($AB$7,AB29)))=TRUE,$AN$9,IF(($AB$7-$AA$7=AB29-AA29),$AN$8,IF(OR(EXACT($AA$7>$AB$7,AA29>AB29)*EXACT($AA$7=$AB$7,AA29=AB29)*EXACT($AA$7<$AB$7,AA29<AB29)),$AN$7,0))) -> 0 | AG29: =E29+H29+K29+N29+Q29+T29+W29+Z29+AC29+AF29 -> 34 | AH29: ='2.Spieltag '!AI29 -> 34 | AI29: =AG29+AH29 -> 68 | AJ29: =RANK(AI29,$AI$8:$AI$53) -> 1
A30: =AJ30 -> 14 | B30: ='1.Spieltag'!B30 -> Silfa04 | C30: 2 | D30: 1 | E30: =IF(OR(EXACT($C$7,C30)*(EXACT($D$7,D30)))=TRUE,$AN$9,IF(($D$7-$C$7=D30-C30),$AN$8,IF(OR(EXACT($C$7>$D$7,C30>D30)*EXACT($C$7=$D$7,C30=D30)*EXACT($C$7<$D$7,C30<D30)),$AN$7,0))) -> 5 | F30: 0 | G30: 2 | H30: =IF(OR(EXACT($F$7,F30)*(EXACT($G$7,G30)))=TRUE,$AN$9,IF(($G$7-$F$7=G30-F30),$AN$8,IF(OR(EXACT($F$7>$G$7,F30>G30)*EXACT($F$7=$G$7,F30=G30)*EXACT($F$7<$G$7,F30<G30)),$AN$7,0))) -> 0 | I30: 0 | J30: 1 | K30: =IF(OR(EXACT($I$7,I30)*(EXACT($J$7,J30)))=TRUE,$AN$9,IF(($J$7-$I$7=J30-I30),$AN$8,IF(OR(EXACT($I$7>$J$7,I30>J30)*EXACT($I$7=$J$7,I30=J30)*EXACT($I$7<$J$7,I30<J30)),$AN$7,0))) -> 3 | L30: 2 | M30: 2 | N30: =IF(OR(EXACT($L$7,L30)*(EXACT($M$7,M30)))=TRUE,$AN$9,IF(($M$7-$L$7=M30-L30),$AN$8,IF(OR(EXACT($L$7>$M$7,L30>M30)*EXACT($L$7=$M$7,L30=M30)*EXACT($L$7<$M$7,L30<M30)),$AN$7,0))) -> 0 | O30: 1 | P30: 0 | Q30: =IF(OR(EXACT($O$7,O30)*(EXACT($P$7,P30)))=TRUE,$AN$9,IF(($P$7-$O$7=P30-O30),$AN$8,IF(OR(EXACT($O$7>$P$7,O30>P30)*EXACT($O$7=$P$7,O30=P30)*EXACT($O$7<$P$7,O30<P30)),$AN$7,0))) -> 2 | R30: 3 | S30: 1 | T30: =IF(OR(EXACT($R$7,R30)*(EXACT($S$7,S30)))=TRUE,$AN$9,IF(($S$7-$R$7=S30-R30),$AN$8,IF(OR(EXACT($R$7>$S$7,R30>S30)*EXACT($R$7=$S$7,R30=S30)*EXACT($R$7<$S$7,R30<S30)),$AN$7,0)))*4 -> 8 | U30: 1 | V30: 3 | W30: =IF(OR(EXACT($U$7,U30)*(EXACT($V$7,V30)))=TRUE,$AN$9,IF(($V$7-$U$7=V30-U30),$AN$8,IF(OR(EXACT($U$7>$V$7,U30>V30)*EXACT($U$7=$V$7,U30=V30)*EXACT($U$7<$V$7,U30<V30)),$AN$7,0))) -> 0 | X30: 0 | Y30: 2 | Z30: =IF(OR(EXACT($X$7,X30)*(EXACT($Y$7,Y30)))=TRUE,$AN$9,IF(($Y$7-$X$7=Y30-X30),$AN$8,IF(OR(EXACT($X$7>$Y$7,X30>Y30)*EXACT($X$7=$Y$7,X30=Y30)*EXACT($X$7<$Y$7,X30<Y30)),$AN$7,0))) -> 5 | AA30: 4 | AB30: 3 | AC30: =IF(OR(EXACT($AA$7,AA30)*(EXACT($AB$7,AB30)))=TRUE,$AN$9,IF(($AB$7-$AA$7=AB30-AA30),$AN$8,IF(OR(EXACT($AA$7>$AB$7,AA30>AB30)*EXACT($AA$7=$AB$7,AA30=AB30)*EXACT($AA$7<$AB$7,AA30<AB30)),$AN$7,0))) -> 0 | AG30: =E30+H30+K30+N30+Q30+T30+W30+Z30+AC30+AF30 -> 23 | AH30: ='2.Spieltag '!AI30 -> 22 | AI30: =AG30+AH30 -> 45 | AJ30: =RANK(AI30,$AI$8:$AI$53) -> 14
A31: =AJ31 -> 5 | B31: ='1.Spieltag'!B31 -> Tanja04 | C31: 1 | D31: 2 | E31: =IF(OR(EXACT($C$7,C31)*(EXACT($D$7,D31)))=TRUE,$AN$9,IF(($D$7-$C$7=D31-C31),$AN$8,IF(OR(EXACT($C$7>$D$7,C31>D31)*EXACT($C$7=$D$7,C31=D31)*EXACT($C$7<$D$7,C31<D31)),$AN$7,0))) -> 0 | F31: 1 | G31: 1 | H31: =IF(OR(EXACT($F$7,F31)*(EXACT($G$7,G31)))=TRUE,$AN$9,IF(($G$7-$F$7=G31-F31),$AN$8,IF(OR(EXACT($F$7>$G$7,F31>G31)*EXACT($F$7=$G$7,F31=G31)*EXACT($F$7<$G$7,F31<G31)),$AN$7,0))) -> 0 | I31: 1 | J31: 2 | K31: =IF(OR(EXACT($I$7,I31)*(EXACT($J$7,J31)))=TRUE,$AN$9,IF(($J$7-$I$7=J31-I31),$AN$8,IF(OR(EXACT($I$7>$J$7,I31>J31)*EXACT($I$7=$J$7,I31=J31)*EXACT($I$7<$J$7,I31<J31)),$AN$7,0))) -> 5 | L31: 2 | M31: 1 | N31: =IF(OR(EXACT($L$7,L31)*(EXACT($M$7,M31)))=TRUE,$AN$9,IF(($M$7-$L$7=M31-L31),$AN$8,IF(OR(EXACT($L$7>$M$7,L31>M31)*EXACT($L$7=$M$7,L31=M31)*EXACT($L$7<$M$7,L31<M31)),$AN$7,0))) -> 2 | O31: 1 | P31: 0 | Q31: =IF(OR(EXACT($O$7,O31)*(EXACT($P$7,P31)))=TRUE,$AN$9,IF(($P$7-$O$7=P31-O31),$AN$8,IF(OR(EXACT($O$7>$P$7,O31>P31)*EXACT($O$7=$P$7,O31=P31)*EXACT($O$7<$P$7,O31<P31)),$AN$7,0))) -> 2 | R31: 3 | S31: 1 | T31: =IF(OR(EXACT($R$7,R31)*(EXACT($S$7,S31)))=TRUE,$AN$9,IF(($S$7-$R$7=S31-R31),$AN$8,IF(OR(EXACT($R$7>$S$7,R31>S31)*EXACT($R$7=$S$7,R31=S31)*EXACT($R$7<$S$7,R31<S31)),$AN$7,0)))*4 -> 8 | U31: 1 | V31: 1 | W31: =IF(OR(EXACT($U$7,U31)*(EXACT($V$7,V31)))=TRUE,$AN$9,IF(($V$7-$U$7=V31-U31),$AN$8,IF(OR(EXACT($U$7>$V$7,U31>V31)*EXACT($U$7=$V$7,U31=V31)*EXACT($U$7<$V$7,U31<V31)),$AN$7,0))) -> 3 | X31: 1 | Y31: 2 | Z31: =IF(OR(EXACT($X$7,X31)*(EXACT($Y$7,Y31)))=TRUE,$AN$9,IF(($Y$7-$X$7=Y31-X31),$AN$8,IF(OR(EXACT($X$7>$Y$7,X31>Y31)*EXACT($X$7=$Y$7,X31=Y31)*EXACT($X$7<$Y$7,X31<Y31)),$AN$7,0))) -> 2 | AA31: 1 | AB31: 0 | AC31: =IF(OR(EXACT($AA$7,AA31)*(EXACT($AB$7,AB31)))=TRUE,$AN$9,IF(($AB$7-$AA$7=AB31-AA31),$AN$8,IF(OR(EXACT($AA$7>$AB$7,AA31>AB31)*EXACT($AA$7=$AB$7,AA31=AB31)*EXACT($AA$7<$AB$7,AA31<AB31)),$AN$7,0))) -> 0 | AG31: =E31+H31+K31+N31+Q31+T31+W31+Z31+AC31+AF31 -> 22 | AH31: ='2.Spieltag '!AI31 -> 38 | AI31: =AG31+AH31 -> 60 | AJ31: =RANK(AI31,$AI$8:$AI$53) -> 5
A32: =AJ32 -> 24 | B32: ='1.Spieltag'!B32 -> Th. Bülles | C32: 1 | D32: 1 | E32: =IF(OR(EXACT($C$7,C32)*(EXACT($D$7,D32)))=TRUE,$AN$9,IF(($D$7-$C$7=D32-C32),$AN$8,IF(OR(EXACT($C$7>$D$7,C32>D32)*EXACT($C$7=$D$7,C32=D32)*EXACT($C$7<$D$7,C32<D32)),$AN$7,0))) -> 0 | F32: 2 | G32: 1 | H32: =IF(OR(EXACT($F$7,F32)*(EXACT($G$7,G32)))=TRUE,$AN$9,IF(($G$7-$F$7=G32-F32),$AN$8,IF(OR(EXACT($F$7>$G$7,F32>G32)*EXACT($F$7=$G$7,F32=G32)*EXACT($F$7<$G$7,F32<G32)),$AN$7,0))) -> 5 | I32: 1 | J32: 1 | K32: =IF(OR(EXACT($I$7,I32)*(EXACT($J$7,J32)))=TRUE,$AN$9,IF(($J$7-$I$7=J32-I32),$AN$8,IF(OR(EXACT($I$7>$J$7,I32>J32)*EXACT($I$7=$J$7,I32=J32)*EXACT($I$7<$J$7,I32<J32)),$AN$7,0))) -> 0 | L32: 2 | M32: 0 | N32: =IF(OR(EXACT($L$7,L32)*(EXACT($M$7,M32)))=TRUE,$AN$9,IF(($M$7-$L$7=M32-L32),$AN$8,IF(OR(EXACT($L$7>$M$7,L32>M32)*EXACT($L$7=$M$7,L32=M32)*EXACT($L$7<$M$7,L32<M32)),$AN$7,0))) -> 5 | O32: 0 | P32: 0 | Q32: =IF(OR(EXACT($O$7,O32)*(EXACT($P$7,P32)))=TRUE,$AN$9,IF(($P$7-$O$7=P32-O32),$AN$8,IF(OR(EXACT($O$7>$P$7,O32>P32)*EXACT($O$7=$P$7,O32=P32)*EXACT($O$7<$P$7,O32<P32)),$AN$7,0))) -> 0 | R32: 0 | S32: 2 | T32: =IF(OR(EXACT($R$7,R32)*(EXACT($S$7,S32)))=TRUE,$AN$9,IF(($S$7-$R$7=S32-R32),$AN$8,IF(OR(EXACT($R$7>$S$7,R32>S32)*EXACT($R$7=$S$7,R32=S32)*EXACT($R$7<$S$7,R32<S32)),$AN$7,0)))*4 -> 0 | U32: 1 | V32: 2 | W32: =IF(OR(EXACT($U$7,U32)*(EXACT($V$7,V32)))=TRUE,$AN$9,IF(($V$7-$U$7=V32-U32),$AN$8,IF(OR(EXACT($U$7>$V$7,U32>V32)*EXACT($U$7=$V$7,U32=V32)*EXACT($U$7<$V$7,U32<V32)),$AN$7,0))) -> 0 | X32: 1 | Y32: 0 | Z32: =IF(OR(EXACT($X$7,X32)*(EXACT($Y$7,Y32)))=TRUE,$AN$9,IF(($Y$7-$X$7=Y32-X32),$AN$8,IF(OR(EXACT($X$7>$Y$7,X32>Y32)*EXACT($X$7=$Y$7,X32=Y32)*EXACT($X$7<$Y$7,X32<Y32)),$AN$7,0))) -> 0 | AA32: 3 | AB32: 1 | AC32: =IF(OR(EXACT($AA$7,AA32)*(EXACT($AB$7,AB32)))=TRUE,$AN$9,IF(($AB$7-$AA$7=AB32-AA32),$AN$8,IF(OR(EXACT($AA$7>$AB$7,AA32>AB32)*EXACT($AA$7=$AB$7,AA32=AB32)*EXACT($AA$7<$AB$7,AA32<AB32)),$AN$7,0))) -> 0 | AG32: =E32+H32+K32+N32+Q32+T32+W32+Z32+AC32+AF32 -> 10 | AH32: ='2.Spieltag '!AI32 -> 16 | AI32: =AG32+AH32 -> 26 | AJ32: =RANK(AI32,$AI$8:$AI$53) -> 24
A33: =AJ33 -> 22 | B33: ='1.Spieltag'!B33 -> UltraGE | C33: 1 | D33: 2 | E33: =IF(OR(EXACT($C$7,C33)*(EXACT($D$7,D33)))=TRUE,$AN$9,IF(($D$7-$C$7=D33-C33),$AN$8,IF(OR(EXACT($C$7>$D$7,C33>D33)*EXACT($C$7=$D$7,C33=D33)*EXACT($C$7<$D$7,C33<D33)),$AN$7,0))) -> 0 | F33: 1 | G33: 2 | H33: =IF(OR(EXACT($F$7,F33)*(EXACT($G$7,G33)))=TRUE,$AN$9,IF(($G$7-$F$7=G33-F33),$AN$8,IF(OR(EXACT($F$7>$G$7,F33>G33)*EXACT($F$7=$G$7,F33=G33)*EXACT($F$7<$G$7,F33<G33)),$AN$7,0))) -> 0 | I33: 2 | J33: 1 | K33: =IF(OR(EXACT($I$7,I33)*(EXACT($J$7,J33)))=TRUE,$AN$9,IF(($J$7-$I$7=J33-I33),$AN$8,IF(OR(EXACT($I$7>$J$7,I33>J33)*EXACT($I$7=$J$7,I33=J33)*EXACT($I$7<$J$7,I33<J33)),$AN$7,0))) -> 0 | L33: 2 | M33: 0 | N33: =IF(OR(EXACT($L$7,L33)*(EXACT($M$7,M33)))=TRUE,$AN$9,IF(($M$7-$L$7=M33-L33),$AN$8,IF(OR(EXACT($L$7>$M$7,L33>M33)*EXACT($L$7=$M$7,L33=M33)*EXACT($L$7<$M$7,L33<M33)),$AN$7,0))) -> 5 | O33: 1 | P33: 2 | Q33: =IF(OR(EXACT($O$7,O33)*(EXACT($P$7,P33)))=TRUE,$AN$9,IF(($P$7-$O$7=P33-O33),$AN$8,IF(OR(EXACT($O$7>$P$7,O33>P33)*EXACT($O$7=$P$7,O33=P33)*EXACT($O$7<$P$7,O33<P33)),$AN$7,0))) -> 0 | R33: 3 | S33: 1 | T33: =IF(OR(EXACT($R$7,R33)*(EXACT($S$7,S33)))=TRUE,$AN$9,IF(($S$7-$R$7=S33-R33),$AN$8,IF(OR(EXACT($R$7>$S$7,R33>S33)*EXACT($R$7=$S$7,R33=S33)*EXACT($R$7<$S$7,R33<S33)),$AN$7,0)))*4 -> 8 | U33: 2 | V33: 1 | W33: =IF(OR(EXACT($U$7,U33)*(EXACT($V$7,V33)))=TRUE,$AN$9,IF(($V$7-$U$7=V33-U33),$AN$8,IF(OR(EXACT($U$7>$V$7,U33>V33)*EXACT($U$7=$V$7,U33=V33)*EXACT($U$7<$V$7,U33<V33)),$AN$7,0))) -> 0 | X33: 1 | Y33: 2 | Z33: =IF(OR(EXACT($X$7,X33)*(EXACT($Y$7,Y33)))=TRUE,$AN$9,IF(($Y$7-$X$7=Y33-X33),$AN$8,IF(OR(EXACT($X$7>$Y$7,X33>Y33)*EXACT($X$7=$Y$7,X33=Y33)*EXACT($X$7<$Y$7,X33<Y33)),$AN$7,0))) -> 2 | AA33: 2 | AB33: 2 | AC33: =IF(OR(EXACT($AA$7,AA33)*(EXACT($AB$7,AB33)))=TRUE,$AN$9,IF(($AB$7-$AA$7=AB33-AA33),$AN$8,IF(OR(EXACT($AA$7>$AB$7,AA33>AB33)*EXACT($AA$7=$AB$7,AA33=AB33)*EXACT($AA$7<$AB$7,AA33<AB33)),$AN$7,0))) -> 0 | AG33: =E33+H33+K33+N33+Q33+T33+W33+Z33+AC33+AF33 -> 15 | AH33: ='2.Spieltag '!AI33 -> 17 | AI33: =AG33+AH33 -> 32 | AJ33: =RANK(AI33,$AI$8:$AI$53) -> 22

Sheet 4.Spieltag
A4: 4. Spieltag | C4: Nürnberg | F4: Hertha BSC | I4: Kiel | L4: Bochum | O4: Braunschw. | R4: Düsseldorf | U4: Magdeburg | X4: Kaisersl. | AA4: Dresden
AG5: G E S A M T W E R T U N G
C6: Paderborn | F6: Elversberg | I6: Hannover | L6: Pr. Münster | O6: Bielefeld | R6: Karlsruhe | U6: Fürth | X6: Darmstadt | AA6: Schalke 04 | AG6: Punkte | AH6: Punkte | AI6: Gesamt | AJ6: Platz | AK6: PUNKTEVERTEILUNG
A7: PLATZ | B7: ERGEBNISSE=> | C7: 0 | D7: 0 | E7: Pkt. | F7: 0 | G7: 2 | H7: Pkt. | I7: 1 | J7: 2 | K7: Pkt. | L7: 1 | M7: 2 | N7: Pkt. | O7: 1 | P7: 1 | Q7: Pkt. | R7: 0 | S7: 0 | T7: Pkt. | U7: 4 | V7: 5 | W7: Pkt. | X7: 3 | Y7: 1 | Z7: Pkt. | AA7: 0 | AB7: 1 | AC7: Pkt. | AG7: Spieltag | AH7: bisher | AI7: Punkte | AK7: richtige Tendenz | AN7: 2
A8: =AJ8 -> 6 | B8: ='1.Spieltag'!B8 -> ahaupt1904 | C8: 2 | D8: 2 | E8: =IF(OR(EXACT($C$7,C8)*(EXACT($D$7,D8)))=TRUE,$AN$9,IF(($D$7-$C$7=D8-C8),$AN$8,IF(OR(EXACT($C$7>$D$7,C8>D8)*EXACT($C$7=$D$7,C8=D8)*EXACT($C$7<$D$7,C8<D8)),$AN$7,0))) -> 3 | F8: 2 | G8: 1 | H8: =IF(OR(EXACT($F$7,F8)*(EXACT($G$7,G8)))=TRUE,$AN$9,IF(($G$7-$F$7=G8-F8),$AN$8,IF(OR(EXACT($F$7>$G$7,F8>G8)*EXACT($F$7=$G$7,F8=G8)*EXACT($F$7<$G$7,F8<G8)),$AN$7,0))) -> 0 | I8: 2 | J8: 2 | K8: =IF(OR(EXACT($I$7,I8)*(EXACT($J$7,J8)))=TRUE,$AN$9,IF(($J$7-$I$7=J8-I8),$AN$8,IF(OR(EXACT($I$7>$J$7,I8>J8)*EXACT($I$7=$J$7,I8=J8)*EXACT($I$7<$J$7,I8<J8)),$AN$7,0))) -> 0 | L8: 3 | M8: 1 | N8: =IF(OR(EXACT($L$7,L8)*(EXACT($M$7,M8)))=TRUE,$AN$9,IF(($M$7-$L$7=M8-L8),$AN$8,IF(OR(EXACT($L$7>$M$7,L8>M8)*EXACT($L$7=$M$7,L8=M8)*EXACT($L$7<$M$7,L8<M8)),$AN$7,0))) -> 0 | O8: 2 | P8: 1 | Q8: =IF(OR(EXACT($O$7,O8)*(EXACT($P$7,P8)))=TRUE,$AN$9,IF(($P$7-$O$7=P8-O8),$AN$8,IF(OR(EXACT($O$7>$P$7,O8>P8)*EXACT($O$7=$P$7,O8=P8)*EXACT($O$7<$P$7,O8<P8)),$AN$7,0))) -> 0 | R8: 2 | S8: 0 | T8: =IF(OR(EXACT($R$7,R8)*(EXACT($S$7,S8)))=TRUE,$AN$9,IF(($S$7-$R$7=S8-R8),$AN$8,IF(OR(EXACT($R$7>$S$7,R8>S8)*EXACT($R$7=$S$7,R8=S8)*EXACT($R$7<$S$7,R8<S8)),$AN$7,0))) -> 0 | U8: 2 | V8: 2 | W8: =IF(OR(EXACT($U$7,U8)*(EXACT($V$7,V8)))=TRUE,$AN$9,IF(($V$7-$U$7=V8-U8),$AN$8,IF(OR(EXACT($U$7>$V$7,U8>V8)*EXACT($U$7=$V$7,U8=V8)*EXACT($U$7<$V$7,U8<V8)),$AN$7,0))) -> 0 | X8: 2 | Y8: 1 | Z8: =IF(OR(EXACT($X$7,X8)*(EXACT($Y$7,Y8)))=TRUE,$AN$9,IF(($Y$7-$X$7=Y8-X8),$AN$8,IF(OR(EXACT($X$7>$Y$7,X8>Y8)*EXACT($X$7=$Y$7,X8=Y8)*EXACT($X$7<$Y$7,X8<Y8)),$AN$7,0))) -> 2 | AA8: 1 | AB8: 2 | AC8: =IF(OR(EXACT($AA$7,AA8)*(EXACT($AB$7,AB8)))=TRUE,$AN$9,IF(($AB$7-$AA$7=AB8-AA8),$AN$8,IF(OR(EXACT($AA$7>$AB$7,AA8>AB8)*EXACT($AA$7=$AB$7,AA8=AB8)*EXACT($AA$7<$AB$7,AA8<AB8)),$AN$7,0)))*4 -> 12 | AG8: =E8+H8+K8+N8+Q8+T8+W8+Z8+AC8+AF8 -> 17 | AH8: ='3.Spieltag'!AI8 -> 56 | AI8: =AG8+AH8 -> 73 | AJ8: =RANK(AI8,$AI$8:$AI$53) -> 6 | AK8: richtige Tend. + korr. Torabst. | AN8: 3
A9: =AJ9 -> 13 | B9: ='1.Spieltag'!B9 -> Alexander18 | C9: 2 | D9: 1 | E9: =IF(OR(EXACT($C$7,C9)*(EXACT($D$7,D9)))=TRUE,$AN$9,IF(($D$7-$C$7=D9-C9),$AN$8,IF(OR(EXACT($C$7>$D$7,C9>D9)*EXACT($C$7=$D$7,C9=D9)*EXACT($C$7<$D$7,C9<D9)),$AN$7,0))) -> 0 | F9: 1 | G9: 2 | H9: =IF(OR(EXACT($F$7,F9)*(EXACT($G$7,G9)))=TRUE,$AN$9,IF(($G$7-$F$7=G9-F9),$AN$8,IF(OR(EXACT($F$7>$G$7,F9>G9)*EXACT($F$7=$G$7,F9=G9)*EXACT($F$7<$G$7,F9<G9)),$AN$7,0))) -> 2 | I9: 1 | J9: 1 | K9: =IF(OR(EXACT($I$7,I9)*(EXACT($J$7,J9)))=TRUE,$AN$9,IF(($J$7-$I$7=J9-I9),$AN$8,IF(OR(EXACT($I$7>$J$7,I9>J9)*EXACT($I$7=$J$7,I9=J9)*EXACT($I$7<$J$7,I9<J9)),$AN$7,0))) -> 0 | L9: 2 | M9: 1 | N9: =IF(OR(EXACT($L$7,L9)*(EXACT($M$7,M9)))=TRUE,$AN$9,IF(($M$7-$L$7=M9-L9),$AN$8,IF(OR(EXACT($L$7>$M$7,L9>M9)*EXACT($L$7=$M$7,L9=M9)*EXACT($L$7<$M$7,L9<M9)),$AN$7,0))) -> 0 | O9: 0 | P9: 1 | Q9: =IF(OR(EXACT($O$7,O9)*(EXACT($P$7,P9)))=TRUE,$AN$9,IF(($P$7-$O$7=P9-O9),$AN$8,IF(OR(EXACT($O$7>$P$7,O9>P9)*EXACT($O$7=$P$7,O9=P9)*EXACT($O$7<$P$7,O9<P9)),$AN$7,0))) -> 0 | R9: 2 | S9: 1 | T9: =IF(OR(EXACT($R$7,R9)*(EXACT($S$7,S9)))=TRUE,$AN$9,IF(($S$7-$R$7=S9-R9),$AN$8,IF(OR(EXACT($R$7>$S$7,R9>S9)*EXACT($R$7=$S$7,R9=S9)*EXACT($R$7<$S$7,R9<S9)),$AN$7,0))) -> 0 | U9: 2 | V9: 1 | W9: =IF(OR(EXACT($U$7,U9)*(EXACT($V$7,V9)))=TRUE,$AN$9,IF(($V$7-$U$7=V9-U9),$AN$8,IF(OR(EXACT($U$7>$V$7,U9>V9)*EXACT($U$7=$V$7,U9=V9)*EXACT($U$7<$V$7,U9<V9)),$AN$7,0))) -> 0 | X9: 3 | Y9: 0 | Z9: =IF(OR(EXACT($X$7,X9)*(EXACT($Y$7,Y9)))=TRUE,$AN$9,IF(($Y$7-$X$7=Y9-X9),$AN$8,IF(OR(EXACT($X$7>$Y$7,X9>Y9)*EXACT($X$7=$Y$7,X9=Y9)*EXACT($X$7<$Y$7,X9<Y9)),$AN$7,0))) -> 2 | AA9: 1 | AB9: 2 | AC9: =IF(OR(EXACT($AA$7,AA9)*(EXACT($AB$7,AB9)))=TRUE,$AN$9,IF(($AB$7-$AA$7=AB9-AA9),$AN$8,IF(OR(EXACT($AA$7>$AB$7,AA9>AB9)*EXACT($AA$7=$AB$7,AA9=AB9)*EXACT($AA$7<$AB$7,AA9<AB9)),$AN$7,0)))*4 -> 12 | AG9: =E9+H9+K9+N9+Q9+T9+W9+Z9+AC9+AF9 -> 16 | AH9: ='3.Spieltag'!AI9 -> 44 | AI9: =AG9+AH9 -> 60 | AJ9: =RANK(AI9,$AI$8:$AI$53) -> 13 | AK9: richtiges Ergebnis | AN9: 5
A10: =AJ10 -> 6 | B10: ='1.Spieltag'!B10 -> atschi91 | C10: 1 | D10: 2 | E10: =IF(OR(EXACT($C$7,C10)*(EXACT($D$7,D10)))=TRUE,$AN$9,IF(($D$7-$C$7=D10-C10),$AN$8,IF(OR(EXACT($C$7>$D$7,C10>D10)*EXACT($C$7=$D$7,C10=D10)*EXACT($C$7<$D$7,C10<D10)),$AN$7,0))) -> 0 | F10: 1 | G10: 2 | H10: =IF(OR(EXACT($F$7,F10)*(EXACT($G$7,G10)))=TRUE,$AN$9,IF(($G$7-$F$7=G10-F10),$AN$8,IF(OR(EXACT($F$7>$G$7,F10>G10)*EXACT($F$7=$G$7,F10=G10)*EXACT($F$7<$G$7,F10<G10)),$AN$7,0))) -> 2 | I10: 2 | J10: 1 | K10: =IF(OR(EXACT($I$7,I10)*(EXACT($J$7,J10)))=TRUE,$AN$9,IF(($J$7-$I$7=J10-I10),$AN$8,IF(OR(EXACT($I$7>$J$7,I10>J10)*EXACT($I$7=$J$7,I10=J10)*EXACT($I$7<$J$7,I10<J10)),$AN$7,0))) -> 0 | L10: 2 | M10: 1 | N10: =IF(OR(EXACT($L$7,L10)*(EXACT($M$7,M10)))=TRUE,$AN$9,IF(($M$7-$L$7=M10-L10),$AN$8,IF(OR(EXACT($L$7>$M$7,L10>M10)*EXACT($L$7=$M$7,L10=M10)*EXACT($L$7<$M$7,L10<M10)),$AN$7,0))) -> 0 | O10: 2 | P10: 1 | Q10: =IF(OR(EXACT($O$7,O10)*(EXACT($P$7,P10)))=TRUE,$AN$9,IF(($P$7-$O$7=P10-O10),$AN$8,IF(OR(EXACT($O$7>$P$7,O10>P10)*EXACT($O$7=$P$7,O10=P10)*EXACT($O$7<$P$7,O10<P10)),$AN$7,0))) -> 0 | R10: 2 | S10: 1 | T10: =IF(OR(EXACT($R$7,R10)*(EXACT($S$7,S10)))=TRUE,$AN$9,IF(($S$7-$R$7=S10-R10),$AN$8,IF(OR(EXACT($R$7>$S$7,R10>S10)*EXACT($R$7=$S$7,R10=S10)*EXACT($R$7<$S$7,R10<S10)),$AN$7,0))) -> 0 | U10: 2 | V10: 1 | W10: =IF(OR(EXACT($U$7,U10)*(EXACT($V$7,V10)))=TRUE,$AN$9,IF(($V$7-$U$7=V10-U10),$AN$8,IF(OR(EXACT($U$7>$V$7,U10>V10)*EXACT($U$7=$V$7,U10=V10)*EXACT($U$7<$V$7,U10<V10)),$AN$7,0))) -> 0 | X10: 2 | Y10: 1 | Z10: =IF(OR(EXACT($X$7,X10)*(EXACT($Y$7,Y10)))=TRUE,$AN$9,IF(($Y$7-$X$7=Y10-X10),$AN$8,IF(OR(EXACT($X$7>$Y$7,X10>Y10)*EXACT($X$7=$Y$7,X10=Y10)*EXACT($X$7<$Y$7,X10<Y10)),$AN$7,0))) -> 2 | AA10: 1 | AB10: 2 | AC10: =IF(OR(EXACT($AA$7,AA10)*(EXACT($AB$7,AB10)))=TRUE,$AN$9,IF(($AB$7-$AA$7=AB10-AA10),$AN$8,IF(OR(EXACT($AA$7>$AB$7,AA10>AB10)*EXACT($AA$7=$AB$7,AA10=AB10)*EXACT($AA$7<$AB$7,AA10<AB10)),$AN$7,0)))*4 -> 12 | AG10: =E10+H10+K10+N10+Q10+T10+W10+Z10+AC10+AF10 -> 16 | AH10: ='3.Spieltag'!AI10 -> 57 | AI10: =AG10+AH10 -> 73 | AJ10: =RANK(AI10,$AI$8:$AI$53) -> 6
A11: =AJ11 -> 10 | B11: ='1.Spieltag'!B11 -> CathaHaupt1904 | C11: 1 | D11: 1 | E11: =IF(OR(EXACT($C$7,C11)*(EXACT($D$7,D11)))=TRUE,$AN$9,IF(($D$7-$C$7=D11-C11),$AN$8,IF(OR(EXACT($C$7>$D$7,C11>D11)*EXACT($C$7=$D$7,C11=D11)*EXACT($C$7<$D$7,C11<D11)),$AN$7,0))) -> 3 | F11: 2 | G11: 1 | H11: =IF(OR(EXACT($F$7,F11)*(EXACT($G$7,G11)))=TRUE,$AN$9,IF(($G$7-$F$7=G11-F11),$AN$8,IF(OR(EXACT($F$7>$G$7,F11>G11)*EXACT($F$7=$G$7,F11=G11)*EXACT($F$7<$G$7,F11<G11)),$AN$7,0))) -> 0 | I11: 0 | J11: 1 | K11: =IF(OR(EXACT($I$7,I11)*(EXACT($J$7,J11)))=TRUE,$AN$9,IF(($J$7-$I$7=J11-I11),$AN$8,IF(OR(EXACT($I$7>$J$7,I11>J11)*EXACT($I$7=$J$7,I11=J11)*EXACT($I$7<$J$7,I11<J11)),$AN$7,0))) -> 3 | L11: 1 | M11: 1 | N11: =IF(OR(EXACT($L$7,L11)*(EXACT($M$7,M11)))=TRUE,$AN$9,IF(($M$7-$L$7=M11-L11),$AN$8,IF(OR(EXACT($L$7>$M$7,L11>M11)*EXACT($L$7=$M$7,L11=M11)*EXACT($L$7<$M$7,L11<M11)),$AN$7,0))) -> 0 | O11: 2 | P11: 1 | Q11: =IF(OR(EXACT($O$7,O11)*(EXACT($P$7,P11)))=TRUE,$AN$9,IF(($P$7-$O$7=P11-O11),$AN$8,IF(OR(EXACT($O$7>$P$7,O11>P11)*EXACT($O$7=$P$7,O11=P11)*EXACT($O$7<$P$7,O11<P11)),$AN$7,0))) -> 0 | R11: 2 | S11: 0 | T11: =IF(OR(EXACT($R$7,R11)*(EXACT($S$7,S11)))=TRUE,$AN$9,IF(($S$7-$R$7=S11-R11),$AN$8,IF(OR(EXACT($R$7>$S$7,R11>S11)*EXACT($R$7=$S$7,R11=S11)*EXACT($R$7<$S$7,R11<S11)),$AN$7,0))) -> 0 | U11: 2 | V11: 2 | W11: =IF(OR(EXACT($U$7,U11)*(EXACT($V$7,V11)))=TRUE,$AN$9,IF(($V$7-$U$7=V11-U11),$AN$8,IF(OR(EXACT($U$7>$V$7,U11>V11)*EXACT($U$7=$V$7,U11=V11)*EXACT($U$7<$V$7,U11<V11)),$AN$7,0))) -> 0 | X11: 2 | Y11: 1 | Z11: =IF(OR(EXACT($X$7,X11)*(EXACT($Y$7,Y11)))=TRUE,$AN$9,IF(($Y$7-$X$7=Y11-X11),$AN$8,IF(OR(EXACT($X$7>$Y$7,X11>Y11)*EXACT($X$7=$Y$7,X11=Y11)*EXACT($X$7<$Y$7,X11<Y11)),$AN$7,0))) -> 2 | AA11: 1 | AB11: 3 | AC11: =IF(OR(EXACT($AA$7,AA11)*(EXACT($AB$7,AB11)))=TRUE,$AN$9,IF(($AB$7-$AA$7=AB11-AA11),$AN$8,IF(OR(EXACT($AA$7>$AB$7,AA11>AB11)*EXACT($AA$7=$AB$7,AA11=AB11)*EXACT($AA$7<$AB$7,AA11<AB11)),$AN$7,0)))*4 -> 8 | AG11: =E11+H11+K11+N11+Q11+T11+W11+Z11+AC11+AF11 -> 16 | AH11: ='3.Spieltag'!AI11 -> 51 | AI11: =AG11+AH11 -> 67 | AJ11: =RANK(AI11,$AI$8:$AI$53) -> 10
A12: =AJ12 -> 4 | B12: ='1.Spieltag'!B12 -> Dickmeis04 | C12: 2 | D12: 2 | E12: =IF(OR(EXACT($C$7,C12)*(EXACT($D$7,D12)))=TRUE,$AN$9,IF(($D$7-$C$7=D12-C12),$AN$8,IF(OR(EXACT($C$7>$D$7,C12>D12)*EXACT($C$7=$D$7,C12=D12)*EXACT($C$7<$D$7,C12<D12)),$AN$7,0))) -> 3 | F12: 0 | G12: 2 | H12: =IF(OR(EXACT($F$7,F12)*(EXACT($G$7,G12)))=TRUE,$AN$9,IF(($G$7-$F$7=G12-F12),$AN$8,IF(OR(EXACT($F$7>$G$7,F12>G12)*EXACT($F$7=$G$7,F12=G12)*EXACT($F$7<$G$7,F12<G12)),$AN$7,0))) -> 5 | I12: 1 | J12: 1 | K12: =IF(OR(EXACT($I$7,I12)*(EXACT($J$7,J12)))=TRUE,$AN$9,IF(($J$7-$I$7=J12-I12),$AN$8,IF(OR(EXACT($I$7>$J$7,I12>J12)*EXACT($I$7=$J$7,I12=J12)*EXACT($I$7<$J$7,I12<J12)),$AN$7,0))) -> 0 | L12: 3 | M12: 1 | N12: =IF(OR(EXACT($L$7,L12)*(EXACT($M$7,M12)))=TRUE,$AN$9,IF(($M$7-$L$7=M12-L12),$AN$8,IF(OR(EXACT($L$7>$M$7,L12>M12)*EXACT($L$7=$M$7,L12=M12)*EXACT($L$7<$M$7,L12<M12)),$AN$7,0))) -> 0 | O12: 1 | P12: 1 | Q12: =IF(OR(EXACT($O$7,O12)*(EXACT($P$7,P12)))=TRUE,$AN$9,IF(($P$7-$O$7=P12-O12),$AN$8,IF(OR(EXACT($O$7>$P$7,O12>P12)*EXACT($O$7=$P$7,O12=P12)*EXACT($O$7<$P$7,O12<P12)),$AN$7,0))) -> 5 | R12: 2 | S12: 0 | T12: =IF(OR(EXACT($R$7,R12)*(EXACT($S$7,S12)))=TRUE,$AN$9,IF(($S$7-$R$7=S12-R12),$AN$8,IF(OR(EXACT($R$7>$S$7,R12>S12)*EXACT($R$7=$S$7,R12=S12)*EXACT($R$7<$S$7,R12<S12)),$AN$7,0))) -> 0 | U12: 2 | V12: 0 | W12: =IF(OR(EXACT($U$7,U12)*(EXACT($V$7,V12)))=TRUE,$AN$9,IF(($V$7-$U$7=V12-U12),$AN$8,IF(OR(EXACT($U$7>$V$7,U12>V12)*EXACT($U$7=$V$7,U12=V12)*EXACT($U$7<$V$7,U12<V12)),$AN$7,0))) -> 0 | X12: 2 | Y12: 1 | Z12: =IF(OR(EXACT($X$7,X12)*(EXACT($Y$7,Y12)))=TRUE,$AN$9,IF(($Y$7-$X$7=Y12-X12),$AN$8,IF(OR(EXACT($X$7>$Y$7,X12>Y12)*EXACT($X$7=$Y$7,X12=Y12)*EXACT($X$7<$Y$7,X12<Y12)),$AN$7,0))) -> 2 | AA12: 1 | AB12: 2 | AC12: =IF(OR(EXACT($AA$7,AA12)*(EXACT($AB$7,AB12)))=TRUE,$AN$9,IF(($AB$7-$AA$7=AB12-AA12),$AN$8,IF(OR(EXACT($AA$7>$AB$7,AA12>AB12)*EXACT($AA$7=$AB$7,AA12=AB12)*EXACT($AA$7<$AB$7,AA12<AB12)),$AN$7,0)))*4 -> 12 | AG12: =E12+H12+K12+N12+Q12+T12+W12+Z12+AC12+AF12 -> 27 | AH12: ='3.Spieltag'!AI12 -> 48 | AI12: =AG12+AH12 -> 75 | AJ12: =RANK(AI12,$AI$8:$AI$53) -> 4
A13: =AJ13 -> 18 | B13: ='1.Spieltag'!B13 -> fabian1904 | C13: 0 | D13: 2 | E13: =IF(OR(EXACT($C$7,C13)*(EXACT($D$7,D13)))=TRUE,$AN$9,IF(($D$7-$C$7=D13-C13),$AN$8,IF(OR(EXACT($C$7>$D$7,C13>D13)*EXACT($C$7=$D$7,C13=D13)*EXACT($C$7<$D$7,C13<D13)),$AN$7,0))) -> 0 | F13: 1 | G13: 1 | H13: =IF(OR(EXACT($F$7,F13)*(EXACT($G$7,G13)))=TRUE,$AN$9,IF(($G$7-$F$7=G13-F13),$AN$8,IF(OR(EXACT($F$7>$G$7,F13>G13)*EXACT($F$7=$G$7,F13=G13)*EXACT($F$7<$G$7,F13<G13)),$AN$7,0))) -> 0 | I13: 1 | J13: 3 | K13: =IF(OR(EXACT($I$7,I13)*(EXACT($J$7,J13)))=TRUE,$AN$9,IF(($J$7-$I$7=J13-I13),$AN$8,IF(OR(EXACT($I$7>$J$7,I13>J13)*EXACT($I$7=$J$7,I13=J13)*EXACT($I$7<$J$7,I13<J13)),$AN$7,0))) -> 2 | L13: 1 | M13: 0 | N13: =IF(OR(EXACT($L$7,L13)*(EXACT($M$7,M13)))=TRUE,$AN$9,IF(($M$7-$L$7=M13-L13),$AN$8,IF(OR(EXACT($L$7>$M$7,L13>M13)*EXACT($L$7=$M$7,L13=M13)*EXACT($L$7<$M$7,L13<M13)),$AN$7,0))) -> 0 | O13: 1 | P13: 2 | Q13: =IF(OR(EXACT($O$7,O13)*(EXACT($P$7,P13)))=TRUE,$AN$9,IF(($P$7-$O$7=P13-O13),$AN$8,IF(OR(EXACT($O$7>$P$7,O13>P13)*EXACT($O$7=$P$7,O13=P13)*EXACT($O$7<$P$7,O13<P13)),$AN$7,0))) -> 0 | R13: 2 | S13: 0 | T13: =IF(OR(EXACT($R$7,R13)*(EXACT($S$7,S13)))=TRUE,$AN$9,IF(($S$7-$R$7=S13-R13),$AN$8,IF(OR(EXACT($R$7>$S$7,R13>S13)*EXACT($R$7=$S$7,R13=S13)*EXACT($R$7<$S$7,R13<S13)),$AN$7,0))) -> 0 | U13: 4 | V13: 1 | W13: =IF(OR(EXACT($U$7,U13)*(EXACT($V$7,V13)))=TRUE,$AN$9,IF(($V$7-$U$7=V13-U13),$AN$8,IF(OR(EXACT($U$7>$V$7,U13>V13)*EXACT($U$7=$V$7,U13=V13)*EXACT($U$7<$V$7,U13<V13)),$AN$7,0))) -> 0 | X13: 0 | Y13: 1 | Z13: =IF(OR(EXACT($X$7,X13)*(EXACT($Y$7,Y13)))=TRUE,$AN$9,IF(($Y$7-$X$7=Y13-X13),$AN$8,IF(OR(EXACT($X$7>$Y$7,X13>Y13)*EXACT($X$7=$Y$7,X13=Y13)*EXACT($X$7<$Y$7,X13<Y13)),$AN$7,0))) -> 0 | AA13: 0 | AB13: 2 | AC13: =IF(OR(EXACT($AA$7,AA13)*(EXACT($AB$7,AB13)))=TRUE,$AN$9,IF(($AB$7-$AA$7=AB13-AA13),$AN$8,IF(OR(EXACT($AA$7>$AB$7,AA13>AB13)*EXACT($AA$7=$AB$7,AA13=AB13)*EXACT($AA$7<$AB$7,AA13<AB13)),$AN$7,0)))*4 -> 8 | AG13: =E13+H13+K13+N13+Q13+T13+W13+Z13+AC13+AF13 -> 10 | AH13: ='3.Spieltag'!AI13 -> 42 | AI13: =AG13+AH13 -> 52 | AJ13: =RANK(AI13,$AI$8:$AI$53) -> 18
A14: =AJ14 -> 20 | B14: ='1.Spieltag'!B14 -> FlorianS04 | I14: 1 | J14: 2 | K14: =IF(OR(EXACT($I$7,I14)*(EXACT($J$7,J14)))=TRUE,$AN$9,IF(($J$7-$I$7=J14-I14),$AN$8,IF(OR(EXACT($I$7>$J$7,I14>J14)*EXACT($I$7=$J$7,I14=J14)*EXACT($I$7<$J$7,I14<J14)),$AN$7,0))) -> 5 | L14: 2 | M14: 1 | N14: =IF(OR(EXACT($L$7,L14)*(EXACT($M$7,M14)))=TRUE,$AN$9,IF(($M$7-$L$7=M14-L14),$AN$8,IF(OR(EXACT($L$7>$M$7,L14>M14)*EXACT($L$7=$M$7,L14=M14)*EXACT($L$7<$M$7,L14<M14)),$AN$7,0))) -> 0 | O14: 1 | P14: 2 | Q14: =IF(OR(EXACT($O$7,O14)*(EXACT($P$7,P14)))=TRUE,$AN$9,IF(($P$7-$O$7=P14-O14),$AN$8,IF(OR(EXACT($O$7>$P$7,O14>P14)*EXACT($O$7=$P$7,O14=P14)*EXACT($O$7<$P$7,O14<P14)),$AN$7,0))) -> 0 | R14: 0 | S14: 1 | T14: =IF(OR(EXACT($R$7,R14)*(EXACT($S$7,S14)))=TRUE,$AN$9,IF(($S$7-$R$7=S14-R14),$AN$8,IF(OR(EXACT($R$7>$S$7,R14>S14)*EXACT($R$7=$S$7,R14=S14)*EXACT($R$7<$S$7,R14<S14)),$AN$7,0))) -> 0 | U14: 2 | V14: 1 | W14: =IF(OR(EXACT($U$7,U14)*(EXACT($V$7,V14)))=TRUE,$AN$9,IF(($V$7-$U$7=V14-U14),$AN$8,IF(OR(EXACT($U$7>$V$7,U14>V14)*EXACT($U$7=$V$7,U14=V14)*EXACT($U$7<$V$7,U14<V14)),$AN$7,0))) -> 0 | X14: 1 | Y14: 2 | Z14: =IF(OR(EXACT($X$7,X14)*(EXACT($Y$7,Y14)))=TRUE,$AN$9,IF(($Y$7-$X$7=Y14-X14),$AN$8,IF(OR(EXACT($X$7>$Y$7,X14>Y14)*EXACT($X$7=$Y$7,X14=Y14)*EXACT($X$7<$Y$7,X14<Y14)),$AN$7,0))) -> 0 | AA14: 1 | AB14: 2 | AC14: =IF(OR(EXACT($AA$7,AA14)*(EXACT($AB$7,AB14)))=TRUE,$AN$9,IF(($AB$7-$AA$7=AB14-AA14),$AN$8,IF(OR(EXACT($AA$7>$AB$7,AA14>AB14)*EXACT($AA$7=$AB$7,AA14=AB14)*EXACT($AA$7<$AB$7,AA14<AB14)),$AN$7,0)))*4 -> 12 | AG14: =E14+H14+K14+N14+Q14+T14+W14+Z14+AC14+AF14 -> 17 | AH14: ='3.Spieltag'!AI14 -> 34 | AI14: =AG14+AH14 -> 51 | AJ14: =RANK(AI14,$AI$8:$AI$53) -> 20
A15: =AJ15 -> 1 | B15: ='1.Spieltag'!B15 -> Franzi04 | C15: 2 | D15: 1 | E15: =IF(OR(EXACT($C$7,C15)*(EXACT($D$7,D15)))=TRUE,$AN$9,IF(($D$7-$C$7=D15-C15),$AN$8,IF(OR(EXACT($C$7>$D$7,C15>D15)*EXACT($C$7=$D$7,C15=D15)*EXACT($C$7<$D$7,C15<D15)),$AN$7,0))) -> 0 | F15: 1 | G15: 2 | H15: =IF(OR(EXACT($F$7,F15)*(EXACT($G$7,G15)))=TRUE,$AN$9,IF(($G$7-$F$7=G15-F15),$AN$8,IF(OR(EXACT($F$7>$G$7,F15>G15)*EXACT($F$7=$G$7,F15=G15)*EXACT($F$7<$G$7,F15<G15)),$AN$7,0))) -> 2 | I15: 2 | J15: 1 | K15: =IF(OR(EXACT($I$7,I15)*(EXACT($J$7,J15)))=TRUE,$AN$9,IF(($J$7-$I$7=J15-I15),$AN$8,IF(OR(EXACT($I$7>$J$7,I15>J15)*EXACT($I$7=$J$7,I15=J15)*EXACT($I$7<$J$7,I15<J15)),$AN$7,0))) -> 0 | L15: 1 | M15: 2 | N15: =IF(OR(EXACT($L$7,L15)*(EXACT($M$7,M15)))=TRUE,$AN$9,IF(($M$7-$L$7=M15-L15),$AN$8,IF(OR(EXACT($L$7>$M$7,L15>M15)*EXACT($L$7=$M$7,L15=M15)*EXACT($L$7<$M$7,L15<M15)),$AN$7,0))) -> 5 | O15: 2 | P15: 1 | Q15: =IF(OR(EXACT($O$7,O15)*(EXACT($P$7,P15)))=TRUE,$AN$9,IF(($P$7-$O$7=P15-O15),$AN$8,IF(OR(EXACT($O$7>$P$7,O15>P15)*EXACT($O$7=$P$7,O15=P15)*EXACT($O$7<$P$7,O15<P15)),$AN$7,0))) -> 0 | R15: 2 | S15: 1 | T15: =IF(OR(EXACT($R$7,R15)*(EXACT($S$7,S15)))=TRUE,$AN$9,IF(($S$7-$R$7=S15-R15),$AN$8,IF(OR(EXACT($R$7>$S$7,R15>S15)*EXACT($R$7=$S$7,R15=S15)*EXACT($R$7<$S$7,R15<S15)),$AN$7,0))) -> 0 | U15: 2 | V15: 1 | W15: =IF(OR(EXACT($U$7,U15)*(EXACT($V$7,V15)))=TRUE,$AN$9,IF(($V$7-$U$7=V15-U15),$AN$8,IF(OR(EXACT($U$7>$V$7,U15>V15)*EXACT($U$7=$V$7,U15=V15)*EXACT($U$7<$V$7,U15<V15)),$AN$7,0))) -> 0 | X15: 1 | Y15: 2 | Z15: =IF(OR(EXACT($X$7,X15)*(EXACT($Y$7,Y15)))=TRUE,$AN$9,IF(($Y$7-$X$7=Y15-X15),$AN$8,IF(OR(EXACT($X$7>$Y$7,X15>Y15)*EXACT($X$7=$Y$7,X15=Y15)*EXACT($X$7<$Y$7,X15<Y15)),$AN$7,0))) -> 0 | AA15: 1 | AB15: 2 | AC15: =IF(OR(EXACT($AA$7,AA15)*(EXACT($AB$7,AB15)))=TRUE,$AN$9,IF(($AB$7-$AA$7=AB15-AA15),$AN$8,IF(OR(EXACT($AA$7>$AB$7,AA15>AB15)*EXACT($AA$7=$AB$7,AA15=AB15)*EXACT($AA$7<$AB$7,AA15<AB15)),$AN$7,0)))*4 -> 12 | AG15: =E15+H15+K15+N15+Q15+T15+W15+Z15+AC15+AF15 -> 19 | AH15: ='3.Spieltag'!AI15 -> 64 | AI15: =AG15+AH15 -> 83 | AJ15: =RANK(AI15,$AI$8:$AI$53) -> 1
A16: =AJ16 -> 20 | B16: ='1.Spieltag'!B16 -> Jean-Pierre | C16: 2 | D16: 1 | E16: =IF(OR(EXACT($C$7,C16)*(EXACT($D$7,D16)))=TRUE,$AN$9,IF(($D$7-$C$7=D16-C16),$AN$8,IF(OR(EXACT($C$7>$D$7,C16>D16)*EXACT($C$7=$D$7,C16=D16)*EXACT($C$7<$D$7,C16<D16)),$AN$7,0))) -> 0 | F16: 2 | G16: 1 | H16: =IF(OR(EXACT($F$7,F16)*(EXACT($G$7,G16)))=TRUE,$AN$9,IF(($G$7-$F$7=G16-F16),$AN$8,IF(OR(EXACT($F$7>$G$7,F16>G16)*EXACT($F$7=$G$7,F16=G16)*EXACT($F$7<$G$7,F16<G16)),$AN$7,0))) -> 0 | I16: 1 | J16: 2 | K16: =IF(OR(EXACT($I$7,I16)*(EXACT($J$7,J16)))=TRUE,$AN$9,IF(($J$7-$I$7=J16-I16),$AN$8,IF(OR(EXACT($I$7>$J$7,I16>J16)*EXACT($I$7=$J$7,I16=J16)*EXACT($I$7<$J$7,I16<J16)),$AN$7,0))) -> 5 | L16: 3 | M16: 1 | N16: =IF(OR(EXACT($L$7,L16)*(EXACT($M$7,M16)))=TRUE,$AN$9,IF(($M$7-$L$7=M16-L16),$AN$8,IF(OR(EXACT($L$7>$M$7,L16>M16)*EXACT($L$7=$M$7,L16=M16)*EXACT($L$7<$M$7,L16<M16)),$AN$7,0))) -> 0 | O16: 2 | P16: 1 | Q16: =IF(OR(EXACT($O$7,O16)*(EXACT($P$7,P16)))=TRUE,$AN$9,IF(($P$7-$O$7=P16-O16),$AN$8,IF(OR(EXACT($O$7>$P$7,O16>P16)*EXACT($O$7=$P$7,O16=P16)*EXACT($O$7<$P$7,O16<P16)),$AN$7,0))) -> 0 | R16: 1 | S16: 2 | T16: =IF(OR(EXACT($R$7,R16)*(EXACT($S$7,S16)))=TRUE,$AN$9,IF(($S$7-$R$7=S16-R16),$AN$8,IF(OR(EXACT($R$7>$S$7,R16>S16)*EXACT($R$7=$S$7,R16=S16)*EXACT($R$7<$S$7,R16<S16)),$AN$7,0))) -> 0 | U16: 2 | V16: 1 | W16: =IF(OR(EXACT($U$7,U16)*(EXACT($V$7,V16)))=TRUE,$AN$9,IF(($V$7-$U$7=V16-U16),$AN$8,IF(OR(EXACT($U$7>$V$7,U16>V16)*EXACT($U$7=$V$7,U16=V16)*EXACT($U$7<$V$7,U16<V16)),$AN$7,0))) -> 0 | X16: 2 | Y16: 1 | Z16: =IF(OR(EXACT($X$7,X16)*(EXACT($Y$7,Y16)))=TRUE,$AN$9,IF(($Y$7-$X$7=Y16-X16),$AN$8,IF(OR(EXACT($X$7>$Y$7,X16>Y16)*EXACT($X$7=$Y$7,X16=Y16)*EXACT($X$7<$Y$7,X16<Y16)),$AN$7,0))) -> 2 | AA16: 1 | AB16: 3 | AC16: =IF(OR(EXACT($AA$7,AA16)*(EXACT($AB$7,AB16)))=TRUE,$AN$9,IF(($AB$7-$AA$7=AB16-AA16),$AN$8,IF(OR(EXACT($AA$7>$AB$7,AA16>AB16)*EXACT($AA$7=$AB$7,AA16=AB16)*EXACT($AA$7<$AB$7,AA16<AB16)),$AN$7,0)))*4 -> 8 | AG16: =E16+H16+K16+N16+Q16+T16+W16+Z16+AC16+AF16 -> 15 | AH16: ='3.Spieltag'!AI16 -> 36 | AI16: =AG16+AH16 -> 51 | AJ16: =RANK(AI16,$AI$8:$AI$53) -> 20
A17: =AJ17 -> 25 | B17: ='1.Spieltag'!B17 -> jupp04 | C17: 2 | D17: 2 | E17: =IF(OR(EXACT($C$7,C17)*(EXACT($D$7,D17)))=TRUE,$AN$9,IF(($D$7-$C$7=D17-C17),$AN$8,IF(OR(EXACT($C$7>$D$7,C17>D17)*EXACT($C$7=$D$7,C17=D17)*EXACT($C$7<$D$7,C17<D17)),$AN$7,0))) -> 3 | F17: 2 | G17: 1 | H17: =IF(OR(EXACT($F$7,F17)*(EXACT($G$7,G17)))=TRUE,$AN$9,IF(($G$7-$F$7=G17-F17),$AN$8,IF(OR(EXACT($F$7>$G$7,F17>G17)*EXACT($F$7=$G$7,F17=G17)*EXACT($F$7<$G$7,F17<G17)),$AN$7,0))) -> 0 | I17: 2 | J17: 2 | K17: =IF(OR(EXACT($I$7,I17)*(EXACT($J$7,J17)))=TRUE,$AN$9,IF(($J$7-$I$7=J17-I17),$AN$8,IF(OR(EXACT($I$7>$J$7,I17>J17)*EXACT($I$7=$J$7,I17=J17)*EXACT($I$7<$J$7,I17<J17)),$AN$7,0))) -> 0 | L17: 3 | M17: 1 | N17: =IF(OR(EXACT($L$7,L17)*(EXACT($M$7,M17)))=TRUE,$AN$9,IF(($M$7-$L$7=M17-L17),$AN$8,IF(OR(EXACT($L$7>$M$7,L17>M17)*EXACT($L$7=$M$7,L17=M17)*EXACT($L$7<$M$7,L17<M17)),$AN$7,0))) -> 0 | O17: 2 | P17: 1 | Q17: =IF(OR(EXACT($O$7,O17)*(EXACT($P$7,P17)))=TRUE,$AN$9,IF(($P$7-$O$7=P17-O17),$AN$8,IF(OR(EXACT($O$7>$P$7,O17>P17)*EXACT($O$7=$P$7,O17=P17)*EXACT($O$7<$P$7,O17<P17)),$AN$7,0))) -> 0 | R17: 3 | S17: 1 | T17: =IF(OR(EXACT($R$7,R17)*(EXACT($S$7,S17)))=TRUE,$AN$9,IF(($S$7-$R$7=S17-R17),$AN$8,IF(OR(EXACT($R$7>$S$7,R17>S17)*EXACT($R$7=$S$7,R17=S17)*EXACT($R$7<$S$7,R17<S17)),$AN$7,0))) -> 0 | U17: 3 | V17: 2 | W17: =IF(OR(EXACT($U$7,U17)*(EXACT($V$7,V17)))=TRUE,$AN$9,IF(($V$7-$U$7=V17-U17),$AN$8,IF(OR(EXACT($U$7>$V$7,U17>V17)*EXACT($U$7=$V$7,U17=V17)*EXACT($U$7<$V$7,U17<V17)),$AN$7,0))) -> 0 | X17: 3 | Y17: 1 | Z17: =IF(OR(EXACT($X$7,X17)*(EXACT($Y$7,Y17)))=TRUE,$AN$9,IF(($Y$7-$X$7=Y17-X17),$AN$8,IF(OR(EXACT($X$7>$Y$7,X17>Y17)*EXACT($X$7=$Y$7,X17=Y17)*EXACT($X$7<$Y$7,X17<Y17)),$AN$7,0))) -> 5 | AA17: 1 | AB17: 1 | AC17: =IF(OR(EXACT($AA$7,AA17)*(EXACT($AB$7,AB17)))=TRUE,$AN$9,IF(($AB$7-$AA$7=AB17-AA17),$AN$8,IF(OR(EXACT($AA$7>$AB$7,AA17>AB17)*EXACT($AA$7=$AB$7,AA17=AB17)*EXACT($AA$7<$AB$7,AA17<AB17)),$AN$7,0)))*4 -> 0 | AG17: =E17+H17+K17+N17+Q17+T17+W17+Z17+AC17+AF17 -> 8 | AH17: ='3.Spieltag'!AI17 -> 28 | AI17: =AG17+AH17 -> 36 | AJ17: =RANK(AI17,$AI$8:$AI$53) -> 25
A18: =AJ18 -> 10 | B18: ='1.Spieltag'!B18 -> Justin_Ignr | C18: 1 | D18: 2 | E18: =IF(OR(EXACT($C$7,C18)*(EXACT($D$7,D18)))=TRUE,$AN$9,IF(($D$7-$C$7=D18-C18),$AN$8,IF(OR(EXACT($C$7>$D$7,C18>D18)*EXACT($C$7=$D$7,C18=D18)*EXACT($C$7<$D$7,C18<D18)),$AN$7,0))) -> 0 | F18: 1 | G18: 0 | H18: =IF(OR(EXACT($F$7,F18)*(EXACT($G$7,G18)))=TRUE,$AN$9,IF(($G$7-$F$7=G18-F18),$AN$8,IF(OR(EXACT($F$7>$G$7,F18>G18)*EXACT($F$7=$G$7,F18=G18)*EXACT($F$7<$G$7,F18<G18)),$AN$7,0))) -> 0 | I18: 1 | J18: 3 | K18: =IF(OR(EXACT($I$7,I18)*(EXACT($J$7,J18)))=TRUE,$AN$9,IF(($J$7-$I$7=J18-I18),$AN$8,IF(OR(EXACT($I$7>$J$7,I18>J18)*EXACT($I$7=$J$7,I18=J18)*EXACT($I$7<$J$7,I18<J18)),$AN$7,0))) -> 2 | L18: 2 | M18: 0 | N18: =IF(OR(EXACT($L$7,L18)*(EXACT($M$7,M18)))=TRUE,$AN$9,IF(($M$7-$L$7=M18-L18),$AN$8,IF(OR(EXACT($L$7>$M$7,L18>M18)*EXACT($L$7=$M$7,L18=M18)*EXACT($L$7<$M$7,L18<M18)),$AN$7,0))) -> 0 | O18: 1 | P18: 2 | Q18: =IF(OR(EXACT($O$7,O18)*(EXACT($P$7,P18)))=TRUE,$AN$9,IF(($P$7-$O$7=P18-O18),$AN$8,IF(OR(EXACT($O$7>$P$7,O18>P18)*EXACT($O$7=$P$7,O18=P18)*EXACT($O$7<$P$7,O18<P18)),$AN$7,0))) -> 0 | R18: 2 | S18: 1 | T18: =IF(OR(EXACT($R$7,R18)*(EXACT($S$7,S18)))=TRUE,$AN$9,IF(($S$7-$R$7=S18-R18),$AN$8,IF(OR(EXACT($R$7>$S$7,R18>S18)*EXACT($R$7=$S$7,R18=S18)*EXACT($R$7<$S$7,R18<S18)),$AN$7,0))) -> 0 | U18: 0 | V18: 1 | W18: =IF(OR(EXACT($U$7,U18)*(EXACT($V$7,V18)))=TRUE,$AN$9,IF(($V$7-$U$7=V18-U18),$AN$8,IF(OR(EXACT($U$7>$V$7,U18>V18)*EXACT($U$7=$V$7,U18=V18)*EXACT($U$7<$V$7,U18<V18)),$AN$7,0))) -> 3 | X18: 1 | Y18: 0 | Z18: =IF(OR(EXACT($X$7,X18)*(EXACT($Y$7,Y18)))=TRUE,$AN$9,IF(($Y$7-$X$7=Y18-X18),$AN$8,IF(OR(EXACT($X$7>$Y$7,X18>Y18)*EXACT($X$7=$Y$7,X18=Y18)*EXACT($X$7<$Y$7,X18<Y18)),$AN$7,0))) -> 2 | AA18: 0 | AB18: 4 | AC18: =IF(OR(EXACT($AA$7,AA18)*(EXACT($AB$7,AB18)))=TRUE,$AN$9,IF(($AB$7-$AA$7=AB18-AA18),$AN$8,IF(OR(EXACT($AA$7>$AB$7,AA18>AB18)*EXACT($AA$7=$AB$7,AA18=AB18)*EXACT($AA$7<$AB$7,AA18<AB18)),$AN$7,0)))*4 -> 8 | AG18: =E18+H18+K18+N18+Q18+T18+W18+Z18+AC18+AF18 -> 15 | AH18: ='3.Spieltag'!AI18 -> 52 | AI18: =AG18+AH18 -> 67 | AJ18: =RANK(AI18,$AI$8:$AI$53) -> 10
A19: =AJ19 -> 8 | B19: ='1.Spieltag'!B19 -> Kiki | C19: 1 | D19: 2 | E19: =IF(OR(EXACT($C$7,C19)*(EXACT($D$7,D19)))=TRUE,$AN$9,IF(($D$7-$C$7=D19-C19),$AN$8,IF(OR(EXACT($C$7>$D$7,C19>D19)*EXACT($C$7=$D$7,C19=D19)*EXACT($C$7<$D$7,C19<D19)),$AN$7,0))) -> 0 | F19: 2 | G19: 1 | H19: =IF(OR(EXACT($F$7,F19)*(EXACT($G$7,G19)))=TRUE,$AN$9,IF(($G$7-$F$7=G19-F19),$AN$8,IF(OR(EXACT($F$7>$G$7,F19>G19)*EXACT($F$7=$G$7,F19=G19)*EXACT($F$7<$G$7,F19<G19)),$AN$7,0))) -> 0 | I19: 2 | J19: 2 | K19: =IF(OR(EXACT($I$7,I19)*(EXACT($J$7,J19)))=TRUE,$AN$9,IF(($J$7-$I$7=J19-I19),$AN$8,IF(OR(EXACT($I$7>$J$7,I19>J19)*EXACT($I$7=$J$7,I19=J19)*EXACT($I$7<$J$7,I19<J19)),$AN$7,0))) -> 0 | L19: 2 | M19: 0 | N19: =IF(OR(EXACT($L$7,L19)*(EXACT($M$7,M19)))=TRUE,$AN$9,IF(($M$7-$L$7=M19-L19),$AN$8,IF(OR(EXACT($L$7>$M$7,L19>M19)*EXACT($L$7=$M$7,L19=M19)*EXACT($L$7<$M$7,L19<M19)),$AN$7,0))) -> 0 | O19: 1 | P19: 2 | Q19: =IF(OR(EXACT($O$7,O19)*(EXACT($P$7,P19)))=TRUE,$AN$9,IF(($P$7-$O$7=P19-O19),$AN$8,IF(OR(EXACT($O$7>$P$7,O19>P19)*EXACT($O$7=$P$7,O19=P19)*EXACT($O$7<$P$7,O19<P19)),$AN$7,0))) -> 0 | R19: 1 | S19: 1 | T19: =IF(OR(EXACT($R$7,R19)*(EXACT($S$7,S19)))=TRUE,$AN$9,IF(($S$7-$R$7=S19-R19),$AN$8,IF(OR(EXACT($R$7>$S$7,R19>S19)*EXACT($R$7=$S$7,R19=S19)*EXACT($R$7<$S$7,R19<S19)),$AN$7,0))) -> 3 | U19: 0 | V19: 0 | W19: =IF(OR(EXACT($U$7,U19)*(EXACT($V$7,V19)))=TRUE,$AN$9,IF(($V$7-$U$7=V19-U19),$AN$8,IF(OR(EXACT($U$7>$V$7,U19>V19)*EXACT($U$7=$V$7,U19=V19)*EXACT($U$7<$V$7,U19<V19)),$AN$7,0))) -> 0 | X19: 2 | Y19: 1 | Z19: =IF(OR(EXACT($X$7,X19)*(EXACT($Y$7,Y19)))=TRUE,$AN$9,IF(($Y$7-$X$7=Y19-X19),$AN$8,IF(OR(EXACT($X$7>$Y$7,X19>Y19)*EXACT($X$7=$Y$7,X19=Y19)*EXACT($X$7<$Y$7,X19<Y19)),$AN$7,0))) -> 2 | AA19: 1 | AB19: 2 | AC19: =IF(OR(EXACT($AA$7,AA19)*(EXACT($AB$7,AB19)))=TRUE,$AN$9,IF(($AB$7-$AA$7=AB19-AA19),$AN$8,IF(OR(EXACT($AA$7>$AB$7,AA19>AB19)*EXACT($AA$7=$AB$7,AA19=AB19)*EXACT($AA$7<$AB$7,AA19<AB19)),$AN$7,0)))*4 -> 12 | AG19: =E19+H19+K19+N19+Q19+T19+W19+Z19+AC19+AF19 -> 17 | AH19: ='3.Spieltag'!AI19 -> 54 | AI19: =AG19+AH19 -> 71 | AJ19: =RANK(AI19,$AI$8:$AI$53) -> 8
A20: =AJ20 -> 4 | B20: ='1.Spieltag'!B20 -> Lola04 | C20: 2 | D20: 1 | E20: =IF(OR(EXACT($C$7,C20)*(EXACT($D$7,D20)))=TRUE,$AN$9,IF(($D$7-$C$7=D20-C20),$AN$8,IF(OR(EXACT($C$7>$D$7,C20>D20)*EXACT($C$7=$D$7,C20=D20)*EXACT($C$7<$D$7,C20<D20)),$AN$7,0))) -> 0 | F20: 2 | G20: 0 | H20: =IF(OR(EXACT($F$7,F20)*(EXACT($G$7,G20)))=TRUE,$AN$9,IF(($G$7-$F$7=G20-F20),$AN$8,IF(OR(EXACT($F$7>$G$7,F20>G20)*EXACT($F$7=$G$7,F20=G20)*EXACT($F$7<$G$7,F20<G20)),$AN$7,0))) -> 0 | I20: 2 | J20: 1 | K20: =IF(OR(EXACT($I$7,I20)*(EXACT($J$7,J20)))=TRUE,$AN$9,IF(($J$7-$I$7=J20-I20),$AN$8,IF(OR(EXACT($I$7>$J$7,I20>J20)*EXACT($I$7=$J$7,I20=J20)*EXACT($I$7<$J$7,I20<J20)),$AN$7,0))) -> 0 | L20: 3 | M20: 0 | N20: =IF(OR(EXACT($L$7,L20)*(EXACT($M$7,M20)))=TRUE,$AN$9,IF(($M$7-$L$7=M20-L20),$AN$8,IF(OR(EXACT($L$7>$M$7,L20>M20)*EXACT($L$7=$M$7,L20=M20)*EXACT($L$7<$M$7,L20<M20)),$AN$7,0))) -> 0 | O20: 2 | P20: 1 | Q20: =IF(OR(EXACT($O$7,O20)*(EXACT($P$7,P20)))=TRUE,$AN$9,IF(($P$7-$O$7=P20-O20),$AN$8,IF(OR(EXACT($O$7>$P$7,O20>P20)*EXACT($O$7=$P$7,O20=P20)*EXACT($O$7<$P$7,O20<P20)),$AN$7,0))) -> 0 | R20: 2 | S20: 1 | T20: =IF(OR(EXACT($R$7,R20)*(EXACT($S$7,S20)))=TRUE,$AN$9,IF(($S$7-$R$7=S20-R20),$AN$8,IF(OR(EXACT($R$7>$S$7,R20>S20)*EXACT($R$7=$S$7,R20=S20)*EXACT($R$7<$S$7,R20<S20)),$AN$7,0))) -> 0 | U20: 3 | V20: 1 | W20: =IF(OR(EXACT($U$7,U20)*(EXACT($V$7,V20)))=TRUE,$AN$9,IF(($V$7-$U$7=V20-U20),$AN$8,IF(OR(EXACT($U$7>$V$7,U20>V20)*EXACT($U$7=$V$7,U20=V20)*EXACT($U$7<$V$7,U20<V20)),$AN$7,0))) -> 0 | X20: 2 | Y20: 1 | Z20: =IF(OR(EXACT($X$7,X20)*(EXACT($Y$7,Y20)))=TRUE,$AN$9,IF(($Y$7-$X$7=Y20-X20),$AN$8,IF(OR(EXACT($X$7>$Y$7,X20>Y20)*EXACT($X$7=$Y$7,X20=Y20)*EXACT($X$7<$Y$7,X20<Y20)),$AN$7,0))) -> 2 | AA20: 1 | AB20: 2 | AC20: =IF(OR(EXACT($AA$7,AA20)*(EXACT($AB$7,AB20)))=TRUE,$AN$9,IF(($AB$7-$AA$7=AB20-AA20),$AN$8,IF(OR(EXACT($AA$7>$AB$7,AA20>AB20)*EXACT($AA$7=$AB$7,AA20=AB20)*EXACT($AA$7<$AB$7,AA20<AB20)),$AN$7,0)))*4 -> 12 | AG20: =E20+H20+K20+N20+Q20+T20+W20+Z20+AC20+AF20 -> 14 | AH20: ='3.Spieltag'!AI20 -> 61 | AI20: =AG20+AH20 -> 75 | AJ20: =RANK(AI20,$AI$8:$AI$53) -> 4
A21: =AJ21 -> 15 | B21: ='1.Spieltag'!B21 -> Master1 | C21: 1 | D21: 2 | E21: =IF(OR(EXACT($C$7,C21)*(EXACT($D$7,D21)))=TRUE,$AN$9,IF(($D$7-$C$7=D21-C21),$AN$8,IF(OR(EXACT($C$7>$D$7,C21>D21)*EXACT($C$7=$D$7,C21=D21)*EXACT($C$7<$D$7,C21<D21)),$AN$7,0))) -> 0 | F21: 2 | G21: 2 | H21: =IF(OR(EXACT($F$7,F21)*(EXACT($G$7,G21)))=TRUE,$AN$9,IF(($G$7-$F$7=G21-F21),$AN$8,IF(OR(EXACT($F$7>$G$7,F21>G21)*EXACT($F$7=$G$7,F21=G21)*EXACT($F$7<$G$7,F21<G21)),$AN$7,0))) -> 0 | I21: 1 | J21: 2 | K21: =IF(OR(EXACT($I$7,I21)*(EXACT($J$7,J21)))=TRUE,$AN$9,IF(($J$7-$I$7=J21-I21),$AN$8,IF(OR(EXACT($I$7>$J$7,I21>J21)*EXACT($I$7=$J$7,I21=J21)*EXACT($I$7<$J$7,I21<J21)),$AN$7,0))) -> 5 | L21: 1 | M21: 1 | N21: =IF(OR(EXACT($L$7,L21)*(EXACT($M$7,M21)))=TRUE,$AN$9,IF(($M$7-$L$7=M21-L21),$AN$8,IF(OR(EXACT($L$7>$M$7,L21>M21)*EXACT($L$7=$M$7,L21=M21)*EXACT($L$7<$M$7,L21<M21)),$AN$7,0))) -> 0 | O21: 1 | P21: 2 | Q21: =IF(OR(EXACT($O$7,O21)*(EXACT($P$7,P21)))=TRUE,$AN$9,IF(($P$7-$O$7=P21-O21),$AN$8,IF(OR(EXACT($O$7>$P$7,O21>P21)*EXACT($O$7=$P$7,O21=P21)*EXACT($O$7<$P$7,O21<P21)),$AN$7,0))) -> 0 | R21: 3 | S21: 2 | T21: =IF(OR(EXACT($R$7,R21)*(EXACT($S$7,S21)))=TRUE,$AN$9,IF(($S$7-$R$7=S21-R21),$AN$8,IF(OR(EXACT($R$7>$S$7,R21>S21)*EXACT($R$7=$S$7,R21=S21)*EXACT($R$7<$S$7,R21<S21)),$AN$7,0))) -> 0 | U21: 2 | V21: 1 | W21: =IF(OR(EXACT($U$7,U21)*(EXACT($V$7,V21)))=TRUE,$AN$9,IF(($V$7-$U$7=V21-U21),$AN$8,IF(OR(EXACT($U$7>$V$7,U21>V21)*EXACT($U$7=$V$7,U21=V21)*EXACT($U$7<$V$7,U21<V21)),$AN$7,0))) -> 0 | X21: 2 | Y21: 2 | Z21: =IF(OR(EXACT($X$7,X21)*(EXACT($Y$7,Y21)))=TRUE,$AN$9,IF(($Y$7-$X$7=Y21-X21),$AN$8,IF(OR(EXACT($X$7>$Y$7,X21>Y21)*EXACT($X$7=$Y$7,X21=Y21)*EXACT($X$7<$Y$7,X21<Y21)),$AN$7,0))) -> 0 | AA21: 1 | AB21: 2 | AC21: =IF(OR(EXACT($AA$7,AA21)*(EXACT($AB$7,AB21)))=TRUE,$AN$9,IF(($AB$7-$AA$7=AB21-AA21),$AN$8,IF(OR(EXACT($AA$7>$AB$7,AA21>AB21)*EXACT($AA$7=$AB$7,AA21=AB21)*EXACT($AA$7<$AB$7,AA21<AB21)),$AN$7,0)))*4 -> 12 | AG21: =E21+H21+K21+N21+Q21+T21+W21+Z21+AC21+AF21 -> 17 | AH21: ='3.Spieltag'!AI21 -> 42 | AI21: =AG21+AH21 -> 59 | AJ21: =RANK(AI21,$AI$8:$AI$53) -> 15
A22: =AJ22 -> 12 | B22: ='1.Spieltag'!B22 -> Mike04 | C22: 1 | D22: 0 | E22: =IF(OR(EXACT($C$7,C22)*(EXACT($D$7,D22)))=TRUE,$AN$9,IF(($D$7-$C$7=D22-C22),$AN$8,IF(OR(EXACT($C$7>$D$7,C22>D22)*EXACT($C$7=$D$7,C22=D22)*EXACT($C$7<$D$7,C22<D22)),$AN$7,0))) -> 0 | F22: 2 | G22: 1 | H22: =IF(OR(EXACT($F$7,F22)*(EXACT($G$7,G22)))=TRUE,$AN$9,IF(($G$7-$F$7=G22-F22),$AN$8,IF(OR(EXACT($F$7>$G$7,F22>G22)*EXACT($F$7=$G$7,F22=G22)*EXACT($F$7<$G$7,F22<G22)),$AN$7,0))) -> 0 | I22: 1 | J22: 1 | K22: =IF(OR(EXACT($I$7,I22)*(EXACT($J$7,J22)))=TRUE,$AN$9,IF(($J$7-$I$7=J22-I22),$AN$8,IF(OR(EXACT($I$7>$J$7,I22>J22)*EXACT($I$7=$J$7,I22=J22)*EXACT($I$7<$J$7,I22<J22)),$AN$7,0))) -> 0 | L22: 2 | M22: 0 | N22: =IF(OR(EXACT($L$7,L22)*(EXACT($M$7,M22)))=TRUE,$AN$9,IF(($M$7-$L$7=M22-L22),$AN$8,IF(OR(EXACT($L$7>$M$7,L22>M22)*EXACT($L$7=$M$7,L22=M22)*EXACT($L$7<$M$7,L22<M22)),$AN$7,0))) -> 0 | O22: 1 | P22: 2 | Q22: =IF(OR(EXACT($O$7,O22)*(EXACT($P$7,P22)))=TRUE,$AN$9,IF(($P$7-$O$7=P22-O22),$AN$8,IF(OR(EXACT($O$7>$P$7,O22>P22)*EXACT($O$7=$P$7,O22=P22)*EXACT($O$7<$P$7,O22<P22)),$AN$7,0))) -> 0 | R22: 2 | S22: 1 | T22: =IF(OR(EXACT($R$7,R22)*(EXACT($S$7,S22)))=TRUE,$AN$9,IF(($S$7-$R$7=S22-R22),$AN$8,IF(OR(EXACT($R$7>$S$7,R22>S22)*EXACT($R$7=$S$7,R22=S22)*EXACT($R$7<$S$7,R22<S22)),$AN$7,0))) -> 0 | U22: 2 | V22: 0 | W22: =IF(OR(EXACT($U$7,U22)*(EXACT($V$7,V22)))=TRUE,$AN$9,IF(($V$7-$U$7=V22-U22),$AN$8,IF(OR(EXACT($U$7>$V$7,U22>V22)*EXACT($U$7=$V$7,U22=V22)*EXACT($U$7<$V$7,U22<V22)),$AN$7,0))) -> 0 | X22: 2 | Y22: 1 | Z22: =IF(OR(EXACT($X$7,X22)*(EXACT($Y$7,Y22)))=TRUE,$AN$9,IF(($Y$7-$X$7=Y22-X22),$AN$8,IF(OR(EXACT($X$7>$Y$7,X22>Y22)*EXACT($X$7=$Y$7,X22=Y22)*EXACT($X$7<$Y$7,X22<Y22)),$AN$7,0))) -> 2 | AA22: 0 | AB22: 1 | AC22: =IF(OR(EXACT($AA$7,AA22)*(EXACT($AB$7,AB22)))=TRUE,$AN$9,IF(($AB$7-$AA$7=AB22-AA22),$AN$8,IF(OR(EXACT($AA$7>$AB$7,AA22>AB22)*EXACT($AA$7=$AB$7,AA22=AB22)*EXACT($AA$7<$AB$7,AA22<AB22)),$AN$7,0)))*4 -> 20 | AG22: =E22+H22+K22+N22+Q22+T22+W22+Z22+AC22+AF22 -> 22 | AH22: ='3.Spieltag'!AI22 -> 42 | AI22: =AG22+AH22 -> 64 | AJ22: =RANK(AI22,$AI$8:$AI$53) -> 12
A23: =AJ23 -> 26 | B23: ='1.Spieltag'!B23 -> Nico1904 | AG23: =E23+H23+K23+N23+Q23+T23+W23+Z23+AC23+AF23 -> 0 | AH23: ='3.Spieltag'!AI23 -> 11 | AI23: =AG23+AH23 -> 11 | AJ23: =RANK(AI23,$AI$8:$AI$53) -> 26
A24: =AJ24 -> 16 | B24: ='1.Spieltag'!B24 -> Reinhold | C24: 3 | D24: 1 | E24: =IF(OR(EXACT($C$7,C24)*(EXACT($D$7,D24)))=TRUE,$AN$9,IF(($D$7-$C$7=D24-C24),$AN$8,IF(OR(EXACT($C$7>$D$7,C24>D24)*EXACT($C$7=$D$7,C24=D24)*EXACT($C$7<$D$7,C24<D24)),$AN$7,0))) -> 0 | F24: 2 | G24: 1 | H24: =IF(OR(EXACT($F$7,F24)*(EXACT($G$7,G24)))=TRUE,$AN$9,IF(($G$7-$F$7=G24-F24),$AN$8,IF(OR(EXACT($F$7>$G$7,F24>G24)*EXACT($F$7=$G$7,F24=G24)*EXACT($F$7<$G$7,F24<G24)),$AN$7,0))) -> 0 | I24: 1 | J24: 3 | K24: =IF(OR(EXACT($I$7,I24)*(EXACT($J$7,J24)))=TRUE,$AN$9,IF(($J$7-$I$7=J24-I24),$AN$8,IF(OR(EXACT($I$7>$J$7,I24>J24)*EXACT($I$7=$J$7,I24=J24)*EXACT($I$7<$J$7,I24<J24)),$AN$7,0))) -> 2 | L24: 2 | M24: 2 | N24: =IF(OR(EXACT($L$7,L24)*(EXACT($M$7,M24)))=TRUE,$AN$9,IF(($M$7-$L$7=M24-L24),$AN$8,IF(OR(EXACT($L$7>$M$7,L24>M24)*EXACT($L$7=$M$7,L24=M24)*EXACT($L$7<$M$7,L24<M24)),$AN$7,0))) -> 0 | O24: 2 | P24: 0 | Q24: =IF(OR(EXACT($O$7,O24)*(EXACT($P$7,P24)))=TRUE,$AN$9,IF(($P$7-$O$7=P24-O24),$AN$8,IF(OR(EXACT($O$7>$P$7,O24>P24)*EXACT($O$7=$P$7,O24=P24)*EXACT($O$7<$P$7,O24<P24)),$AN$7,0))) -> 0 | R24: 2 | S24: 1 | T24: =IF(OR(EXACT($R$7,R24)*(EXACT($S$7,S24)))=TRUE,$AN$9,IF(($S$7-$R$7=S24-R24),$AN$8,IF(OR(EXACT($R$7>$S$7,R24>S24)*EXACT($R$7=$S$7,R24=S24)*EXACT($R$7<$S$7,R24<S24)),$AN$7,0))) -> 0 | U24: 2 | V24: 0 | W24: =IF(OR(EXACT($U$7,U24)*(EXACT($V$7,V24)))=TRUE,$AN$9,IF(($V$7-$U$7=V24-U24),$AN$8,IF(OR(EXACT($U$7>$V$7,U24>V24)*EXACT($U$7=$V$7,U24=V24)*EXACT($U$7<$V$7,U24<V24)),$AN$7,0))) -> 0 | X24: 1 | Y24: 3 | Z24: =IF(OR(EXACT($X$7,X24)*(EXACT($Y$7,Y24)))=TRUE,$AN$9,IF(($Y$7-$X$7=Y24-X24),$AN$8,IF(OR(EXACT($X$7>$Y$7,X24>Y24)*EXACT($X$7=$Y$7,X24=Y24)*EXACT($X$7<$Y$7,X24<Y24)),$AN$7,0))) -> 0 | AA24: 0 | AB24: 2 | AC24: =IF(OR(EXACT($AA$7,AA24)*(EXACT($AB$7,AB24)))=TRUE,$AN$9,IF(($AB$7-$AA$7=AB24-AA24),$AN$8,IF(OR(EXACT($AA$7>$AB$7,AA24>AB24)*EXACT($AA$7=$AB$7,AA24=AB24)*EXACT($AA$7<$AB$7,AA24<AB24)),$AN$7,0)))*4 -> 8 | AG24: =E24+H24+K24+N24+Q24+T24+W24+Z24+AC24+AF24 -> 10 | AH24: ='3.Spieltag'!AI24 -> 47 | AI24: =AG24+AH24 -> 57 | AJ24: =RANK(AI24,$AI$8:$AI$53) -> 16
A25: =AJ25 -> 3 | B25: ='1.Spieltag'!B25 -> ReneMause | C25: 2 | D25: 0 | E25: =IF(OR(EXACT($C$7,C25)*(EXACT($D$7,D25)))=TRUE,$AN$9,IF(($D$7-$C$7=D25-C25),$AN$8,IF(OR(EXACT($C$7>$D$7,C25>D25)*EXACT($C$7=$D$7,C25=D25)*EXACT($C$7<$D$7,C25<D25)),$AN$7,0))) -> 0 | F25: 1 | G25: 1 | H25: =IF(OR(EXACT($F$7,F25)*(EXACT($G$7,G25)))=TRUE,$AN$9,IF(($G$7-$F$7=G25-F25),$AN$8,IF(OR(EXACT($F$7>$G$7,F25>G25)*EXACT($F$7=$G$7,F25=G25)*EXACT($F$7<$G$7,F25<G25)),$AN$7,0))) -> 0 | I25: 2 | J25: 2 | K25: =IF(OR(EXACT($I$7,I25)*(EXACT($J$7,J25)))=TRUE,$AN$9,IF(($J$7-$I$7=J25-I25),$AN$8,IF(OR(EXACT($I$7>$J$7,I25>J25)*EXACT($I$7=$J$7,I25=J25)*EXACT($I$7<$J$7,I25<J25)),$AN$7,0))) -> 0 | L25: 2 | M25: 1 | N25: =IF(OR(EXACT($L$7,L25)*(EXACT($M$7,M25)))=TRUE,$AN$9,IF(($M$7-$L$7=M25-L25),$AN$8,IF(OR(EXACT($L$7>$M$7,L25>M25)*EXACT($L$7=$M$7,L25=M25)*EXACT($L$7<$M$7,L25<M25)),$AN$7,0))) -> 0 | O25: 2 | P25: 0 | Q25: =IF(OR(EXACT($O$7,O25)*(EXACT($P$7,P25)))=TRUE,$AN$9,IF(($P$7-$O$7=P25-O25),$AN$8,IF(OR(EXACT($O$7>$P$7,O25>P25)*EXACT($O$7=$P$7,O25=P25)*EXACT($O$7<$P$7,O25<P25)),$AN$7,0))) -> 0 | R25: 3 | S25: 1 | T25: =IF(OR(EXACT($R$7,R25)*(EXACT($S$7,S25)))=TRUE,$AN$9,IF(($S$7-$R$7=S25-R25),$AN$8,IF(OR(EXACT($R$7>$S$7,R25>S25)*EXACT($R$7=$S$7,R25=S25)*EXACT($R$7<$S$7,R25<S25)),$AN$7,0))) -> 0 | U25: 1 | V25: 0 | W25: =IF(OR(EXACT($U$7,U25)*(EXACT($V$7,V25)))=TRUE,$AN$9,IF(($V$7-$U$7=V25-U25),$AN$8,IF(OR(EXACT($U$7>$V$7,U25>V25)*EXACT($U$7=$V$7,U25=V25)*EXACT($U$7<$V$7,U25<V25)),$AN$7,0))) -> 0 | X25: 3 | Y25: 1 | Z25: =IF(OR(EXACT($X$7,X25)*(EXACT($Y$7,Y25)))=TRUE,$AN$9,IF(($Y$7-$X$7=Y25-X25),$AN$8,IF(OR(EXACT($X$7>$Y$7,X25>Y25)*EXACT($X$7=$Y$7,X25=Y25)*EXACT($X$7<$Y$7,X25<Y25)),$AN$7,0))) -> 5 | AA25: 1 | AB25: 2 | AC25: =IF(OR(EXACT($AA$7,AA25)*(EXACT($AB$7,AB25)))=TRUE,$AN$9,IF(($AB$7-$AA$7=AB25-AA25),$AN$8,IF(OR(EXACT($AA$7>$AB$7,AA25>AB25)*EXACT($AA$7=$AB$7,AA25=AB25)*EXACT($AA$7<$AB$7,AA25<AB25)),$AN$7,0)))*4 -> 12 | AG25: =E25+H25+K25+N25+Q25+T25+W25+Z25+AC25+AF25 -> 17 | AH25: ='3.Spieltag'!AI25 -> 61 | AI25: =AG25+AH25 -> 78 | AJ25: =RANK(AI25,$AI$8:$AI$53) -> 3
A26: =AJ26 -> 17 | B26: ='1.Spieltag'!B26 -> Ricardo04 | C26: 1 | D26: 2 | E26: =IF(OR(EXACT($C$7,C26)*(EXACT($D$7,D26)))=TRUE,$AN$9,IF(($D$7-$C$7=D26-C26),$AN$8,IF(OR(EXACT($C$7>$D$7,C26>D26)*EXACT($C$7=$D$7,C26=D26)*EXACT($C$7<$D$7,C26<D26)),$AN$7,0))) -> 0 | F26: 2 | G26: 1 | H26: =IF(OR(EXACT($F$7,F26)*(EXACT($G$7,G26)))=TRUE,$AN$9,IF(($G$7-$F$7=G26-F26),$AN$8,IF(OR(EXACT($F$7>$G$7,F26>G26)*EXACT($F$7=$G$7,F26=G26)*EXACT($F$7<$G$7,F26<G26)),$AN$7,0))) -> 0 | I26: 1 | J26: 1 | K26: =IF(OR(EXACT($I$7,I26)*(EXACT($J$7,J26)))=TRUE,$AN$9,IF(($J$7-$I$7=J26-I26),$AN$8,IF(OR(EXACT($I$7>$J$7,I26>J26)*EXACT($I$7=$J$7,I26=J26)*EXACT($I$7<$J$7,I26<J26)),$AN$7,0))) -> 0 | L26: 2 | M26: 1 | N26: =IF(OR(EXACT($L$7,L26)*(EXACT($M$7,M26)))=TRUE,$AN$9,IF(($M$7-$L$7=M26-L26),$AN$8,IF(OR(EXACT($L$7>$M$7,L26>M26)*EXACT($L$7=$M$7,L26=M26)*EXACT($L$7<$M$7,L26<M26)),$AN$7,0))) -> 0 | O26: 1 | P26: 2 | Q26: =IF(OR(EXACT($O$7,O26)*(EXACT($P$7,P26)))=TRUE,$AN$9,IF(($P$7-$O$7=P26-O26),$AN$8,IF(OR(EXACT($O$7>$P$7,O26>P26)*EXACT($O$7=$P$7,O26=P26)*EXACT($O$7<$P$7,O26<P26)),$AN$7,0))) -> 0 | R26: 2 | S26: 0 | T26: =IF(OR(EXACT($R$7,R26)*(EXACT($S$7,S26)))=TRUE,$AN$9,IF(($S$7-$R$7=S26-R26),$AN$8,IF(OR(EXACT($R$7>$S$7,R26>S26)*EXACT($R$7=$S$7,R26=S26)*EXACT($R$7<$S$7,R26<S26)),$AN$7,0))) -> 0 | U26: 2 | V26: 1 | W26: =IF(OR(EXACT($U$7,U26)*(EXACT($V$7,V26)))=TRUE,$AN$9,IF(($V$7-$U$7=V26-U26),$AN$8,IF(OR(EXACT($U$7>$V$7,U26>V26)*EXACT($U$7=$V$7,U26=V26)*EXACT($U$7<$V$7,U26<V26)),$AN$7,0))) -> 0 | X26: 1 | Y26: 2 | Z26: =IF(OR(EXACT($X$7,X26)*(EXACT($Y$7,Y26)))=TRUE,$AN$9,IF(($Y$7-$X$7=Y26-X26),$AN$8,IF(OR(EXACT($X$7>$Y$7,X26>Y26)*EXACT($X$7=$Y$7,X26=Y26)*EXACT($X$7<$Y$7,X26<Y26)),$AN$7,0))) -> 0 | AA26: 1 | AB26: 3 | AC26: =IF(OR(EXACT($AA$7,AA26)*(EXACT($AB$7,AB26)))=TRUE,$AN$9,IF(($AB$7-$AA$7=AB26-AA26),$AN$8,IF(OR(EXACT($AA$7>$AB$7,AA26>AB26)*EXACT($AA$7=$AB$7,AA26=AB26)*EXACT($AA$7<$AB$7,AA26<AB26)),$AN$7,0)))*4 -> 8 | AG26: =E26+H26+K26+N26+Q26+T26+W26+Z26+AC26+AF26 -> 8 | AH26: ='3.Spieltag'!AI26 -> 46 | AI26: =AG26+AH26 -> 54 | AJ26: =RANK(AI26,$AI$8:$AI$53) -> 17
A27: =AJ27 -> 23 | B27: ='1.Spieltag'!B27 -> Schalt04 | C27: 1 | D27: 1 | E27: =IF(OR(EXACT($C$7,C27)*(EXACT($D$7,D27)))=TRUE,$AN$9,IF(($D$7-$C$7=D27-C27),$AN$8,IF(OR(EXACT($C$7>$D$7,C27>D27)*EXACT($C$7=$D$7,C27=D27)*EXACT($C$7<$D$7,C27<D27)),$AN$7,0))) -> 3 | F27: 2 | G27: 1 | H27: =IF(OR(EXACT($F$7,F27)*(EXACT($G$7,G27)))=TRUE,$AN$9,IF(($G$7-$F$7=G27-F27),$AN$8,IF(OR(EXACT($F$7>$G$7,F27>G27)*EXACT($F$7=$G$7,F27=G27)*EXACT($F$7<$G$7,F27<G27)),$AN$7,0))) -> 0 | I27: 0 | J27: 1 | K27: =IF(OR(EXACT($I$7,I27)*(EXACT($J$7,J27)))=TRUE,$AN$9,IF(($J$7-$I$7=J27-I27),$AN$8,IF(OR(EXACT($I$7>$J$7,I27>J27)*EXACT($I$7=$J$7,I27=J27)*EXACT($I$7<$J$7,I27<J27)),$AN$7,0))) -> 3 | L27: 3 | M27: 1 | N27: =IF(OR(EXACT($L$7,L27)*(EXACT($M$7,M27)))=TRUE,$AN$9,IF(($M$7-$L$7=M27-L27),$AN$8,IF(OR(EXACT($L$7>$M$7,L27>M27)*EXACT($L$7=$M$7,L27=M27)*EXACT($L$7<$M$7,L27<M27)),$AN$7,0))) -> 0 | O27: 1 | P27: 2 | Q27: =IF(OR(EXACT($O$7,O27)*(EXACT($P$7,P27)))=TRUE,$AN$9,IF(($P$7-$O$7=P27-O27),$AN$8,IF(OR(EXACT($O$7>$P$7,O27>P27)*EXACT($O$7=$P$7,O27=P27)*EXACT($O$7<$P$7,O27<P27)),$AN$7,0))) -> 0 | R27: 2 | S27: 2 | T27: =IF(OR(EXACT($R$7,R27)*(EXACT($S$7,S27)))=TRUE,$AN$9,IF(($S$7-$R$7=S27-R27),$AN$8,IF(OR(EXACT($R$7>$S$7,R27>S27)*EXACT($R$7=$S$7,R27=S27)*EXACT($R$7<$S$7,R27<S27)),$AN$7,0))) -> 3 | U27: 0 | V27: 1 | W27: =IF(OR(EXACT($U$7,U27)*(EXACT($V$7,V27)))=TRUE,$AN$9,IF(($V$7-$U$7=V27-U27),$AN$8,IF(OR(EXACT($U$7>$V$7,U27>V27)*EXACT($U$7=$V$7,U27=V27)*EXACT($U$7<$V$7,U27<V27)),$AN$7,0))) -> 3 | X27: 4 | Y27: 4 | Z27: =IF(OR(EXACT($X$7,X27)*(EXACT($Y$7,Y27)))=TRUE,$AN$9,IF(($Y$7-$X$7=Y27-X27),$AN$8,IF(OR(EXACT($X$7>$Y$7,X27>Y27)*EXACT($X$7=$Y$7,X27=Y27)*EXACT($X$7<$Y$7,X27<Y27)),$AN$7,0))) -> 0 | AA27: 1 | AB27: 2 | AC27: =IF(OR(EXACT($AA$7,AA27)*(EXACT($AB$7,AB27)))=TRUE,$AN$9,IF(($AB$7-$AA$7=AB27-AA27),$AN$8,IF(OR(EXACT($AA$7>$AB$7,AA27>AB27)*EXACT($AA$7=$AB$7,AA27=AB27)*EXACT($AA$7<$AB$7,AA27<AB27)),$AN$7,0)))*4 -> 12 | AG27: =E27+H27+K27+N27+Q27+T27+W27+Z27+AC27+AF27 -> 24 | AH27: ='3.Spieltag'!AI27 -> 25 | AI27: =AG27+AH27 -> 49 | AJ27: =RANK(AI27,$AI$8:$AI$53) -> 23
