Workbook

Sheet 1.Spieltag
A4: 1. Spieltag | C4: B. München | F4: Elversberg | I4: Leipzig | L4: Mainz | O4: U. Berlin | R4: Köln | U4: Dortmund | X4: Freiburg | AA4: Augsburg
AG5: G E S A M T W E R T U N G
C6: Stuttgart | F6: Leverkusen | I6: Gladbach | L6: Paderborn | O6: Frankfurt | R6: Hoffenheim | U6: Hamburg | X6: Bremen | AA6: Schalke 04 | AG6: Punkte | AH6: Punkte | AI6: Gesamt | AJ6: Platz | AK6: PUNKTEVERTEILUNG
A7: PLATZ | B7: ERGEBNISSE=> | C7: 5 | D7: 1 | E7: Pkt. | F7: 3 | G7: 2 | H7: Pkt. | I7: 3 | J7: 0 | K7: Pkt. | L7: 0 | M7: 0 | N7: Pkt. | O7: 3 | P7: 3 | Q7: Pkt. | R7: 3 | S7: 2 | T7: Pkt. | U7: 2 | V7: 0 | W7: Pkt. | X7: 4 | Y7: 1 | Z7: Pkt. | AA7: 3 | AB7: 0 | AC7: Pkt. | AG7: Spieltag | AH7: bisher | AI7: Punkte | AK7: richtige Tendenz | AN7: 2
A8: =AJ8 -> 18 | B8: ahaupt1904 | C8: 3 | D8: 1 | E8: =IF(OR(EXACT($C$7,C8)*(EXACT($D$7,D8)))=TRUE,$AN$9,IF(($D$7-$C$7=D8-C8),$AN$8,IF(OR(EXACT($C$7>$D$7,C8>D8)*EXACT($C$7=$D$7,C8=D8)*EXACT($C$7<$D$7,C8<D8)),$AN$7,0))) -> 2 | F8: 1 | G8: 2 | H8: =IF(OR(EXACT($F$7,F8)*(EXACT($G$7,G8)))=TRUE,$AN$9,IF(($G$7-$F$7=G8-F8),$AN$8,IF(OR(EXACT($F$7>$G$7,F8>G8)*EXACT($F$7=$G$7,F8=G8)*EXACT($F$7<$G$7,F8<G8)),$AN$7,0))) -> 0 | I8: 2 | J8: 1 | K8: =IF(OR(EXACT($I$7,I8)*(EXACT($J$7,J8)))=TRUE,$AN$9,IF(($J$7-$I$7=J8-I8),$AN$8,IF(OR(EXACT($I$7>$J$7,I8>J8)*EXACT($I$7=$J$7,I8=J8)*EXACT($I$7<$J$7,I8<J8)),$AN$7,0))) -> 2 | L8: 2 | M8: 1 | N8: =IF(OR(EXACT($L$7,L8)*(EXACT($M$7,M8)))=TRUE,$AN$9,IF(($M$7-$L$7=M8-L8),$AN$8,IF(OR(EXACT($L$7>$M$7,L8>M8)*EXACT($L$7=$M$7,L8=M8)*EXACT($L$7<$M$7,L8<M8)),$AN$7,0))) -> 0 | O8: 1 | P8: 2 | Q8: =IF(OR(EXACT($O$7,O8)*(EXACT($P$7,P8)))=TRUE,$AN$9,IF(($P$7-$O$7=P8-O8),$AN$8,IF(OR(EXACT($O$7>$P$7,O8>P8)*EXACT($O$7=$P$7,O8=P8)*EXACT($O$7<$P$7,O8<P8)),$AN$7,0))) -> 0 | R8: 1 | S8: 2 | T8: =IF(OR(EXACT($R$7,R8)*(EXACT($S$7,S8)))=TRUE,$AN$9,IF(($S$7-$R$7=S8-R8),$AN$8,IF(OR(EXACT($R$7>$S$7,R8>S8)*EXACT($R$7=$S$7,R8=S8)*EXACT($R$7<$S$7,R8<S8)),$AN$7,0))) -> 0 | U8: 3 | V8: 1 | W8: =IF(OR(EXACT($U$7,U8)*(EXACT($V$7,V8)))=TRUE,$AN$9,IF(($V$7-$U$7=V8-U8),$AN$8,IF(OR(EXACT($U$7>$V$7,U8>V8)*EXACT($U$7=$V$7,U8=V8)*EXACT($U$7<$V$7,U8<V8)),$AN$7,0))) -> 3 | X8: 2 | Y8: 0 | Z8: =IF(OR(EXACT($X$7,X8)*(EXACT($Y$7,Y8)))=TRUE,$AN$9,IF(($Y$7-$X$7=Y8-X8),$AN$8,IF(OR(EXACT($X$7>$Y$7,X8>Y8)*EXACT($X$7=$Y$7,X8=Y8)*EXACT($X$7<$Y$7,X8<Y8)),$AN$7,0))) -> 2 | AA8: 1 | AB8: 2 | AC8: =IF(OR(EXACT($AA$7,AA8)*(EXACT($AB$7,AB8)))=TRUE,$AN$9,IF(($AB$7-$AA$7=AB8-AA8),$AN$8,IF(OR(EXACT($AA$7>$AB$7,AA8>AB8)*EXACT($AA$7=$AB$7,AA8=AB8)*EXACT($AA$7<$AB$7,AA8<AB8)),$AN$7,0)))*4 -> 0 | AG8: =E8+K8+Q8+T8+N8+H8+W8+Z8+AC8+AF8 -> 9 | AI8: =AG8+AH8 -> 9 | AJ8: =RANK(AI8,$AI$8:$AI$50) -> 18 | AK8: richtige Tend. + korr. Torabst. | AN8: 3
A9: =AJ9 -> 29 | B9: Alexander18 | U9: 3 | V9: 1 | W9: =IF(OR(EXACT($U$7,U9)*(EXACT($V$7,V9)))=TRUE,$AN$9,IF(($V$7-$U$7=V9-U9),$AN$8,IF(OR(EXACT($U$7>$V$7,U9>V9)*EXACT($U$7=$V$7,U9=V9)*EXACT($U$7<$V$7,U9<V9)),$AN$7,0))) -> 3 | X9: 2 | Y9: 1 | Z9: =IF(OR(EXACT($X$7,X9)*(EXACT($Y$7,Y9)))=TRUE,$AN$9,IF(($Y$7-$X$7=Y9-X9),$AN$8,IF(OR(EXACT($X$7>$Y$7,X9>Y9)*EXACT($X$7=$Y$7,X9=Y9)*EXACT($X$7<$Y$7,X9<Y9)),$AN$7,0))) -> 2 | AA9: 1 | AB9: 2 | AC9: =IF(OR(EXACT($AA$7,AA9)*(EXACT($AB$7,AB9)))=TRUE,$AN$9,IF(($AB$7-$AA$7=AB9-AA9),$AN$8,IF(OR(EXACT($AA$7>$AB$7,AA9>AB9)*EXACT($AA$7=$AB$7,AA9=AB9)*EXACT($AA$7<$AB$7,AA9<AB9)),$AN$7,0)))*4 -> 0 | AG9: =E9+K9+Q9+T9+N9+H9+W9+Z9+AC9+AF9 -> 5 | AI9: =AG9+AH9 -> 5 | AJ9: =RANK(AI9,$AI$8:$AI$50) -> 29 | AK9: richtiges Ergebnis | AN9: 5
A10: =AJ10 -> 2 | B10: Archie04 | C10: 4 | D10: 1 | E10: =IF(OR(EXACT($C$7,C10)*(EXACT($D$7,D10)))=TRUE,$AN$9,IF(($D$7-$C$7=D10-C10),$AN$8,IF(OR(EXACT($C$7>$D$7,C10>D10)*EXACT($C$7=$D$7,C10=D10)*EXACT($C$7<$D$7,C10<D10)),$AN$7,0))) -> 2 | F10: 2 | G10: 1 | H10: =IF(OR(EXACT($F$7,F10)*(EXACT($G$7,G10)))=TRUE,$AN$9,IF(($G$7-$F$7=G10-F10),$AN$8,IF(OR(EXACT($F$7>$G$7,F10>G10)*EXACT($F$7=$G$7,F10=G10)*EXACT($F$7<$G$7,F10<G10)),$AN$7,0))) -> 3 | I10: 3 | J10: 1 | K10: =IF(OR(EXACT($I$7,I10)*(EXACT($J$7,J10)))=TRUE,$AN$9,IF(($J$7-$I$7=J10-I10),$AN$8,IF(OR(EXACT($I$7>$J$7,I10>J10)*EXACT($I$7=$J$7,I10=J10)*EXACT($I$7<$J$7,I10<J10)),$AN$7,0))) -> 2 | L10: 2 | M10: 2 | N10: =IF(OR(EXACT($L$7,L10)*(EXACT($M$7,M10)))=TRUE,$AN$9,IF(($M$7-$L$7=M10-L10),$AN$8,IF(OR(EXACT($L$7>$M$7,L10>M10)*EXACT($L$7=$M$7,L10=M10)*EXACT($L$7<$M$7,L10<M10)),$AN$7,0))) -> 3 | O10: 2 | P10: 1 | Q10: =IF(OR(EXACT($O$7,O10)*(EXACT($P$7,P10)))=TRUE,$AN$9,IF(($P$7-$O$7=P10-O10),$AN$8,IF(OR(EXACT($O$7>$P$7,O10>P10)*EXACT($O$7=$P$7,O10=P10)*EXACT($O$7<$P$7,O10<P10)),$AN$7,0))) -> 0 | R10: 1 | S10: 3 | T10: =IF(OR(EXACT($R$7,R10)*(EXACT($S$7,S10)))=TRUE,$AN$9,IF(($S$7-$R$7=S10-R10),$AN$8,IF(OR(EXACT($R$7>$S$7,R10>S10)*EXACT($R$7=$S$7,R10=S10)*EXACT($R$7<$S$7,R10<S10)),$AN$7,0))) -> 0 | U10: 2 | V10: 1 | W10: =IF(OR(EXACT($U$7,U10)*(EXACT($V$7,V10)))=TRUE,$AN$9,IF(($V$7-$U$7=V10-U10),$AN$8,IF(OR(EXACT($U$7>$V$7,U10>V10)*EXACT($U$7=$V$7,U10=V10)*EXACT($U$7<$V$7,U10<V10)),$AN$7,0))) -> 2 | X10: 3 | Y10: 0 | Z10: =IF(OR(EXACT($X$7,X10)*(EXACT($Y$7,Y10)))=TRUE,$AN$9,IF(($Y$7-$X$7=Y10-X10),$AN$8,IF(OR(EXACT($X$7>$Y$7,X10>Y10)*EXACT($X$7=$Y$7,X10=Y10)*EXACT($X$7<$Y$7,X10<Y10)),$AN$7,0))) -> 3 | AA10: 2 | AB10: 3 | AC10: =IF(OR(EXACT($AA$7,AA10)*(EXACT($AB$7,AB10)))=TRUE,$AN$9,IF(($AB$7-$AA$7=AB10-AA10),$AN$8,IF(OR(EXACT($AA$7>$AB$7,AA10>AB10)*EXACT($AA$7=$AB$7,AA10=AB10)*EXACT($AA$7<$AB$7,AA10<AB10)),$AN$7,0)))*4 -> 0 | AG10: =E10+K10+Q10+T10+N10+H10+W10+Z10+AC10+AF10 -> 15 | AI10: =AG10+AH10 -> 15 | AJ10: =RANK(AI10,$AI$8:$AI$50) -> 2
A11: =AJ11 -> 11 | B11: atschi91 | C11: 3 | D11: 2 | E11: =IF(OR(EXACT($C$7,C11)*(EXACT($D$7,D11)))=TRUE,$AN$9,IF(($D$7-$C$7=D11-C11),$AN$8,IF(OR(EXACT($C$7>$D$7,C11>D11)*EXACT($C$7=$D$7,C11=D11)*EXACT($C$7<$D$7,C11<D11)),$AN$7,0))) -> 2 | F11: 0 | G11: 2 | H11: =IF(OR(EXACT($F$7,F11)*(EXACT($G$7,G11)))=TRUE,$AN$9,IF(($G$7-$F$7=G11-F11),$AN$8,IF(OR(EXACT($F$7>$G$7,F11>G11)*EXACT($F$7=$G$7,F11=G11)*EXACT($F$7<$G$7,F11<G11)),$AN$7,0))) -> 0 | I11: 3 | J11: 0 | K11: =IF(OR(EXACT($I$7,I11)*(EXACT($J$7,J11)))=TRUE,$AN$9,IF(($J$7-$I$7=J11-I11),$AN$8,IF(OR(EXACT($I$7>$J$7,I11>J11)*EXACT($I$7=$J$7,I11=J11)*EXACT($I$7<$J$7,I11<J11)),$AN$7,0))) -> 5 | L11: 2 | M11: 0 | N11: =IF(OR(EXACT($L$7,L11)*(EXACT($M$7,M11)))=TRUE,$AN$9,IF(($M$7-$L$7=M11-L11),$AN$8,IF(OR(EXACT($L$7>$M$7,L11>M11)*EXACT($L$7=$M$7,L11=M11)*EXACT($L$7<$M$7,L11<M11)),$AN$7,0))) -> 0 | O11: 2 | P11: 1 | Q11: =IF(OR(EXACT($O$7,O11)*(EXACT($P$7,P11)))=TRUE,$AN$9,IF(($P$7-$O$7=P11-O11),$AN$8,IF(OR(EXACT($O$7>$P$7,O11>P11)*EXACT($O$7=$P$7,O11=P11)*EXACT($O$7<$P$7,O11<P11)),$AN$7,0))) -> 0 | R11: 1 | S11: 3 | T11: =IF(OR(EXACT($R$7,R11)*(EXACT($S$7,S11)))=TRUE,$AN$9,IF(($S$7-$R$7=S11-R11),$AN$8,IF(OR(EXACT($R$7>$S$7,R11>S11)*EXACT($R$7=$S$7,R11=S11)*EXACT($R$7<$S$7,R11<S11)),$AN$7,0))) -> 0 | U11: 2 | V11: 1 | W11: =IF(OR(EXACT($U$7,U11)*(EXACT($V$7,V11)))=TRUE,$AN$9,IF(($V$7-$U$7=V11-U11),$AN$8,IF(OR(EXACT($U$7>$V$7,U11>V11)*EXACT($U$7=$V$7,U11=V11)*EXACT($U$7<$V$7,U11<V11)),$AN$7,0))) -> 2 | X11: 2 | Y11: 1 | Z11: =IF(OR(EXACT($X$7,X11)*(EXACT($Y$7,Y11)))=TRUE,$AN$9,IF(($Y$7-$X$7=Y11-X11),$AN$8,IF(OR(EXACT($X$7>$Y$7,X11>Y11)*EXACT($X$7=$Y$7,X11=Y11)*EXACT($X$7<$Y$7,X11<Y11)),$AN$7,0))) -> 2 | AA11: 0 | AB11: 1 | AC11: =IF(OR(EXACT($AA$7,AA11)*(EXACT($AB$7,AB11)))=TRUE,$AN$9,IF(($AB$7-$AA$7=AB11-AA11),$AN$8,IF(OR(EXACT($AA$7>$AB$7,AA11>AB11)*EXACT($AA$7=$AB$7,AA11=AB11)*EXACT($AA$7<$AB$7,AA11<AB11)),$AN$7,0)))*4 -> 0 | AG11: =E11+K11+Q11+T11+N11+H11+W11+Z11+AC11+AF11 -> 11 | AI11: =AG11+AH11 -> 11 | AJ11: =RANK(AI11,$AI$8:$AI$50) -> 11
A12: =AJ12 -> 26 | B12: CathaHaupt1904 | C12: 2 | D12: 0 | E12: =IF(OR(EXACT($C$7,C12)*(EXACT($D$7,D12)))=TRUE,$AN$9,IF(($D$7-$C$7=D12-C12),$AN$8,IF(OR(EXACT($C$7>$D$7,C12>D12)*EXACT($C$7=$D$7,C12=D12)*EXACT($C$7<$D$7,C12<D12)),$AN$7,0))) -> 2 | F12: 1 | G12: 2 | H12: =IF(OR(EXACT($F$7,F12)*(EXACT($G$7,G12)))=TRUE,$AN$9,IF(($G$7-$F$7=G12-F12),$AN$8,IF(OR(EXACT($F$7>$G$7,F12>G12)*EXACT($F$7=$G$7,F12=G12)*EXACT($F$7<$G$7,F12<G12)),$AN$7,0))) -> 0 | I12: 2 | J12: 1 | K12: =IF(OR(EXACT($I$7,I12)*(EXACT($J$7,J12)))=TRUE,$AN$9,IF(($J$7-$I$7=J12-I12),$AN$8,IF(OR(EXACT($I$7>$J$7,I12>J12)*EXACT($I$7=$J$7,I12=J12)*EXACT($I$7<$J$7,I12<J12)),$AN$7,0))) -> 2 | L12: 1 | M12: 0 | N12: =IF(OR(EXACT($L$7,L12)*(EXACT($M$7,M12)))=TRUE,$AN$9,IF(($M$7-$L$7=M12-L12),$AN$8,IF(OR(EXACT($L$7>$M$7,L12>M12)*EXACT($L$7=$M$7,L12=M12)*EXACT($L$7<$M$7,L12<M12)),$AN$7,0))) -> 0 | O12: 2 | P12: 2 | Q12: =IF(OR(EXACT($O$7,O12)*(EXACT($P$7,P12)))=TRUE,$AN$9,IF(($P$7-$O$7=P12-O12),$AN$8,IF(OR(EXACT($O$7>$P$7,O12>P12)*EXACT($O$7=$P$7,O12=P12)*EXACT($O$7<$P$7,O12<P12)),$AN$7,0))) -> 3 | R12: 1 | S12: 1 | T12: =IF(OR(EXACT($R$7,R12)*(EXACT($S$7,S12)))=TRUE,$AN$9,IF(($S$7-$R$7=S12-R12),$AN$8,IF(OR(EXACT($R$7>$S$7,R12>S12)*EXACT($R$7=$S$7,R12=S12)*EXACT($R$7<$S$7,R12<S12)),$AN$7,0))) -> 0 | U12: 0 | V12: 1 | W12: =IF(OR(EXACT($U$7,U12)*(EXACT($V$7,V12)))=TRUE,$AN$9,IF(($V$7-$U$7=V12-U12),$AN$8,IF(OR(EXACT($U$7>$V$7,U12>V12)*EXACT($U$7=$V$7,U12=V12)*EXACT($U$7<$V$7,U12<V12)),$AN$7,0))) -> 0 | X12: 1 | Y12: 2 | Z12: =IF(OR(EXACT($X$7,X12)*(EXACT($Y$7,Y12)))=TRUE,$AN$9,IF(($Y$7-$X$7=Y12-X12),$AN$8,IF(OR(EXACT($X$7>$Y$7,X12>Y12)*EXACT($X$7=$Y$7,X12=Y12)*EXACT($X$7<$Y$7,X12<Y12)),$AN$7,0))) -> 0 | AA12: 1 | AB12: 2 | AC12: =IF(OR(EXACT($AA$7,AA12)*(EXACT($AB$7,AB12)))=TRUE,$AN$9,IF(($AB$7-$AA$7=AB12-AA12),$AN$8,IF(OR(EXACT($AA$7>$AB$7,AA12>AB12)*EXACT($AA$7=$AB$7,AA12=AB12)*EXACT($AA$7<$AB$7,AA12<AB12)),$AN$7,0)))*4 -> 0 | AG12: =E12+K12+Q12+T12+N12+H12+W12+Z12+AC12+AF12 -> 7 | AI12: =AG12+AH12 -> 7 | AJ12: =RANK(AI12,$AI$8:$AI$50) -> 26
A13: =AJ13 -> 27 | B13: Dickmeis04 | C13: 4 | D13: 1 | E13: =IF(OR(EXACT($C$7,C13)*(EXACT($D$7,D13)))=TRUE,$AN$9,IF(($D$7-$C$7=D13-C13),$AN$8,IF(OR(EXACT($C$7>$D$7,C13>D13)*EXACT($C$7=$D$7,C13=D13)*EXACT($C$7<$D$7,C13<D13)),$AN$7,0))) -> 2 | F13: 0 | G13: 2 | H13: =IF(OR(EXACT($F$7,F13)*(EXACT($G$7,G13)))=TRUE,$AN$9,IF(($G$7-$F$7=G13-F13),$AN$8,IF(OR(EXACT($F$7>$G$7,F13>G13)*EXACT($F$7=$G$7,F13=G13)*EXACT($F$7<$G$7,F13<G13)),$AN$7,0))) -> 0 | I13: 3 | J13: 1 | K13: =IF(OR(EXACT($I$7,I13)*(EXACT($J$7,J13)))=TRUE,$AN$9,IF(($J$7-$I$7=J13-I13),$AN$8,IF(OR(EXACT($I$7>$J$7,I13>J13)*EXACT($I$7=$J$7,I13=J13)*EXACT($I$7<$J$7,I13<J13)),$AN$7,0))) -> 2 | L13: 3 | M13: 1 | N13: =IF(OR(EXACT($L$7,L13)*(EXACT($M$7,M13)))=TRUE,$AN$9,IF(($M$7-$L$7=M13-L13),$AN$8,IF(OR(EXACT($L$7>$M$7,L13>M13)*EXACT($L$7=$M$7,L13=M13)*EXACT($L$7<$M$7,L13<M13)),$AN$7,0))) -> 0 | O13: 2 | P13: 1 | Q13: =IF(OR(EXACT($O$7,O13)*(EXACT($P$7,P13)))=TRUE,$AN$9,IF(($P$7-$O$7=P13-O13),$AN$8,IF(OR(EXACT($O$7>$P$7,O13>P13)*EXACT($O$7=$P$7,O13=P13)*EXACT($O$7<$P$7,O13<P13)),$AN$7,0))) -> 0 | R13: 1 | S13: 3 | T13: =IF(OR(EXACT($R$7,R13)*(EXACT($S$7,S13)))=TRUE,$AN$9,IF(($S$7-$R$7=S13-R13),$AN$8,IF(OR(EXACT($R$7>$S$7,R13>S13)*EXACT($R$7=$S$7,R13=S13)*EXACT($R$7<$S$7,R13<S13)),$AN$7,0))) -> 0 | U13: 1 | V13: 1 | W13: =IF(OR(EXACT($U$7,U13)*(EXACT($V$7,V13)))=TRUE,$AN$9,IF(($V$7-$U$7=V13-U13),$AN$8,IF(OR(EXACT($U$7>$V$7,U13>V13)*EXACT($U$7=$V$7,U13=V13)*EXACT($U$7<$V$7,U13<V13)),$AN$7,0))) -> 0 | X13: 2 | Y13: 0 | Z13: =IF(OR(EXACT($X$7,X13)*(EXACT($Y$7,Y13)))=TRUE,$AN$9,IF(($Y$7-$X$7=Y13-X13),$AN$8,IF(OR(EXACT($X$7>$Y$7,X13>Y13)*EXACT($X$7=$Y$7,X13=Y13)*EXACT($X$7<$Y$7,X13<Y13)),$AN$7,0))) -> 2 | AA13: 1 | AB13: 3 | AC13: =IF(OR(EXACT($AA$7,AA13)*(EXACT($AB$7,AB13)))=TRUE,$AN$9,IF(($AB$7-$AA$7=AB13-AA13),$AN$8,IF(OR(EXACT($AA$7>$AB$7,AA13>AB13)*EXACT($AA$7=$AB$7,AA13=AB13)*EXACT($AA$7<$AB$7,AA13<AB13)),$AN$7,0)))*4 -> 0 | AG13: =E13+K13+Q13+T13+N13+H13+W13+Z13+AC13+AF13 -> 6 | AI13: =AG13+AH13 -> 6 | AJ13: =RANK(AI13,$AI$8:$AI$50) -> 27
A14: =AJ14 -> 11 | B14: fabian1904 | C14: 3 | D14: 1 | E14: =IF(OR(EXACT($C$7,C14)*(EXACT($D$7,D14)))=TRUE,$AN$9,IF(($D$7-$C$7=D14-C14),$AN$8,IF(OR(EXACT($C$7>$D$7,C14>D14)*EXACT($C$7=$D$7,C14=D14)*EXACT($C$7<$D$7,C14<D14)),$AN$7,0))) -> 2 | F14: 0 | G14: 3 | H14: =IF(OR(EXACT($F$7,F14)*(EXACT($G$7,G14)))=TRUE,$AN$9,IF(($G$7-$F$7=G14-F14),$AN$8,IF(OR(EXACT($F$7>$G$7,F14>G14)*EXACT($F$7=$G$7,F14=G14)*EXACT($F$7<$G$7,F14<G14)),$AN$7,0))) -> 0 | I14: 2 | J14: 1 | K14: =IF(OR(EXACT($I$7,I14)*(EXACT($J$7,J14)))=TRUE,$AN$9,IF(($J$7-$I$7=J14-I14),$AN$8,IF(OR(EXACT($I$7>$J$7,I14>J14)*EXACT($I$7=$J$7,I14=J14)*EXACT($I$7<$J$7,I14<J14)),$AN$7,0))) -> 2 | L14: 1 | M14: 0 | N14: =IF(OR(EXACT($L$7,L14)*(EXACT($M$7,M14)))=TRUE,$AN$9,IF(($M$7-$L$7=M14-L14),$AN$8,IF(OR(EXACT($L$7>$M$7,L14>M14)*EXACT($L$7=$M$7,L14=M14)*EXACT($L$7<$M$7,L14<M14)),$AN$7,0))) -> 0 | O14: 1 | P14: 1 | Q14: =IF(OR(EXACT($O$7,O14)*(EXACT($P$7,P14)))=TRUE,$AN$9,IF(($P$7-$O$7=P14-O14),$AN$8,IF(OR(EXACT($O$7>$P$7,O14>P14)*EXACT($O$7=$P$7,O14=P14)*EXACT($O$7<$P$7,O14<P14)),$AN$7,0))) -> 3 | R14: 0 | S14: 2 | T14: =IF(OR(EXACT($R$7,R14)*(EXACT($S$7,S14)))=TRUE,$AN$9,IF(($S$7-$R$7=S14-R14),$AN$8,IF(OR(EXACT($R$7>$S$7,R14>S14)*EXACT($R$7=$S$7,R14=S14)*EXACT($R$7<$S$7,R14<S14)),$AN$7,0))) -> 0 | U14: 3 | V14: 0 | W14: =IF(OR(EXACT($U$7,U14)*(EXACT($V$7,V14)))=TRUE,$AN$9,IF(($V$7-$U$7=V14-U14),$AN$8,IF(OR(EXACT($U$7>$V$7,U14>V14)*EXACT($U$7=$V$7,U14=V14)*EXACT($U$7<$V$7,U14<V14)),$AN$7,0))) -> 2 | X14: 2 | Y14: 1 | Z14: =IF(OR(EXACT($X$7,X14)*(EXACT($Y$7,Y14)))=TRUE,$AN$9,IF(($Y$7-$X$7=Y14-X14),$AN$8,IF(OR(EXACT($X$7>$Y$7,X14>Y14)*EXACT($X$7=$Y$7,X14=Y14)*EXACT($X$7<$Y$7,X14<Y14)),$AN$7,0))) -> 2 | AA14: 0 | AB14: 1 | AC14: =IF(OR(EXACT($AA$7,AA14)*(EXACT($AB$7,AB14)))=TRUE,$AN$9,IF(($AB$7-$AA$7=AB14-AA14),$AN$8,IF(OR(EXACT($AA$7>$AB$7,AA14>AB14)*EXACT($AA$7=$AB$7,AA14=AB14)*EXACT($AA$7<$AB$7,AA14<AB14)),$AN$7,0)))*4 -> 0 | AG14: =E14+K14+Q14+T14+N14+H14+W14+Z14+AC14+AF14 -> 11 | AI14: =AG14+AH14 -> 11 | AJ14: =RANK(AI14,$AI$8:$AI$50) -> 11
A15: =AJ15 -> 3 | B15: Franzi04 | C15: 3 | D15: 1 | E15: =IF(OR(EXACT($C$7,C15)*(EXACT($D$7,D15)))=TRUE,$AN$9,IF(($D$7-$C$7=D15-C15),$AN$8,IF(OR(EXACT($C$7>$D$7,C15>D15)*EXACT($C$7=$D$7,C15=D15)*EXACT($C$7<$D$7,C15<D15)),$AN$7,0))) -> 2 | F15: 1 | G15: 3 | H15: =IF(OR(EXACT($F$7,F15)*(EXACT($G$7,G15)))=TRUE,$AN$9,IF(($G$7-$F$7=G15-F15),$AN$8,IF(OR(EXACT($F$7>$G$7,F15>G15)*EXACT($F$7=$G$7,F15=G15)*EXACT($F$7<$G$7,F15<G15)),$AN$7,0))) -> 0 | I15: 2 | J15: 1 | K15: =IF(OR(EXACT($I$7,I15)*(EXACT($J$7,J15)))=TRUE,$AN$9,IF(($J$7-$I$7=J15-I15),$AN$8,IF(OR(EXACT($I$7>$J$7,I15>J15)*EXACT($I$7=$J$7,I15=J15)*EXACT($I$7<$J$7,I15<J15)),$AN$7,0))) -> 2 | L15: 2 | M15: 1 | N15: =IF(OR(EXACT($L$7,L15)*(EXACT($M$7,M15)))=TRUE,$AN$9,IF(($M$7-$L$7=M15-L15),$AN$8,IF(OR(EXACT($L$7>$M$7,L15>M15)*EXACT($L$7=$M$7,L15=M15)*EXACT($L$7<$M$7,L15<M15)),$AN$7,0))) -> 0 | O15: 1 | P15: 3 | Q15: =IF(OR(EXACT($O$7,O15)*(EXACT($P$7,P15)))=TRUE,$AN$9,IF(($P$7-$O$7=P15-O15),$AN$8,IF(OR(EXACT($O$7>$P$7,O15>P15)*EXACT($O$7=$P$7,O15=P15)*EXACT($O$7<$P$7,O15<P15)),$AN$7,0))) -> 0 | R15: 2 | S15: 1 | T15: =IF(OR(EXACT($R$7,R15)*(EXACT($S$7,S15)))=TRUE,$AN$9,IF(($S$7-$R$7=S15-R15),$AN$8,IF(OR(EXACT($R$7>$S$7,R15>S15)*EXACT($R$7=$S$7,R15=S15)*EXACT($R$7<$S$7,R15<S15)),$AN$7,0))) -> 3 | U15: 2 | V15: 0 | W15: =IF(OR(EXACT($U$7,U15)*(EXACT($V$7,V15)))=TRUE,$AN$9,IF(($V$7-$U$7=V15-U15),$AN$8,IF(OR(EXACT($U$7>$V$7,U15>V15)*EXACT($U$7=$V$7,U15=V15)*EXACT($U$7<$V$7,U15<V15)),$AN$7,0))) -> 5 | X15: 2 | Y15: 1 | Z15: =IF(OR(EXACT($X$7,X15)*(EXACT($Y$7,Y15)))=TRUE,$AN$9,IF(($Y$7-$X$7=Y15-X15),$AN$8,IF(OR(EXACT($X$7>$Y$7,X15>Y15)*EXACT($X$7=$Y$7,X15=Y15)*EXACT($X$7<$Y$7,X15<Y15)),$AN$7,0))) -> 2 | AA15: 1 | AB15: 2 | AC15: =IF(OR(EXACT($AA$7,AA15)*(EXACT($AB$7,AB15)))=TRUE,$AN$9,IF(($AB$7-$AA$7=AB15-AA15),$AN$8,IF(OR(EXACT($AA$7>$AB$7,AA15>AB15)*EXACT($AA$7=$AB$7,AA15=AB15)*EXACT($AA$7<$AB$7,AA15<AB15)),$AN$7,0)))*4 -> 0 | AG15: =E15+K15+Q15+T15+N15+H15+W15+Z15+AC15+AF15 -> 14 | AI15: =AG15+AH15 -> 14 | AJ15: =RANK(AI15,$AI$8:$AI$50) -> 3
A16: =AJ16 -> 18 | B16: Jasmin1985 | C16: 3 | D16: 1 | E16: =IF(OR(EXACT($C$7,C16)*(EXACT($D$7,D16)))=TRUE,$AN$9,IF(($D$7-$C$7=D16-C16),$AN$8,IF(OR(EXACT($C$7>$D$7,C16>D16)*EXACT($C$7=$D$7,C16=D16)*EXACT($C$7<$D$7,C16<D16)),$AN$7,0))) -> 2 | F16: 1 | G16: 2 | H16: =IF(OR(EXACT($F$7,F16)*(EXACT($G$7,G16)))=TRUE,$AN$9,IF(($G$7-$F$7=G16-F16),$AN$8,IF(OR(EXACT($F$7>$G$7,F16>G16)*EXACT($F$7=$G$7,F16=G16)*EXACT($F$7<$G$7,F16<G16)),$AN$7,0))) -> 0 | I16: 3 | J16: 1 | K16: =IF(OR(EXACT($I$7,I16)*(EXACT($J$7,J16)))=TRUE,$AN$9,IF(($J$7-$I$7=J16-I16),$AN$8,IF(OR(EXACT($I$7>$J$7,I16>J16)*EXACT($I$7=$J$7,I16=J16)*EXACT($I$7<$J$7,I16<J16)),$AN$7,0))) -> 2 | L16: 2 | M16: 1 | N16: =IF(OR(EXACT($L$7,L16)*(EXACT($M$7,M16)))=TRUE,$AN$9,IF(($M$7-$L$7=M16-L16),$AN$8,IF(OR(EXACT($L$7>$M$7,L16>M16)*EXACT($L$7=$M$7,L16=M16)*EXACT($L$7<$M$7,L16<M16)),$AN$7,0))) -> 0 | O16: 1 | P16: 2 | Q16: =IF(OR(EXACT($O$7,O16)*(EXACT($P$7,P16)))=TRUE,$AN$9,IF(($P$7-$O$7=P16-O16),$AN$8,IF(OR(EXACT($O$7>$P$7,O16>P16)*EXACT($O$7=$P$7,O16=P16)*EXACT($O$7<$P$7,O16<P16)),$AN$7,0))) -> 0 | R16: 2 | S16: 2 | T16: =IF(OR(EXACT($R$7,R16)*(EXACT($S$7,S16)))=TRUE,$AN$9,IF(($S$7-$R$7=S16-R16),$AN$8,IF(OR(EXACT($R$7>$S$7,R16>S16)*EXACT($R$7=$S$7,R16=S16)*EXACT($R$7<$S$7,R16<S16)),$AN$7,0))) -> 0 | U16: 3 | V16: 1 | W16: =IF(OR(EXACT($U$7,U16)*(EXACT($V$7,V16)))=TRUE,$AN$9,IF(($V$7-$U$7=V16-U16),$AN$8,IF(OR(EXACT($U$7>$V$7,U16>V16)*EXACT($U$7=$V$7,U16=V16)*EXACT($U$7<$V$7,U16<V16)),$AN$7,0))) -> 3 | X16: 2 | Y16: 1 | Z16: =IF(OR(EXACT($X$7,X16)*(EXACT($Y$7,Y16)))=TRUE,$AN$9,IF(($Y$7-$X$7=Y16-X16),$AN$8,IF(OR(EXACT($X$7>$Y$7,X16>Y16)*EXACT($X$7=$Y$7,X16=Y16)*EXACT($X$7<$Y$7,X16<Y16)),$AN$7,0))) -> 2 | AA16: 1 | AB16: 2 | AC16: =IF(OR(EXACT($AA$7,AA16)*(EXACT($AB$7,AB16)))=TRUE,$AN$9,IF(($AB$7-$AA$7=AB16-AA16),$AN$8,IF(OR(EXACT($AA$7>$AB$7,AA16>AB16)*EXACT($AA$7=$AB$7,AA16=AB16)*EXACT($AA$7<$AB$7,AA16<AB16)),$AN$7,0)))*4 -> 0 | AG16: =E16+K16+Q16+T16+N16+H16+W16+Z16+AC16+AF16 -> 9 | AI16: =AG16+AH16 -> 9 | AJ16: =RANK(AI16,$AI$8:$AI$50) -> 18
A17: =AJ17 -> 3 | B17: Jean-Pierre | C17: 4 | D17: 1 | E17: =IF(OR(EXACT($C$7,C17)*(EXACT($D$7,D17)))=TRUE,$AN$9,IF(($D$7-$C$7=D17-C17),$AN$8,IF(OR(EXACT($C$7>$D$7,C17>D17)*EXACT($C$7=$D$7,C17=D17)*EXACT($C$7<$D$7,C17<D17)),$AN$7,0))) -> 2 | F17: 0 | G17: 2 | H17: =IF(OR(EXACT($F$7,F17)*(EXACT($G$7,G17)))=TRUE,$AN$9,IF(($G$7-$F$7=G17-F17),$AN$8,IF(OR(EXACT($F$7>$G$7,F17>G17)*EXACT($F$7=$G$7,F17=G17)*EXACT($F$7<$G$7,F17<G17)),$AN$7,0))) -> 0 | I17: 2 | J17: 1 | K17: =IF(OR(EXACT($I$7,I17)*(EXACT($J$7,J17)))=TRUE,$AN$9,IF(($J$7-$I$7=J17-I17),$AN$8,IF(OR(EXACT($I$7>$J$7,I17>J17)*EXACT($I$7=$J$7,I17=J17)*EXACT($I$7<$J$7,I17<J17)),$AN$7,0))) -> 2 | L17: 1 | M17: 1 | N17: =IF(OR(EXACT($L$7,L17)*(EXACT($M$7,M17)))=TRUE,$AN$9,IF(($M$7-$L$7=M17-L17),$AN$8,IF(OR(EXACT($L$7>$M$7,L17>M17)*EXACT($L$7=$M$7,L17=M17)*EXACT($L$7<$M$7,L17<M17)),$AN$7,0))) -> 3 | O17: 1 | P17: 2 | Q17: =IF(OR(EXACT($O$7,O17)*(EXACT($P$7,P17)))=TRUE,$AN$9,IF(($P$7-$O$7=P17-O17),$AN$8,IF(OR(EXACT($O$7>$P$7,O17>P17)*EXACT($O$7=$P$7,O17=P17)*EXACT($O$7<$P$7,O17<P17)),$AN$7,0))) -> 0 | R17: 2 | S17: 1 | T17: =IF(OR(EXACT($R$7,R17)*(EXACT($S$7,S17)))=TRUE,$AN$9,IF(($S$7-$R$7=S17-R17),$AN$8,IF(OR(EXACT($R$7>$S$7,R17>S17)*EXACT($R$7=$S$7,R17=S17)*EXACT($R$7<$S$7,R17<S17)),$AN$7,0))) -> 3 | U17: 1 | V17: 0 | W17: =IF(OR(EXACT($U$7,U17)*(EXACT($V$7,V17)))=TRUE,$AN$9,IF(($V$7-$U$7=V17-U17),$AN$8,IF(OR(EXACT($U$7>$V$7,U17>V17)*EXACT($U$7=$V$7,U17=V17)*EXACT($U$7<$V$7,U17<V17)),$AN$7,0))) -> 2 | X17: 2 | Y17: 1 | Z17: =IF(OR(EXACT($X$7,X17)*(EXACT($Y$7,Y17)))=TRUE,$AN$9,IF(($Y$7-$X$7=Y17-X17),$AN$8,IF(OR(EXACT($X$7>$Y$7,X17>Y17)*EXACT($X$7=$Y$7,X17=Y17)*EXACT($X$7<$Y$7,X17<Y17)),$AN$7,0))) -> 2 | AA17: 0 | AB17: 2 | AC17: =IF(OR(EXACT($AA$7,AA17)*(EXACT($AB$7,AB17)))=TRUE,$AN$9,IF(($AB$7-$AA$7=AB17-AA17),$AN$8,IF(OR(EXACT($AA$7>$AB$7,AA17>AB17)*EXACT($AA$7=$AB$7,AA17=AB17)*EXACT($AA$7<$AB$7,AA17<AB17)),$AN$7,0)))*4 -> 0 | AG17: =E17+K17+Q17+T17+N17+H17+W17+Z17+AC17+AF17 -> 14 | AI17: =AG17+AH17 -> 14 | AJ17: =RANK(AI17,$AI$8:$AI$50) -> 3
A18: =AJ18 -> 3 | B18: jupp04 | C18: 3 | D18: 1 | E18: =IF(OR(EXACT($C$7,C18)*(EXACT($D$7,D18)))=TRUE,$AN$9,IF(($D$7-$C$7=D18-C18),$AN$8,IF(OR(EXACT($C$7>$D$7,C18>D18)*EXACT($C$7=$D$7,C18=D18)*EXACT($C$7<$D$7,C18<D18)),$AN$7,0))) -> 2 | F18: 1 | G18: 3 | H18: =IF(OR(EXACT($F$7,F18)*(EXACT($G$7,G18)))=TRUE,$AN$9,IF(($G$7-$F$7=G18-F18),$AN$8,IF(OR(EXACT($F$7>$G$7,F18>G18)*EXACT($F$7=$G$7,F18=G18)*EXACT($F$7<$G$7,F18<G18)),$AN$7,0))) -> 0 | I18: 3 | J18: 0 | K18: =IF(OR(EXACT($I$7,I18)*(EXACT($J$7,J18)))=TRUE,$AN$9,IF(($J$7-$I$7=J18-I18),$AN$8,IF(OR(EXACT($I$7>$J$7,I18>J18)*EXACT($I$7=$J$7,I18=J18)*EXACT($I$7<$J$7,I18<J18)),$AN$7,0))) -> 5 | L18: 3 | M18: 1 | N18: =IF(OR(EXACT($L$7,L18)*(EXACT($M$7,M18)))=TRUE,$AN$9,IF(($M$7-$L$7=M18-L18),$AN$8,IF(OR(EXACT($L$7>$M$7,L18>M18)*EXACT($L$7=$M$7,L18=M18)*EXACT($L$7<$M$7,L18<M18)),$AN$7,0))) -> 0 | O18: 2 | P18: 2 | Q18: =IF(OR(EXACT($O$7,O18)*(EXACT($P$7,P18)))=TRUE,$AN$9,IF(($P$7-$O$7=P18-O18),$AN$8,IF(OR(EXACT($O$7>$P$7,O18>P18)*EXACT($O$7=$P$7,O18=P18)*EXACT($O$7<$P$7,O18<P18)),$AN$7,0))) -> 3 | R18: 1 | S18: 2 | T18: =IF(OR(EXACT($R$7,R18)*(EXACT($S$7,S18)))=TRUE,$AN$9,IF(($S$7-$R$7=S18-R18),$AN$8,IF(OR(EXACT($R$7>$S$7,R18>S18)*EXACT($R$7=$S$7,R18=S18)*EXACT($R$7<$S$7,R18<S18)),$AN$7,0))) -> 0 | U18: 2 | V18: 1 | W18: =IF(OR(EXACT($U$7,U18)*(EXACT($V$7,V18)))=TRUE,$AN$9,IF(($V$7-$U$7=V18-U18),$AN$8,IF(OR(EXACT($U$7>$V$7,U18>V18)*EXACT($U$7=$V$7,U18=V18)*EXACT($U$7<$V$7,U18<V18)),$AN$7,0))) -> 2 | X18: 3 | Y18: 1 | Z18: =IF(OR(EXACT($X$7,X18)*(EXACT($Y$7,Y18)))=TRUE,$AN$9,IF(($Y$7-$X$7=Y18-X18),$AN$8,IF(OR(EXACT($X$7>$Y$7,X18>Y18)*EXACT($X$7=$Y$7,X18=Y18)*EXACT($X$7<$Y$7,X18<Y18)),$AN$7,0))) -> 2 | AA18: 1 | AB18: 2 | AC18: =IF(OR(EXACT($AA$7,AA18)*(EXACT($AB$7,AB18)))=TRUE,$AN$9,IF(($AB$7-$AA$7=AB18-AA18),$AN$8,IF(OR(EXACT($AA$7>$AB$7,AA18>AB18)*EXACT($AA$7=$AB$7,AA18=AB18)*EXACT($AA$7<$AB$7,AA18<AB18)),$AN$7,0)))*4 -> 0 | AG18: =E18+K18+Q18+T18+N18+H18+W18+Z18+AC18+AF18 -> 14 | AI18: =AG18+AH18 -> 14 | AJ18: =RANK(AI18,$AI$8:$AI$50) -> 3
A19: =AJ19 -> 16 | B19: Justin_Ignr | C19: 3 | D19: 0 | E19: =IF(OR(EXACT($C$7,C19)*(EXACT($D$7,D19)))=TRUE,$AN$9,IF(($D$7-$C$7=D19-C19),$AN$8,IF(OR(EXACT($C$7>$D$7,C19>D19)*EXACT($C$7=$D$7,C19=D19)*EXACT($C$7<$D$7,C19<D19)),$AN$7,0))) -> 2 | F19: 1 | G19: 2 | H19: =IF(OR(EXACT($F$7,F19)*(EXACT($G$7,G19)))=TRUE,$AN$9,IF(($G$7-$F$7=G19-F19),$AN$8,IF(OR(EXACT($F$7>$G$7,F19>G19)*EXACT($F$7=$G$7,F19=G19)*EXACT($F$7<$G$7,F19<G19)),$AN$7,0))) -> 0 | I19: 1 | J19: 1 | K19: =IF(OR(EXACT($I$7,I19)*(EXACT($J$7,J19)))=TRUE,$AN$9,IF(($J$7-$I$7=J19-I19),$AN$8,IF(OR(EXACT($I$7>$J$7,I19>J19)*EXACT($I$7=$J$7,I19=J19)*EXACT($I$7<$J$7,I19<J19)),$AN$7,0))) -> 0 | L19: 2 | M19: 0 | N19: =IF(OR(EXACT($L$7,L19)*(EXACT($M$7,M19)))=TRUE,$AN$9,IF(($M$7-$L$7=M19-L19),$AN$8,IF(OR(EXACT($L$7>$M$7,L19>M19)*EXACT($L$7=$M$7,L19=M19)*EXACT($L$7<$M$7,L19<M19)),$AN$7,0))) -> 0 | O19: 0 | P19: 1 | Q19: =IF(OR(EXACT($O$7,O19)*(EXACT($P$7,P19)))=TRUE,$AN$9,IF(($P$7-$O$7=P19-O19),$AN$8,IF(OR(EXACT($O$7>$P$7,O19>P19)*EXACT($O$7=$P$7,O19=P19)*EXACT($O$7<$P$7,O19<P19)),$AN$7,0))) -> 0 | R19: 1 | S19: 2 | T19: =IF(OR(EXACT($R$7,R19)*(EXACT($S$7,S19)))=TRUE,$AN$9,IF(($S$7-$R$7=S19-R19),$AN$8,IF(OR(EXACT($R$7>$S$7,R19>S19)*EXACT($R$7=$S$7,R19=S19)*EXACT($R$7<$S$7,R19<S19)),$AN$7,0))) -> 0 | U19: 2 | V19: 0 | W19: =IF(OR(EXACT($U$7,U19)*(EXACT($V$7,V19)))=TRUE,$AN$9,IF(($V$7-$U$7=V19-U19),$AN$8,IF(OR(EXACT($U$7>$V$7,U19>V19)*EXACT($U$7=$V$7,U19=V19)*EXACT($U$7<$V$7,U19<V19)),$AN$7,0))) -> 5 | X19: 3 | Y19: 0 | Z19: =IF(OR(EXACT($X$7,X19)*(EXACT($Y$7,Y19)))=TRUE,$AN$9,IF(($Y$7-$X$7=Y19-X19),$AN$8,IF(OR(EXACT($X$7>$Y$7,X19>Y19)*EXACT($X$7=$Y$7,X19=Y19)*EXACT($X$7<$Y$7,X19<Y19)),$AN$7,0))) -> 3 | AA19: 0 | AB19: 1 | AC19: =IF(OR(EXACT($AA$7,AA19)*(EXACT($AB$7,AB19)))=TRUE,$AN$9,IF(($AB$7-$AA$7=AB19-AA19),$AN$8,IF(OR(EXACT($AA$7>$AB$7,AA19>AB19)*EXACT($AA$7=$AB$7,AA19=AB19)*EXACT($AA$7<$AB$7,AA19<AB19)),$AN$7,0)))*4 -> 0 | AG19: =E19+K19+Q19+T19+N19+H19+W19+Z19+AC19+AF19 -> 10 | AI19: =AG19+AH19 -> 10 | AJ19: =RANK(AI19,$AI$8:$AI$50) -> 16
A20: =AJ20 -> 18 | B20: Kiki | C20: 2 | D20: 1 | E20: =IF(OR(EXACT($C$7,C20)*(EXACT($D$7,D20)))=TRUE,$AN$9,IF(($D$7-$C$7=D20-C20),$AN$8,IF(OR(EXACT($C$7>$D$7,C20>D20)*EXACT($C$7=$D$7,C20=D20)*EXACT($C$7<$D$7,C20<D20)),$AN$7,0))) -> 2 | F20: 1 | G20: 2 | H20: =IF(OR(EXACT($F$7,F20)*(EXACT($G$7,G20)))=TRUE,$AN$9,IF(($G$7-$F$7=G20-F20),$AN$8,IF(OR(EXACT($F$7>$G$7,F20>G20)*EXACT($F$7=$G$7,F20=G20)*EXACT($F$7<$G$7,F20<G20)),$AN$7,0))) -> 0 | I20: 2 | J20: 0 | K20: =IF(OR(EXACT($I$7,I20)*(EXACT($J$7,J20)))=TRUE,$AN$9,IF(($J$7-$I$7=J20-I20),$AN$8,IF(OR(EXACT($I$7>$J$7,I20>J20)*EXACT($I$7=$J$7,I20=J20)*EXACT($I$7<$J$7,I20<J20)),$AN$7,0))) -> 2 | L20: 2 | M20: 1 | N20: =IF(OR(EXACT($L$7,L20)*(EXACT($M$7,M20)))=TRUE,$AN$9,IF(($M$7-$L$7=M20-L20),$AN$8,IF(OR(EXACT($L$7>$M$7,L20>M20)*EXACT($L$7=$M$7,L20=M20)*EXACT($L$7<$M$7,L20<M20)),$AN$7,0))) -> 0 | O20: 1 | P20: 2 | Q20: =IF(OR(EXACT($O$7,O20)*(EXACT($P$7,P20)))=TRUE,$AN$9,IF(($P$7-$O$7=P20-O20),$AN$8,IF(OR(EXACT($O$7>$P$7,O20>P20)*EXACT($O$7=$P$7,O20=P20)*EXACT($O$7<$P$7,O20<P20)),$AN$7,0))) -> 0 | R20: 1 | S20: 1 | T20: =IF(OR(EXACT($R$7,R20)*(EXACT($S$7,S20)))=TRUE,$AN$9,IF(($S$7-$R$7=S20-R20),$AN$8,IF(OR(EXACT($R$7>$S$7,R20>S20)*EXACT($R$7=$S$7,R20=S20)*EXACT($R$7<$S$7,R20<S20)),$AN$7,0))) -> 0 | U20: 3 | V20: 1 | W20: =IF(OR(EXACT($U$7,U20)*(EXACT($V$7,V20)))=TRUE,$AN$9,IF(($V$7-$U$7=V20-U20),$AN$8,IF(OR(EXACT($U$7>$V$7,U20>V20)*EXACT($U$7=$V$7,U20=V20)*EXACT($U$7<$V$7,U20<V20)),$AN$7,0))) -> 3 | X20: 1 | Y20: 0 | Z20: =IF(OR(EXACT($X$7,X20)*(EXACT($Y$7,Y20)))=TRUE,$AN$9,IF(($Y$7-$X$7=Y20-X20),$AN$8,IF(OR(EXACT($X$7>$Y$7,X20>Y20)*EXACT($X$7=$Y$7,X20=Y20)*EXACT($X$7<$Y$7,X20<Y20)),$AN$7,0))) -> 2 | AA20: 1 | AB20: 2 | AC20: =IF(OR(EXACT($AA$7,AA20)*(EXACT($AB$7,AB20)))=TRUE,$AN$9,IF(($AB$7-$AA$7=AB20-AA20),$AN$8,IF(OR(EXACT($AA$7>$AB$7,AA20>AB20)*EXACT($AA$7=$AB$7,AA20=AB20)*EXACT($AA$7<$AB$7,AA20<AB20)),$AN$7,0)))*4 -> 0 | AG20: =E20+K20+Q20+T20+N20+H20+W20+Z20+AC20+AF20 -> 9 | AI20: =AG20+AH20 -> 9 | AJ20: =RANK(AI20,$AI$8:$AI$50) -> 18
A21: =AJ21 -> 8 | B21: Lola04 | C21: 4 | D21: 0 | E21: =IF(OR(EXACT($C$7,C21)*(EXACT($D$7,D21)))=TRUE,$AN$9,IF(($D$7-$C$7=D21-C21),$AN$8,IF(OR(EXACT($C$7>$D$7,C21>D21)*EXACT($C$7=$D$7,C21=D21)*EXACT($C$7<$D$7,C21<D21)),$AN$7,0))) -> 3 | F21: 1 | G21: 2 | H21: =IF(OR(EXACT($F$7,F21)*(EXACT($G$7,G21)))=TRUE,$AN$9,IF(($G$7-$F$7=G21-F21),$AN$8,IF(OR(EXACT($F$7>$G$7,F21>G21)*EXACT($F$7=$G$7,F21=G21)*EXACT($F$7<$G$7,F21<G21)),$AN$7,0))) -> 0 | I21: 3 | J21: 1 | K21: =IF(OR(EXACT($I$7,I21)*(EXACT($J$7,J21)))=TRUE,$AN$9,IF(($J$7-$I$7=J21-I21),$AN$8,IF(OR(EXACT($I$7>$J$7,I21>J21)*EXACT($I$7=$J$7,I21=J21)*EXACT($I$7<$J$7,I21<J21)),$AN$7,0))) -> 2 | L21: 2 | M21: 0 | N21: =IF(OR(EXACT($L$7,L21)*(EXACT($M$7,M21)))=TRUE,$AN$9,IF(($M$7-$L$7=M21-L21),$AN$8,IF(OR(EXACT($L$7>$M$7,L21>M21)*EXACT($L$7=$M$7,L21=M21)*EXACT($L$7<$M$7,L21<M21)),$AN$7,0))) -> 0 | O21: 1 | P21: 1 | Q21: =IF(OR(EXACT($O$7,O21)*(EXACT($P$7,P21)))=TRUE,$AN$9,IF(($P$7-$O$7=P21-O21),$AN$8,IF(OR(EXACT($O$7>$P$7,O21>P21)*EXACT($O$7=$P$7,O21=P21)*EXACT($O$7<$P$7,O21<P21)),$AN$7,0))) -> 3 | R21: 2 | S21: 2 | T21: =IF(OR(EXACT($R$7,R21)*(EXACT($S$7,S21)))=TRUE,$AN$9,IF(($S$7-$R$7=S21-R21),$AN$8,IF(OR(EXACT($R$7>$S$7,R21>S21)*EXACT($R$7=$S$7,R21=S21)*EXACT($R$7<$S$7,R21<S21)),$AN$7,0))) -> 0 | U21: 2 | V21: 1 | W21: =IF(OR(EXACT($U$7,U21)*(EXACT($V$7,V21)))=TRUE,$AN$9,IF(($V$7-$U$7=V21-U21),$AN$8,IF(OR(EXACT($U$7>$V$7,U21>V21)*EXACT($U$7=$V$7,U21=V21)*EXACT($U$7<$V$7,U21<V21)),$AN$7,0))) -> 2 | X21: 2 | Y21: 1 | Z21: =IF(OR(EXACT($X$7,X21)*(EXACT($Y$7,Y21)))=TRUE,$AN$9,IF(($Y$7-$X$7=Y21-X21),$AN$8,IF(OR(EXACT($X$7>$Y$7,X21>Y21)*EXACT($X$7=$Y$7,X21=Y21)*EXACT($X$7<$Y$7,X21<Y21)),$AN$7,0))) -> 2 | AA21: 1 | AB21: 1 | AC21: =IF(OR(EXACT($AA$7,AA21)*(EXACT($AB$7,AB21)))=TRUE,$AN$9,IF(($AB$7-$AA$7=AB21-AA21),$AN$8,IF(OR(EXACT($AA$7>$AB$7,AA21>AB21)*EXACT($AA$7=$AB$7,AA21=AB21)*EXACT($AA$7<$AB$7,AA21<AB21)),$AN$7,0)))*2 -> 0 | AG21: =E21+K21+Q21+T21+N21+H21+W21+Z21+AC21+AF21 -> 12 | AI21: =AG21+AH21 -> 12 | AJ21: =RANK(AI21,$AI$8:$AI$50) -> 8
A22: =AJ22 -> 24 | B22: Markus Müller | C22: 4 | D22: 1 | E22: =IF(OR(EXACT($C$7,C22)*(EXACT($D$7,D22)))=TRUE,$AN$9,IF(($D$7-$C$7=D22-C22),$AN$8,IF(OR(EXACT($C$7>$D$7,C22>D22)*EXACT($C$7=$D$7,C22=D22)*EXACT($C$7<$D$7,C22<D22)),$AN$7,0))) -> 2 | F22: 0 | G22: 3 | H22: =IF(OR(EXACT($F$7,F22)*(EXACT($G$7,G22)))=TRUE,$AN$9,IF(($G$7-$F$7=G22-F22),$AN$8,IF(OR(EXACT($F$7>$G$7,F22>G22)*EXACT($F$7=$G$7,F22=G22)*EXACT($F$7<$G$7,F22<G22)),$AN$7,0))) -> 0 | I22: 2 | J22: 1 | K22: =IF(OR(EXACT($I$7,I22)*(EXACT($J$7,J22)))=TRUE,$AN$9,IF(($J$7-$I$7=J22-I22),$AN$8,IF(OR(EXACT($I$7>$J$7,I22>J22)*EXACT($I$7=$J$7,I22=J22)*EXACT($I$7<$J$7,I22<J22)),$AN$7,0))) -> 2 | L22: 2 | M22: 0 | N22: =IF(OR(EXACT($L$7,L22)*(EXACT($M$7,M22)))=TRUE,$AN$9,IF(($M$7-$L$7=M22-L22),$AN$8,IF(OR(EXACT($L$7>$M$7,L22>M22)*EXACT($L$7=$M$7,L22=M22)*EXACT($L$7<$M$7,L22<M22)),$AN$7,0))) -> 0 | O22: 0 | P22: 2 | Q22: =IF(OR(EXACT($O$7,O22)*(EXACT($P$7,P22)))=TRUE,$AN$9,IF(($P$7-$O$7=P22-O22),$AN$8,IF(OR(EXACT($O$7>$P$7,O22>P22)*EXACT($O$7=$P$7,O22=P22)*EXACT($O$7<$P$7,O22<P22)),$AN$7,0))) -> 0 | R22: 1 | S22: 2 | T22: =IF(OR(EXACT($R$7,R22)*(EXACT($S$7,S22)))=TRUE,$AN$9,IF(($S$7-$R$7=S22-R22),$AN$8,IF(OR(EXACT($R$7>$S$7,R22>S22)*EXACT($R$7=$S$7,R22=S22)*EXACT($R$7<$S$7,R22<S22)),$AN$7,0))) -> 0 | U22: 3 | V22: 0 | W22: =IF(OR(EXACT($U$7,U22)*(EXACT($V$7,V22)))=TRUE,$AN$9,IF(($V$7-$U$7=V22-U22),$AN$8,IF(OR(EXACT($U$7>$V$7,U22>V22)*EXACT($U$7=$V$7,U22=V22)*EXACT($U$7<$V$7,U22<V22)),$AN$7,0))) -> 2 | X22: 1 | Y22: 0 | Z22: =IF(OR(EXACT($X$7,X22)*(EXACT($Y$7,Y22)))=TRUE,$AN$9,IF(($Y$7-$X$7=Y22-X22),$AN$8,IF(OR(EXACT($X$7>$Y$7,X22>Y22)*EXACT($X$7=$Y$7,X22=Y22)*EXACT($X$7<$Y$7,X22<Y22)),$AN$7,0))) -> 2 | AA22: 0 | AB22: 1 | AC22: =IF(OR(EXACT($AA$7,AA22)*(EXACT($AB$7,AB22)))=TRUE,$AN$9,IF(($AB$7-$AA$7=AB22-AA22),$AN$8,IF(OR(EXACT($AA$7>$AB$7,AA22>AB22)*EXACT($AA$7=$AB$7,AA22=AB22)*EXACT($AA$7<$AB$7,AA22<AB22)),$AN$7,0)))*4 -> 0 | AG22: =E22+K22+Q22+T22+N22+H22+W22+Z22+AC22+AF22 -> 8 | AI22: =AG22+AH22 -> 8 | AJ22: =RANK(AI22,$AI$8:$AI$50) -> 24
A23: =AJ23 -> 3 | B23: Master1 | C23: 3 | D23: 1 | E23: =IF(OR(EXACT($C$7,C23)*(EXACT($D$7,D23)))=TRUE,$AN$9,IF(($D$7-$C$7=D23-C23),$AN$8,IF(OR(EXACT($C$7>$D$7,C23>D23)*EXACT($C$7=$D$7,C23=D23)*EXACT($C$7<$D$7,C23<D23)),$AN$7,0))) -> 2 | F23: 1 | G23: 3 | H23: =IF(OR(EXACT($F$7,F23)*(EXACT($G$7,G23)))=TRUE,$AN$9,IF(($G$7-$F$7=G23-F23),$AN$8,IF(OR(EXACT($F$7>$G$7,F23>G23)*EXACT($F$7=$G$7,F23=G23)*EXACT($F$7<$G$7,F23<G23)),$AN$7,0))) -> 0 | I23: 3 | J23: 1 | K23: =IF(OR(EXACT($I$7,I23)*(EXACT($J$7,J23)))=TRUE,$AN$9,IF(($J$7-$I$7=J23-I23),$AN$8,IF(OR(EXACT($I$7>$J$7,I23>J23)*EXACT($I$7=$J$7,I23=J23)*EXACT($I$7<$J$7,I23<J23)),$AN$7,0))) -> 2 | L23: 2 | M23: 1 | N23: =IF(OR(EXACT($L$7,L23)*(EXACT($M$7,M23)))=TRUE,$AN$9,IF(($M$7-$L$7=M23-L23),$AN$8,IF(OR(EXACT($L$7>$M$7,L23>M23)*EXACT($L$7=$M$7,L23=M23)*EXACT($L$7<$M$7,L23<M23)),$AN$7,0))) -> 0 | O23: 2 | P23: 2 | Q23: =IF(OR(EXACT($O$7,O23)*(EXACT($P$7,P23)))=TRUE,$AN$9,IF(($P$7-$O$7=P23-O23),$AN$8,IF(OR(EXACT($O$7>$P$7,O23>P23)*EXACT($O$7=$P$7,O23=P23)*EXACT($O$7<$P$7,O23<P23)),$AN$7,0))) -> 3 | R23: 1 | S23: 2 | T23: =IF(OR(EXACT($R$7,R23)*(EXACT($S$7,S23)))=TRUE,$AN$9,IF(($S$7-$R$7=S23-R23),$AN$8,IF(OR(EXACT($R$7>$S$7,R23>S23)*EXACT($R$7=$S$7,R23=S23)*EXACT($R$7<$S$7,R23<S23)),$AN$7,0))) -> 0 | U23: 2 | V23: 0 | W23: =IF(OR(EXACT($U$7,U23)*(EXACT($V$7,V23)))=TRUE,$AN$9,IF(($V$7-$U$7=V23-U23),$AN$8,IF(OR(EXACT($U$7>$V$7,U23>V23)*EXACT($U$7=$V$7,U23=V23)*EXACT($U$7<$V$7,U23<V23)),$AN$7,0))) -> 5 | X23: 3 | Y23: 2 | Z23: =IF(OR(EXACT($X$7,X23)*(EXACT($Y$7,Y23)))=TRUE,$AN$9,IF(($Y$7-$X$7=Y23-X23),$AN$8,IF(OR(EXACT($X$7>$Y$7,X23>Y23)*EXACT($X$7=$Y$7,X23=Y23)*EXACT($X$7<$Y$7,X23<Y23)),$AN$7,0))) -> 2 | AA23: 2 | AB23: 3 | AC23: =IF(OR(EXACT($AA$7,AA23)*(EXACT($AB$7,AB23)))=TRUE,$AN$9,IF(($AB$7-$AA$7=AB23-AA23),$AN$8,IF(OR(EXACT($AA$7>$AB$7,AA23>AB23)*EXACT($AA$7=$AB$7,AA23=AB23)*EXACT($AA$7<$AB$7,AA23<AB23)),$AN$7,0)))*4 -> 0 | AG23: =E23+K23+Q23+T23+N23+H23+W23+Z23+AC23+AF23 -> 14 | AI23: =AG23+AH23 -> 14 | AJ23: =RANK(AI23,$AI$8:$AI$50) -> 3
A24: =AJ24 -> 18 | B24: MichaBolz | C24: 3 | D24: 1 | E24: =IF(OR(EXACT($C$7,C24)*(EXACT($D$7,D24)))=TRUE,$AN$9,IF(($D$7-$C$7=D24-C24),$AN$8,IF(OR(EXACT($C$7>$D$7,C24>D24)*EXACT($C$7=$D$7,C24=D24)*EXACT($C$7<$D$7,C24<D24)),$AN$7,0))) -> 2 | F24: 0 | G24: 2 | H24: =IF(OR(EXACT($F$7,F24)*(EXACT($G$7,G24)))=TRUE,$AN$9,IF(($G$7-$F$7=G24-F24),$AN$8,IF(OR(EXACT($F$7>$G$7,F24>G24)*EXACT($F$7=$G$7,F24=G24)*EXACT($F$7<$G$7,F24<G24)),$AN$7,0))) -> 0 | I24: 2 | J24: 0 | K24: =IF(OR(EXACT($I$7,I24)*(EXACT($J$7,J24)))=TRUE,$AN$9,IF(($J$7-$I$7=J24-I24),$AN$8,IF(OR(EXACT($I$7>$J$7,I24>J24)*EXACT($I$7=$J$7,I24=J24)*EXACT($I$7<$J$7,I24<J24)),$AN$7,0))) -> 2 | L24: 2 | M24: 1 | N24: =IF(OR(EXACT($L$7,L24)*(EXACT($M$7,M24)))=TRUE,$AN$9,IF(($M$7-$L$7=M24-L24),$AN$8,IF(OR(EXACT($L$7>$M$7,L24>M24)*EXACT($L$7=$M$7,L24=M24)*EXACT($L$7<$M$7,L24<M24)),$AN$7,0))) -> 0 | O24: 1 | P24: 2 | Q24: =IF(OR(EXACT($O$7,O24)*(EXACT($P$7,P24)))=TRUE,$AN$9,IF(($P$7-$O$7=P24-O24),$AN$8,IF(OR(EXACT($O$7>$P$7,O24>P24)*EXACT($O$7=$P$7,O24=P24)*EXACT($O$7<$P$7,O24<P24)),$AN$7,0))) -> 0 | R24: 1 | S24: 1 | T24: =IF(OR(EXACT($R$7,R24)*(EXACT($S$7,S24)))=TRUE,$AN$9,IF(($S$7-$R$7=S24-R24),$AN$8,IF(OR(EXACT($R$7>$S$7,R24>S24)*EXACT($R$7=$S$7,R24=S24)*EXACT($R$7<$S$7,R24<S24)),$AN$7,0))) -> 0 | U24: 2 | V24: 0 | W24: =IF(OR(EXACT($U$7,U24)*(EXACT($V$7,V24)))=TRUE,$AN$9,IF(($V$7-$U$7=V24-U24),$AN$8,IF(OR(EXACT($U$7>$V$7,U24>V24)*EXACT($U$7=$V$7,U24=V24)*EXACT($U$7<$V$7,U24<V24)),$AN$7,0))) -> 5 | X24: 1 | Y24: 1 | Z24: =IF(OR(EXACT($X$7,X24)*(EXACT($Y$7,Y24)))=TRUE,$AN$9,IF(($Y$7-$X$7=Y24-X24),$AN$8,IF(OR(EXACT($X$7>$Y$7,X24>Y24)*EXACT($X$7=$Y$7,X24=Y24)*EXACT($X$7<$Y$7,X24<Y24)),$AN$7,0))) -> 0 | AA24: 1 | AB24: 1 | AC24: =IF(OR(EXACT($AA$7,AA24)*(EXACT($AB$7,AB24)))=TRUE,$AN$9,IF(($AB$7-$AA$7=AB24-AA24),$AN$8,IF(OR(EXACT($AA$7>$AB$7,AA24>AB24)*EXACT($AA$7=$AB$7,AA24=AB24)*EXACT($AA$7<$AB$7,AA24<AB24)),$AN$7,0)))*2 -> 0 | AG24: =E24+K24+Q24+T24+N24+H24+W24+Z24+AC24+AF24 -> 9 | AI24: =AG24+AH24 -> 9 | AJ24: =RANK(AI24,$AI$8:$AI$50) -> 18
A25: =AJ25 -> 3 | B25: Mike04 | C25: 3 | D25: 0 | E25: =IF(OR(EXACT($C$7,C25)*(EXACT($D$7,D25)))=TRUE,$AN$9,IF(($D$7-$C$7=D25-C25),$AN$8,IF(OR(EXACT($C$7>$D$7,C25>D25)*EXACT($C$7=$D$7,C25=D25)*EXACT($C$7<$D$7,C25<D25)),$AN$7,0))) -> 2 | F25: 0 | G25: 2 | H25: =IF(OR(EXACT($F$7,F25)*(EXACT($G$7,G25)))=TRUE,$AN$9,IF(($G$7-$F$7=G25-F25),$AN$8,IF(OR(EXACT($F$7>$G$7,F25>G25)*EXACT($F$7=$G$7,F25=G25)*EXACT($F$7<$G$7,F25<G25)),$AN$7,0))) -> 0 | I25: 2 | J25: 0 | K25: =IF(OR(EXACT($I$7,I25)*(EXACT($J$7,J25)))=TRUE,$AN$9,IF(($J$7-$I$7=J25-I25),$AN$8,IF(OR(EXACT($I$7>$J$7,I25>J25)*EXACT($I$7=$J$7,I25=J25)*EXACT($I$7<$J$7,I25<J25)),$AN$7,0))) -> 2 | L25: 2 | M25: 0 | N25: =IF(OR(EXACT($L$7,L25)*(EXACT($M$7,M25)))=TRUE,$AN$9,IF(($M$7-$L$7=M25-L25),$AN$8,IF(OR(EXACT($L$7>$M$7,L25>M25)*EXACT($L$7=$M$7,L25=M25)*EXACT($L$7<$M$7,L25<M25)),$AN$7,0))) -> 0 | O25: 1 | P25: 1 | Q25: =IF(OR(EXACT($O$7,O25)*(EXACT($P$7,P25)))=TRUE,$AN$9,IF(($P$7-$O$7=P25-O25),$AN$8,IF(OR(EXACT($O$7>$P$7,O25>P25)*EXACT($O$7=$P$7,O25=P25)*EXACT($O$7<$P$7,O25<P25)),$AN$7,0))) -> 3 | R25: 1 | S25: 2 | T25: =IF(OR(EXACT($R$7,R25)*(EXACT($S$7,S25)))=TRUE,$AN$9,IF(($S$7-$R$7=S25-R25),$AN$8,IF(OR(EXACT($R$7>$S$7,R25>S25)*EXACT($R$7=$S$7,R25=S25)*EXACT($R$7<$S$7,R25<S25)),$AN$7,0))) -> 0 | U25: 2 | V25: 0 | W25: =IF(OR(EXACT($U$7,U25)*(EXACT($V$7,V25)))=TRUE,$AN$9,IF(($V$7-$U$7=V25-U25),$AN$8,IF(OR(EXACT($U$7>$V$7,U25>V25)*EXACT($U$7=$V$7,U25=V25)*EXACT($U$7<$V$7,U25<V25)),$AN$7,0))) -> 5 | X25: 2 | Y25: 0 | Z25: =IF(OR(EXACT($X$7,X25)*(EXACT($Y$7,Y25)))=TRUE,$AN$9,IF(($Y$7-$X$7=Y25-X25),$AN$8,IF(OR(EXACT($X$7>$Y$7,X25>Y25)*EXACT($X$7=$Y$7,X25=Y25)*EXACT($X$7<$Y$7,X25<Y25)),$AN$7,0))) -> 2 | AA25: 0 | AB25: 2 | AC25: =IF(OR(EXACT($AA$7,AA25)*(EXACT($AB$7,AB25)))=TRUE,$AN$9,IF(($AB$7-$AA$7=AB25-AA25),$AN$8,IF(OR(EXACT($AA$7>$AB$7,AA25>AB25)*EXACT($AA$7=$AB$7,AA25=AB25)*EXACT($AA$7<$AB$7,AA25<AB25)),$AN$7,0)))*4 -> 0 | AG25: =E25+K25+Q25+T25+N25+H25+W25+Z25+AC25+AF25 -> 14 | AI25: =AG25+AH25 -> 14 | AJ25: =RANK(AI25,$AI$8:$AI$50) -> 3
A26: =AJ26 -> 11 | B26: Reinhold | C26: 4 | D26: 2 | E26: =IF(OR(EXACT($C$7,C26)*(EXACT($D$7,D26)))=TRUE,$AN$9,IF(($D$7-$C$7=D26-C26),$AN$8,IF(OR(EXACT($C$7>$D$7,C26>D26)*EXACT($C$7=$D$7,C26=D26)*EXACT($C$7<$D$7,C26<D26)),$AN$7,0))) -> 2 | F26: 1 | G26: 4 | H26: =IF(OR(EXACT($F$7,F26)*(EXACT($G$7,G26)))=TRUE,$AN$9,IF(($G$7-$F$7=G26-F26),$AN$8,IF(OR(EXACT($F$7>$G$7,F26>G26)*EXACT($F$7=$G$7,F26=G26)*EXACT($F$7<$G$7,F26<G26)),$AN$7,0))) -> 0 | I26: 2 | J26: 0 | K26: =IF(OR(EXACT($I$7,I26)*(EXACT($J$7,J26)))=TRUE,$AN$9,IF(($J$7-$I$7=J26-I26),$AN$8,IF(OR(EXACT($I$7>$J$7,I26>J26)*EXACT($I$7=$J$7,I26=J26)*EXACT($I$7<$J$7,I26<J26)),$AN$7,0))) -> 2 | L26: 3 | M26: 1 | N26: =IF(OR(EXACT($L$7,L26)*(EXACT($M$7,M26)))=TRUE,$AN$9,IF(($M$7-$L$7=M26-L26),$AN$8,IF(OR(EXACT($L$7>$M$7,L26>M26)*EXACT($L$7=$M$7,L26=M26)*EXACT($L$7<$M$7,L26<M26)),$AN$7,0))) -> 0 | O26: 3 | P26: 2 | Q26: =IF(OR(EXACT($O$7,O26)*(EXACT($P$7,P26)))=TRUE,$AN$9,IF(($P$7-$O$7=P26-O26),$AN$8,IF(OR(EXACT($O$7>$P$7,O26>P26)*EXACT($O$7=$P$7,O26=P26)*EXACT($O$7<$P$7,O26<P26)),$AN$7,0))) -> 0 | R26: 1 | S26: 3 | T26: =IF(OR(EXACT($R$7,R26)*(EXACT($S$7,S26)))=TRUE,$AN$9,IF(($S$7-$R$7=S26-R26),$AN$8,IF(OR(EXACT($R$7>$S$7,R26>S26)*EXACT($R$7=$S$7,R26=S26)*EXACT($R$7<$S$7,R26<S26)),$AN$7,0))) -> 0 | U26: 2 | V26: 0 | W26: =IF(OR(EXACT($U$7,U26)*(EXACT($V$7,V26)))=TRUE,$AN$9,IF(($V$7-$U$7=V26-U26),$AN$8,IF(OR(EXACT($U$7>$V$7,U26>V26)*EXACT($U$7=$V$7,U26=V26)*EXACT($U$7<$V$7,U26<V26)),$AN$7,0))) -> 5 | X26: 1 | Y26: 0 | Z26: =IF(OR(EXACT($X$7,X26)*(EXACT($Y$7,Y26)))=TRUE,$AN$9,IF(($Y$7-$X$7=Y26-X26),$AN$8,IF(OR(EXACT($X$7>$Y$7,X26>Y26)*EXACT($X$7=$Y$7,X26=Y26)*EXACT($X$7<$Y$7,X26<Y26)),$AN$7,0))) -> 2 | AA26: 1 | AB26: 5 | AC26: =IF(OR(EXACT($AA$7,AA26)*(EXACT($AB$7,AB26)))=TRUE,$AN$9,IF(($AB$7-$AA$7=AB26-AA26),$AN$8,IF(OR(EXACT($AA$7>$AB$7,AA26>AB26)*EXACT($AA$7=$AB$7,AA26=AB26)*EXACT($AA$7<$AB$7,AA26<AB26)),$AN$7,0)))*4 -> 0 | AG26: =E26+K26+Q26+T26+N26+H26+W26+Z26+AC26+AF26 -> 11 | AI26: =AG26+AH26 -> 11 | AJ26: =RANK(AI26,$AI$8:$AI$50) -> 11
A27: =AJ27 -> 1 | B27: ReneMause | C27: 3 | D27: 0 | E27: =IF(OR(EXACT($C$7,C27)*(EXACT($D$7,D27)))=TRUE,$AN$9,IF(($D$7-$C$7=D27-C27),$AN$8,IF(OR(EXACT($C$7>$D$7,C27>D27)*EXACT($C$7=$D$7,C27=D27)*EXACT($C$7<$D$7,C27<D27)),$AN$7,0))) -> 2 | F27: 2 | G27: 1 | H27: =IF(OR(EXACT($F$7,F27)*(EXACT($G$7,G27)))=TRUE,$AN$9,IF(($G$7-$F$7=G27-F27),$AN$8,IF(OR(EXACT($F$7>$G$7,F27>G27)*EXACT($F$7=$G$7,F27=G27)*EXACT($F$7<$G$7,F27<G27)),$AN$7,0))) -> 3 | I27: 3 | J27: 1 | K27: =IF(OR(EXACT($I$7,I27)*(EXACT($J$7,J27)))=TRUE,$AN$9,IF(($J$7-$I$7=J27-I27),$AN$8,IF(OR(EXACT($I$7>$J$7,I27>J27)*EXACT($I$7=$J$7,I27=J27)*EXACT($I$7<$J$7,I27<J27)),$AN$7,0))) -> 2 | L27: 2 | M27: 0 | N27: =IF(OR(EXACT($L$7,L27)*(EXACT($M$7,M27)))=TRUE,$AN$9,IF(($M$7-$L$7=M27-L27),$AN$8,IF(OR(EXACT($L$7>$M$7,L27>M27)*EXACT($L$7=$M$7,L27=M27)*EXACT($L$7<$M$7,L27<M27)),$AN$7,0))) -> 0 | O27: 1 | P27: 1 | Q27: =IF(OR(EXACT($O$7,O27)*(EXACT($P$7,P27)))=TRUE,$AN$9,IF(($P$7-$O$7=P27-O27),$AN$8,IF(OR(EXACT($O$7>$P$7,O27>P27)*EXACT($O$7=$P$7,O27=P27)*EXACT($O$7<$P$7,O27<P27)),$AN$7,0))) -> 3 | R27: 3 | S27: 1 | T27: =IF(OR(EXACT($R$7,R27)*(EXACT($S$7,S27)))=TRUE,$AN$9,IF(($S$7-$R$7=S27-R27),$AN$8,IF(OR(EXACT($R$7>$S$7,R27>S27)*EXACT($R$7=$S$7,R27=S27)*EXACT($R$7<$S$7,R27<S27)),$AN$7,0))) -> 2 | U27: 3 | V27: 1 | W27: =IF(OR(EXACT($U$7,U27)*(EXACT($V$7,V27)))=TRUE,$AN$9,IF(($V$7-$U$7=V27-U27),$AN$8,IF(OR(EXACT($U$7>$V$7,U27>V27)*EXACT($U$7=$V$7,U27=V27)*EXACT($U$7<$V$7,U27<V27)),$AN$7,0))) -> 3 | X27: 2 | Y27: 0 | Z27: =IF(OR(EXACT($X$7,X27)*(EXACT($Y$7,Y27)))=TRUE,$AN$9,IF(($Y$7-$X$7=Y27-X27),$AN$8,IF(OR(EXACT($X$7>$Y$7,X27>Y27)*EXACT($X$7=$Y$7,X27=Y27)*EXACT($X$7<$Y$7,X27<Y27)),$AN$7,0))) -> 2 | AA27: 0 | AB27: 1 | AC27: =IF(OR(EXACT($AA$7,AA27)*(EXACT($AB$7,AB27)))=TRUE,$AN$9,IF(($AB$7-$AA$7=AB27-AA27),$AN$8,IF(OR(EXACT($AA$7>$AB$7,AA27>AB27)*EXACT($AA$7=$AB$7,AA27=AB27)*EXACT($AA$7<$AB$7,AA27<AB27)),$AN$7,0)))*4 -> 0 | AG27: =E27+K27+Q27+T27+N27+H27+W27+Z27+AC27+AF27 -> 17 | AI27: =AG27+AH27 -> 17 | AJ27: =RANK(AI27,$AI$8:$AI$50) -> 1
A28: =AJ28 -> 27 | B28: Ricardo04 | C28: 3 | D28: 1 | E28: =IF(OR(EXACT($C$7,C28)*(EXACT($D$7,D28)))=TRUE,$AN$9,IF(($D$7-$C$7=D28-C28),$AN$8,IF(OR(EXACT($C$7>$D$7,C28>D28)*EXACT($C$7=$D$7,C28=D28)*EXACT($C$7<$D$7,C28<D28)),$AN$7,0))) -> 2 | F28: 0 | G28: 3 | H28: =IF(OR(EXACT($F$7,F28)*(EXACT($G$7,G28)))=TRUE,$AN$9,IF(($G$7-$F$7=G28-F28),$AN$8,IF(OR(EXACT($F$7>$G$7,F28>G28)*EXACT($F$7=$G$7,F28=G28)*EXACT($F$7<$G$7,F28<G28)),$AN$7,0))) -> 0 | I28: 3 | J28: 1 | K28: =IF(OR(EXACT($I$7,I28)*(EXACT($J$7,J28)))=TRUE,$AN$9,IF(($J$7-$I$7=J28-I28),$AN$8,IF(OR(EXACT($I$7>$J$7,I28>J28)*EXACT($I$7=$J$7,I28=J28)*EXACT($I$7<$J$7,I28<J28)),$AN$7,0))) -> 2 | L28: 2 | M28: 0 | N28: =IF(OR(EXACT($L$7,L28)*(EXACT($M$7,M28)))=TRUE,$AN$9,IF(($M$7-$L$7=M28-L28),$AN$8,IF(OR(EXACT($L$7>$M$7,L28>M28)*EXACT($L$7=$M$7,L28=M28)*EXACT($L$7<$M$7,L28<M28)),$AN$7,0))) -> 0 | O28: 1 | P28: 3 | Q28: =IF(OR(EXACT($O$7,O28)*(EXACT($P$7,P28)))=TRUE,$AN$9,IF(($P$7-$O$7=P28-O28),$AN$8,IF(OR(EXACT($O$7>$P$7,O28>P28)*EXACT($O$7=$P$7,O28=P28)*EXACT($O$7<$P$7,O28<P28)),$AN$7,0))) -> 0 | R28: 1 | S28: 2 | T28: =IF(OR(EXACT($R$7,R28)*(EXACT($S$7,S28)))=TRUE,$AN$9,IF(($S$7-$R$7=S28-R28),$AN$8,IF(OR(EXACT($R$7>$S$7,R28>S28)*EXACT($R$7=$S$7,R28=S28)*EXACT($R$7<$S$7,R28<S28)),$AN$7,0))) -> 0 | U28: 1 | V28: 2 | W28: =IF(OR(EXACT($U$7,U28)*(EXACT($V$7,V28)))=TRUE,$AN$9,IF(($V$7-$U$7=V28-U28),$AN$8,IF(OR(EXACT($U$7>$V$7,U28>V28)*EXACT($U$7=$V$7,U28=V28)*EXACT($U$7<$V$7,U28<V28)),$AN$7,0))) -> 0 | X28: 2 | Y28: 1 | Z28: =IF(OR(EXACT($X$7,X28)*(EXACT($Y$7,Y28)))=TRUE,$AN$9,IF(($Y$7-$X$7=Y28-X28),$AN$8,IF(OR(EXACT($X$7>$Y$7,X28>Y28)*EXACT($X$7=$Y$7,X28=Y28)*EXACT($X$7<$Y$7,X28<Y28)),$AN$7,0))) -> 2 | AA28: 0 | AB28: 2 | AC28: =IF(OR(EXACT($AA$7,AA28)*(EXACT($AB$7,AB28)))=TRUE,$AN$9,IF(($AB$7-$AA$7=AB28-AA28),$AN$8,IF(OR(EXACT($AA$7>$AB$7,AA28>AB28)*EXACT($AA$7=$AB$7,AA28=AB28)*EXACT($AA$7<$AB$7,AA28<AB28)),$AN$7,0)))*4 -> 0 | AG28: =E28+K28+Q28+T28+N28+H28+W28+Z28+AC28+AF28 -> 6 | AI28: =AG28+AH28 -> 6 | AJ28: =RANK(AI28,$AI$8:$AI$50) -> 27
A29: =AJ29 -> 24 | B29: schmiddi04 | C29: 4 | D29: 1 | E29: =IF(OR(EXACT($C$7,C29)*(EXACT($D$7,D29)))=TRUE,$AN$9,IF(($D$7-$C$7=D29-C29),$AN$8,IF(OR(EXACT($C$7>$D$7,C29>D29)*EXACT($C$7=$D$7,C29=D29)*EXACT($C$7<$D$7,C29<D29)),$AN$7,0))) -> 2 | F29: 0 | G29: 3 | H29: =IF(OR(EXACT($F$7,F29)*(EXACT($G$7,G29)))=TRUE,$AN$9,IF(($G$7-$F$7=G29-F29),$AN$8,IF(OR(EXACT($F$7>$G$7,F29>G29)*EXACT($F$7=$G$7,F29=G29)*EXACT($F$7<$G$7,F29<G29)),$AN$7,0))) -> 0 | I29: 2 | J29: 1 | K29: =IF(OR(EXACT($I$7,I29)*(EXACT($J$7,J29)))=TRUE,$AN$9,IF(($J$7-$I$7=J29-I29),$AN$8,IF(OR(EXACT($I$7>$J$7,I29>J29)*EXACT($I$7=$J$7,I29=J29)*EXACT($I$7<$J$7,I29<J29)),$AN$7,0))) -> 2 | L29: 2 | M29: 0 | N29: =IF(OR(EXACT($L$7,L29)*(EXACT($M$7,M29)))=TRUE,$AN$9,IF(($M$7-$L$7=M29-L29),$AN$8,IF(OR(EXACT($L$7>$M$7,L29>M29)*EXACT($L$7=$M$7,L29=M29)*EXACT($L$7<$M$7,L29<M29)),$AN$7,0))) -> 0 | O29: 1 | P29: 2 | Q29: =IF(OR(EXACT($O$7,O29)*(EXACT($P$7,P29)))=TRUE,$AN$9,IF(($P$7-$O$7=P29-O29),$AN$8,IF(OR(EXACT($O$7>$P$7,O29>P29)*EXACT($O$7=$P$7,O29=P29)*EXACT($O$7<$P$7,O29<P29)),$AN$7,0))) -> 0 | R29: 1 | S29: 1 | T29: =IF(OR(EXACT($R$7,R29)*(EXACT($S$7,S29)))=TRUE,$AN$9,IF(($S$7-$R$7=S29-R29),$AN$8,IF(OR(EXACT($R$7>$S$7,R29>S29)*EXACT($R$7=$S$7,R29=S29)*EXACT($R$7<$S$7,R29<S29)),$AN$7,0))) -> 0 | U29: 2 | V29: 1 | W29: =IF(OR(EXACT($U$7,U29)*(EXACT($V$7,V29)))=TRUE,$AN$9,IF(($V$7-$U$7=V29-U29),$AN$8,IF(OR(EXACT($U$7>$V$7,U29>V29)*EXACT($U$7=$V$7,U29=V29)*EXACT($U$7<$V$7,U29<V29)),$AN$7,0))) -> 2 | X29: 2 | Y29: 1 | Z29: =IF(OR(EXACT($X$7,X29)*(EXACT($Y$7,Y29)))=TRUE,$AN$9,IF(($Y$7-$X$7=Y29-X29),$AN$8,IF(OR(EXACT($X$7>$Y$7,X29>Y29)*EXACT($X$7=$Y$7,X29=Y29)*EXACT($X$7<$Y$7,X29<Y29)),$AN$7,0))) -> 2 | AA29: 1 | AB29: 3 | AC29: =IF(OR(EXACT($AA$7,AA29)*(EXACT($AB$7,AB29)))=TRUE,$AN$9,IF(($AB$7-$AA$7=AB29-AA29),$AN$8,IF(OR(EXACT($AA$7>$AB$7,AA29>AB29)*EXACT($AA$7=$AB$7,AA29=AB29)*EXACT($AA$7<$AB$7,AA29<AB29)),$AN$7,0)))*4 -> 0 | AG29: =E29+K29+Q29+T29+N29+H29+W29+Z29+AC29+AF29 -> 8 | AI29: =AG29+AH29 -> 8 | AJ29: =RANK(AI29,$AI$8:$AI$50) -> 24
A30: =AJ30 -> 8 | B30: shiny | C30: 3 | D30: 1 | E30: =IF(OR(EXACT($C$7,C30)*(EXACT($D$7,D30)))=TRUE,$AN$9,IF(($D$7-$C$7=D30-C30),$AN$8,IF(OR(EXACT($C$7>$D$7,C30>D30)*EXACT($C$7=$D$7,C30=D30)*EXACT($C$7<$D$7,C30<D30)),$AN$7,0))) -> 2 | F30: 1 | G30: 3 | H30: =IF(OR(EXACT($F$7,F30)*(EXACT($G$7,G30)))=TRUE,$AN$9,IF(($G$7-$F$7=G30-F30),$AN$8,IF(OR(EXACT($F$7>$G$7,F30>G30)*EXACT($F$7=$G$7,F30=G30)*EXACT($F$7<$G$7,F30<G30)),$AN$7,0))) -> 0 | I30: 2 | J30: 1 | K30: =IF(OR(EXACT($I$7,I30)*(EXACT($J$7,J30)))=TRUE,$AN$9,IF(($J$7-$I$7=J30-I30),$AN$8,IF(OR(EXACT($I$7>$J$7,I30>J30)*EXACT($I$7=$J$7,I30=J30)*EXACT($I$7<$J$7,I30<J30)),$AN$7,0))) -> 2 | L30: 2 | M30: 1 | N30: =IF(OR(EXACT($L$7,L30)*(EXACT($M$7,M30)))=TRUE,$AN$9,IF(($M$7-$L$7=M30-L30),$AN$8,IF(OR(EXACT($L$7>$M$7,L30>M30)*EXACT($L$7=$M$7,L30=M30)*EXACT($L$7<$M$7,L30<M30)),$AN$7,0))) -> 0 | O30: 1 | P30: 1 | Q30: =IF(OR(EXACT($O$7,O30)*(EXACT($P$7,P30)))=TRUE,$AN$9,IF(($P$7-$O$7=P30-O30),$AN$8,IF(OR(EXACT($O$7>$P$7,O30>P30)*EXACT($O$7=$P$7,O30=P30)*EXACT($O$7<$P$7,O30<P30)),$AN$7,0))) -> 3 | R30: 1 | S30: 2 | T30: =IF(OR(EXACT($R$7,R30)*(EXACT($S$7,S30)))=TRUE,$AN$9,IF(($S$7-$R$7=S30-R30),$AN$8,IF(OR(EXACT($R$7>$S$7,R30>S30)*EXACT($R$7=$S$7,R30=S30)*EXACT($R$7<$S$7,R30<S30)),$AN$7,0))) -> 0 | U30: 3 | V30: 1 | W30: =IF(OR(EXACT($U$7,U30)*(EXACT($V$7,V30)))=TRUE,$AN$9,IF(($V$7-$U$7=V30-U30),$AN$8,IF(OR(EXACT($U$7>$V$7,U30>V30)*EXACT($U$7=$V$7,U30=V30)*EXACT($U$7<$V$7,U30<V30)),$AN$7,0))) -> 3 | X30: 2 | Y30: 1 | Z30: =IF(OR(EXACT($X$7,X30)*(EXACT($Y$7,Y30)))=TRUE,$AN$9,IF(($Y$7-$X$7=Y30-X30),$AN$8,IF(OR(EXACT($X$7>$Y$7,X30>Y30)*EXACT($X$7=$Y$7,X30=Y30)*EXACT($X$7<$Y$7,X30<Y30)),$AN$7,0))) -> 2 | AA30: 1 | AB30: 2 | AC30: =IF(OR(EXACT($AA$7,AA30)*(EXACT($AB$7,AB30)))=TRUE,$AN$9,IF(($AB$7-$AA$7=AB30-AA30),$AN$8,IF(OR(EXACT($AA$7>$AB$7,AA30>AB30)*EXACT($AA$7=$AB$7,AA30=AB30)*EXACT($AA$7<$AB$7,AA30<AB30)),$AN$7,0)))*4 -> 0 | AG30: =E30+K30+Q30+T30+N30+H30+W30+Z30+AC30+AF30 -> 12 | AI30: =AG30+AH30 -> 12 | AJ30: =RANK(AI30,$AI$8:$AI$50) -> 8
A31: =AJ31 -> 18 | B31: Silfa04 | C31: 1 | D31: 2 | E31: =IF(OR(EXACT($C$7,C31)*(EXACT($D$7,D31)))=TRUE,$AN$9,IF(($D$7-$C$7=D31-C31),$AN$8,IF(OR(EXACT($C$7>$D$7,C31>D31)*EXACT($C$7=$D$7,C31=D31)*EXACT($C$7<$D$7,C31<D31)),$AN$7,0))) -> 0 | F31: 0 | G31: 2 | H31: =IF(OR(EXACT($F$7,F31)*(EXACT($G$7,G31)))=TRUE,$AN$9,IF(($G$7-$F$7=G31-F31),$AN$8,IF(OR(EXACT($F$7>$G$7,F31>G31)*EXACT($F$7=$G$7,F31=G31)*EXACT($F$7<$G$7,F31<G31)),$AN$7,0))) -> 0 | I31: 3 | J31: 0 | K31: =IF(OR(EXACT($I$7,I31)*(EXACT($J$7,J31)))=TRUE,$AN$9,IF(($J$7-$I$7=J31-I31),$AN$8,IF(OR(EXACT($I$7>$J$7,I31>J31)*EXACT($I$7=$J$7,I31=J31)*EXACT($I$7<$J$7,I31<J31)),$AN$7,0))) -> 5 | L31: 0 | M31: 2 | N31: =IF(OR(EXACT($L$7,L31)*(EXACT($M$7,M31)))=TRUE,$AN$9,IF(($M$7-$L$7=M31-L31),$AN$8,IF(OR(EXACT($L$7>$M$7,L31>M31)*EXACT($L$7=$M$7,L31=M31)*EXACT($L$7<$M$7,L31<M31)),$AN$7,0))) -> 0 | O31: 0 | P31: 3 | Q31: =IF(OR(EXACT($O$7,O31)*(EXACT($P$7,P31)))=TRUE,$AN$9,IF(($P$7-$O$7=P31-O31),$AN$8,IF(OR(EXACT($O$7>$P$7,O31>P31)*EXACT($O$7=$P$7,O31=P31)*EXACT($O$7<$P$7,O31<P31)),$AN$7,0))) -> 0 | R31: 2 | S31: 2 | T31: =IF(OR(EXACT($R$7,R31)*(EXACT($S$7,S31)))=TRUE,$AN$9,IF(($S$7-$R$7=S31-R31),$AN$8,IF(OR(EXACT($R$7>$S$7,R31>S31)*EXACT($R$7=$S$7,R31=S31)*EXACT($R$7<$S$7,R31<S31)),$AN$7,0))) -> 0 | U31: 4 | V31: 0 | W31: =IF(OR(EXACT($U$7,U31)*(EXACT($V$7,V31)))=TRUE,$AN$9,IF(($V$7-$U$7=V31-U31),$AN$8,IF(OR(EXACT($U$7>$V$7,U31>V31)*EXACT($U$7=$V$7,U31=V31)*EXACT($U$7<$V$7,U31<V31)),$AN$7,0))) -> 2 | X31: 1 | Y31: 0 | Z31: =IF(OR(EXACT($X$7,X31)*(EXACT($Y$7,Y31)))=TRUE,$AN$9,IF(($Y$7-$X$7=Y31-X31),$AN$8,IF(OR(EXACT($X$7>$Y$7,X31>Y31)*EXACT($X$7=$Y$7,X31=Y31)*EXACT($X$7<$Y$7,X31<Y31)),$AN$7,0))) -> 2 | AA31: 1 | AB31: 2 | AC31: =IF(OR(EXACT($AA$7,AA31)*(EXACT($AB$7,AB31)))=TRUE,$AN$9,IF(($AB$7-$AA$7=AB31-AA31),$AN$8,IF(OR(EXACT($AA$7>$AB$7,AA31>AB31)*EXACT($AA$7=$AB$7,AA31=AB31)*EXACT($AA$7<$AB$7,AA31<AB31)),$AN$7,0)))*4 -> 0 | AG31: =E31+K31+Q31+T31+N31+H31+W31+Z31+AC31+AF31 -> 9 | AI31: =AG31+AH31 -> 9 | AJ31: =RANK(AI31,$AI$8:$AI$50) -> 18
A32: =AJ32 -> 11 | B32: Tanja04 | C32: 4 | D32: 1 | E32: =IF(OR(EXACT($C$7,C32)*(EXACT($D$7,D32)))=TRUE,$AN$9,IF(($D$7-$C$7=D32-C32),$AN$8,IF(OR(EXACT($C$7>$D$7,C32>D32)*EXACT($C$7=$D$7,C32=D32)*EXACT($C$7<$D$7,C32<D32)),$AN$7,0))) -> 2 | F32: 0 | G32: 2 | H32: =IF(OR(EXACT($F$7,F32)*(EXACT($G$7,G32)))=TRUE,$AN$9,IF(($G$7-$F$7=G32-F32),$AN$8,IF(OR(EXACT($F$7>$G$7,F32>G32)*EXACT($F$7=$G$7,F32=G32)*EXACT($F$7<$G$7,F32<G32)),$AN$7,0))) -> 0 | I32: 2 | J32: 1 | K32: =IF(OR(EXACT($I$7,I32)*(EXACT($J$7,J32)))=TRUE,$AN$9,IF(($J$7-$I$7=J32-I32),$AN$8,IF(OR(EXACT($I$7>$J$7,I32>J32)*EXACT($I$7=$J$7,I32=J32)*EXACT($I$7<$J$7,I32<J32)),$AN$7,0))) -> 2 | L32: 2 | M32: 0 | N32: =IF(OR(EXACT($L$7,L32)*(EXACT($M$7,M32)))=TRUE,$AN$9,IF(($M$7-$L$7=M32-L32),$AN$8,IF(OR(EXACT($L$7>$M$7,L32>M32)*EXACT($L$7=$M$7,L32=M32)*EXACT($L$7<$M$7,L32<M32)),$AN$7,0))) -> 0 | O32: 1 | P32: 2 | Q32: =IF(OR(EXACT($O$7,O32)*(EXACT($P$7,P32)))=TRUE,$AN$9,IF(($P$7-$O$7=P32-O32),$AN$8,IF(OR(EXACT($O$7>$P$7,O32>P32)*EXACT($O$7=$P$7,O32=P32)*EXACT($O$7<$P$7,O32<P32)),$AN$7,0))) -> 0 | R32: 0 | S32: 2 | T32: =IF(OR(EXACT($R$7,R32)*(EXACT($S$7,S32)))=TRUE,$AN$9,IF(($S$7-$R$7=S32-R32),$AN$8,IF(OR(EXACT($R$7>$S$7,R32>S32)*EXACT($R$7=$S$7,R32=S32)*EXACT($R$7<$S$7,R32<S32)),$AN$7,0))) -> 0 | U32: 2 | V32: 0 | W32: =IF(OR(EXACT($U$7,U32)*(EXACT($V$7,V32)))=TRUE,$AN$9,IF(($V$7-$U$7=V32-U32),$AN$8,IF(OR(EXACT($U$7>$V$7,U32>V32)*EXACT($U$7=$V$7,U32=V32)*EXACT($U$7<$V$7,U32<V32)),$AN$7,0))) -> 5 | X32: 2 | Y32: 0 | Z32: =IF(OR(EXACT($X$7,X32)*(EXACT($Y$7,Y32)))=TRUE,$AN$9,IF(($Y$7-$X$7=Y32-X32),$AN$8,IF(OR(EXACT($X$7>$Y$7,X32>Y32)*EXACT($X$7=$Y$7,X32=Y32)*EXACT($X$7<$Y$7,X32<Y32)),$AN$7,0))) -> 2 | AA32: 1 | AB32: 2 | AC32: =IF(OR(EXACT($AA$7,AA32)*(EXACT($AB$7,AB32)))=TRUE,$AN$9,IF(($AB$7-$AA$7=AB32-AA32),$AN$8,IF(OR(EXACT($AA$7>$AB$7,AA32>AB32)*EXACT($AA$7=$AB$7,AA32=AB32)*EXACT($AA$7<$AB$7,AA32<AB32)),$AN$7,0)))*4 -> 0 | AG32: =E32+K32+Q32+T32+N32+H32+W32+Z32+AC32+AF32 -> 11 | AI32: =AG32+AH32 -> 11 | AJ32: =RANK(AI32,$AI$8:$AI$50) -> 11
A33: =AJ33 -> 11 | B33: Th. Bülles | C33: 2 | D33: 0 | E33: =IF(OR(EXACT($C$7,C33)*(EXACT($D$7,D33)))=TRUE,$AN$9,IF(($D$7-$C$7=D33-C33),$AN$8,IF(OR(EXACT($C$7>$D$7,C33>D33)*EXACT($C$7=$D$7,C33=D33)*EXACT($C$7<$D$7,C33<D33)),$AN$7,0))) -> 2 | F33: 0 | G33: 3 | H33: =IF(OR(EXACT($F$7,F33)*(EXACT($G$7,G33)))=TRUE,$AN$9,IF(($G$7-$F$7=G33-F33),$AN$8,IF(OR(EXACT($F$7>$G$7,F33>G33)*EXACT($F$7=$G$7,F33=G33)*EXACT($F$7<$G$7,F33<G33)),$AN$7,0))) -> 0 | I33: 2 | J33: 0 | K33: =IF(OR(EXACT($I$7,I33)*(EXACT($J$7,J33)))=TRUE,$AN$9,IF(($J$7-$I$7=J33-I33),$AN$8,IF(OR(EXACT($I$7>$J$7,I33>J33)*EXACT($I$7=$J$7,I33=J33)*EXACT($I$7<$J$7,I33<J33)),$AN$7,0))) -> 2 | L33: 3 | M33: 1 | N33: =IF(OR(EXACT($L$7,L33)*(EXACT($M$7,M33)))=TRUE,$AN$9,IF(($M$7-$L$7=M33-L33),$AN$8,IF(OR(EXACT($L$7>$M$7,L33>M33)*EXACT($L$7=$M$7,L33=M33)*EXACT($L$7<$M$7,L33<M33)),$AN$7,0))) -> 0 | O33: 1 | P33: 2 | Q33: =IF(OR(EXACT($O$7,O33)*(EXACT($P$7,P33)))=TRUE,$AN$9,IF(($P$7-$O$7=P33-O33),$AN$8,IF(OR(EXACT($O$7>$P$7,O33>P33)*EXACT($O$7=$P$7,O33=P33)*EXACT($O$7<$P$7,O33<P33)),$AN$7,0))) -> 0 | R33: 0 | S33: 2 | T33: =IF(OR(EXACT($R$7,R33)*(EXACT($S$7,S33)))=TRUE,$AN$9,IF(($S$7-$R$7=S33-R33),$AN$8,IF(OR(EXACT($R$7>$S$7,R33>S33)*EXACT($R$7=$S$7,R33=S33)*EXACT($R$7<$S$7,R33<S33)),$AN$7,0))) -> 0 | U33: 2 | V33: 0 | W33: =IF(OR(EXACT($U$7,U33)*(EXACT($V$7,V33)))=TRUE,$AN$9,IF(($V$7-$U$7=V33-U33),$AN$8,IF(OR(EXACT($U$7>$V$7,U33>V33)*EXACT($U$7=$V$7,U33=V33)*EXACT($U$7<$V$7,U33<V33)),$AN$7,0))) -> 5 | X33: 3 | Y33: 1 | Z33: =IF(OR(EXACT($X$7,X33)*(EXACT($Y$7,Y33)))=TRUE,$AN$9,IF(($Y$7-$X$7=Y33-X33),$AN$8,IF(OR(EXACT($X$7>$Y$7,X33>Y33)*EXACT($X$7=$Y$7,X33=Y33)*EXACT($X$7<$Y$7,X33<Y33)),$AN$7,0))) -> 2 | AA33: 1 | AB33: 2 | AC33: =IF(OR(EXACT($AA$7,AA33)*(EXACT($AB$7,AB33)))=TRUE,$AN$9,IF(($AB$7-$AA$7=AB33-AA33),$AN$8,IF(OR(EXACT($AA$7>$AB$7,AA33>AB33)*EXACT($AA$7=$AB$7,AA33=AB33)*EXACT($AA$7<$AB$7,AA33<AB33)),$AN$7,0)))*4 -> 0 | AG33: =E33+K33+Q33+T33+N33+H33+W33+Z33+AC33+AF33 -> 11 | AI33: =AG33+AH33 -> 11 | AJ33: =RANK(AI33,$AI$8:$AI$50) -> 11
A34: =AJ34 -> 8 | B34: Thomas Müller | C34: 4 | D34: 0 | E34: =IF(OR(EXACT($C$7,C34)*(EXACT($D$7,D34)))=TRUE,$AN$9,IF(($D$7-$C$7=D34-C34),$AN$8,IF(OR(EXACT($C$7>$D$7,C34>D34)*EXACT($C$7=$D$7,C34=D34)*EXACT($C$7<$D$7,C34<D34)),$AN$7,0))) -> 3 | F34: 0 | G34: 3 | H34: =IF(OR(EXACT($F$7,F34)*(EXACT($G$7,G34)))=TRUE,$AN$9,IF(($G$7-$F$7=G34-F34),$AN$8,IF(OR(EXACT($F$7>$G$7,F34>G34)*EXACT($F$7=$G$7,F34=G34)*EXACT($F$7<$G$7,F34<G34)),$AN$7,0))) -> 0 | I34: 2 | J34: 0 | K34: =IF(OR(EXACT($I$7,I34)*(EXACT($J$7,J34)))=TRUE,$AN$9,IF(($J$7-$I$7=J34-I34),$AN$8,IF(OR(EXACT($I$7>$J$7,I34>J34)*EXACT($I$7=$J$7,I34=J34)*EXACT($I$7<$J$7,I34<J34)),$AN$7,0))) -> 2 | L34: 2 | M34: 1 | N34: =IF(OR(EXACT($L$7,L34)*(EXACT($M$7,M34)))=TRUE,$AN$9,IF(($M$7-$L$7=M34-L34),$AN$8,IF(OR(EXACT($L$7>$M$7,L34>M34)*EXACT($L$7=$M$7,L34=M34)*EXACT($L$7<$M$7,L34<M34)),$AN$7,0))) -> 0 | O34: 0 | P34: 2 | Q34: =IF(OR(EXACT($O$7,O34)*(EXACT($P$7,P34)))=TRUE,$AN$9,IF(($P$7-$O$7=P34-O34),$AN$8,IF(OR(EXACT($O$7>$P$7,O34>P34)*EXACT($O$7=$P$7,O34=P34)*EXACT($O$7<$P$7,O34<P34)),$AN$7,0))) -> 0 | R34: 0 | S34: 2 | T34: =IF(OR(EXACT($R$7,R34)*(EXACT($S$7,S34)))=TRUE,$AN$9,IF(($S$7-$R$7=S34-R34),$AN$8,IF(OR(EXACT($R$7>$S$7,R34>S34)*EXACT($R$7=$S$7,R34=S34)*EXACT($R$7<$S$7,R34<S34)),$AN$7,0))) -> 0 | U34: 2 | V34: 0 | W34: =IF(OR(EXACT($U$7,U34)*(EXACT($V$7,V34)))=TRUE,$AN$9,IF(($V$7-$U$7=V34-U34),$AN$8,IF(OR(EXACT($U$7>$V$7,U34>V34)*EXACT($U$7=$V$7,U34=V34)*EXACT($U$7<$V$7,U34<V34)),$AN$7,0))) -> 5 | X34: 2 | Y34: 0 | Z34: =IF(OR(EXACT($X$7,X34)*(EXACT($Y$7,Y34)))=TRUE,$AN$9,IF(($Y$7-$X$7=Y34-X34),$AN$8,IF(OR(EXACT($X$7>$Y$7,X34>Y34)*EXACT($X$7=$Y$7,X34=Y34)*EXACT($X$7<$Y$7,X34<Y34)),$AN$7,0))) -> 2 | AA34: 1 | AB34: 1 | AC34: =IF(OR(EXACT($AA$7,AA34)*(EXACT($AB$7,AB34)))=TRUE,$AN$9,IF(($AB$7-$AA$7=AB34-AA34),$AN$8,IF(OR(EXACT($AA$7>$AB$7,AA34>AB34)*EXACT($AA$7=$AB$7,AA34=AB34)*EXACT($AA$7<$AB$7,AA34<AB34)),$AN$7,0)))*2 -> 0 | AG34: =E34+K34+Q34+T34+N34+H34+W34+Z34+AC34+AF34 -> 12 | AI34: =AG34+AH34 -> 12 | AJ34: =RANK(AI34,$AI$8:$AI$50) -> 8
A35: =AJ35 -> 16 | B35: Totti | C35: 4 | D35: 1 | E35: =IF(OR(EXACT($C$7,C35)*(EXACT($D$7,D35)))=TRUE,$AN$9,IF(($D$7-$C$7=D35-C35),$AN$8,IF(OR(EXACT($C$7>$D$7,C35>D35)*EXACT($C$7=$D$7,C35=D35)*EXACT($C$7<$D$7,C35<D35)),$AN$7,0))) -> 2 | F35: 1 | G35: 2 | H35: =IF(OR(EXACT($F$7,F35)*(EXACT($G$7,G35)))=TRUE,$AN$9,IF(($G$7-$F$7=G35-F35),$AN$8,IF(OR(EXACT($F$7>$G$7,F35>G35)*EXACT($F$7=$G$7,F35=G35)*EXACT($F$7<$G$7,F35<G35)),$AN$7,0))) -> 0 | I35: 3 | J35: 1 | K35: =IF(OR(EXACT($I$7,I35)*(EXACT($J$7,J35)))=TRUE,$AN$9,IF(($J$7-$I$7=J35-I35),$AN$8,IF(OR(EXACT($I$7>$J$7,I35>J35)*EXACT($I$7=$J$7,I35=J35)*EXACT($I$7<$J$7,I35<J35)),$AN$7,0))) -> 2 | L35: 2 | M35: 0 | N35: =IF(OR(EXACT($L$7,L35)*(EXACT($M$7,M35)))=TRUE,$AN$9,IF(($M$7-$L$7=M35-L35),$AN$8,IF(OR(EXACT($L$7>$M$7,L35>M35)*EXACT($L$7=$M$7,L35=M35)*EXACT($L$7<$M$7,L35<M35)),$AN$7,0))) -> 0 | O35: 1 | P35: 1 | Q35: =IF(OR(EXACT($O$7,O35)*(EXACT($P$7,P35)))=TRUE,$AN$9,IF(($P$7-$O$7=P35-O35),$AN$8,IF(OR(EXACT($O$7>$P$7,O35>P35)*EXACT($O$7=$P$7,O35=P35)*EXACT($O$7<$P$7,O35<P35)),$AN$7,0))) -> 3 | R35: 1 | S35: 3 | T35: =IF(OR(EXACT($R$7,R35)*(EXACT($S$7,S35)))=TRUE,$AN$9,IF(($S$7-$R$7=S35-R35),$AN$8,IF(OR(EXACT($R$7>$S$7,R35>S35)*EXACT($R$7=$S$7,R35=S35)*EXACT($R$7<$S$7,R35<S35)),$AN$7,0))) -> 0 | U35: 3 | V35: 1 | W35: =IF(OR(EXACT($U$7,U35)*(EXACT($V$7,V35)))=TRUE,$AN$9,IF(($V$7-$U$7=V35-U35),$AN$8,IF(OR(EXACT($U$7>$V$7,U35>V35)*EXACT($U$7=$V$7,U35=V35)*EXACT($U$7<$V$7,U35<V35)),$AN$7,0))) -> 3 | X35: 2 | Y35: 2 | Z35: =IF(OR(EXACT($X$7,X35)*(EXACT($Y$7,Y35)))=TRUE,$AN$9,IF(($Y$7-$X$7=Y35-X35),$AN$8,IF(OR(EXACT($X$7>$Y$7,X35>Y35)*EXACT($X$7=$Y$7,X35=Y35)*EXACT($X$7<$Y$7,X35<Y35)),$AN$7,0))) -> 0 | AA35: 1 | AB35: 3 | AC35: =IF(OR(EXACT($AA$7,AA35)*(EXACT($AB$7,AB35)))=TRUE,$AN$9,IF(($AB$7-$AA$7=AB35-AA35),$AN$8,IF(OR(EXACT($AA$7>$AB$7,AA35>AB35)*EXACT($AA$7=$AB$7,AA35=AB35)*EXACT($AA$7<$AB$7,AA35<AB35)),$AN$7,0)))*4 -> 0 | AG35: =E35+K35+Q35+T35+N35+H35+W35+Z35+AC35+AF35 -> 10 | AI35: =AG35+AH35 -> 10 | AJ35: =RANK(AI35,$AI$8:$AI$50) -> 16
A36: =AJ36 -> 18 | B36: UltraGE | C36: 3 | D36: 1 | E36: =IF(OR(EXACT($C$7,C36)*(EXACT($D$7,D36)))=TRUE,$AN$9,IF(($D$7-$C$7=D36-C36),$AN$8,IF(OR(EXACT($C$7>$D$7,C36>D36)*EXACT($C$7=$D$7,C36=D36)*EXACT($C$7<$D$7,C36<D36)),$AN$7,0))) -> 2 | F36: 1 | G36: 2 | H36: =IF(OR(EXACT($F$7,F36)*(EXACT($G$7,G36)))=TRUE,$AN$9,IF(($G$7-$F$7=G36-F36),$AN$8,IF(OR(EXACT($F$7>$G$7,F36>G36)*EXACT($F$7=$G$7,F36=G36)*EXACT($F$7<$G$7,F36<G36)),$AN$7,0))) -> 0 | I36: 3 | J36: 1 | K36: =IF(OR(EXACT($I$7,I36)*(EXACT($J$7,J36)))=TRUE,$AN$9,IF(($J$7-$I$7=J36-I36),$AN$8,IF(OR(EXACT($I$7>$J$7,I36>J36)*EXACT($I$7=$J$7,I36=J36)*EXACT($I$7<$J$7,I36<J36)),$AN$7,0))) -> 2 | L36: 2 | M36: 1 | N36: =IF(OR(EXACT($L$7,L36)*(EXACT($M$7,M36)))=TRUE,$AN$9,IF(($M$7-$L$7=M36-L36),$AN$8,IF(OR(EXACT($L$7>$M$7,L36>M36)*EXACT($L$7=$M$7,L36=M36)*EXACT($L$7<$M$7,L36<M36)),$AN$7,0))) -> 0 | O36: 1 | P36: 2 | Q36: =IF(OR(EXACT($O$7,O36)*(EXACT($P$7,P36)))=TRUE,$AN$9,IF(($P$7-$O$7=P36-O36),$AN$8,IF(OR(EXACT($O$7>$P$7,O36>P36)*EXACT($O$7=$P$7,O36=P36)*EXACT($O$7<$P$7,O36<P36)),$AN$7,0))) -> 0 | R36: 1 | S36: 2 | T36: =IF(OR(EXACT($R$7,R36)*(EXACT($S$7,S36)))=TRUE,$AN$9,IF(($S$7-$R$7=S36-R36),$AN$8,IF(OR(EXACT($R$7>$S$7,R36>S36)*EXACT($R$7=$S$7,R36=S36)*EXACT($R$7<$S$7,R36<S36)),$AN$7,0))) -> 0 | U36: 3 | V36: 1 | W36: =IF(OR(EXACT($U$7,U36)*(EXACT($V$7,V36)))=TRUE,$AN$9,IF(($V$7-$U$7=V36-U36),$AN$8,IF(OR(EXACT($U$7>$V$7,U36>V36)*EXACT($U$7=$V$7,U36=V36)*EXACT($U$7<$V$7,U36<V36)),$AN$7,0))) -> 3 | X36: 2 | Y36: 0 | Z36: =IF(OR(EXACT($X$7,X36)*(EXACT($Y$7,Y36)))=TRUE,$AN$9,IF(($Y$7-$X$7=Y36-X36),$AN$8,IF(OR(EXACT($X$7>$Y$7,X36>Y36)*EXACT($X$7=$Y$7,X36=Y36)*EXACT($X$7<$Y$7,X36<Y36)),$AN$7,0))) -> 2 | AA36: 1 | AB36: 2 | AC36: =IF(OR(EXACT($AA$7,AA36)*(EXACT($AB$7,AB36)))=TRUE,$AN$9,IF(($AB$7-$AA$7=AB36-AA36),$AN$8,IF(OR(EXACT($AA$7>$AB$7,AA36>AB36)*EXACT($AA$7=$AB$7,AA36=AB36)*EXACT($AA$7<$AB$7,AA36<AB36)),$AN$7,0)))*4 -> 0 | AG36: =E36+K36+Q36+T36+N36+H36+W36+Z36+AC36+AF36 -> 9 | AI36: =AG36+AH36 -> 9 | AJ36: =RANK(AI36,$AI$8:$AI$50) -> 18
A37: =AJ37 -> 30 | B37: Nico1904 | AG37: =E37+K37+Q37+T37+N37+H37+W37+Z37+AC37+AF37 -> 0 | AI37: =AG37+AH37 -> 0 | AJ37: =RANK(AI37,$AI$8:$AI$50) -> 30
A38: =AJ38 -> 30 | B38: Schalt04 | AG38: =E38+K38+Q38+T38+N38+H38+W38+Z38+AC38+AF38 -> 0 | AI38: =AG38+AH38 -> 0 | AJ38: =RANK(AI38,$AI$8:$AI$50) -> 30
A39: =AJ39 -> 30 | AG39: =E39+K39+Q39+T39+N39+H39+W39+Z39+AC39+AF39 -> 0 | AI39: =AG39+AH39 -> 0 | AJ39: =RANK(AI39,$AI$8:$AI$50) -> 30
A40: =AJ40 -> 30 | AG40: =E40+K40+Q40+T40+N40+H40+W40+Z40+AC40+AF40 -> 0 | AI40: =AG40+AH40 -> 0 | AJ40: =RANK(AI40,$AI$8:$AI$50) -> 30
A41: =AJ41 -> 30 | AG41: =E41+K41+Q41+T41+N41+H41+W41+Z41+AC41+AF41 -> 0 | AI41: =AG41+AH41 -> 0 | AJ41: =RANK(AI41,$AI$8:$AI$50) -> 30
A42: =AJ42 -> 30 | AG42: =E42+K42+Q42+T42+N42+H42+W42+Z42+AC42+AF42 -> 0 | AI42: =AG42+AH42 -> 0 | AJ42: =RANK(AI42,$AI$8:$AI$50) -> 30
A43: =AJ43 -> 30 | AG43: =E43+K43+Q43+T43+N43+H43+W43+Z43+AC43+AF43 -> 0 | AI43: =AG43+AH43 -> 0 | AJ43: =RANK(AI43,$AI$8:$AI$50) -> 30
...

Sheet 2.Spieltag 
A4: 2. Spieltag | C4: Stuttgart | F4: Hoffenheim | I4: Leverkusen | L4: Gladbach | O4: Bremen | R4: Paderborn | U4: Schalke 04 | X4: Hamburg | AA4: Frankfurt
AG5: G E S A M T W E R T U N G
C6: Köln | F6: Dortmund | I6: U. Berlin | L6: Elversberg | O6: Leipzig | R6: Freiburg | U6: B. München | X6: Mainz | AA6: Augsburg | AG6: Punkte | AH6: Punkte | AI6: Gesamt | AJ6: Platz | AK6: PUNKTEVERTEILUNG
A7: PLATZ | B7: ERGEBNISSE=> | C7: 4 | D7: 1 | E7: Pkt. | F7: 2 | G7: 3 | H7: Pkt. | I7: 4 | J7: 0 | K7: Pkt. | L7: 3 | M7: 4 | N7: Pkt. | O7: 3 | P7: 1 | Q7: Pkt. | R7: 0 | S7: 1 | T7: Pkt. | U7: 0 | V7: 0 | W7: Pkt. | X7: 0 | Y7: 5 | Z7: Pkt. | AA7: 1 | AB7: 4 | AC7: Pkt. | AG7: Spieltag | AH7: bisher | AI7: Punkte | AK7: richtige Tendenz | AN7: 2
