Workbook

Sheet 1.Spieltag
A4: 1. Spieltag | C4: B. München | F4: Elversberg | I4: Leipzig | L4: Mainz | O4: U. Berlin | R4: Köln | U4: Dortmund | X4: Freiburg | AA4: Augsburg
AG5: G E S A M T W E R T U N G
C6: Stuttgart | F6: Leverkusen | I6: Gladbach | L6: Paderborn | O6: Frankfurt | R6: Hoffenheim | U6: Hamburg | X6: Bremen | AA6: Schalke 04 | AG6: Punkte | AH6: Punkte | AI6: Gesamt | AJ6: Platz | AK6: PUNKTEVERTEILUNG
A7: PLATZ | B7: ERGEBNISSE=> | C7: 5 | D7: 1 | E7: Pkt. | F7: 3 | G7: 2 | H7: Pkt. | I7: 3 | J7: 0 | K7: Pkt. | L7: 0 | M7: 0 | N7: Pkt. | O7: 3 | P7: 3 | Q7: Pkt. | R7: 3 | S7: 2 | T7: Pkt. | U7: 2 | V7: 0 | W7: Pkt. | X7: 4 | Y7: 1 | Z7: Pkt. | AA7: 3 | AB7: 0 | AC7: Pkt. | AG7: Spieltag | AH7: bisher | AI7: Punkte | AK7: richtige Tendenz | AN7: 2
A8: =AJ8 -> 18 | B8: ahaupt1904 | C8: 3 | D8: 1 | E8: =IF(OR(EXACT($C$7,C8)*(EXACT($D$7,D8)))=TRUE,$AN$9,IF(($D$7-$C$7=D8-C8),$AN$8,IF(OR(EXACT($C$7>$D$7,C8>D8)*EXACT($C$7=$D$7,C8=D8)*EXACT($C$7<$D$7,C8<D8)),$AN$7,0))) -> 2 | F8: 1 | G8: 2 | H8: =IF(OR(EXACT($F$7,F8)*(EXACT($G$7,G8)))=TRUE,$AN$9,IF(($G$7-$F$7=G8-F8),$AN$8,IF(OR(EXACT($F$7>$G$7,F8>G8)*EXACT($F$7=$G$7,F8=G8)*EXACT($F$7<$G$7,F8<G8)),$AN$7,0))) -> 0 | I8: 2 | J8: 1 | K8: =IF(OR(EXACT($I$7,I8)*(EXACT($J$7,J8)))=TRUE,$AN$9,IF(($J$7-$I$7=J8-I8),$AN$8,IF(OR(EXACT($I$7>$J$7,I8>J8)*EXACT($I$7=$J$7,I8=J8)*EXACT($I$7<$J$7,I8<J8)),$AN$7,0))) -> 2 | L8: 2 | M8: 1 | N8: =IF(OR(EXACT($L$7,L8)*(EXACT($M$7,M8)))=TRUE,$AN$9,IF(($M$7-$L$7=M8-L8),$AN$8,IF(OR(EXACT($L$7>$M$7,L8>M8)*EXACT($L$7=$M$7,L8=M8)*EXACT($L$7<$M$7,L8<M8)),$AN$7,0))) -> 0 | O8: 1 | P8: 2 | Q8: =IF(OR(EXACT($O$7,O8)*(EXACT($P$7,P8)))=TRUE,$AN$9,IF(($P$7-$O$7=P8-O8),$AN$8,IF(OR(EXACT($O$7>$P$7,O8>P8)*EXACT($O$7=$P$7,O8=P8)*EXACT($O$7<$P$7,O8<P8)),$AN$7,0))) -> 0 | R8: 1 | S8: 2 | T8: =IF(OR(EXACT($R$7,R8)*(EXACT($S$7,S8)))=TRUE,$AN$9,IF(($S$7-$R$7=S8-R8),$AN$8,IF(OR(EXACT($R$7>$S$7,R8>S8)*EXACT($R$7=$S$7,R8=S8)*EXACT($R$7<$S$7,R8<S8)),$AN$7,0))) -> 0 | U8: 3 | V8: 1 | W8: =IF(OR(EXACT($U$7,U8)*(EXACT($V$7,V8)))=TRUE,$AN$9,IF(($V$7-$U$7=V8-U8),$AN$8,IF(OR(EXACT($U$7>$V$7,U8>V8)*EXACT($U$7=$V$7,U8=V8)*EXACT($U$7<$V$7,U8<V8)),$AN$7,0))) -> 3 | X8: 2 | Y8: 0 | Z8: =IF(OR(EXACT($X$7,X8)*(EXACT($Y$7,Y8)))=TRUE,$AN$9,IF(($Y$7-$X$7=Y8-X8),$AN$8,IF(OR(EXACT($X$7>$Y$7,X8>Y8)*EXACT($X$7=$Y$7,X8=Y8)*EXACT($X$7<$Y$7,X8<Y8)),$AN$7,0))) -> 2 | AA8: 1 | AB8: 2 | AC8: =IF(OR(EXACT($AA$7,AA8)*(EXACT($AB$7,AB8)))=TRUE,$AN$9,IF(($AB$7-$AA$7=AB8-AA8),$AN$8,IF(OR(EXACT($AA$7>$AB$7,AA8>AB8)*EXACT($AA$7=$AB$7,AA8=AB8)*EXACT($AA$7<$AB$7,AA8<AB8)),$AN$7,0)))*4 -> 0 | AG8: =E8+K8+Q8+T8+N8+H8+W8+Z8+AC8+AF8 -> 9 | AI8: =AG8+AH8 -> 9 | AJ8: =RANK(AI8,$AI$8:$AI$50) -> 18 | AK8: richtige Tend. + korr. Torabst. | AN8: 3
A9: =AJ9 -> 29 | B9: Alexander18 | U9: 3 | V9: 1 | W9: =IF(OR(EXACT($U$7,U9)*(EXACT($V$7,V9)))=TRUE,$AN$9,IF(($V$7-$U$7=V9-U9),$AN$8,IF(OR(EXACT($U$7>$V$7,U9>V9)*EXACT($U$7=$V$7,U9=V9)*EXACT($U$7<$V$7,U9<V9)),$AN$7,0))) -> 3 | X9: 2 | Y9: 1 | Z9: =IF(OR(EXACT($X$7,X9)*(EXACT($Y$7,Y9)))=TRUE,$AN$9,IF(($Y$7-$X$7=Y9-X9),$AN$8,IF(OR(EXACT($X$7>$Y$7,X9>Y9)*EXACT($X$7=$Y$7,X9=Y9)*EXACT($X$7<$Y$7,X9<Y9)),$AN$7,0))) -> 2 | AA9: 1 | AB9: 2 | AC9: =IF(OR(EXACT($AA$7,AA9)*(EXACT($AB$7,AB9)))=TRUE,$AN$9,IF(($AB$7-$AA$7=AB9-AA9),$AN$8,IF(OR(EXACT($AA$7>$AB$7,AA9>AB9)*EXACT($AA$7=$AB$7,AA9=AB9)*EXACT($AA$7<$AB$7,AA9<AB9)),$AN$7,0)))*4 -> 0 | AG9: =E9+K9+Q9+T9+N9+H9+W9+Z9+AC9+AF9 -> 5 | AI9: =AG9+AH9 -> 5 | AJ9: =RANK(AI9,$AI$8:$AI$50) -> 29 | AK9: richtiges Ergebnis | AN9: 5
A10: =AJ10 -> 2 | B10: Archie04 | C10: 4 | D10: 1 | E10: =IF(OR(EXACT($C$7,C10)*(EXACT($D$7,D10)))=TRUE,$AN$9,IF(($D$7-$C$7=D10-C10),$AN$8,IF(OR(EXACT($C$7>$D$7,C10>D10)*EXACT($C$7=$D$7,C10=D10)*EXACT($C$7<$D$7,C10<D10)),$AN$7,0))) -> 2 | F10: 2 | G10: 1 | H10: =IF(OR(EXACT($F$7,F10)*(EXACT($G$7,G10)))=TRUE,$AN$9,IF(($G$7-$F$7=G10-F10),$AN$8,IF(OR(EXACT($F$7>$G$7,F10>G10)*EXACT($F$7=$G$7,F10=G10)*EXACT($F$7<$G$7,F10<G10)),$AN$7,0))) -> 3 | I10: 3 | J10: 1 | K10: =IF(OR(EXACT($I$7,I10)*(EXACT($J$7,J10)))=TRUE,$AN$9,IF(($J$7-$I$7=J10-I10),$AN$8,IF(OR(EXACT($I$7>$J$7,I10>J10)*EXACT($I$7=$J$7,I10=J10)*EXACT($I$7<$J$7,I10<J10)),$AN$7,0))) -> 2 | L10: 2 | M10: 2 | N10: =IF(OR(EXACT($L$7,L10)*(EXACT($M$7,M10)))=TRUE,$AN$9,IF(($M$7-$L$7=M10-L10),$AN$8,IF(OR(EXACT($L$7>$M$7,L10>M10)*EXACT($L$7=$M$7,L10=M10)*EXACT($L$7<$M$7,L10<M10)),$AN$7,0))) -> 3 | O10: 2 | P10: 1 | Q10: =IF(OR(EXACT($O$7,O10)*(EXACT($P$7,P10)))=TRUE,$AN$9,IF(($P$7-$O$7=P10-O10),$AN$8,IF(OR(EXACT($O$7>$P$7,O10>P10)*EXACT($O$7=$P$7,O10=P10)*EXACT($O$7<$P$7,O10<P10)),$AN$7,0))) -> 0 | R10: 1 | S10: 3 | T10: =IF(OR(EXACT($R$7,R10)*(EXACT($S$7,S10)))=TRUE,$AN$9,IF(($S$7-$R$7=S10-R10),$AN$8,IF(OR(EXACT($R$7>$S$7,R10>S10)*EXACT($R$7=$S$7,R10=S10)*EXACT($R$7<$S$7,R10<S10)),$AN$7,0))) -> 0 | U10: 2 | V10: 1 | W10: =IF(OR(EXACT($U$7,U10)*(EXACT($V$7,V10)))=TRUE,$AN$9,IF(($V$7-$U$7=V10-U10),$AN$8,IF(OR(EXACT($U$7>$V$7,U10>V10)*EXACT($U$7=$V$7,U10=V10)*EXACT($U$7<$V$7,U10<V10)),$AN$7,0))) -> 2 | X10: 3 | Y10: 0 | Z10: =IF(OR(EXACT($X$7,X10)*(EXACT($Y$7,Y10)))=TRUE,$AN$9,IF(($Y$7-$X$7=Y10-X10),$AN$8,IF(OR(EXACT($X$7>$Y$7,X10>Y10)*EXACT($X$7=$Y$7,X10=Y10)*EXACT($X$7<$Y$7,X10<Y10)),$AN$7,0))) -> 3 | AA10: 2 | AB10: 3 | AC10: =IF(OR(EXACT($AA$7,AA10)*(EXACT($AB$7,AB10)))=TRUE,$AN$9,IF(($AB$7-$AA$7=AB10-AA10),$AN$8,IF(OR(EXACT($AA$7>$AB$7,AA10>AB10)*EXACT($AA$7=$AB$7,AA10=AB10)*EXACT($AA$7<$AB$7,AA10<AB10)),$AN$7,0)))*4 -> 0 | AG10: =E10+K10+Q10+T10+N10+H10+W10+Z10+AC10+AF10 -> 15 | AI10: =AG10+AH10 -> 15 | AJ10: =RANK(AI10,$AI$8:$AI$50) -> 2
A11: =AJ11 -> 11 | B11: atschi91 | C11: 3 | D11: 2 | E11: =IF(OR(EXACT($C$7,C11)*(EXACT($D$7,D11)))=TRUE,$AN$9,IF(($D$7-$C$7=D11-C11),$AN$8,IF(OR(EXACT($C$7>$D$7,C11>D11)*EXACT($C$7=$D$7,C11=D11)*EXACT($C$7<$D$7,C11<D11)),$AN$7,0))) -> 2 | F11: 0 | G11: 2 | H11: =IF(OR(EXACT($F$7,F11)*(EXACT($G$7,G11)))=TRUE,$AN$9,IF(($G$7-$F$7=G11-F11),$AN$8,IF(OR(EXACT($F$7>$G$7,F11>G11)*EXACT($F$7=$G$7,F11=G11)*EXACT($F$7<$G$7,F11<G11)),$AN$7,0))) -> 0 | I11: 3 | J11: 0 | K11: =IF(OR(EXACT($I$7,I11)*(EXACT($J$7,J11)))=TRUE,$AN$9,IF(($J$7-$I$7=J11-I11),$AN$8,IF(OR(EXACT($I$7>$J$7,I11>J11)*EXACT($I$7=$J$7,I11=J11)*EXACT($I$7<$J$7,I11<J11)),$AN$7,0))) -> 5 | L11: 2 | M11: 0 | N11: =IF(OR(EXACT($L$7,L11)*(EXACT($M$7,M11)))=TRUE,$AN$9,IF(($M$7-$L$7=M11-L11),$AN$8,IF(OR(EXACT($L$7>$M$7,L11>M11)*EXACT($L$7=$M$7,L11=M11)*EXACT($L$7<$M$7,L11<M11)),$AN$7,0))) -> 0 | O11: 2 | P11: 1 | Q11: =IF(OR(EXACT($O$7,O11)*(EXACT($P$7,P11)))=TRUE,$AN$9,IF(($P$7-$O$7=P11-O11),$AN$8,IF(OR(EXACT($O$7>$P$7,O11>P11)*EXACT($O$7=$P$7,O11=P11)*EXACT($O$7<$P$7,O11<P11)),$AN$7,0))) -> 0 | R11: 1 | S11: 3 | T11: =IF(OR(EXACT($R$7,R11)*(EXACT($S$7,S11)))=TRUE,$AN$9,IF(($S$7-$R$7=S11-R11),$AN$8,IF(OR(EXACT($R$7>$S$7,R11>S11)*EXACT($R$7=$S$7,R11=S11)*EXACT($R$7<$S$7,R11<S11)),$AN$7,0))) -> 0 | U11: 2 | V11: 1 | W11: =IF(OR(EXACT($U$7,U11)*(EXACT($V$7,V11)))=TRUE,$AN$9,IF(($V$7-$U$7=V11-U11),$AN$8,IF(OR(EXACT($U$7>$V$7,U11>V11)*EXACT($U$7=$V$7,U11=V11)*EXACT($U$7<$V$7,U11<V11)),$AN$7,0))) -> 2 | X11: 2 | Y11: 1 | Z11: =IF(OR(EXACT($X$7,X11)*(EXACT($Y$7,Y11)))=TRUE,$AN$9,IF(($Y$7-$X$7=Y11-X11),$AN$8,IF(OR(EXACT($X$7>$Y$7,X11>Y11)*EXACT($X$7=$Y$7,X11=Y11)*EXACT($X$7<$Y$7,X11<Y11)),$AN$7,0))) -> 2 | AA11: 0 | AB11: 1 | AC11: =IF(OR(EXACT($AA$7,AA11)*(EXACT($AB$7,AB11)))=TRUE,$AN$9,IF(($AB$7-$AA$7=AB11-AA11),$AN$8,IF(OR(EXACT($AA$7>$AB$7,AA11>AB11)*EXACT($AA$7=$AB$7,AA11=AB11)*EXACT($AA$7<$AB$7,AA11<AB11)),$AN$7,0)))*4 -> 0 | AG11: =E11+K11+Q11+T11+N11+H11+W11+Z11+AC11+AF11 -> 11 | AI11: =AG11+AH11 -> 11 | AJ11: =RANK(AI11,$AI$8:$AI$50) -> 11
A12: =AJ12 -> 26 | B12: CathaHaupt1904 | C12: 2 | D12: 0 | E12: =IF(OR(EXACT($C$7,C12)*(EXACT($D$7,D12)))=TRUE,$AN$9,IF(($D$7-$C$7=D12-C12),$AN$8,IF(OR(EXACT($C$7>$D$7,C12>D12)*EXACT($C$7=$D$7,C12=D12)*EXACT($C$7<$D$7,C12<D12)),$AN$7,0))) -> 2 | F12: 1 | G12: 2 | H12: =IF(OR(EXACT($F$7,F12)*(EXACT($G$7,G12)))=TRUE,$AN$9,IF(($G$7-$F$7=G12-F12),$AN$8,IF(OR(EXACT($F$7>$G$7,F12>G12)*EXACT($F$7=$G$7,F12=G12)*EXACT($F$7<$G$7,F12<G12)),$AN$7,0))) -> 0 | I12: 2 | J12: 1 | K12: =IF(OR(EXACT($I$7,I12)*(EXACT($J$7,J12)))=TRUE,$AN$9,IF(($J$7-$I$7=J12-I12),$AN$8,IF(OR(EXACT($I$7>$J$7,I12>J12)*EXACT($I$7=$J$7,I12=J12)*EXACT($I$7<$J$7,I12<J12)),$AN$7,0))) -> 2 | L12: 1 | M12: 0 | N12: =IF(OR(EXACT($L$7,L12)*(EXACT($M$7,M12)))=TRUE,$AN$9,IF(($M$7-$L$7=M12-L12),$AN$8,IF(OR(EXACT($L$7>$M$7,L12>M12)*EXACT($L$7=$M$7,L12=M12)*EXACT($L$7<$M$7,L12<M12)),$AN$7,0))) -> 0 | O12: 2 | P12: 2 | Q12: =IF(OR(EXACT($O$7,O12)*(EXACT($P$7,P12)))=TRUE,$AN$9,IF(($P$7-$O$7=P12-O12),$AN$8,IF(OR(EXACT($O$7>$P$7,O12>P12)*EXACT($O$7=$P$7,O12=P12)*EXACT($O$7<$P$7,O12<P12)),$AN$7,0))) -> 3 | R12: 1 | S12: 1 | T12: =IF(OR(EXACT($R$7,R12)*(EXACT($S$7,S12)))=TRUE,$AN$9,IF(($S$7-$R$7=S12-R12),$AN$8,IF(OR(EXACT($R$7>$S$7,R12>S12)*EXACT($R$7=$S$7,R12=S12)*EXACT($R$7<$S$7,R12<S12)),$AN$7,0))) -> 0 | U12: 0 | V12: 1 | W12: =IF(OR(EXACT($U$7,U12)*(EXACT($V$7,V12)))=TRUE,$AN$9,IF(($V$7-$U$7=V12-U12),$AN$8,IF(OR(EXACT($U$7>$V$7,U12>V12)*EXACT($U$7=$V$7,U12=V12)*EXACT($U$7<$V$7,U12<V12)),$AN$7,0))) -> 0 | X12: 1 | Y12: 2 | Z12: =IF(OR(EXACT($X$7,X12)*(EXACT($Y$7,Y12)))=TRUE,$AN$9,IF(($Y$7-$X$7=Y12-X12),$AN$8,IF(OR(EXACT($X$7>$Y$7,X12>Y12)*EXACT($X$7=$Y$7,X12=Y12)*EXACT($X$7<$Y$7,X12<Y12)),$AN$7,0))) -> 0 | AA12: 1 | AB12: 2 | AC12: =IF(OR(EXACT($AA$7,AA12)*(EXACT($AB$7,AB12)))=TRUE,$AN$9,IF(($AB$7-$AA$7=AB12-AA12),$AN$8,IF(OR(EXACT($AA$7>$AB$7,AA12>AB12)*EXACT($AA$7=$AB$7,AA12=AB12)*EXACT($AA$7<$AB$7,AA12<AB12)),$AN$7,0)))*4 -> 0 | AG12: =E12+K12+Q12+T12+N12+H12+W12+Z12+AC12+AF12 -> 7 | AI12: =AG12+AH12 -> 7 | AJ12: =RANK(AI12,$AI$8:$AI$50) -> 26
A13: =AJ13 -> 27 | B13: Dickmeis04 | C13: 4 | D13: 1 | E13: =IF(OR(EXACT($C$7,C13)*(EXACT($D$7,D13)))=TRUE,$AN$9,IF(($D$7-$C$7=D13-C13),$AN$8,IF(OR(EXACT($C$7>$D$7,C13>D13)*EXACT($C$7=$D$7,C13=D13)*EXACT($C$7<$D$7,C13<D13)),$AN$7,0))) -> 2 | F13: 0 | G13: 2 | H13: =IF(OR(EXACT($F$7,F13)*(EXACT($G$7,G13)))=TRUE,$AN$9,IF(($G$7-$F$7=G13-F13),$AN$8,IF(OR(EXACT($F$7>$G$7,F13>G13)*EXACT($F$7=$G$7,F13=G13)*EXACT($F$7<$G$7,F13<G13)),$AN$7,0))) -> 0 | I13: 3 | J13: 1 | K13: =IF(OR(EXACT($I$7,I13)*(EXACT($J$7,J13)))=TRUE,$AN$9,IF(($J$7-$I$7=J13-I13),$AN$8,IF(OR(EXACT($I$7>$J$7,I13>J13)*EXACT($I$7=$J$7,I13=J13)*EXACT($I$7<$J$7,I13<J13)),$AN$7,0))) -> 2 | L13: 3 | M13: 1 | N13: =IF(OR(EXACT($L$7,L13)*(EXACT($M$7,M13)))=TRUE,$AN$9,IF(($M$7-$L$7=M13-L13),$AN$8,IF(OR(EXACT($L$7>$M$7,L13>M13)*EXACT($L$7=$M$7,L13=M13)*EXACT($L$7<$M$7,L13<M13)),$AN$7,0))) -> 0 | O13: 2 | P13: 1 | Q13: =IF(OR(EXACT($O$7,O13)*(EXACT($P$7,P13)))=TRUE,$AN$9,IF(($P$7-$O$7=P13-O13),$AN$8,IF(OR(EXACT($O$7>$P$7,O13>P13)*EXACT($O$7=$P$7,O13=P13)*EXACT($O$7<$P$7,O13<P13)),$AN$7,0))) -> 0 | R13: 1 | S13: 3 | T13: =IF(OR(EXACT($R$7,R13)*(EXACT($S$7,S13)))=TRUE,$AN$9,IF(($S$7-$R$7=S13-R13),$AN$8,IF(OR(EXACT($R$7>$S$7,R13>S13)*EXACT($R$7=$S$7,R13=S13)*EXACT($R$7<$S$7,R13<S13)),$AN$7,0))) -> 0 | U13: 1 | V13: 1 | W13: =IF(OR(EXACT($U$7,U13)*(EXACT($V$7,V13)))=TRUE,$AN$9,IF(($V$7-$U$7=V13-U13),$AN$8,IF(OR(EXACT($U$7>$V$7,U13>V13)*EXACT($U$7=$V$7,U13=V13)*EXACT($U$7<$V$7,U13<V13)),$AN$7,0))) -> 0 | X13: 2 | Y13: 0 | Z13: =IF(OR(EXACT($X$7,X13)*(EXACT($Y$7,Y13)))=TRUE,$AN$9,IF(($Y$7-$X$7=Y13-X13),$AN$8,IF(OR(EXACT($X$7>$Y$7,X13>Y13)*EXACT($X$7=$Y$7,X13=Y13)*EXACT($X$7<$Y$7,X13<Y13)),$AN$7,0))) -> 2 | AA13: 1 | AB13: 3 | AC13: =IF(OR(EXACT($AA$7,AA13)*(EXACT($AB$7,AB13)))=TRUE,$AN$9,IF(($AB$7-$AA$7=AB13-AA13),$AN$8,IF(OR(EXACT($AA$7>$AB$7,AA13>AB13)*EXACT($AA$7=$AB$7,AA13=AB13)*EXACT($AA$7<$AB$7,AA13<AB13)),$AN$7,0)))*4 -> 0 | AG13: =E13+K13+Q13+T13+N13+H13+W13+Z13+AC13+AF13 -> 6 | AI13: =AG13+AH13 -> 6 | AJ13: =RANK(AI13,$AI$8:$AI$50) -> 27
A14: =AJ14 -> 11 | B14: fabian1904 | C14: 3 | D14: 1 | E14: =IF(OR(EXACT($C$7,C14)*(EXACT($D$7,D14)))=TRUE,$AN$9,IF(($D$7-$C$7=D14-C14),$AN$8,IF(OR(EXACT($C$7>$D$7,C14>D14)*EXACT($C$7=$D$7,C14=D14)*EXACT($C$7<$D$7,C14<D14)),$AN$7,0))) -> 2 | F14: 0 | G14: 3 | H14: =IF(OR(EXACT($F$7,F14)*(EXACT($G$7,G14)))=TRUE,$AN$9,IF(($G$7-$F$7=G14-F14),$AN$8,IF(OR(EXACT($F$7>$G$7,F14>G14)*EXACT($F$7=$G$7,F14=G14)*EXACT($F$7<$G$7,F14<G14)),$AN$7,0))) -> 0 | I14: 2 | J14: 1 | K14: =IF(OR(EXACT($I$7,I14)*(EXACT($J$7,J14)))=TRUE,$AN$9,IF(($J$7-$I$7=J14-I14),$AN$8,IF(OR(EXACT($I$7>$J$7,I14>J14)*EXACT($I$7=$J$7,I14=J14)*EXACT($I$7<$J$7,I14<J14)),$AN$7,0))) -> 2 | L14: 1 | M14: 0 | N14: =IF(OR(EXACT($L$7,L14)*(EXACT($M$7,M14)))=TRUE,$AN$9,IF(($M$7-$L$7=M14-L14),$AN$8,IF(OR(EXACT($L$7>$M$7,L14>M14)*EXACT($L$7=$M$7,L14=M14)*EXACT($L$7<$M$7,L14<M14)),$AN$7,0))) -> 0 | O14: 1 | P14: 1 | Q14: =IF(OR(EXACT($O$7,O14)*(EXACT($P$7,P14)))=TRUE,$AN$9,IF(($P$7-$O$7=P14-O14),$AN$8,IF(OR(EXACT($O$7>$P$7,O14>P14)*EXACT($O$7=$P$7,O14=P14)*EXACT($O$7<$P$7,O14<P14)),$AN$7,0))) -> 3 | R14: 0 | S14: 2 | T14: =IF(OR(EXACT($R$7,R14)*(EXACT($S$7,S14)))=TRUE,$AN$9,IF(($S$7-$R$7=S14-R14),$AN$8,IF(OR(EXACT($R$7>$S$7,R14>S14)*EXACT($R$7=$S$7,R14=S14)*EXACT($R$7<$S$7,R14<S14)),$AN$7,0))) -> 0 | U14: 3 | V14: 0 | W14: =IF(OR(EXACT($U$7,U14)*(EXACT($V$7,V14)))=TRUE,$AN$9,IF(($V$7-$U$7=V14-U14),$AN$8,IF(OR(EXACT($U$7>$V$7,U14>V14)*EXACT($U$7=$V$7,U14=V14)*EXACT($U$7<$V$7,U14<V14)),$AN$7,0))) -> 2 | X14: 2 | Y14: 1 | Z14: =IF(OR(EXACT($X$7,X14)*(EXACT($Y$7,Y14)))=TRUE,$AN$9,IF(($Y$7-$X$7=Y14-X14),$AN$8,IF(OR(EXACT($X$7>$Y$7,X14>Y14)*EXACT($X$7=$Y$7,X14=Y14)*EXACT($X$7<$Y$7,X14<Y14)),$AN$7,0))) -> 2 | AA14: 0 | AB14: 1 | AC14: =IF(OR(EXACT($AA$7,AA14)*(EXACT($AB$7,AB14)))=TRUE,$AN$9,IF(($AB$7-$AA$7=AB14-AA14),$AN$8,IF(OR(EXACT($AA$7>$AB$7,AA14>AB14)*EXACT($AA$7=$AB$7,AA14=AB14)*EXACT($AA$7<$AB$7,AA14<AB14)),$AN$7,0)))*4 -> 0 | AG14: =E14+K14+Q14+T14+N14+H14+W14+Z14+AC14+AF14 -> 11 | AI14: =AG14+AH14 -> 11 | AJ14: =RANK(AI14,$AI$8:$AI$50) -> 11
A15: =AJ15 -> 3 | B15: Franzi04 | C15: 3 | D15: 1 | E15: =IF(OR(EXACT($C$7,C15)*(EXACT($D$7,D15)))=TRUE,$AN$9,IF(($D$7-$C$7=D15-C15),$AN$8,IF(OR(EXACT($C$7>$D$7,C15>D15)*EXACT($C$7=$D$7,C15=D15)*EXACT($C$7<$D$7,C15<D15)),$AN$7,0))) -> 2 | F15: 1 | G15: 3 | H15: =IF(OR(EXACT($F$7,F15)*(EXACT($G$7,G15)))=TRUE,$AN$9,IF(($G$7-$F$7=G15-F15),$AN$8,IF(OR(EXACT($F$7>$G$7,F15>G15)*EXACT($F$7=$G$7,F15=G15)*EXACT($F$7<$G$7,F15<G15)),$AN$7,0))) -> 0 | I15: 2 | J15: 1 | K15: =IF(OR(EXACT($I$7,I15)*(EXACT($J$7,J15)))=TRUE,$AN$9,IF(($J$7-$I$7=J15-I15),$AN$8,IF(OR(EXACT($I$7>$J$7,I15>J15)*EXACT($I$7=$J$7,I15=J15)*EXACT($I$7<$J$7,I15<J15)),$AN$7,0))) -> 2 | L15: 2 | M15: 1 | N15: =IF(OR(EXACT($L$7,L15)*(EXACT($M$7,M15)))=TRUE,$AN$9,IF(($M$7-$L$7=M15-L15),$AN$8,IF(OR(EXACT($L$7>$M$7,L15>M15)*EXACT($L$7=$M$7,L15=M15)*EXACT($L$7<$M$7,L15<M15)),$AN$7,0))) -> 0 | O15: 1 | P15: 3 | Q15: =IF(OR(EXACT($O$7,O15)*(EXACT($P$7,P15)))=TRUE,$AN$9,IF(($P$7-$O$7=P15-O15),$AN$8,IF(OR(EXACT($O$7>$P$7,O15>P15)*EXACT($O$7=$P$7,O15=P15)*EXACT($O$7<$P$7,O15<P15)),$AN$7,0))) -> 0 | R15: 2 | S15: 1 | T15: =IF(OR(EXACT($R$7,R15)*(EXACT($S$7,S15)))=TRUE,$AN$9,IF(($S$7-$R$7=S15-R15),$AN$8,IF(OR(EXACT($R$7>$S$7,R15>S15)*EXACT($R$7=$S$7,R15=S15)*EXACT($R$7<$S$7,R15<S15)),$AN$7,0))) -> 3 | U15: 2 | V15: 0 | W15: =IF(OR(EXACT($U$7,U15)*(EXACT($V$7,V15)))=TRUE,$AN$9,IF(($V$7-$U$7=V15-U15),$AN$8,IF(OR(EXACT($U$7>$V$7,U15>V15)*EXACT($U$7=$V$7,U15=V15)*EXACT($U$7<$V$7,U15<V15)),$AN$7,0))) -> 5 | X15: 2 | Y15: 1 | Z15: =IF(OR(EXACT($X$7,X15)*(EXACT($Y$7,Y15)))=TRUE,$AN$9,IF(($Y$7-$X$7=Y15-X15),$AN$8,IF(OR(EXACT($X$7>$Y$7,X15>Y15)*EXACT($X$7=$Y$7,X15=Y15)*EXACT($X$7<$Y$7,X15<Y15)),$AN$7,0))) -> 2 | AA15: 1 | AB15: 2 | AC15: =IF(OR(EXACT($AA$7,AA15)*(EXACT($AB$7,AB15)))=TRUE,$AN$9,IF(($AB$7-$AA$7=AB15-AA15),$AN$8,IF(OR(EXACT($AA$7>$AB$7,AA15>AB15)*EXACT($AA$7=$AB$7,AA15=AB15)*EXACT($AA$7<$AB$7,AA15<AB15)),$AN$7,0)))*4 -> 0 | AG15: =E15+K15+Q15+T15+N15+H15+W15+Z15+AC15+AF15 -> 14 | AI15: =AG15+AH15 -> 14 | AJ15: =RANK(AI15,$AI$8:$AI$50) -> 3
A16: =AJ16 -> 18 | B16: Jasmin1985 | C16: 3 | D16: 1 | E16: =IF(OR(EXACT($C$7,C16)*(EXACT($D$7,D16)))=TRUE,$AN$9,IF(($D$7-$C$7=D16-C16),$AN$8,IF(OR(EXACT($C$7>$D$7,C16>D16)*EXACT($C$7=$D$7,C16=D16)*EXACT($C$7<$D$7,C16<D16)),$AN$7,0))) -> 2 | F16: 1 | G16: 2 | H16: =IF(OR(EXACT($F$7,F16)*(EXACT($G$7,G16)))=TRUE,$AN$9,IF(($G$7-$F$7=G16-F16),$AN$8,IF(OR(EXACT($F$7>$G$7,F16>G16)*EXACT($F$7=$G$7,F16=G16)*EXACT($F$7<$G$7,F16<G16)),$AN$7,0))) -> 0 | I16: 3 | J16: 1 | K16: =IF(OR(EXACT($I$7,I16)*(EXACT($J$7,J16)))=TRUE,$AN$9,IF(($J$7-$I$7=J16-I16),$AN$8,IF(OR(EXACT($I$7>$J$7,I16>J16)*EXACT($I$7=$J$7,I16=J16)*EXACT($I$7<$J$7,I16<J16)),$AN$7,0))) -> 2 | L16: 2 | M16: 1 | N16: =IF(OR(EXACT($L$7,L16)*(EXACT($M$7,M16)))=TRUE,$AN$9,IF(($M$7-$L$7=M16-L16),$AN$8,IF(OR(EXACT($L$7>$M$7,L16>M16)*EXACT($L$7=$M$7,L16=M16)*EXACT($L$7<$M$7,L16<M16)),$AN$7,0))) -> 0 | O16: 1 | P16: 2 | Q16: =IF(OR(EXACT($O$7,O16)*(EXACT($P$7,P16)))=TRUE,$AN$9,IF(($P$7-$O$7=P16-O16),$AN$8,IF(OR(EXACT($O$7>$P$7,O16>P16)*EXACT($O$7=$P$7,O16=P16)*EXACT($O$7<$P$7,O16<P16)),$AN$7,0))) -> 0 | R16: 2 | S16: 2 | T16: =IF(OR(EXACT($R$7,R16)*(EXACT($S$7,S16)))=TRUE,$AN$9,IF(($S$7-$R$7=S16-R16),$AN$8,IF(OR(EXACT($R$7>$S$7,R16>S16)*EXACT($R$7=$S$7,R16=S16)*EXACT($R$7<$S$7,R16<S16)),$AN$7,0))) -> 0 | U16: 3 | V16: 1 | W16: =IF(OR(EXACT($U$7,U16)*(EXACT($V$7,V16)))=TRUE,$AN$9,IF(($V$7-$U$7=V16-U16),$AN$8,IF(OR(EXACT($U$7>$V$7,U16>V16)*EXACT($U$7=$V$7,U16=V16)*EXACT($U$7<$V$7,U16<V16)),$AN$7,0))) -> 3 | X16: 2 | Y16: 1 | Z16: =IF(OR(EXACT($X$7,X16)*(EXACT($Y$7,Y16)))=TRUE,$AN$9,IF(($Y$7-$X$7=Y16-X16),$AN$8,IF(OR(EXACT($X$7>$Y$7,X16>Y16)*EXACT($X$7=$Y$7,X16=Y16)*EXACT($X$7<$Y$7,X16<Y16)),$AN$7,0))) -> 2 | AA16: 1 | AB16: 2 | AC16: =IF(OR(EXACT($AA$7,AA16)*(EXACT($AB$7,AB16)))=TRUE,$AN$9,IF(($AB$7-$AA$7=AB16-AA16),$AN$8,IF(OR(EXACT($AA$7>$AB$7,AA16>AB16)*EXACT($AA$7=$AB$7,AA16=AB16)*EXACT($AA$7<$AB$7,AA16<AB16)),$AN$7,0)))*4 -> 0 | AG16: =E16+K16+Q16+T16+N16+H16+W16+Z16+AC16+AF16 -> 9 | AI16: =AG16+AH16 -> 9 | AJ16: =RANK(AI16,$AI$8:$AI$50) -> 18
A17: =AJ17 -> 3 | B17: Jean-Pierre | C17: 4 | D17: 1 | E17: =IF(OR(EXACT($C$7,C17)*(EXACT($D$7,D17)))=TRUE,$AN$9,IF(($D$7-$C$7=D17-C17),$AN$8,IF(OR(EXACT($C$7>$D$7,C17>D17)*EXACT($C$7=$D$7,C17=D17)*EXACT($C$7<$D$7,C17<D17)),$AN$7,0))) -> 2 | F17: 0 | G17: 2 | H17: =IF(OR(EXACT($F$7,F17)*(EXACT($G$7,G17)))=TRUE,$AN$9,IF(($G$7-$F$7=G17-F17),$AN$8,IF(OR(EXACT($F$7>$G$7,F17>G17)*EXACT($F$7=$G$7,F17=G17)*EXACT($F$7<$G$7,F17<G17)),$AN$7,0))) -> 0 | I17: 2 | J17: 1 | K17: =IF(OR(EXACT($I$7,I17)*(EXACT($J$7,J17)))=TRUE,$AN$9,IF(($J$7-$I$7=J17-I17),$AN$8,IF(OR(EXACT($I$7>$J$7,I17>J17)*EXACT($I$7=$J$7,I17=J17)*EXACT($I$7<$J$7,I17<J17)),$AN$7,0))) -> 2 | L17: 1 | M17: 1 | N17: =IF(OR(EXACT($L$7,L17)*(EXACT($M$7,M17)))=TRUE,$AN$9,IF(($M$7-$L$7=M17-L17),$AN$8,IF(OR(EXACT($L$7>$M$7,L17>M17)*EXACT($L$7=$M$7,L17=M17)*EXACT($L$7<$M$7,L17<M17)),$AN$7,0))) -> 3 | O17: 1 | P17: 2 | Q17: =IF(OR(EXACT($O$7,O17)*(EXACT($P$7,P17)))=TRUE,$AN$9,IF(($P$7-$O$7=P17-O17),$AN$8,IF(OR(EXACT($O$7>$P$7,O17>P17)*EXACT($O$7=$P$7,O17=P17)*EXACT($O$7<$P$7,O17<P17)),$AN$7,0))) -> 0 | R17: 2 | S17: 1 | T17: =IF(OR(EXACT($R$7,R17)*(EXACT($S$7,S17)))=TRUE,$AN$9,IF(($S$7-$R$7=S17-R17),$AN$8,IF(OR(EXACT($R$7>$S$7,R17>S17)*EXACT($R$7=$S$7,R17=S17)*EXACT($R$7<$S$7,R17<S17)),$AN$7,0))) -> 3 | U17: 1 | V17: 0 | W17: =IF(OR(EXACT($U$7,U17)*(EXACT($V$7,V17)))=TRUE,$AN$9,IF(($V$7-$U$7=V17-U17),$AN$8,IF(OR(EXACT($U$7>$V$7,U17>V17)*EXACT($U$7=$V$7,U17=V17)*EXACT($U$7<$V$7,U17<V17)),$AN$7,0))) -> 2 | X17: 2 | Y17: 1 | Z17: =IF(OR(EXACT($X$7,X17)*(EXACT($Y$7,Y17)))=TRUE,$AN$9,IF(($Y$7-$X$7=Y17-X17),$AN$8,IF(OR(EXACT($X$7>$Y$7,X17>Y17)*EXACT($X$7=$Y$7,X17=Y17)*EXACT($X$7<$Y$7,X17<Y17)),$AN$7,0))) -> 2 | AA17: 0 | AB17: 2 | AC17: =IF(OR(EXACT($AA$7,AA17)*(EXACT($AB$7,AB17)))=TRUE,$AN$9,IF(($AB$7-$AA$7=AB17-AA17),$AN$8,IF(OR(EXACT($AA$7>$AB$7,AA17>AB17)*EXACT($AA$7=$AB$7,AA17=AB17)*EXACT($AA$7<$AB$7,AA17<AB17)),$AN$7,0)))*4 -> 0 | AG17: =E17+K17+Q17+T17+N17+H17+W17+Z17+AC17+AF17 -> 14 | AI17: =AG17+AH17 -> 14 | AJ17: =RANK(AI17,$AI$8:$AI$50) -> 3
A18: =AJ18 -> 3 | B18: jupp04 | C18: 3 | D18: 1 | E18: =IF(OR(EXACT($C$7,C18)*(EXACT($D$7,D18)))=TRUE,$AN$9,IF(($D$7-$C$7=D18-C18),$AN$8,IF(OR(EXACT($C$7>$D$7,C18>D18)*EXACT($C$7=$D$7,C18=D18)*EXACT($C$7<$D$7,C18<D18)),$AN$7,0))) -> 2 | F18: 1 | G18: 3 | H18: =IF(OR(EXACT($F$7,F18)*(EXACT($G$7,G18)))=TRUE,$AN$9,IF(($G$7-$F$7=G18-F18),$AN$8,IF(OR(EXACT($F$7>$G$7,F18>G18)*EXACT($F$7=$G$7,F18=G18)*EXACT($F$7<$G$7,F18<G18)),$AN$7,0))) -> 0 | I18: 3 | J18: 0 | K18: =IF(OR(EXACT($I$7,I18)*(EXACT($J$7,J18)))=TRUE,$AN$9,IF(($J$7-$I$7=J18-I18),$AN$8,IF(OR(EXACT($I$7>$J$7,I18>J18)*EXACT($I$7=$J$7,I18=J18)*EXACT($I$7<$J$7,I18<J18)),$AN$7,0))) -> 5 | L18: 3 | M18: 1 | N18: =IF(OR(EXACT($L$7,L18)*(EXACT($M$7,M18)))=TRUE,$AN$9,IF(($M$7-$L$7=M18-L18),$AN$8,IF(OR(EXACT($L$7>$M$7,L18>M18)*EXACT($L$7=$M$7,L18=M18)*EXACT($L$7<$M$7,L18<M18)),$AN$7,0))) -> 0 | O18: 2 | P18: 2 | Q18: =IF(OR(EXACT($O$7,O18)*(EXACT($P$7,P18)))=TRUE,$AN$9,IF(($P$7-$O$7=P18-O18),$AN$8,IF(OR(EXACT($O$7>$P$7,O18>P18)*EXACT($O$7=$P$7,O18=P18)*EXACT($O$7<$P$7,O18<P18)),$AN$7,0))) -> 3 | R18: 1 | S18: 2 | T18: =IF(OR(EXACT($R$7,R18)*(EXACT($S$7,S18)))=TRUE,$AN$9,IF(($S$7-$R$7=S18-R18),$AN$8,IF(OR(EXACT($R$7>$S$7,R18>S18)*EXACT($R$7=$S$7,R18=S18)*EXACT($R$7<$S$7,R18<S18)),$AN$7,0))) -> 0 | U18: 2 | V18: 1 | W18: =IF(OR(EXACT($U$7,U18)*(EXACT($V$7,V18)))=TRUE,$AN$9,IF(($V$7-$U$7=V18-U18),$AN$8,IF(OR(EXACT($U$7>$V$7,U18>V18)*EXACT($U$7=$V$7,U18=V18)*EXACT($U$7<$V$7,U18<V18)),$AN$7,0))) -> 2 | X18: 3 | Y18: 1 | Z18: =IF(OR(EXACT($X$7,X18)*(EXACT($Y$7,Y18)))=TRUE,$AN$9,IF(($Y$7-$X$7=Y18-X18),$AN$8,IF(OR(EXACT($X$7>$Y$7,X18>Y18)*EXACT($X$7=$Y$7,X18=Y18)*EXACT($X$7<$Y$7,X18<Y18)),$AN$7,0))) -> 2 | AA18: 1 | AB18: 2 | AC18: =IF(OR(EXACT($AA$7,AA18)*(EXACT($AB$7,AB18)))=TRUE,$AN$9,IF(($AB$7-$AA$7=AB18-AA18),$AN$8,IF(OR(EXACT($AA$7>$AB$7,AA18>AB18)*EXACT($AA$7=$AB$7,AA18=AB18)*EXACT($AA$7<$AB$7,AA18<AB18)),$AN$7,0)))*4 -> 0 | AG18: =E18+K18+Q18+T18+N18+H18+W18+Z18+AC18+AF18 -> 14 | AI18: =AG18+AH18 -> 14 | AJ18: =RANK(AI18,$AI$8:$AI$50) -> 3
A19: =AJ19 -> 16 | B19: Justin_Ignr | C19: 3 | D19: 0 | E19: =IF(OR(EXACT($C$7,C19)*(EXACT($D$7,D19)))=TRUE,$AN$9,IF(($D$7-$C$7=D19-C19),$AN$8,IF(OR(EXACT($C$7>$D$7,C19>D19)*EXACT($C$7=$D$7,C19=D19)*EXACT($C$7<$D$7,C19<D19)),$AN$7,0))) -> 2 | F19: 1 | G19: 2 | H19: =IF(OR(EXACT($F$7,F19)*(EXACT($G$7,G19)))=TRUE,$AN$9,IF(($G$7-$F$7=G19-F19),$AN$8,IF(OR(EXACT($F$7>$G$7,F19>G19)*EXACT($F$7=$G$7,F19=G19)*EXACT($F$7<$G$7,F19<G19)),$AN$7,0))) -> 0 | I19: 1 | J19: 1 | K19: =IF(OR(EXACT($I$7,I19)*(EXACT($J$7,J19)))=TRUE,$AN$9,IF(($J$7-$I$7=J19-I19),$AN$8,IF(OR(EXACT($I$7>$J$7,I19>J19)*EXACT($I$7=$J$7,I19=J19)*EXACT($I$7<$J$7,I19<J19)),$AN$7,0))) -> 0 | L19: 2 | M19: 0 | N19: =IF(OR(EXACT($L$7,L19)*(EXACT($M$7,M19)))=TRUE,$AN$9,IF(($M$7-$L$7=M19-L19),$AN$8,IF(OR(EXACT($L$7>$M$7,L19>M19)*EXACT($L$7=$M$7,L19=M19)*EXACT($L$7<$M$7,L19<M19)),$AN$7,0))) -> 0 | O19: 0 | P19: 1 | Q19: =IF(OR(EXACT($O$7,O19)*(EXACT($P$7,P19)))=TRUE,$AN$9,IF(($P$7-$O$7=P19-O19),$AN$8,IF(OR(EXACT($O$7>$P$7,O19>P19)*EXACT($O$7=$P$7,O19=P19)*EXACT($O$7<$P$7,O19<P19)),$AN$7,0))) -> 0 | R19: 1 | S19: 2 | T19: =IF(OR(EXACT($R$7,R19)*(EXACT($S$7,S19)))=TRUE,$AN$9,IF(($S$7-$R$7=S19-R19),$AN$8,IF(OR(EXACT($R$7>$S$7,R19>S19)*EXACT($R$7=$S$7,R19=S19)*EXACT($R$7<$S$7,R19<S19)),$AN$7,0))) -> 0 | U19: 2 | V19: 0 | W19: =IF(OR(EXACT($U$7,U19)*(EXACT($V$7,V19)))=TRUE,$AN$9,IF(($V$7-$U$7=V19-U19),$AN$8,IF(OR(EXACT($U$7>$V$7,U19>V19)*EXACT($U$7=$V$7,U19=V19)*EXACT($U$7<$V$7,U19<V19)),$AN$7,0))) -> 5 | X19: 3 | Y19: 0 | Z19: =IF(OR(EXACT($X$7,X19)*(EXACT($Y$7,Y19)))=TRUE,$AN$9,IF(($Y$7-$X$7=Y19-X19),$AN$8,IF(OR(EXACT($X$7>$Y$7,X19>Y19)*EXACT($X$7=$Y$7,X19=Y19)*EXACT($X$7<$Y$7,X19<Y19)),$AN$7,0))) -> 3 | AA19: 0 | AB19: 1 | AC19: =IF(OR(EXACT($AA$7,AA19)*(EXACT($AB$7,AB19)))=TRUE,$AN$9,IF(($AB$7-$AA$7=AB19-AA19),$AN$8,IF(OR(EXACT($AA$7>$AB$7,AA19>AB19)*EXACT($AA$7=$AB$7,AA19=AB19)*EXACT($AA$7<$AB$7,AA19<AB19)),$AN$7,0)))*4 -> 0 | AG19: =E19+K19+Q19+T19+N19+H19+W19+Z19+AC19+AF19 -> 10 | AI19: =AG19+AH19 -> 10 | AJ19: =RANK(AI19,$AI$8:$AI$50) -> 16
A20: =AJ20 -> 18 | B20: Kiki | C20: 2 | D20: 1 | E20: =IF(OR(EXACT($C$7,C20)*(EXACT($D$7,D20)))=TRUE,$AN$9,IF(($D$7-$C$7=D20-C20),$AN$8,IF(OR(EXACT($C$7>$D$7,C20>D20)*EXACT($C$7=$D$7,C20=D20)*EXACT($C$7<$D$7,C20<D20)),$AN$7,0))) -> 2 | F20: 1 | G20: 2 | H20: =IF(OR(EXACT($F$7,F20)*(EXACT($G$7,G20)))=TRUE,$AN$9,IF(($G$7-$F$7=G20-F20),$AN$8,IF(OR(EXACT($F$7>$G$7,F20>G20)*EXACT($F$7=$G$7,F20=G20)*EXACT($F$7<$G$7,F20<G20)),$AN$7,0))) -> 0 | I20: 2 | J20: 0 | K20: =IF(OR(EXACT($I$7,I20)*(EXACT($J$7,J20)))=TRUE,$AN$9,IF(($J$7-$I$7=J20-I20),$AN$8,IF(OR(EXACT($I$7>$J$7,I20>J20)*EXACT($I$7=$J$7,I20=J20)*EXACT($I$7<$J$7,I20<J20)),$AN$7,0))) -> 2 | L20: 2 | M20: 1 | N20: =IF(OR(EXACT($L$7,L20)*(EXACT($M$7,M20)))=TRUE,$AN$9,IF(($M$7-$L$7=M20-L20),$AN$8,IF(OR(EXACT($L$7>$M$7,L20>M20)*EXACT($L$7=$M$7,L20=M20)*EXACT($L$7<$M$7,L20<M20)),$AN$7,0))) -> 0 | O20: 1 | P20: 2 | Q20: =IF(OR(EXACT($O$7,O20)*(EXACT($P$7,P20)))=TRUE,$AN$9,IF(($P$7-$O$7=P20-O20),$AN$8,IF(OR(EXACT($O$7>$P$7,O20>P20)*EXACT($O$7=$P$7,O20=P20)*EXACT($O$7<$P$7,O20<P20)),$AN$7,0))) -> 0 | R20: 1 | S20: 1 | T20: =IF(OR(EXACT($R$7,R20)*(EXACT($S$7,S20)))=TRUE,$AN$9,IF(($S$7-$R$7=S20-R20),$AN$8,IF(OR(EXACT($R$7>$S$7,R20>S20)*EXACT($R$7=$S$7,R20=S20)*EXACT($R$7<$S$7,R20<S20)),$AN$7,0))) -> 0 | U20: 3 | V20: 1 | W20: =IF(OR(EXACT($U$7,U20)*(EXACT($V$7,V20)))=TRUE,$AN$9,IF(($V$7-$U$7=V20-U20),$AN$8,IF(OR(EXACT($U$7>$V$7,U20>V20)*EXACT($U$7=$V$7,U20=V20)*EXACT($U$7<$V$7,U20<V20)),$AN$7,0))) -> 3 | X20: 1 | Y20: 0 | Z20: =IF(OR(EXACT($X$7,X20)*(EXACT($Y$7,Y20)))=TRUE,$AN$9,IF(($Y$7-$X$7=Y20-X20),$AN$8,IF(OR(EXACT($X$7>$Y$7,X20>Y20)*EXACT($X$7=$Y$7,X20=Y20)*EXACT($X$7<$Y$7,X20<Y20)),$AN$7,0))) -> 2 | AA20: 1 | AB20: 2 | AC20: =IF(OR(EXACT($AA$7,AA20)*(EXACT($AB$7,AB20)))=TRUE,$AN$9,IF(($AB$7-$AA$7=AB20-AA20),$AN$8,IF(OR(EXACT($AA$7>$AB$7,AA20>AB20)*EXACT($AA$7=$AB$7,AA20=AB20)*EXACT($AA$7<$AB$7,AA20<AB20)),$AN$7,0)))*4 -> 0 | AG20: =E20+K20+Q20+T20+N20+H20+W20+Z20+AC20+AF20 -> 9 | AI20: =AG20+AH20 -> 9 | AJ20: =RANK(AI20,$AI$8:$AI$50) -> 18
A21: =AJ21 -> 8 | B21: Lola04 | C21: 4 | D21: 0 | E21: =IF(OR(EXACT($C$7,C21)*(EXACT($D$7,D21)))=TRUE,$AN$9,IF(($D$7-$C$7=D21-C21),$AN$8,IF(OR(EXACT($C$7>$D$7,C21>D21)*EXACT($C$7=$D$7,C21=D21)*EXACT($C$7<$D$7,C21<D21)),$AN$7,0))) -> 3 | F21: 1 | G21: 2 | H21: =IF(OR(EXACT($F$7,F21)*(EXACT($G$7,G21)))=TRUE,$AN$9,IF(($G$7-$F$7=G21-F21),$AN$8,IF(OR(EXACT($F$7>$G$7,F21>G21)*EXACT($F$7=$G$7,F21=G21)*EXACT($F$7<$G$7,F21<G21)),$AN$7,0))) -> 0 | I21: 3 | J21: 1 | K21: =IF(OR(EXACT($I$7,I21)*(EXACT($J$7,J21)))=TRUE,$AN$9,IF(($J$7-$I$7=J21-I21),$AN$8,IF(OR(EXACT($I$7>$J$7,I21>J21)*EXACT($I$7=$J$7,I21=J21)*EXACT($I$7<$J$7,I21<J21)),$AN$7,0))) -> 2 | L21: 2 | M21: 0 | N21: =IF(OR(EXACT($L$7,L21)*(EXACT($M$7,M21)))=TRUE,$AN$9,IF(($M$7-$L$7=M21-L21),$AN$8,IF(OR(EXACT($L$7>$M$7,L21>M21)*EXACT($L$7=$M$7,L21=M21)*EXACT($L$7<$M$7,L21<M21)),$AN$7,0))) -> 0 | O21: 1 | P21: 1 | Q21: =IF(OR(EXACT($O$7,O21)*(EXACT($P$7,P21)))=TRUE,$AN$9,IF(($P$7-$O$7=P21-O21),$AN$8,IF(OR(EXACT($O$7>$P$7,O21>P21)*EXACT($O$7=$P$7,O21=P21)*EXACT($O$7<$P$7,O21<P21)),$AN$7,0))) -> 3 | R21: 2 | S21: 2 | T21: =IF(OR(EXACT($R$7,R21)*(EXACT($S$7,S21)))=TRUE,$AN$9,IF(($S$7-$R$7=S21-R21),$AN$8,IF(OR(EXACT($R$7>$S$7,R21>S21)*EXACT($R$7=$S$7,R21=S21)*EXACT($R$7<$S$7,R21<S21)),$AN$7,0))) -> 0 | U21: 2 | V21: 1 | W21: =IF(OR(EXACT($U$7,U21)*(EXACT($V$7,V21)))=TRUE,$AN$9,IF(($V$7-$U$7=V21-U21),$AN$8,IF(OR(EXACT($U$7>$V$7,U21>V21)*EXACT($U$7=$V$7,U21=V21)*EXACT($U$7<$V$7,U21<V21)),$AN$7,0))) -> 2 | X21: 2 | Y21: 1 | Z21: =IF(OR(EXACT($X$7,X21)*(EXACT($Y$7,Y21)))=TRUE,$AN$9,IF(($Y$7-$X$7=Y21-X21),$AN$8,IF(OR(EXACT($X$7>$Y$7,X21>Y21)*EXACT($X$7=$Y$7,X21=Y21)*EXACT($X$7<$Y$7,X21<Y21)),$AN$7,0))) -> 2 | AA21: 1 | AB21: 1 | AC21: =IF(OR(EXACT($AA$7,AA21)*(EXACT($AB$7,AB21)))=TRUE,$AN$9,IF(($AB$7-$AA$7=AB21-AA21),$AN$8,IF(OR(EXACT($AA$7>$AB$7,AA21>AB21)*EXACT($AA$7=$AB$7,AA21=AB21)*EXACT($AA$7<$AB$7,AA21<AB21)),$AN$7,0)))*2 -> 0 | AG21: =E21+K21+Q21+T21+N21+H21+W21+Z21+AC21+AF21 -> 12 | AI21: =AG21+AH21 -> 12 | AJ21: =RANK(AI21,$AI$8:$AI$50) -> 8
A22: =AJ22 -> 24 | B22: Markus Müller | C22: 4 | D22: 1 | E22: =IF(OR(EXACT($C$7,C22)*(EXACT($D$7,D22)))=TRUE,$AN$9,IF(($D$7-$C$7=D22-C22),$AN$8,IF(OR(EXACT($C$7>$D$7,C22>D22)*EXACT($C$7=$D$7,C22=D22)*EXACT($C$7<$D$7,C22<D22)),$AN$7,0))) -> 2 | F22: 0 | G22: 3 | H22: =IF(OR(EXACT($F$7,F22)*(EXACT($G$7,G22)))=TRUE,$AN$9,IF(($G$7-$F$7=G22-F22),$AN$8,IF(OR(EXACT($F$7>$G$7,F22>G22)*EXACT($F$7=$G$7,F22=G22)*EXACT($F$7<$G$7,F22<G22)),$AN$7,0))) -> 0 | I22: 2 | J22: 1 | K22: =IF(OR(EXACT($I$7,I22)*(EXACT($J$7,J22)))=TRUE,$AN$9,IF(($J$7-$I$7=J22-I22),$AN$8,IF(OR(EXACT($I$7>$J$7,I22>J22)*EXACT($I$7=$J$7,I22=J22)*EXACT($I$7<$J$7,I22<J22)),$AN$7,0))) -> 2 | L22: 2 | M22: 0 | N22: =IF(OR(EXACT($L$7,L22)*(EXACT($M$7,M22)))=TRUE,$AN$9,IF(($M$7-$L$7=M22-L22),$AN$8,IF(OR(EXACT($L$7>$M$7,L22>M22)*EXACT($L$7=$M$7,L22=M22)*EXACT($L$7<$M$7,L22<M22)),$AN$7,0))) -> 0 | O22: 0 | P22: 2 | Q22: =IF(OR(EXACT($O$7,O22)*(EXACT($P$7,P22)))=TRUE,$AN$9,IF(($P$7-$O$7=P22-O22),$AN$8,IF(OR(EXACT($O$7>$P$7,O22>P22)*EXACT($O$7=$P$7,O22=P22)*EXACT($O$7<$P$7,O22<P22)),$AN$7,0))) -> 0 | R22: 1 | S22: 2 | T22: =IF(OR(EXACT($R$7,R22)*(EXACT($S$7,S22)))=TRUE,$AN$9,IF(($S$7-$R$7=S22-R22),$AN$8,IF(OR(EXACT($R$7>$S$7,R22>S22)*EXACT($R$7=$S$7,R22=S22)*EXACT($R$7<$S$7,R22<S22)),$AN$7,0))) -> 0 | U22: 3 | V22: 0 | W22: =IF(OR(EXACT($U$7,U22)*(EXACT($V$7,V22)))=TRUE,$AN$9,IF(($V$7-$U$7=V22-U22),$AN$8,IF(OR(EXACT($U$7>$V$7,U22>V22)*EXACT($U$7=$V$7,U22=V22)*EXACT($U$7<$V$7,U22<V22)),$AN$7,0))) -> 2 | X22: 1 | Y22: 0 | Z22: =IF(OR(EXACT($X$7,X22)*(EXACT($Y$7,Y22)))=TRUE,$AN$9,IF(($Y$7-$X$7=Y22-X22),$AN$8,IF(OR(EXACT($X$7>$Y$7,X22>Y22)*EXACT($X$7=$Y$7,X22=Y22)*EXACT($X$7<$Y$7,X22<Y22)),$AN$7,0))) -> 2 | AA22: 0 | AB22: 1 | AC22: =IF(OR(EXACT($AA$7,AA22)*(EXACT($AB$7,AB22)))=TRUE,$AN$9,IF(($AB$7-$AA$7=AB22-AA22),$AN$8,IF(OR(EXACT($AA$7>$AB$7,AA22>AB22)*EXACT($AA$7=$AB$7,AA22=AB22)*EXACT($AA$7<$AB$7,AA22<AB22)),$AN$7,0)))*4 -> 0 | AG22: =E22+K22+Q22+T22+N22+H22+W22+Z22+AC22+AF22 -> 8 | AI22: =AG22+AH22 -> 8 | AJ22: =RANK(AI22,$AI$8:$AI$50) -> 24
A23: =AJ23 -> 3 | B23: Master1 | C23: 3 | D23: 1 | E23: =IF(OR(EXACT($C$7,C23)*(EXACT($D$7,D23)))=TRUE,$AN$9,IF(($D$7-$C$7=D23-C23),$AN$8,IF(OR(EXACT($C$7>$D$7,C23>D23)*EXACT($C$7=$D$7,C23=D23)*EXACT($C$7<$D$7,C23<D23)),$AN$7,0))) -> 2 | F23: 1 | G23: 3 | H23: =IF(OR(EXACT($F$7,F23)*(EXACT($G$7,G23)))=TRUE,$AN$9,IF(($G$7-$F$7=G23-F23),$AN$8,IF(OR(EXACT($F$7>$G$7,F23>G23)*EXACT($F$7=$G$7,F23=G23)*EXACT($F$7<$G$7,F23<G23)),$AN$7,0))) -> 0 | I23: 3 | J23: 1 | K23: =IF(OR(EXACT($I$7,I23)*(EXACT($J$7,J23)))=TRUE,$AN$9,IF(($J$7-$I$7=J23-I23),$AN$8,IF(OR(EXACT($I$7>$J$7,I23>J23)*EXACT($I$7=$J$7,I23=J23)*EXACT($I$7<$J$7,I23<J23)),$AN$7,0))) -> 2 | L23: 2 | M23: 1 | N23: =IF(OR(EXACT($L$7,L23)*(EXACT($M$7,M23)))=TRUE,$AN$9,IF(($M$7-$L$7=M23-L23),$AN$8,IF(OR(EXACT($L$7>$M$7,L23>M23)*EXACT($L$7=$M$7,L23=M23)*EXACT($L$7<$M$7,L23<M23)),$AN$7,0))) -> 0 | O23: 2 | P23: 2 | Q23: =IF(OR(EXACT($O$7,O23)*(EXACT($P$7,P23)))=TRUE,$AN$9,IF(($P$7-$O$7=P23-O23),$AN$8,IF(OR(EXACT($O$7>$P$7,O23>P23)*EXACT($O$7=$P$7,O23=P23)*EXACT($O$7<$P$7,O23<P23)),$AN$7,0))) -> 3 | R23: 1 | S23: 2 | T23: =IF(OR(EXACT($R$7,R23)*(EXACT($S$7,S23)))=TRUE,$AN$9,IF(($S$7-$R$7=S23-R23),$AN$8,IF(OR(EXACT($R$7>$S$7,R23>S23)*EXACT($R$7=$S$7,R23=S23)*EXACT($R$7<$S$7,R23<S23)),$AN$7,0))) -> 0 | U23: 2 | V23: 0 | W23: =IF(OR(EXACT($U$7,U23)*(EXACT($V$7,V23)))=TRUE,$AN$9,IF(($V$7-$U$7=V23-U23),$AN$8,IF(OR(EXACT($U$7>$V$7,U23>V23)*EXACT($U$7=$V$7,U23=V23)*EXACT($U$7<$V$7,U23<V23)),$AN$7,0))) -> 5 | X23: 3 | Y23: 2 | Z23: =IF(OR(EXACT($X$7,X23)*(EXACT($Y$7,Y23)))=TRUE,$AN$9,IF(($Y$7-$X$7=Y23-X23),$AN$8,IF(OR(EXACT($X$7>$Y$7,X23>Y23)*EXACT($X$7=$Y$7,X23=Y23)*EXACT($X$7<$Y$7,X23<Y23)),$AN$7,0))) -> 2 | AA23: 2 | AB23: 3 | AC23: =IF(OR(EXACT($AA$7,AA23)*(EXACT($AB$7,AB23)))=TRUE,$AN$9,IF(($AB$7-$AA$7=AB23-AA23),$AN$8,IF(OR(EXACT($AA$7>$AB$7,AA23>AB23)*EXACT($AA$7=$AB$7,AA23=AB23)*EXACT($AA$7<$AB$7,AA23<AB23)),$AN$7,0)))*4 -> 0 | AG23: =E23+K23+Q23+T23+N23+H23+W23+Z23+AC23+AF23 -> 14 | AI23: =AG23+AH23 -> 14 | AJ23: =RANK(AI23,$AI$8:$AI$50) -> 3
A24: =AJ24 -> 18 | B24: MichaBolz | C24: 3 | D24: 1 | E24: =IF(OR(EXACT($C$7,C24)*(EXACT($D$7,D24)))=TRUE,$AN$9,IF(($D$7-$C$7=D24-C24),$AN$8,IF(OR(EXACT($C$7>$D$7,C24>D24)*EXACT($C$7=$D$7,C24=D24)*EXACT($C$7<$D$7,C24<D24)),$AN$7,0))) -> 2 | F24: 0 | G24: 2 | H24: =IF(OR(EXACT($F$7,F24)*(EXACT($G$7,G24)))=TRUE,$AN$9,IF(($G$7-$F$7=G24-F24),$AN$8,IF(OR(EXACT($F$7>$G$7,F24>G24)*EXACT($F$7=$G$7,F24=G24)*EXACT($F$7<$G$7,F24<G24)),$AN$7,0))) -> 0 | I24: 2 | J24: 0 | K24: =IF(OR(EXACT($I$7,I24)*(EXACT($J$7,J24)))=TRUE,$AN$9,IF(($J$7-$I$7=J24-I24),$AN$8,IF(OR(EXACT($I$7>$J$7,I24>J24)*EXACT($I$7=$J$7,I24=J24)*EXACT($I$7<$J$7,I24<J24)),$AN$7,0))) -> 2 | L24: 2 | M24: 1 | N24: =IF(OR(EXACT($L$7,L24)*(EXACT($M$7,M24)))=TRUE,$AN$9,IF(($M$7-$L$7=M24-L24),$AN$8,IF(OR(EXACT($L$7>$M$7,L24>M24)*EXACT($L$7=$M$7,L24=M24)*EXACT($L$7<$M$7,L24<M24)),$AN$7,0))) -> 0 | O24: 1 | P24: 2 | Q24: =IF(OR(EXACT($O$7,O24)*(EXACT($P$7,P24)))=TRUE,$AN$9,IF(($P$7-$O$7=P24-O24),$AN$8,IF(OR(EXACT($O$7>$P$7,O24>P24)*EXACT($O$7=$P$7,O24=P24)*EXACT($O$7<$P$7,O24<P24)),$AN$7,0))) -> 0 | R24: 1 | S24: 1 | T24: =IF(OR(EXACT($R$7,R24)*(EXACT($S$7,S24)))=TRUE,$AN$9,IF(($S$7-$R$7=S24-R24),$AN$8,IF(OR(EXACT($R$7>$S$7,R24>S24)*EXACT($R$7=$S$7,R24=S24)*EXACT($R$7<$S$7,R24<S24)),$AN$7,0))) -> 0 | U24: 2 | V24: 0 | W24: =IF(OR(EXACT($U$7,U24)*(EXACT($V$7,V24)))=TRUE,$AN$9,IF(($V$7-$U$7=V24-U24),$AN$8,IF(OR(EXACT($U$7>$V$7,U24>V24)*EXACT($U$7=$V$7,U24=V24)*EXACT($U$7<$V$7,U24<V24)),$AN$7,0))) -> 5 | X24: 1 | Y24: 1 | Z24: =IF(OR(EXACT($X$7,X24)*(EXACT($Y$7,Y24)))=TRUE,$AN$9,IF(($Y$7-$X$7=Y24-X24),$AN$8,IF(OR(EXACT($X$7>$Y$7,X24>Y24)*EXACT($X$7=$Y$7,X24=Y24)*EXACT($X$7<$Y$7,X24<Y24)),$AN$7,0))) -> 0 | AA24: 1 | AB24: 1 | AC24: =IF(OR(EXACT($AA$7,AA24)*(EXACT($AB$7,AB24)))=TRUE,$AN$9,IF(($AB$7-$AA$7=AB24-AA24),$AN$8,IF(OR(EXACT($AA$7>$AB$7,AA24>AB24)*EXACT($AA$7=$AB$7,AA24=AB24)*EXACT($AA$7<$AB$7,AA24<AB24)),$AN$7,0)))*2 -> 0 | AG24: =E24+K24+Q24+T24+N24+H24+W24+Z24+AC24+AF24 -> 9 | AI24: =AG24+AH24 -> 9 | AJ24: =RANK(AI24,$AI$8:$AI$50) -> 18
A25: =AJ25 -> 3 | B25: Mike04 | C25: 3 | D25: 0 | E25: =IF(OR(EXACT($C$7,C25)*(EXACT($D$7,D25)))=TRUE,$AN$9,IF(($D$7-$C$7=D25-C25),$AN$8,IF(OR(EXACT($C$7>$D$7,C25>D25)*EXACT($C$7=$D$7,C25=D25)*EXACT($C$7<$D$7,C25<D25)),$AN$7,0))) -> 2 | F25: 0 | G25: 2 | H25: =IF(OR(EXACT($F$7,F25)*(EXACT($G$7,G25)))=TRUE,$AN$9,IF(($G$7-$F$7=G25-F25),$AN$8,IF(OR(EXACT($F$7>$G$7,F25>G25)*EXACT($F$7=$G$7,F25=G25)*EXACT($F$7<$G$7,F25<G25)),$AN$7,0))) -> 0 | I25: 2 | J25: 0 | K25: =IF(OR(EXACT($I$7,I25)*(EXACT($J$7,J25)))=TRUE,$AN$9,IF(($J$7-$I$7=J25-I25),$AN$8,IF(OR(EXACT($I$7>$J$7,I25>J25)*EXACT($I$7=$J$7,I25=J25)*EXACT($I$7<$J$7,I25<J25)),$AN$7,0))) -> 2 | L25: 2 | M25: 0 | N25: =IF(OR(EXACT($L$7,L25)*(EXACT($M$7,M25)))=TRUE,$AN$9,IF(($M$7-$L$7=M25-L25),$AN$8,IF(OR(EXACT($L$7>$M$7,L25>M25)*EXACT($L$7=$M$7,L25=M25)*EXACT($L$7<$M$7,L25<M25)),$AN$7,0))) -> 0 | O25: 1 | P25: 1 | Q25: =IF(OR(EXACT($O$7,O25)*(EXACT($P$7,P25)))=TRUE,$AN$9,IF(($P$7-$O$7=P25-O25),$AN$8,IF(OR(EXACT($O$7>$P$7,O25>P25)*EXACT($O$7=$P$7,O25=P25)*EXACT($O$7<$P$7,O25<P25)),$AN$7,0))) -> 3 | R25: 1 | S25: 2 | T25: =IF(OR(EXACT($R$7,R25)*(EXACT($S$7,S25)))=TRUE,$AN$9,IF(($S$7-$R$7=S25-R25),$AN$8,IF(OR(EXACT($R$7>$S$7,R25>S25)*EXACT($R$7=$S$7,R25=S25)*EXACT($R$7<$S$7,R25<S25)),$AN$7,0))) -> 0 | U25: 2 | V25: 0 | W25: =IF(OR(EXACT($U$7,U25)*(EXACT($V$7,V25)))=TRUE,$AN$9,IF(($V$7-$U$7=V25-U25),$AN$8,IF(OR(EXACT($U$7>$V$7,U25>V25)*EXACT($U$7=$V$7,U25=V25)*EXACT($U$7<$V$7,U25<V25)),$AN$7,0))) -> 5 | X25: 2 | Y25: 0 | Z25: =IF(OR(EXACT($X$7,X25)*(EXACT($Y$7,Y25)))=TRUE,$AN$9,IF(($Y$7-$X$7=Y25-X25),$AN$8,IF(OR(EXACT($X$7>$Y$7,X25>Y25)*EXACT($X$7=$Y$7,X25=Y25)*EXACT($X$7<$Y$7,X25<Y25)),$AN$7,0))) -> 2 | AA25: 0 | AB25: 2 | AC25: =IF(OR(EXACT($AA$7,AA25)*(EXACT($AB$7,AB25)))=TRUE,$AN$9,IF(($AB$7-$AA$7=AB25-AA25),$AN$8,IF(OR(EXACT($AA$7>$AB$7,AA25>AB25)*EXACT($AA$7=$AB$7,AA25=AB25)*EXACT($AA$7<$AB$7,AA25<AB25)),$AN$7,0)))*4 -> 0 | AG25: =E25+K25+Q25+T25+N25+H25+W25+Z25+AC25+AF25 -> 14 | AI25: =AG25+AH25 -> 14 | AJ25: =RANK(AI25,$AI$8:$AI$50) -> 3
A26: =AJ26 -> 11 | B26: Reinhold | C26: 4 | D26: 2 | E26: =IF(OR(EXACT($C$7,C26)*(EXACT($D$7,D26)))=TRUE,$AN$9,IF(($D$7-$C$7=D26-C26),$AN$8,IF(OR(EXACT($C$7>$D$7,C26>D26)*EXACT($C$7=$D$7,C26=D26)*EXACT($C$7<$D$7,C26<D26)),$AN$7,0))) -> 2 | F26: 1 | G26: 4 | H26: =IF(OR(EXACT($F$7,F26)*(EXACT($G$7,G26)))=TRUE,$AN$9,IF(($G$7-$F$7=G26-F26),$AN$8,IF(OR(EXACT($F$7>$G$7,F26>G26)*EXACT($F$7=$G$7,F26=G26)*EXACT($F$7<$G$7,F26<G26)),$AN$7,0))) -> 0 | I26: 2 | J26: 0 | K26: =IF(OR(EXACT($I$7,I26)*(EXACT($J$7,J26)))=TRUE,$AN$9,IF(($J$7-$I$7=J26-I26),$AN$8,IF(OR(EXACT($I$7>$J$7,I26>J26)*EXACT($I$7=$J$7,I26=J26)*EXACT($I$7<$J$7,I26<J26)),$AN$7,0))) -> 2 | L26: 3 | M26: 1 | N26: =IF(OR(EXACT($L$7,L26)*(EXACT($M$7,M26)))=TRUE,$AN$9,IF(($M$7-$L$7=M26-L26),$AN$8,IF(OR(EXACT($L$7>$M$7,L26>M26)*EXACT($L$7=$M$7,L26=M26)*EXACT($L$7<$M$7,L26<M26)),$AN$7,0))) -> 0 | O26: 3 | P26: 2 | Q26: =IF(OR(EXACT($O$7,O26)*(EXACT($P$7,P26)))=TRUE,$AN$9,IF(($P$7-$O$7=P26-O26),$AN$8,IF(OR(EXACT($O$7>$P$7,O26>P26)*EXACT($O$7=$P$7,O26=P26)*EXACT($O$7<$P$7,O26<P26)),$AN$7,0))) -> 0 | R26: 1 | S26: 3 | T26: =IF(OR(EXACT($R$7,R26)*(EXACT($S$7,S26)))=TRUE,$AN$9,IF(($S$7-$R$7=S26-R26),$AN$8,IF(OR(EXACT($R$7>$S$7,R26>S26)*EXACT($R$7=$S$7,R26=S26)*EXACT($R$7<$S$7,R26<S26)),$AN$7,0))) -> 0 | U26: 2 | V26: 0 | W26: =IF(OR(EXACT($U$7,U26)*(EXACT($V$7,V26)))=TRUE,$AN$9,IF(($V$7-$U$7=V26-U26),$AN$8,IF(OR(EXACT($U$7>$V$7,U26>V26)*EXACT($U$7=$V$7,U26=V26)*EXACT($U$7<$V$7,U26<V26)),$AN$7,0))) -> 5 | X26: 1 | Y26: 0 | Z26: =IF(OR(EXACT($X$7,X26)*(EXACT($Y$7,Y26)))=TRUE,$AN$9,IF(($Y$7-$X$7=Y26-X26),$AN$8,IF(OR(EXACT($X$7>$Y$7,X26>Y26)*EXACT($X$7=$Y$7,X26=Y26)*EXACT($X$7<$Y$7,X26<Y26)),$AN$7,0))) -> 2 | AA26: 1 | AB26: 5 | AC26: =IF(OR(EXACT($AA$7,AA26)*(EXACT($AB$7,AB26)))=TRUE,$AN$9,IF(($AB$7-$AA$7=AB26-AA26),$AN$8,IF(OR(EXACT($AA$7>$AB$7,AA26>AB26)*EXACT($AA$7=$AB$7,AA26=AB26)*EXACT($AA$7<$AB$7,AA26<AB26)),$AN$7,0)))*4 -> 0 | AG26: =E26+K26+Q26+T26+N26+H26+W26+Z26+AC26+AF26 -> 11 | AI26: =AG26+AH26 -> 11 | AJ26: =RANK(AI26,$AI$8:$AI$50) -> 11
A27: =AJ27 -> 1 | B27: ReneMause | C27: 3 | D27: 0 | E27: =IF(OR(EXACT($C$7,C27)*(EXACT($D$7,D27)))=TRUE,$AN$9,IF(($D$7-$C$7=D27-C27),$AN$8,IF(OR(EXACT($C$7>$D$7,C27>D27)*EXACT($C$7=$D$7,C27=D27)*EXACT($C$7<$D$7,C27<D27)),$AN$7,0))) -> 2 | F27: 2 | G27: 1 | H27: =IF(OR(EXACT($F$7,F27)*(EXACT($G$7,G27)))=TRUE,$AN$9,IF(($G$7-$F$7=G27-F27),$AN$8,IF(OR(EXACT($F$7>$G$7,F27>G27)*EXACT($F$7=$G$7,F27=G27)*EXACT($F$7<$G$7,F27<G27)),$AN$7,0))) -> 3 | I27: 3 | J27: 1 | K27: =IF(OR(EXACT($I$7,I27)*(EXACT($J$7,J27)))=TRUE,$AN$9,IF(($J$7-$I$7=J27-I27),$AN$8,IF(OR(EXACT($I$7>$J$7,I27>J27)*EXACT($I$7=$J$7,I27=J27)*EXACT($I$7<$J$7,I27<J27)),$AN$7,0))) -> 2 | L27: 2 | M27: 0 | N27: =IF(OR(EXACT($L$7,L27)*(EXACT($M$7,M27)))=TRUE,$AN$9,IF(($M$7-$L$7=M27-L27),$AN$8,IF(OR(EXACT($L$7>$M$7,L27>M27)*EXACT($L$7=$M$7,L27=M27)*EXACT($L$7<$M$7,L27<M27)),$AN$7,0))) -> 0 | O27: 1 | P27: 1 | Q27: =IF(OR(EXACT($O$7,O27)*(EXACT($P$7,P27)))=TRUE,$AN$9,IF(($P$7-$O$7=P27-O27),$AN$8,IF(OR(EXACT($O$7>$P$7,O27>P27)*EXACT($O$7=$P$7,O27=P27)*EXACT($O$7<$P$7,O27<P27)),$AN$7,0))) -> 3 | R27: 3 | S27: 1 | T27: =IF(OR(EXACT($R$7,R27)*(EXACT($S$7,S27)))=TRUE,$AN$9,IF(($S$7-$R$7=S27-R27),$AN$8,IF(OR(EXACT($R$7>$S$7,R27>S27)*EXACT($R$7=$S$7,R27=S27)*EXACT($R$7<$S$7,R27<S27)),$AN$7,0))) -> 2 | U27: 3 | V27: 1 | W27: =IF(OR(EXACT($U$7,U27)*(EXACT($V$7,V27)))=TRUE,$AN$9,IF(($V$7-$U$7=V27-U27),$AN$8,IF(OR(EXACT($U$7>$V$7,U27>V27)*EXACT($U$7=$V$7,U27=V27)*EXACT($U$7<$V$7,U27<V27)),$AN$7,0))) -> 3 | X27: 2 | Y27: 0 | Z27: =IF(OR(EXACT($X$7,X27)*(EXACT($Y$7,Y27)))=TRUE,$AN$9,IF(($Y$7-$X$7=Y27-X27),$AN$8,IF(OR(EXACT($X$7>$Y$7,X27>Y27)*EXACT($X$7=$Y$7,X27=Y27)*EXACT($X$7<$Y$7,X27<Y27)),$AN$7,0))) -> 2 | AA27: 0 | AB27: 1 | AC27: =IF(OR(EXACT($AA$7,AA27)*(EXACT($AB$7,AB27)))=TRUE,$AN$9,IF(($AB$7-$AA$7=AB27-AA27),$AN$8,IF(OR(EXACT($AA$7>$AB$7,AA27>AB27)*EXACT($AA$7=$AB$7,AA27=AB27)*EXACT($AA$7<$AB$7,AA27<AB27)),$AN$7,0)))*4 -> 0 | AG27: =E27+K27+Q27+T27+N27+H27+W27+Z27+AC27+AF27 -> 17 | AI27: =AG27+AH27 -> 17 | AJ27: =RANK(AI27,$AI$8:$AI$50) -> 1
A28: =AJ28 -> 27 | B28: Ricardo04 | C28: 3 | D28: 1 | E28: =IF(OR(EXACT($C$7,C28)*(EXACT($D$7,D28)))=TRUE,$AN$9,IF(($D$7-$C$7=D28-C28),$AN$8,IF(OR(EXACT($C$7>$D$7,C28>D28)*EXACT($C$7=$D$7,C28=D28)*EXACT($C$7<$D$7,C28<D28)),$AN$7,0))) -> 2 | F28: 0 | G28: 3 | H28: =IF(OR(EXACT($F$7,F28)*(EXACT($G$7,G28)))=TRUE,$AN$9,IF(($G$7-$F$7=G28-F28),$AN$8,IF(OR(EXACT($F$7>$G$7,F28>G28)*EXACT($F$7=$G$7,F28=G28)*EXACT($F$7<$G$7,F28<G28)),$AN$7,0))) -> 0 | I28: 3 | J28: 1 | K28: =IF(OR(EXACT($I$7,I28)*(EXACT($J$7,J28)))=TRUE,$AN$9,IF(($J$7-$I$7=J28-I28),$AN$8,IF(OR(EXACT($I$7>$J$7,I28>J28)*EXACT($I$7=$J$7,I28=J28)*EXACT($I$7<$J$7,I28<J28)),$AN$7,0))) -> 2 | L28: 2 | M28: 0 | N28: =IF(OR(EXACT($L$7,L28)*(EXACT($M$7,M28)))=TRUE,$AN$9,IF(($M$7-$L$7=M28-L28),$AN$8,IF(OR(EXACT($L$7>$M$7,L28>M28)*EXACT($L$7=$M$7,L28=M28)*EXACT($L$7<$M$7,L28<M28)),$AN$7,0))) -> 0 | O28: 1 | P28: 3 | Q28: =IF(OR(EXACT($O$7,O28)*(EXACT($P$7,P28)))=TRUE,$AN$9,IF(($P$7-$O$7=P28-O28),$AN$8,IF(OR(EXACT($O$7>$P$7,O28>P28)*EXACT($O$7=$P$7,O28=P28)*EXACT($O$7<$P$7,O28<P28)),$AN$7,0))) -> 0 | R28: 1 | S28: 2 | T28: =IF(OR(EXACT($R$7,R28)*(EXACT($S$7,S28)))=TRUE,$AN$9,IF(($S$7-$R$7=S28-R28),$AN$8,IF(OR(EXACT($R$7>$S$7,R28>S28)*EXACT($R$7=$S$7,R28=S28)*EXACT($R$7<$S$7,R28<S28)),$AN$7,0))) -> 0 | U28: 1 | V28: 2 | W28: =IF(OR(EXACT($U$7,U28)*(EXACT($V$7,V28)))=TRUE,$AN$9,IF(($V$7-$U$7=V28-U28),$AN$8,IF(OR(EXACT($U$7>$V$7,U28>V28)*EXACT($U$7=$V$7,U28=V28)*EXACT($U$7<$V$7,U28<V28)),$AN$7,0))) -> 0 | X28: 2 | Y28: 1 | Z28: =IF(OR(EXACT($X$7,X28)*(EXACT($Y$7,Y28)))=TRUE,$AN$9,IF(($Y$7-$X$7=Y28-X28),$AN$8,IF(OR(EXACT($X$7>$Y$7,X28>Y28)*EXACT($X$7=$Y$7,X28=Y28)*EXACT($X$7<$Y$7,X28<Y28)),$AN$7,0))) -> 2 | AA28: 0 | AB28: 2 | AC28: =IF(OR(EXACT($AA$7,AA28)*(EXACT($AB$7,AB28)))=TRUE,$AN$9,IF(($AB$7-$AA$7=AB28-AA28),$AN$8,IF(OR(EXACT($AA$7>$AB$7,AA28>AB28)*EXACT($AA$7=$AB$7,AA28=AB28)*EXACT($AA$7<$AB$7,AA28<AB28)),$AN$7,0)))*4 -> 0 | AG28: =E28+K28+Q28+T28+N28+H28+W28+Z28+AC28+AF28 -> 6 | AI28: =AG28+AH28 -> 6 | AJ28: =RANK(AI28,$AI$8:$AI$50) -> 27
A29: =AJ29 -> 24 | B29: schmiddi04 | C29: 4 | D29: 1 | E29: =IF(OR(EXACT($C$7,C29)*(EXACT($D$7,D29)))=TRUE,$AN$9,IF(($D$7-$C$7=D29-C29),$AN$8,IF(OR(EXACT($C$7>$D$7,C29>D29)*EXACT($C$7=$D$7,C29=D29)*EXACT($C$7<$D$7,C29<D29)),$AN$7,0))) -> 2 | F29: 0 | G29: 3 | H29: =IF(OR(EXACT($F$7,F29)*(EXACT($G$7,G29)))=TRUE,$AN$9,IF(($G$7-$F$7=G29-F29),$AN$8,IF(OR(EXACT($F$7>$G$7,F29>G29)*EXACT($F$7=$G$7,F29=G29)*EXACT($F$7<$G$7,F29<G29)),$AN$7,0))) -> 0 | I29: 2 | J29: 1 | K29: =IF(OR(EXACT($I$7,I29)*(EXACT($J$7,J29)))=TRUE,$AN$9,IF(($J$7-$I$7=J29-I29),$AN$8,IF(OR(EXACT($I$7>$J$7,I29>J29)*EXACT($I$7=$J$7,I29=J29)*EXACT($I$7<$J$7,I29<J29)),$AN$7,0))) -> 2 | L29: 2 | M29: 0 | N29: =IF(OR(EXACT($L$7,L29)*(EXACT($M$7,M29)))=TRUE,$AN$9,IF(($M$7-$L$7=M29-L29),$AN$8,IF(OR(EXACT($L$7>$M$7,L29>M29)*EXACT($L$7=$M$7,L29=M29)*EXACT($L$7<$M$7,L29<M29)),$AN$7,0))) -> 0 | O29: 1 | P29: 2 | Q29: =IF(OR(EXACT($O$7,O29)*(EXACT($P$7,P29)))=TRUE,$AN$9,IF(($P$7-$O$7=P29-O29),$AN$8,IF(OR(EXACT($O$7>$P$7,O29>P29)*EXACT($O$7=$P$7,O29=P29)*EXACT($O$7<$P$7,O29<P29)),$AN$7,0))) -> 0 | R29: 1 | S29: 1 | T29: =IF(OR(EXACT($R$7,R29)*(EXACT($S$7,S29)))=TRUE,$AN$9,IF(($S$7-$R$7=S29-R29),$AN$8,IF(OR(EXACT($R$7>$S$7,R29>S29)*EXACT($R$7=$S$7,R29=S29)*EXACT($R$7<$S$7,R29<S29)),$AN$7,0))) -> 0 | U29: 2 | V29: 1 | W29: =IF(OR(EXACT($U$7,U29)*(EXACT($V$7,V29)))=TRUE,$AN$9,IF(($V$7-$U$7=V29-U29),$AN$8,IF(OR(EXACT($U$7>$V$7,U29>V29)*EXACT($U$7=$V$7,U29=V29)*EXACT($U$7<$V$7,U29<V29)),$AN$7,0))) -> 2 | X29: 2 | Y29: 1 | Z29: =IF(OR(EXACT($X$7,X29)*(EXACT($Y$7,Y29)))=TRUE,$AN$9,IF(($Y$7-$X$7=Y29-X29),$AN$8,IF(OR(EXACT($X$7>$Y$7,X29>Y29)*EXACT($X$7=$Y$7,X29=Y29)*EXACT($X$7<$Y$7,X29<Y29)),$AN$7,0))) -> 2 | AA29: 1 | AB29: 3 | AC29: =IF(OR(EXACT($AA$7,AA29)*(EXACT($AB$7,AB29)))=TRUE,$AN$9,IF(($AB$7-$AA$7=AB29-AA29),$AN$8,IF(OR(EXACT($AA$7>$AB$7,AA29>AB29)*EXACT($AA$7=$AB$7,AA29=AB29)*EXACT($AA$7<$AB$7,AA29<AB29)),$AN$7,0)))*4 -> 0 | AG29: =E29+K29+Q29+T29+N29+H29+W29+Z29+AC29+AF29 -> 8 | AI29: =AG29+AH29 -> 8 | AJ29: =RANK(AI29,$AI$8:$AI$50) -> 24
A30: =AJ30 -> 8 | B30: shiny | C30: 3 | D30: 1 | E30: =IF(OR(EXACT($C$7,C30)*(EXACT($D$7,D30)))=TRUE,$AN$9,IF(($D$7-$C$7=D30-C30),$AN$8,IF(OR(EXACT($C$7>$D$7,C30>D30)*EXACT($C$7=$D$7,C30=D30)*EXACT($C$7<$D$7,C30<D30)),$AN$7,0))) -> 2 | F30: 1 | G30: 3 | H30: =IF(OR(EXACT($F$7,F30)*(EXACT($G$7,G30)))=TRUE,$AN$9,IF(($G$7-$F$7=G30-F30),$AN$8,IF(OR(EXACT($F$7>$G$7,F30>G30)*EXACT($F$7=$G$7,F30=G30)*EXACT($F$7<$G$7,F30<G30)),$AN$7,0))) -> 0 | I30: 2 | J30: 1 | K30: =IF(OR(EXACT($I$7,I30)*(EXACT($J$7,J30)))=TRUE,$AN$9,IF(($J$7-$I$7=J30-I30),$AN$8,IF(OR(EXACT($I$7>$J$7,I30>J30)*EXACT($I$7=$J$7,I30=J30)*EXACT($I$7<$J$7,I30<J30)),$AN$7,0))) -> 2 | L30: 2 | M30: 1 | N30: =IF(OR(EXACT($L$7,L30)*(EXACT($M$7,M30)))=TRUE,$AN$9,IF(($M$7-$L$7=M30-L30),$AN$8,IF(OR(EXACT($L$7>$M$7,L30>M30)*EXACT($L$7=$M$7,L30=M30)*EXACT($L$7<$M$7,L30<M30)),$AN$7,0))) -> 0 | O30: 1 | P30: 1 | Q30: =IF(OR(EXACT($O$7,O30)*(EXACT($P$7,P30)))=TRUE,$AN$9,IF(($P$7-$O$7=P30-O30),$AN$8,IF(OR(EXACT($O$7>$P$7,O30>P30)*EXACT($O$7=$P$7,O30=P30)*EXACT($O$7<$P$7,O30<P30)),$AN$7,0))) -> 3 | R30: 1 | S30: 2 | T30: =IF(OR(EXACT($R$7,R30)*(EXACT($S$7,S30)))=TRUE,$AN$9,IF(($S$7-$R$7=S30-R30),$AN$8,IF(OR(EXACT($R$7>$S$7,R30>S30)*EXACT($R$7=$S$7,R30=S30)*EXACT($R$7<$S$7,R30<S30)),$AN$7,0))) -> 0 | U30: 3 | V30: 1 | W30: =IF(OR(EXACT($U$7,U30)*(EXACT($V$7,V30)))=TRUE,$AN$9,IF(($V$7-$U$7=V30-U30),$AN$8,IF(OR(EXACT($U$7>$V$7,U30>V30)*EXACT($U$7=$V$7,U30=V30)*EXACT($U$7<$V$7,U30<V30)),$AN$7,0))) -> 3 | X30: 2 | Y30: 1 | Z30: =IF(OR(EXACT($X$7,X30)*(EXACT($Y$7,Y30)))=TRUE,$AN$9,IF(($Y$7-$X$7=Y30-X30),$AN$8,IF(OR(EXACT($X$7>$Y$7,X30>Y30)*EXACT($X$7=$Y$7,X30=Y30)*EXACT($X$7<$Y$7,X30<Y30)),$AN$7,0))) -> 2 | AA30: 1 | AB30: 2 | AC30: =IF(OR(EXACT($AA$7,AA30)*(EXACT($AB$7,AB30)))=TRUE,$AN$9,IF(($AB$7-$AA$7=AB30-AA30),$AN$8,IF(OR(EXACT($AA$7>$AB$7,AA30>AB30)*EXACT($AA$7=$AB$7,AA30=AB30)*EXACT($AA$7<$AB$7,AA30<AB30)),$AN$7,0)))*4 -> 0 | AG30: =E30+K30+Q30+T30+N30+H30+W30+Z30+AC30+AF30 -> 12 | AI30: =AG30+AH30 -> 12 | AJ30: =RANK(AI30,$AI$8:$AI$50) -> 8
A31: =AJ31 -> 18 | B31: Silfa04 | C31: 1 | D31: 2 | E31: =IF(OR(EXACT($C$7,C31)*(EXACT($D$7,D31)))=TRUE,$AN$9,IF(($D$7-$C$7=D31-C31),$AN$8,IF(OR(EXACT($C$7>$D$7,C31>D31)*EXACT($C$7=$D$7,C31=D31)*EXACT($C$7<$D$7,C31<D31)),$AN$7,0))) -> 0 | F31: 0 | G31: 2 | H31: =IF(OR(EXACT($F$7,F31)*(EXACT($G$7,G31)))=TRUE,$AN$9,IF(($G$7-$F$7=G31-F31),$AN$8,IF(OR(EXACT($F$7>$G$7,F31>G31)*EXACT($F$7=$G$7,F31=G31)*EXACT($F$7<$G$7,F31<G31)),$AN$7,0))) -> 0 | I31: 3 | J31: 0 | K31: =IF(OR(EXACT($I$7,I31)*(EXACT($J$7,J31)))=TRUE,$AN$9,IF(($J$7-$I$7=J31-I31),$AN$8,IF(OR(EXACT($I$7>$J$7,I31>J31)*EXACT($I$7=$J$7,I31=J31)*EXACT($I$7<$J$7,I31<J31)),$AN$7,0))) -> 5 | L31: 0 | M31: 2 | N31: =IF(OR(EXACT($L$7,L31)*(EXACT($M$7,M31)))=TRUE,$AN$9,IF(($M$7-$L$7=M31-L31),$AN$8,IF(OR(EXACT($L$7>$M$7,L31>M31)*EXACT($L$7=$M$7,L31=M31)*EXACT($L$7<$M$7,L31<M31)),$AN$7,0))) -> 0 | O31: 0 | P31: 3 | Q31: =IF(OR(EXACT($O$7,O31)*(EXACT($P$7,P31)))=TRUE,$AN$9,IF(($P$7-$O$7=P31-O31),$AN$8,IF(OR(EXACT($O$7>$P$7,O31>P31)*EXACT($O$7=$P$7,O31=P31)*EXACT($O$7<$P$7,O31<P31)),$AN$7,0))) -> 0 | R31: 2 | S31: 2 | T31: =IF(OR(EXACT($R$7,R31)*(EXACT($S$7,S31)))=TRUE,$AN$9,IF(($S$7-$R$7=S31-R31),$AN$8,IF(OR(EXACT($R$7>$S$7,R31>S31)*EXACT($R$7=$S$7,R31=S31)*EXACT($R$7<$S$7,R31<S31)),$AN$7,0))) -> 0 | U31: 4 | V31: 0 | W31: =IF(OR(EXACT($U$7,U31)*(EXACT($V$7,V31)))=TRUE,$AN$9,IF(($V$7-$U$7=V31-U31),$AN$8,IF(OR(EXACT($U$7>$V$7,U31>V31)*EXACT($U$7=$V$7,U31=V31)*EXACT($U$7<$V$7,U31<V31)),$AN$7,0))) -> 2 | X31: 1 | Y31: 0 | Z31: =IF(OR(EXACT($X$7,X31)*(EXACT($Y$7,Y31)))=TRUE,$AN$9,IF(($Y$7-$X$7=Y31-X31),$AN$8,IF(OR(EXACT($X$7>$Y$7,X31>Y31)*EXACT($X$7=$Y$7,X31=Y31)*EXACT($X$7<$Y$7,X31<Y31)),$AN$7,0))) -> 2 | AA31: 1 | AB31: 2 | AC31: =IF(OR(EXACT($AA$7,AA31)*(EXACT($AB$7,AB31)))=TRUE,$AN$9,IF(($AB$7-$AA$7=AB31-AA31),$AN$8,IF(OR(EXACT($AA$7>$AB$7,AA31>AB31)*EXACT($AA$7=$AB$7,AA31=AB31)*EXACT($AA$7<$AB$7,AA31<AB31)),$AN$7,0)))*4 -> 0 | AG31: =E31+K31+Q31+T31+N31+H31+W31+Z31+AC31+AF31 -> 9 | AI31: =AG31+AH31 -> 9 | AJ31: =RANK(AI31,$AI$8:$AI$50) -> 18
A32: =AJ32 -> 11 | B32: Tanja04 | C32: 4 | D32: 1 | E32: =IF(OR(EXACT($C$7,C32)*(EXACT($D$7,D32)))=TRUE,$AN$9,IF(($D$7-$C$7=D32-C32),$AN$8,IF(OR(EXACT($C$7>$D$7,C32>D32)*EXACT($C$7=$D$7,C32=D32)*EXACT($C$7<$D$7,C32<D32)),$AN$7,0))) -> 2 | F32: 0 | G32: 2 | H32: =IF(OR(EXACT($F$7,F32)*(EXACT($G$7,G32)))=TRUE,$AN$9,IF(($G$7-$F$7=G32-F32),$AN$8,IF(OR(EXACT($F$7>$G$7,F32>G32)*EXACT($F$7=$G$7,F32=G32)*EXACT($F$7<$G$7,F32<G32)),$AN$7,0))) -> 0 | I32: 2 | J32: 1 | K32: =IF(OR(EXACT($I$7,I32)*(EXACT($J$7,J32)))=TRUE,$AN$9,IF(($J$7-$I$7=J32-I32),$AN$8,IF(OR(EXACT($I$7>$J$7,I32>J32)*EXACT($I$7=$J$7,I32=J32)*EXACT($I$7<$J$7,I32<J32)),$AN$7,0))) -> 2 | L32: 2 | M32: 0 | N32: =IF(OR(EXACT($L$7,L32)*(EXACT($M$7,M32)))=TRUE,$AN$9,IF(($M$7-$L$7=M32-L32),$AN$8,IF(OR(EXACT($L$7>$M$7,L32>M32)*EXACT($L$7=$M$7,L32=M32)*EXACT($L$7<$M$7,L32<M32)),$AN$7,0))) -> 0 | O32: 1 | P32: 2 | Q32: =IF(OR(EXACT($O$7,O32)*(EXACT($P$7,P32)))=TRUE,$AN$9,IF(($P$7-$O$7=P32-O32),$AN$8,IF(OR(EXACT($O$7>$P$7,O32>P32)*EXACT($O$7=$P$7,O32=P32)*EXACT($O$7<$P$7,O32<P32)),$AN$7,0))) -> 0 | R32: 0 | S32: 2 | T32: =IF(OR(EXACT($R$7,R32)*(EXACT($S$7,S32)))=TRUE,$AN$9,IF(($S$7-$R$7=S32-R32),$AN$8,IF(OR(EXACT($R$7>$S$7,R32>S32)*EXACT($R$7=$S$7,R32=S32)*EXACT($R$7<$S$7,R32<S32)),$AN$7,0))) -> 0 | U32: 2 | V32: 0 | W32: =IF(OR(EXACT($U$7,U32)*(EXACT($V$7,V32)))=TRUE,$AN$9,IF(($V$7-$U$7=V32-U32),$AN$8,IF(OR(EXACT($U$7>$V$7,U32>V32)*EXACT($U$7=$V$7,U32=V32)*EXACT($U$7<$V$7,U32<V32)),$AN$7,0))) -> 5 | X32: 2 | Y32: 0 | Z32: =IF(OR(EXACT($X$7,X32)*(EXACT($Y$7,Y32)))=TRUE,$AN$9,IF(($Y$7-$X$7=Y32-X32),$AN$8,IF(OR(EXACT($X$7>$Y$7,X32>Y32)*EXACT($X$7=$Y$7,X32=Y32)*EXACT($X$7<$Y$7,X32<Y32)),$AN$7,0))) -> 2 | AA32: 1 | AB32: 2 | AC32: =IF(OR(EXACT($AA$7,AA32)*(EXACT($AB$7,AB32)))=TRUE,$AN$9,IF(($AB$7-$AA$7=AB32-AA32),$AN$8,IF(OR(EXACT($AA$7>$AB$7,AA32>AB32)*EXACT($AA$7=$AB$7,AA32=AB32)*EXACT($AA$7<$AB$7,AA32<AB32)),$AN$7,0)))*4 -> 0 | AG32: =E32+K32+Q32+T32+N32+H32+W32+Z32+AC32+AF32 -> 11 | AI32: =AG32+AH32 -> 11 | AJ32: =RANK(AI32,$AI$8:$AI$50) -> 11
A33: =AJ33 -> 11 | B33: Th. Bülles | C33: 2 | D33: 0 | E33: =IF(OR(EXACT($C$7,C33)*(EXACT($D$7,D33)))=TRUE,$AN$9,IF(($D$7-$C$7=D33-C33),$AN$8,IF(OR(EXACT($C$7>$D$7,C33>D33)*EXACT($C$7=$D$7,C33=D33)*EXACT($C$7<$D$7,C33<D33)),$AN$7,0))) -> 2 | F33: 0 | G33: 3 | H33: =IF(OR(EXACT($F$7,F33)*(EXACT($G$7,G33)))=TRUE,$AN$9,IF(($G$7-$F$7=G33-F33),$AN$8,IF(OR(EXACT($F$7>$G$7,F33>G33)*EXACT($F$7=$G$7,F33=G33)*EXACT($F$7<$G$7,F33<G33)),$AN$7,0))) -> 0 | I33: 2 | J33: 0 | K33: =IF(OR(EXACT($I$7,I33)*(EXACT($J$7,J33)))=TRUE,$AN$9,IF(($J$7-$I$7=J33-I33),$AN$8,IF(OR(EXACT($I$7>$J$7,I33>J33)*EXACT($I$7=$J$7,I33=J33)*EXACT($I$7<$J$7,I33<J33)),$AN$7,0))) -> 2 | L33: 3 | M33: 1 | N33: =IF(OR(EXACT($L$7,L33)*(EXACT($M$7,M33)))=TRUE,$AN$9,IF(($M$7-$L$7=M33-L33),$AN$8,IF(OR(EXACT($L$7>$M$7,L33>M33)*EXACT($L$7=$M$7,L33=M33)*EXACT($L$7<$M$7,L33<M33)),$AN$7,0))) -> 0 | O33: 1 | P33: 2 | Q33: =IF(OR(EXACT($O$7,O33)*(EXACT($P$7,P33)))=TRUE,$AN$9,IF(($P$7-$O$7=P33-O33),$AN$8,IF(OR(EXACT($O$7>$P$7,O33>P33)*EXACT($O$7=$P$7,O33=P33)*EXACT($O$7<$P$7,O33<P33)),$AN$7,0))) -> 0 | R33: 0 | S33: 2 | T33: =IF(OR(EXACT($R$7,R33)*(EXACT($S$7,S33)))=TRUE,$AN$9,IF(($S$7-$R$7=S33-R33),$AN$8,IF(OR(EXACT($R$7>$S$7,R33>S33)*EXACT($R$7=$S$7,R33=S33)*EXACT($R$7<$S$7,R33<S33)),$AN$7,0))) -> 0 | U33: 2 | V33: 0 | W33: =IF(OR(EXACT($U$7,U33)*(EXACT($V$7,V33)))=TRUE,$AN$9,IF(($V$7-$U$7=V33-U33),$AN$8,IF(OR(EXACT($U$7>$V$7,U33>V33)*EXACT($U$7=$V$7,U33=V33)*EXACT($U$7<$V$7,U33<V33)),$AN$7,0))) -> 5 | X33: 3 | Y33: 1 | Z33: =IF(OR(EXACT($X$7,X33)*(EXACT($Y$7,Y33)))=TRUE,$AN$9,IF(($Y$7-$X$7=Y33-X33),$AN$8,IF(OR(EXACT($X$7>$Y$7,X33>Y33)*EXACT($X$7=$Y$7,X33=Y33)*EXACT($X$7<$Y$7,X33<Y33)),$AN$7,0))) -> 2 | AA33: 1 | AB33: 2 | AC33: =IF(OR(EXACT($AA$7,AA33)*(EXACT($AB$7,AB33)))=TRUE,$AN$9,IF(($AB$7-$AA$7=AB33-AA33),$AN$8,IF(OR(EXACT($AA$7>$AB$7,AA33>AB33)*EXACT($AA$7=$AB$7,AA33=AB33)*EXACT($AA$7<$AB$7,AA33<AB33)),$AN$7,0)))*4 -> 0 | AG33: =E33+K33+Q33+T33+N33+H33+W33+Z33+AC33+AF33 -> 11 | AI33: =AG33+AH33 -> 11 | AJ33: =RANK(AI33,$AI$8:$AI$50) -> 11
A34: =AJ34 -> 8 | B34: Thomas Müller | C34: 4 | D34: 0 | E34: =IF(OR(EXACT($C$7,C34)*(EXACT($D$7,D34)))=TRUE,$AN$9,IF(($D$7-$C$7=D34-C34),$AN$8,IF(OR(EXACT($C$7>$D$7,C34>D34)*EXACT($C$7=$D$7,C34=D34)*EXACT($C$7<$D$7,C34<D34)),$AN$7,0))) -> 3 | F34: 0 | G34: 3 | H34: =IF(OR(EXACT($F$7,F34)*(EXACT($G$7,G34)))=TRUE,$AN$9,IF(($G$7-$F$7=G34-F34),$AN$8,IF(OR(EXACT($F$7>$G$7,F34>G34)*EXACT($F$7=$G$7,F34=G34)*EXACT($F$7<$G$7,F34<G34)),$AN$7,0))) -> 0 | I34: 2 | J34: 0 | K34: =IF(OR(EXACT($I$7,I34)*(EXACT($J$7,J34)))=TRUE,$AN$9,IF(($J$7-$I$7=J34-I34),$AN$8,IF(OR(EXACT($I$7>$J$7,I34>J34)*EXACT($I$7=$J$7,I34=J34)*EXACT($I$7<$J$7,I34<J34)),$AN$7,0))) -> 2 | L34: 2 | M34: 1 | N34: =IF(OR(EXACT($L$7,L34)*(EXACT($M$7,M34)))=TRUE,$AN$9,IF(($M$7-$L$7=M34-L34),$AN$8,IF(OR(EXACT($L$7>$M$7,L34>M34)*EXACT($L$7=$M$7,L34=M34)*EXACT($L$7<$M$7,L34<M34)),$AN$7,0))) -> 0 | O34: 0 | P34: 2 | Q34: =IF(OR(EXACT($O$7,O34)*(EXACT($P$7,P34)))=TRUE,$AN$9,IF(($P$7-$O$7=P34-O34),$AN$8,IF(OR(EXACT($O$7>$P$7,O34>P34)*EXACT($O$7=$P$7,O34=P34)*EXACT($O$7<$P$7,O34<P34)),$AN$7,0))) -> 0 | R34: 0 | S34: 2 | T34: =IF(OR(EXACT($R$7,R34)*(EXACT($S$7,S34)))=TRUE,$AN$9,IF(($S$7-$R$7=S34-R34),$AN$8,IF(OR(EXACT($R$7>$S$7,R34>S34)*EXACT($R$7=$S$7,R34=S34)*EXACT($R$7<$S$7,R34<S34)),$AN$7,0))) -> 0 | U34: 2 | V34: 0 | W34: =IF(OR(EXACT($U$7,U34)*(EXACT($V$7,V34)))=TRUE,$AN$9,IF(($V$7-$U$7=V34-U34),$AN$8,IF(OR(EXACT($U$7>$V$7,U34>V34)*EXACT($U$7=$V$7,U34=V34)*EXACT($U$7<$V$7,U34<V34)),$AN$7,0))) -> 5 | X34: 2 | Y34: 0 | Z34: =IF(OR(EXACT($X$7,X34)*(EXACT($Y$7,Y34)))=TRUE,$AN$9,IF(($Y$7-$X$7=Y34-X34),$AN$8,IF(OR(EXACT($X$7>$Y$7,X34>Y34)*EXACT($X$7=$Y$7,X34=Y34)*EXACT($X$7<$Y$7,X34<Y34)),$AN$7,0))) -> 2 | AA34: 1 | AB34: 1 | AC34: =IF(OR(EXACT($AA$7,AA34)*(EXACT($AB$7,AB34)))=TRUE,$AN$9,IF(($AB$7-$AA$7=AB34-AA34),$AN$8,IF(OR(EXACT($AA$7>$AB$7,AA34>AB34)*EXACT($AA$7=$AB$7,AA34=AB34)*EXACT($AA$7<$AB$7,AA34<AB34)),$AN$7,0)))*2 -> 0 | AG34: =E34+K34+Q34+T34+N34+H34+W34+Z34+AC34+AF34 -> 12 | AI34: =AG34+AH34 -> 12 | AJ34: =RANK(AI34,$AI$8:$AI$50) -> 8
A35: =AJ35 -> 16 | B35: Totti | C35: 4 | D35: 1 | E35: =IF(OR(EXACT($C$7,C35)*(EXACT($D$7,D35)))=TRUE,$AN$9,IF(($D$7-$C$7=D35-C35),$AN$8,IF(OR(EXACT($C$7>$D$7,C35>D35)*EXACT($C$7=$D$7,C35=D35)*EXACT($C$7<$D$7,C35<D35)),$AN$7,0))) -> 2 | F35: 1 | G35: 2 | H35: =IF(OR(EXACT($F$7,F35)*(EXACT($G$7,G35)))=TRUE,$AN$9,IF(($G$7-$F$7=G35-F35),$AN$8,IF(OR(EXACT($F$7>$G$7,F35>G35)*EXACT($F$7=$G$7,F35=G35)*EXACT($F$7<$G$7,F35<G35)),$AN$7,0))) -> 0 | I35: 3 | J35: 1 | K35: =IF(OR(EXACT($I$7,I35)*(EXACT($J$7,J35)))=TRUE,$AN$9,IF(($J$7-$I$7=J35-I35),$AN$8,IF(OR(EXACT($I$7>$J$7,I35>J35)*EXACT($I$7=$J$7,I35=J35)*EXACT($I$7<$J$7,I35<J35)),$AN$7,0))) -> 2 | L35: 2 | M35: 0 | N35: =IF(OR(EXACT($L$7,L35)*(EXACT($M$7,M35)))=TRUE,$AN$9,IF(($M$7-$L$7=M35-L35),$AN$8,IF(OR(EXACT($L$7>$M$7,L35>M35)*EXACT($L$7=$M$7,L35=M35)*EXACT($L$7<$M$7,L35<M35)),$AN$7,0))) -> 0 | O35: 1 | P35: 1 | Q35: =IF(OR(EXACT($O$7,O35)*(EXACT($P$7,P35)))=TRUE,$AN$9,IF(($P$7-$O$7=P35-O35),$AN$8,IF(OR(EXACT($O$7>$P$7,O35>P35)*EXACT($O$7=$P$7,O35=P35)*EXACT($O$7<$P$7,O35<P35)),$AN$7,0))) -> 3 | R35: 1 | S35: 3 | T35: =IF(OR(EXACT($R$7,R35)*(EXACT($S$7,S35)))=TRUE,$AN$9,IF(($S$7-$R$7=S35-R35),$AN$8,IF(OR(EXACT($R$7>$S$7,R35>S35)*EXACT($R$7=$S$7,R35=S35)*EXACT($R$7<$S$7,R35<S35)),$AN$7,0))) -> 0 | U35: 3 | V35: 1 | W35: =IF(OR(EXACT($U$7,U35)*(EXACT($V$7,V35)))=TRUE,$AN$9,IF(($V$7-$U$7=V35-U35),$AN$8,IF(OR(EXACT($U$7>$V$7,U35>V35)*EXACT($U$7=$V$7,U35=V35)*EXACT($U$7<$V$7,U35<V35)),$AN$7,0))) -> 3 | X35: 2 | Y35: 2 | Z35: =IF(OR(EXACT($X$7,X35)*(EXACT($Y$7,Y35)))=TRUE,$AN$9,IF(($Y$7-$X$7=Y35-X35),$AN$8,IF(OR(EXACT($X$7>$Y$7,X35>Y35)*EXACT($X$7=$Y$7,X35=Y35)*EXACT($X$7<$Y$7,X35<Y35)),$AN$7,0))) -> 0 | AA35: 1 | AB35: 3 | AC35: =IF(OR(EXACT($AA$7,AA35)*(EXACT($AB$7,AB35)))=TRUE,$AN$9,IF(($AB$7-$AA$7=AB35-AA35),$AN$8,IF(OR(EXACT($AA$7>$AB$7,AA35>AB35)*EXACT($AA$7=$AB$7,AA35=AB35)*EXACT($AA$7<$AB$7,AA35<AB35)),$AN$7,0)))*4 -> 0 | AG35: =E35+K35+Q35+T35+N35+H35+W35+Z35+AC35+AF35 -> 10 | AI35: =AG35+AH35 -> 10 | AJ35: =RANK(AI35,$AI$8:$AI$50) -> 16
A36: =AJ36 -> 18 | B36: UltraGE | C36: 3 | D36: 1 | E36: =IF(OR(EXACT($C$7,C36)*(EXACT($D$7,D36)))=TRUE,$AN$9,IF(($D$7-$C$7=D36-C36),$AN$8,IF(OR(EXACT($C$7>$D$7,C36>D36)*EXACT($C$7=$D$7,C36=D36)*EXACT($C$7<$D$7,C36<D36)),$AN$7,0))) -> 2 | F36: 1 | G36: 2 | H36: =IF(OR(EXACT($F$7,F36)*(EXACT($G$7,G36)))=TRUE,$AN$9,IF(($G$7-$F$7=G36-F36),$AN$8,IF(OR(EXACT($F$7>$G$7,F36>G36)*EXACT($F$7=$G$7,F36=G36)*EXACT($F$7<$G$7,F36<G36)),$AN$7,0))) -> 0 | I36: 3 | J36: 1 | K36: =IF(OR(EXACT($I$7,I36)*(EXACT($J$7,J36)))=TRUE,$AN$9,IF(($J$7-$I$7=J36-I36),$AN$8,IF(OR(EXACT($I$7>$J$7,I36>J36)*EXACT($I$7=$J$7,I36=J36)*EXACT($I$7<$J$7,I36<J36)),$AN$7,0))) -> 2 | L36: 2 | M36: 1 | N36: =IF(OR(EXACT($L$7,L36)*(EXACT($M$7,M36)))=TRUE,$AN$9,IF(($M$7-$L$7=M36-L36),$AN$8,IF(OR(EXACT($L$7>$M$7,L36>M36)*EXACT($L$7=$M$7,L36=M36)*EXACT($L$7<$M$7,L36<M36)),$AN$7,0))) -> 0 | O36: 1 | P36: 2 | Q36: =IF(OR(EXACT($O$7,O36)*(EXACT($P$7,P36)))=TRUE,$AN$9,IF(($P$7-$O$7=P36-O36),$AN$8,IF(OR(EXACT($O$7>$P$7,O36>P36)*EXACT($O$7=$P$7,O36=P36)*EXACT($O$7<$P$7,O36<P36)),$AN$7,0))) -> 0 | R36: 1 | S36: 2 | T36: =IF(OR(EXACT($R$7,R36)*(EXACT($S$7,S36)))=TRUE,$AN$9,IF(($S$7-$R$7=S36-R36),$AN$8,IF(OR(EXACT($R$7>$S$7,R36>S36)*EXACT($R$7=$S$7,R36=S36)*EXACT($R$7<$S$7,R36<S36)),$AN$7,0))) -> 0 | U36: 3 | V36: 1 | W36: =IF(OR(EXACT($U$7,U36)*(EXACT($V$7,V36)))=TRUE,$AN$9,IF(($V$7-$U$7=V36-U36),$AN$8,IF(OR(EXACT($U$7>$V$7,U36>V36)*EXACT($U$7=$V$7,U36=V36)*EXACT($U$7<$V$7,U36<V36)),$AN$7,0))) -> 3 | X36: 2 | Y36: 0 | Z36: =IF(OR(EXACT($X$7,X36)*(EXACT($Y$7,Y36)))=TRUE,$AN$9,IF(($Y$7-$X$7=Y36-X36),$AN$8,IF(OR(EXACT($X$7>$Y$7,X36>Y36)*EXACT($X$7=$Y$7,X36=Y36)*EXACT($X$7<$Y$7,X36<Y36)),$AN$7,0))) -> 2 | AA36: 1 | AB36: 2 | AC36: =IF(OR(EXACT($AA$7,AA36)*(EXACT($AB$7,AB36)))=TRUE,$AN$9,IF(($AB$7-$AA$7=AB36-AA36),$AN$8,IF(OR(EXACT($AA$7>$AB$7,AA36>AB36)*EXACT($AA$7=$AB$7,AA36=AB36)*EXACT($AA$7<$AB$7,AA36<AB36)),$AN$7,0)))*4 -> 0 | AG36: =E36+K36+Q36+T36+N36+H36+W36+Z36+AC36+AF36 -> 9 | AI36: =AG36+AH36 -> 9 | AJ36: =RANK(AI36,$AI$8:$AI$50) -> 18
A37: =AJ37 -> 30 | B37: Nico1904 | AG37: =E37+K37+Q37+T37+N37+H37+W37+Z37+AC37+AF37 -> 0 | AI37: =AG37+AH37 -> 0 | AJ37: =RANK(AI37,$AI$8:$AI$50) -> 30
A38: =AJ38 -> 30 | B38: Schalt04 | AG38: =E38+K38+Q38+T38+N38+H38+W38+Z38+AC38+AF38 -> 0 | AI38: =AG38+AH38 -> 0 | AJ38: =RANK(AI38,$AI$8:$AI$50) -> 30
A39: =AJ39 -> 30 | AG39: =E39+K39+Q39+T39+N39+H39+W39+Z39+AC39+AF39 -> 0 | AI39: =AG39+AH39 -> 0 | AJ39: =RANK(AI39,$AI$8:$AI$50) -> 30
A40: =AJ40 -> 30 | AG40: =E40+K40+Q40+T40+N40+H40+W40+Z40+AC40+AF40 -> 0 | AI40: =AG40+AH40 -> 0 | AJ40: =RANK(AI40,$AI$8:$AI$50) -> 30
A41: =AJ41 -> 30 | AG41: =E41+K41+Q41+T41+N41+H41+W41+Z41+AC41+AF41 -> 0 | AI41: =AG41+AH41 -> 0 | AJ41: =RANK(AI41,$AI$8:$AI$50) -> 30
A42: =AJ42 -> 30 | AG42: =E42+K42+Q42+T42+N42+H42+W42+Z42+AC42+AF42 -> 0 | AI42: =AG42+AH42 -> 0 | AJ42: =RANK(AI42,$AI$8:$AI$50) -> 30
A43: =AJ43 -> 30 | AG43: =E43+K43+Q43+T43+N43+H43+W43+Z43+AC43+AF43 -> 0 | AI43: =AG43+AH43 -> 0 | AJ43: =RANK(AI43,$AI$8:$AI$50) -> 30
A44: =AJ44 -> 30 | AG44: =E44+K44+Q44+T44+N44+H44+W44+Z44+AC44+AF44 -> 0 | AI44: =AG44+AH44 -> 0 | AJ44: =RANK(AI44,$AI$8:$AI$50) -> 30
A45: =AJ45 -> 30 | AG45: =E45+K45+Q45+T45+N45+H45+W45+Z45+AC45+AF45 -> 0 | AI45: =AG45+AH45 -> 0 | AJ45: =RANK(AI45,$AI$8:$AI$50) -> 30
A46: =AJ46 -> 30 | AG46: =E46+K46+Q46+T46+N46+H46+W46+Z46+AC46+AF46 -> 0 | AI46: =AG46+AH46 -> 0 | AJ46: =RANK(AI46,$AI$8:$AI$50) -> 30
A47: =AJ47 -> 30 | AG47: =E47+K47+Q47+T47+N47+H47+W47+Z47+AC47+AF47 -> 0 | AI47: =AG47+AH47 -> 0 | AJ47: =RANK(AI47,$AI$8:$AI$50) -> 30
A48: =AJ48 -> 30 | AG48: =E48+K48+Q48+T48+N48+H48+W48+Z48+AC48+AF48 -> 0 | AI48: =AG48+AH48 -> 0 | AJ48: =RANK(AI48,$AI$8:$AI$50) -> 30
A49: =AJ49 -> 30 | AG49: =E49+K49+Q49+T49+N49+H49+W49+Z49+AC49+AF49 -> 0 | AI49: =AG49+AH49 -> 0 | AJ49: =RANK(AI49,$AI$8:$AI$50) -> 30
A50: =AJ50 -> 30 | AG50: =E50+K50+Q50+T50+N50+H50+W50+Z50+AC50+AF50 -> 0 | AI50: =AG50+AH50 -> 0 | AJ50: =RANK(AI50,$AI$8:$AI$50) -> 30

Sheet 2.Spieltag 
A4: 2. Spieltag | C4: Stuttgart | F4: Hoffenheim | I4: Leverkusen | L4: Gladbach | O4: Bremen | R4: Paderborn | U4: Schalke 04 | X4: Hamburg | AA4: Frankfurt
AG5: G E S A M T W E R T U N G
C6: Köln | F6: Dortmund | I6: U. Berlin | L6: Elversberg | O6: Leipzig | R6: Freiburg | U6: B. München | X6: Mainz | AA6: Augsburg | AG6: Punkte | AH6: Punkte | AI6: Gesamt | AJ6: Platz | AK6: PUNKTEVERTEILUNG
A7: PLATZ | B7: ERGEBNISSE=> | C7: 4 | D7: 1 | E7: Pkt. | F7: 2 | G7: 3 | H7: Pkt. | I7: 4 | J7: 0 | K7: Pkt. | L7: 3 | M7: 4 | N7: Pkt. | O7: 3 | P7: 1 | Q7: Pkt. | R7: 0 | S7: 1 | T7: Pkt. | U7: 0 | V7: 0 | W7: Pkt. | X7: 0 | Y7: 5 | Z7: Pkt. | AA7: 1 | AB7: 4 | AC7: Pkt. | AG7: Spieltag | AH7: bisher | AI7: Punkte | AK7: richtige Tendenz | AN7: 2
A8: =AJ8 -> 24 | B8: ='1.Spieltag'!B8 -> ahaupt1904 | C8: 2 | D8: 1 | E8: =IF(OR(EXACT($C$7,C8)*(EXACT($D$7,D8)))=TRUE,$AN$9,IF(($D$7-$C$7=D8-C8),$AN$8,IF(OR(EXACT($C$7>$D$7,C8>D8)*EXACT($C$7=$D$7,C8=D8)*EXACT($C$7<$D$7,C8<D8)),$AN$7,0))) -> 2 | F8: 2 | G8: 2 | H8: =IF(OR(EXACT($F$7,F8)*(EXACT($G$7,G8)))=TRUE,$AN$9,IF(($G$7-$F$7=G8-F8),$AN$8,IF(OR(EXACT($F$7>$G$7,F8>G8)*EXACT($F$7=$G$7,F8=G8)*EXACT($F$7<$G$7,F8<G8)),$AN$7,0))) -> 0 | I8: 2 | J8: 1 | K8: =IF(OR(EXACT($I$7,I8)*(EXACT($J$7,J8)))=TRUE,$AN$9,IF(($J$7-$I$7=J8-I8),$AN$8,IF(OR(EXACT($I$7>$J$7,I8>J8)*EXACT($I$7=$J$7,I8=J8)*EXACT($I$7<$J$7,I8<J8)),$AN$7,0))) -> 2 | L8: 1 | M8: 1 | N8: =IF(OR(EXACT($L$7,L8)*(EXACT($M$7,M8)))=TRUE,$AN$9,IF(($M$7-$L$7=M8-L8),$AN$8,IF(OR(EXACT($L$7>$M$7,L8>M8)*EXACT($L$7=$M$7,L8=M8)*EXACT($L$7<$M$7,L8<M8)),$AN$7,0))) -> 0 | O8: 1 | P8: 2 | Q8: =IF(OR(EXACT($O$7,O8)*(EXACT($P$7,P8)))=TRUE,$AN$9,IF(($P$7-$O$7=P8-O8),$AN$8,IF(OR(EXACT($O$7>$P$7,O8>P8)*EXACT($O$7=$P$7,O8=P8)*EXACT($O$7<$P$7,O8<P8)),$AN$7,0))) -> 0 | R8: 1 | S8: 2 | T8: =IF(OR(EXACT($R$7,R8)*(EXACT($S$7,S8)))=TRUE,$AN$9,IF(($S$7-$R$7=S8-R8),$AN$8,IF(OR(EXACT($R$7>$S$7,R8>S8)*EXACT($R$7=$S$7,R8=S8)*EXACT($R$7<$S$7,R8<S8)),$AN$7,0))) -> 3 | U8: 2 | V8: 6 | W8: =IF(OR(EXACT($U$7,U8)*(EXACT($V$7,V8)))=TRUE,$AN$9,IF(($V$7-$U$7=V8-U8),$AN$8,IF(OR(EXACT($U$7>$V$7,U8>V8)*EXACT($U$7=$V$7,U8=V8)*EXACT($U$7<$V$7,U8<V8)),$AN$7,0))) -> 0 | X8: 2 | Y8: 1 | Z8: =IF(OR(EXACT($X$7,X8)*(EXACT($Y$7,Y8)))=TRUE,$AN$9,IF(($Y$7-$X$7=Y8-X8),$AN$8,IF(OR(EXACT($X$7>$Y$7,X8>Y8)*EXACT($X$7=$Y$7,X8=Y8)*EXACT($X$7<$Y$7,X8<Y8)),$AN$7,0))) -> 0 | AA8: 2 | AB8: 0 | AC8: =IF(OR(EXACT($AA$7,AA8)*(EXACT($AB$7,AB8)))=TRUE,$AN$9,IF(($AB$7-$AA$7=AB8-AA8),$AN$8,IF(OR(EXACT($AA$7>$AB$7,AA8>AB8)*EXACT($AA$7=$AB$7,AA8=AB8)*EXACT($AA$7<$AB$7,AA8<AB8)),$AN$7,0))) -> 0 | AG8: =E8+H8+K8+N8+Q8+T8+W8+Z8+AC8+AF8 -> 7 | AH8: ='1.Spieltag'!AI8 -> 9 | AI8: =AG8+AH8 -> 16 | AJ8: =RANK(AI8,$AI$8:$AI$50) -> 24 | AK8: richtige Tend. + korr. Torabst. | AN8: 3
A9: =AJ9 -> 29 | B9: ='1.Spieltag'!B9 -> Alexander18 | C9: 2 | D9: 1 | E9: =IF(OR(EXACT($C$7,C9)*(EXACT($D$7,D9)))=TRUE,$AN$9,IF(($D$7-$C$7=D9-C9),$AN$8,IF(OR(EXACT($C$7>$D$7,C9>D9)*EXACT($C$7=$D$7,C9=D9)*EXACT($C$7<$D$7,C9<D9)),$AN$7,0))) -> 2 | F9: 2 | G9: 2 | H9: =IF(OR(EXACT($F$7,F9)*(EXACT($G$7,G9)))=TRUE,$AN$9,IF(($G$7-$F$7=G9-F9),$AN$8,IF(OR(EXACT($F$7>$G$7,F9>G9)*EXACT($F$7=$G$7,F9=G9)*EXACT($F$7<$G$7,F9<G9)),$AN$7,0))) -> 0 | I9: 2 | J9: 0 | K9: =IF(OR(EXACT($I$7,I9)*(EXACT($J$7,J9)))=TRUE,$AN$9,IF(($J$7-$I$7=J9-I9),$AN$8,IF(OR(EXACT($I$7>$J$7,I9>J9)*EXACT($I$7=$J$7,I9=J9)*EXACT($I$7<$J$7,I9<J9)),$AN$7,0))) -> 2 | L9: 2 | M9: 1 | N9: =IF(OR(EXACT($L$7,L9)*(EXACT($M$7,M9)))=TRUE,$AN$9,IF(($M$7-$L$7=M9-L9),$AN$8,IF(OR(EXACT($L$7>$M$7,L9>M9)*EXACT($L$7=$M$7,L9=M9)*EXACT($L$7<$M$7,L9<M9)),$AN$7,0))) -> 0 | O9: 1 | P9: 2 | Q9: =IF(OR(EXACT($O$7,O9)*(EXACT($P$7,P9)))=TRUE,$AN$9,IF(($P$7-$O$7=P9-O9),$AN$8,IF(OR(EXACT($O$7>$P$7,O9>P9)*EXACT($O$7=$P$7,O9=P9)*EXACT($O$7<$P$7,O9<P9)),$AN$7,0))) -> 0 | R9: 1 | S9: 2 | T9: =IF(OR(EXACT($R$7,R9)*(EXACT($S$7,S9)))=TRUE,$AN$9,IF(($S$7-$R$7=S9-R9),$AN$8,IF(OR(EXACT($R$7>$S$7,R9>S9)*EXACT($R$7=$S$7,R9=S9)*EXACT($R$7<$S$7,R9<S9)),$AN$7,0))) -> 3 | U9: 3 | V9: 2 | W9: =IF(OR(EXACT($U$7,U9)*(EXACT($V$7,V9)))=TRUE,$AN$9,IF(($V$7-$U$7=V9-U9),$AN$8,IF(OR(EXACT($U$7>$V$7,U9>V9)*EXACT($U$7=$V$7,U9=V9)*EXACT($U$7<$V$7,U9<V9)),$AN$7,0)))*4 -> 0 | X9: 1 | Y9: 1 | Z9: =IF(OR(EXACT($X$7,X9)*(EXACT($Y$7,Y9)))=TRUE,$AN$9,IF(($Y$7-$X$7=Y9-X9),$AN$8,IF(OR(EXACT($X$7>$Y$7,X9>Y9)*EXACT($X$7=$Y$7,X9=Y9)*EXACT($X$7<$Y$7,X9<Y9)),$AN$7,0))) -> 0 | AA9: 2 | AB9: 1 | AC9: =IF(OR(EXACT($AA$7,AA9)*(EXACT($AB$7,AB9)))=TRUE,$AN$9,IF(($AB$7-$AA$7=AB9-AA9),$AN$8,IF(OR(EXACT($AA$7>$AB$7,AA9>AB9)*EXACT($AA$7=$AB$7,AA9=AB9)*EXACT($AA$7<$AB$7,AA9<AB9)),$AN$7,0))) -> 0 | AG9: =E9+H9+K9+N9+Q9+T9+W9+Z9+AC9+AF9 -> 7 | AH9: ='1.Spieltag'!AI9 -> 5 | AI9: =AG9+AH9 -> 12 | AJ9: =RANK(AI9,$AI$8:$AI$50) -> 29 | AK9: richtiges Ergebnis | AN9: 5
A10: =AJ10 -> 1 | B10: ='1.Spieltag'!B10 -> Archie04 | C10: 4 | D10: 1 | E10: =IF(OR(EXACT($C$7,C10)*(EXACT($D$7,D10)))=TRUE,$AN$9,IF(($D$7-$C$7=D10-C10),$AN$8,IF(OR(EXACT($C$7>$D$7,C10>D10)*EXACT($C$7=$D$7,C10=D10)*EXACT($C$7<$D$7,C10<D10)),$AN$7,0))) -> 5 | F10: 2 | G10: 2 | H10: =IF(OR(EXACT($F$7,F10)*(EXACT($G$7,G10)))=TRUE,$AN$9,IF(($G$7-$F$7=G10-F10),$AN$8,IF(OR(EXACT($F$7>$G$7,F10>G10)*EXACT($F$7=$G$7,F10=G10)*EXACT($F$7<$G$7,F10<G10)),$AN$7,0))) -> 0 | I10: 2 | J10: 1 | K10: =IF(OR(EXACT($I$7,I10)*(EXACT($J$7,J10)))=TRUE,$AN$9,IF(($J$7-$I$7=J10-I10),$AN$8,IF(OR(EXACT($I$7>$J$7,I10>J10)*EXACT($I$7=$J$7,I10=J10)*EXACT($I$7<$J$7,I10<J10)),$AN$7,0))) -> 2 | L10: 2 | M10: 2 | N10: =IF(OR(EXACT($L$7,L10)*(EXACT($M$7,M10)))=TRUE,$AN$9,IF(($M$7-$L$7=M10-L10),$AN$8,IF(OR(EXACT($L$7>$M$7,L10>M10)*EXACT($L$7=$M$7,L10=M10)*EXACT($L$7<$M$7,L10<M10)),$AN$7,0))) -> 0 | O10: 1 | P10: 3 | Q10: =IF(OR(EXACT($O$7,O10)*(EXACT($P$7,P10)))=TRUE,$AN$9,IF(($P$7-$O$7=P10-O10),$AN$8,IF(OR(EXACT($O$7>$P$7,O10>P10)*EXACT($O$7=$P$7,O10=P10)*EXACT($O$7<$P$7,O10<P10)),$AN$7,0))) -> 0 | R10: 1 | S10: 1 | T10: =IF(OR(EXACT($R$7,R10)*(EXACT($S$7,S10)))=TRUE,$AN$9,IF(($S$7-$R$7=S10-R10),$AN$8,IF(OR(EXACT($R$7>$S$7,R10>S10)*EXACT($R$7=$S$7,R10=S10)*EXACT($R$7<$S$7,R10<S10)),$AN$7,0))) -> 0 | U10: 1 | V10: 1 | W10: =IF(OR(EXACT($U$7,U10)*(EXACT($V$7,V10)))=TRUE,$AN$9,IF(($V$7-$U$7=V10-U10),$AN$8,IF(OR(EXACT($U$7>$V$7,U10>V10)*EXACT($U$7=$V$7,U10=V10)*EXACT($U$7<$V$7,U10<V10)),$AN$7,0)))*2 -> 6 | X10: 2 | Y10: 1 | Z10: =IF(OR(EXACT($X$7,X10)*(EXACT($Y$7,Y10)))=TRUE,$AN$9,IF(($Y$7-$X$7=Y10-X10),$AN$8,IF(OR(EXACT($X$7>$Y$7,X10>Y10)*EXACT($X$7=$Y$7,X10=Y10)*EXACT($X$7<$Y$7,X10<Y10)),$AN$7,0))) -> 0 | AA10: 1 | AB10: 2 | AC10: =IF(OR(EXACT($AA$7,AA10)*(EXACT($AB$7,AB10)))=TRUE,$AN$9,IF(($AB$7-$AA$7=AB10-AA10),$AN$8,IF(OR(EXACT($AA$7>$AB$7,AA10>AB10)*EXACT($AA$7=$AB$7,AA10=AB10)*EXACT($AA$7<$AB$7,AA10<AB10)),$AN$7,0))) -> 2 | AG10: =E10+H10+K10+N10+Q10+T10+W10+Z10+AC10+AF10 -> 15 | AH10: ='1.Spieltag'!AI10 -> 15 | AI10: =AG10+AH10 -> 30 | AJ10: =RANK(AI10,$AI$8:$AI$50) -> 1
A11: =AJ11 -> 11 | B11: ='1.Spieltag'!B11 -> atschi91 | C11: 2 | D11: 1 | E11: =IF(OR(EXACT($C$7,C11)*(EXACT($D$7,D11)))=TRUE,$AN$9,IF(($D$7-$C$7=D11-C11),$AN$8,IF(OR(EXACT($C$7>$D$7,C11>D11)*EXACT($C$7=$D$7,C11=D11)*EXACT($C$7<$D$7,C11<D11)),$AN$7,0))) -> 2 | F11: 2 | G11: 1 | H11: =IF(OR(EXACT($F$7,F11)*(EXACT($G$7,G11)))=TRUE,$AN$9,IF(($G$7-$F$7=G11-F11),$AN$8,IF(OR(EXACT($F$7>$G$7,F11>G11)*EXACT($F$7=$G$7,F11=G11)*EXACT($F$7<$G$7,F11<G11)),$AN$7,0))) -> 0 | I11: 2 | J11: 1 | K11: =IF(OR(EXACT($I$7,I11)*(EXACT($J$7,J11)))=TRUE,$AN$9,IF(($J$7-$I$7=J11-I11),$AN$8,IF(OR(EXACT($I$7>$J$7,I11>J11)*EXACT($I$7=$J$7,I11=J11)*EXACT($I$7<$J$7,I11<J11)),$AN$7,0))) -> 2 | L11: 1 | M11: 2 | N11: =IF(OR(EXACT($L$7,L11)*(EXACT($M$7,M11)))=TRUE,$AN$9,IF(($M$7-$L$7=M11-L11),$AN$8,IF(OR(EXACT($L$7>$M$7,L11>M11)*EXACT($L$7=$M$7,L11=M11)*EXACT($L$7<$M$7,L11<M11)),$AN$7,0))) -> 3 | O11: 0 | P11: 2 | Q11: =IF(OR(EXACT($O$7,O11)*(EXACT($P$7,P11)))=TRUE,$AN$9,IF(($P$7-$O$7=P11-O11),$AN$8,IF(OR(EXACT($O$7>$P$7,O11>P11)*EXACT($O$7=$P$7,O11=P11)*EXACT($O$7<$P$7,O11<P11)),$AN$7,0))) -> 0 | R11: 0 | S11: 2 | T11: =IF(OR(EXACT($R$7,R11)*(EXACT($S$7,S11)))=TRUE,$AN$9,IF(($S$7-$R$7=S11-R11),$AN$8,IF(OR(EXACT($R$7>$S$7,R11>S11)*EXACT($R$7=$S$7,R11=S11)*EXACT($R$7<$S$7,R11<S11)),$AN$7,0))) -> 2 | U11: 2 | V11: 1 | W11: =IF(OR(EXACT($U$7,U11)*(EXACT($V$7,V11)))=TRUE,$AN$9,IF(($V$7-$U$7=V11-U11),$AN$8,IF(OR(EXACT($U$7>$V$7,U11>V11)*EXACT($U$7=$V$7,U11=V11)*EXACT($U$7<$V$7,U11<V11)),$AN$7,0)))*4 -> 0 | X11: 1 | Y11: 2 | Z11: =IF(OR(EXACT($X$7,X11)*(EXACT($Y$7,Y11)))=TRUE,$AN$9,IF(($Y$7-$X$7=Y11-X11),$AN$8,IF(OR(EXACT($X$7>$Y$7,X11>Y11)*EXACT($X$7=$Y$7,X11=Y11)*EXACT($X$7<$Y$7,X11<Y11)),$AN$7,0))) -> 2 | AA11: 1 | AB11: 1 | AC11: =IF(OR(EXACT($AA$7,AA11)*(EXACT($AB$7,AB11)))=TRUE,$AN$9,IF(($AB$7-$AA$7=AB11-AA11),$AN$8,IF(OR(EXACT($AA$7>$AB$7,AA11>AB11)*EXACT($AA$7=$AB$7,AA11=AB11)*EXACT($AA$7<$AB$7,AA11<AB11)),$AN$7,0))) -> 0 | AG11: =E11+H11+K11+N11+Q11+T11+W11+Z11+AC11+AF11 -> 11 | AH11: ='1.Spieltag'!AI11 -> 11 | AI11: =AG11+AH11 -> 22 | AJ11: =RANK(AI11,$AI$8:$AI$50) -> 11
A12: =AJ12 -> 27 | B12: ='1.Spieltag'!B12 -> CathaHaupt1904 | C12: 2 | D12: 1 | E12: =IF(OR(EXACT($C$7,C12)*(EXACT($D$7,D12)))=TRUE,$AN$9,IF(($D$7-$C$7=D12-C12),$AN$8,IF(OR(EXACT($C$7>$D$7,C12>D12)*EXACT($C$7=$D$7,C12=D12)*EXACT($C$7<$D$7,C12<D12)),$AN$7,0))) -> 2 | F12: 1 | G12: 3 | H12: =IF(OR(EXACT($F$7,F12)*(EXACT($G$7,G12)))=TRUE,$AN$9,IF(($G$7-$F$7=G12-F12),$AN$8,IF(OR(EXACT($F$7>$G$7,F12>G12)*EXACT($F$7=$G$7,F12=G12)*EXACT($F$7<$G$7,F12<G12)),$AN$7,0))) -> 2 | I12: 2 | J12: 0 | K12: =IF(OR(EXACT($I$7,I12)*(EXACT($J$7,J12)))=TRUE,$AN$9,IF(($J$7-$I$7=J12-I12),$AN$8,IF(OR(EXACT($I$7>$J$7,I12>J12)*EXACT($I$7=$J$7,I12=J12)*EXACT($I$7<$J$7,I12<J12)),$AN$7,0))) -> 2 | L12: 1 | M12: 0 | N12: =IF(OR(EXACT($L$7,L12)*(EXACT($M$7,M12)))=TRUE,$AN$9,IF(($M$7-$L$7=M12-L12),$AN$8,IF(OR(EXACT($L$7>$M$7,L12>M12)*EXACT($L$7=$M$7,L12=M12)*EXACT($L$7<$M$7,L12<M12)),$AN$7,0))) -> 0 | O12: 1 | P12: 2 | Q12: =IF(OR(EXACT($O$7,O12)*(EXACT($P$7,P12)))=TRUE,$AN$9,IF(($P$7-$O$7=P12-O12),$AN$8,IF(OR(EXACT($O$7>$P$7,O12>P12)*EXACT($O$7=$P$7,O12=P12)*EXACT($O$7<$P$7,O12<P12)),$AN$7,0))) -> 0 | R12: 2 | S12: 2 | T12: =IF(OR(EXACT($R$7,R12)*(EXACT($S$7,S12)))=TRUE,$AN$9,IF(($S$7-$R$7=S12-R12),$AN$8,IF(OR(EXACT($R$7>$S$7,R12>S12)*EXACT($R$7=$S$7,R12=S12)*EXACT($R$7<$S$7,R12<S12)),$AN$7,0))) -> 0 | U12: 4 | V12: 2 | W12: =IF(OR(EXACT($U$7,U12)*(EXACT($V$7,V12)))=TRUE,$AN$9,IF(($V$7-$U$7=V12-U12),$AN$8,IF(OR(EXACT($U$7>$V$7,U12>V12)*EXACT($U$7=$V$7,U12=V12)*EXACT($U$7<$V$7,U12<V12)),$AN$7,0)))*4 -> 0 | X12: 2 | Y12: 1 | Z12: =IF(OR(EXACT($X$7,X12)*(EXACT($Y$7,Y12)))=TRUE,$AN$9,IF(($Y$7-$X$7=Y12-X12),$AN$8,IF(OR(EXACT($X$7>$Y$7,X12>Y12)*EXACT($X$7=$Y$7,X12=Y12)*EXACT($X$7<$Y$7,X12<Y12)),$AN$7,0))) -> 0 | AA12: 2 | AB12: 2 | AC12: =IF(OR(EXACT($AA$7,AA12)*(EXACT($AB$7,AB12)))=TRUE,$AN$9,IF(($AB$7-$AA$7=AB12-AA12),$AN$8,IF(OR(EXACT($AA$7>$AB$7,AA12>AB12)*EXACT($AA$7=$AB$7,AA12=AB12)*EXACT($AA$7<$AB$7,AA12<AB12)),$AN$7,0))) -> 0 | AG12: =E12+H12+K12+N12+Q12+T12+W12+Z12+AC12+AF12 -> 6 | AH12: ='1.Spieltag'!AI12 -> 7 | AI12: =AG12+AH12 -> 13 | AJ12: =RANK(AI12,$AI$8:$AI$50) -> 27
A13: =AJ13 -> 26 | B13: ='1.Spieltag'!B13 -> Dickmeis04 | C13: 3 | D13: 1 | E13: =IF(OR(EXACT($C$7,C13)*(EXACT($D$7,D13)))=TRUE,$AN$9,IF(($D$7-$C$7=D13-C13),$AN$8,IF(OR(EXACT($C$7>$D$7,C13>D13)*EXACT($C$7=$D$7,C13=D13)*EXACT($C$7<$D$7,C13<D13)),$AN$7,0))) -> 2 | F13: 2 | G13: 2 | H13: =IF(OR(EXACT($F$7,F13)*(EXACT($G$7,G13)))=TRUE,$AN$9,IF(($G$7-$F$7=G13-F13),$AN$8,IF(OR(EXACT($F$7>$G$7,F13>G13)*EXACT($F$7=$G$7,F13=G13)*EXACT($F$7<$G$7,F13<G13)),$AN$7,0))) -> 0 | I13: 1 | J13: 1 | K13: =IF(OR(EXACT($I$7,I13)*(EXACT($J$7,J13)))=TRUE,$AN$9,IF(($J$7-$I$7=J13-I13),$AN$8,IF(OR(EXACT($I$7>$J$7,I13>J13)*EXACT($I$7=$J$7,I13=J13)*EXACT($I$7<$J$7,I13<J13)),$AN$7,0))) -> 0 | L13: 1 | M13: 2 | N13: =IF(OR(EXACT($L$7,L13)*(EXACT($M$7,M13)))=TRUE,$AN$9,IF(($M$7-$L$7=M13-L13),$AN$8,IF(OR(EXACT($L$7>$M$7,L13>M13)*EXACT($L$7=$M$7,L13=M13)*EXACT($L$7<$M$7,L13<M13)),$AN$7,0))) -> 3 | O13: 1 | P13: 3 | Q13: =IF(OR(EXACT($O$7,O13)*(EXACT($P$7,P13)))=TRUE,$AN$9,IF(($P$7-$O$7=P13-O13),$AN$8,IF(OR(EXACT($O$7>$P$7,O13>P13)*EXACT($O$7=$P$7,O13=P13)*EXACT($O$7<$P$7,O13<P13)),$AN$7,0))) -> 0 | R13: 2 | S13: 3 | T13: =IF(OR(EXACT($R$7,R13)*(EXACT($S$7,S13)))=TRUE,$AN$9,IF(($S$7-$R$7=S13-R13),$AN$8,IF(OR(EXACT($R$7>$S$7,R13>S13)*EXACT($R$7=$S$7,R13=S13)*EXACT($R$7<$S$7,R13<S13)),$AN$7,0))) -> 3 | U13: 2 | V13: 1 | W13: =IF(OR(EXACT($U$7,U13)*(EXACT($V$7,V13)))=TRUE,$AN$9,IF(($V$7-$U$7=V13-U13),$AN$8,IF(OR(EXACT($U$7>$V$7,U13>V13)*EXACT($U$7=$V$7,U13=V13)*EXACT($U$7<$V$7,U13<V13)),$AN$7,0)))*4 -> 0 | X13: 2 | Y13: 2 | Z13: =IF(OR(EXACT($X$7,X13)*(EXACT($Y$7,Y13)))=TRUE,$AN$9,IF(($Y$7-$X$7=Y13-X13),$AN$8,IF(OR(EXACT($X$7>$Y$7,X13>Y13)*EXACT($X$7=$Y$7,X13=Y13)*EXACT($X$7<$Y$7,X13<Y13)),$AN$7,0))) -> 0 | AA13: 1 | AB13: 1 | AC13: =IF(OR(EXACT($AA$7,AA13)*(EXACT($AB$7,AB13)))=TRUE,$AN$9,IF(($AB$7-$AA$7=AB13-AA13),$AN$8,IF(OR(EXACT($AA$7>$AB$7,AA13>AB13)*EXACT($AA$7=$AB$7,AA13=AB13)*EXACT($AA$7<$AB$7,AA13<AB13)),$AN$7,0))) -> 0 | AG13: =E13+H13+K13+N13+Q13+T13+W13+Z13+AC13+AF13 -> 8 | AH13: ='1.Spieltag'!AI13 -> 6 | AI13: =AG13+AH13 -> 14 | AJ13: =RANK(AI13,$AI$8:$AI$50) -> 26
A14: =AJ14 -> 11 | B14: ='1.Spieltag'!B14 -> fabian1904 | C14: 3 | D14: 1 | E14: =IF(OR(EXACT($C$7,C14)*(EXACT($D$7,D14)))=TRUE,$AN$9,IF(($D$7-$C$7=D14-C14),$AN$8,IF(OR(EXACT($C$7>$D$7,C14>D14)*EXACT($C$7=$D$7,C14=D14)*EXACT($C$7<$D$7,C14<D14)),$AN$7,0))) -> 2 | F14: 0 | G14: 2 | H14: =IF(OR(EXACT($F$7,F14)*(EXACT($G$7,G14)))=TRUE,$AN$9,IF(($G$7-$F$7=G14-F14),$AN$8,IF(OR(EXACT($F$7>$G$7,F14>G14)*EXACT($F$7=$G$7,F14=G14)*EXACT($F$7<$G$7,F14<G14)),$AN$7,0))) -> 2 | I14: 4 | J14: 1 | K14: =IF(OR(EXACT($I$7,I14)*(EXACT($J$7,J14)))=TRUE,$AN$9,IF(($J$7-$I$7=J14-I14),$AN$8,IF(OR(EXACT($I$7>$J$7,I14>J14)*EXACT($I$7=$J$7,I14=J14)*EXACT($I$7<$J$7,I14<J14)),$AN$7,0))) -> 2 | L14: 2 | M14: 1 | N14: =IF(OR(EXACT($L$7,L14)*(EXACT($M$7,M14)))=TRUE,$AN$9,IF(($M$7-$L$7=M14-L14),$AN$8,IF(OR(EXACT($L$7>$M$7,L14>M14)*EXACT($L$7=$M$7,L14=M14)*EXACT($L$7<$M$7,L14<M14)),$AN$7,0))) -> 0 | O14: 0 | P14: 5 | Q14: =IF(OR(EXACT($O$7,O14)*(EXACT($P$7,P14)))=TRUE,$AN$9,IF(($P$7-$O$7=P14-O14),$AN$8,IF(OR(EXACT($O$7>$P$7,O14>P14)*EXACT($O$7=$P$7,O14=P14)*EXACT($O$7<$P$7,O14<P14)),$AN$7,0))) -> 0 | R14: 0 | S14: 1 | T14: =IF(OR(EXACT($R$7,R14)*(EXACT($S$7,S14)))=TRUE,$AN$9,IF(($S$7-$R$7=S14-R14),$AN$8,IF(OR(EXACT($R$7>$S$7,R14>S14)*EXACT($R$7=$S$7,R14=S14)*EXACT($R$7<$S$7,R14<S14)),$AN$7,0))) -> 5 | U14: 2 | V14: 1 | W14: =IF(OR(EXACT($U$7,U14)*(EXACT($V$7,V14)))=TRUE,$AN$9,IF(($V$7-$U$7=V14-U14),$AN$8,IF(OR(EXACT($U$7>$V$7,U14>V14)*EXACT($U$7=$V$7,U14=V14)*EXACT($U$7<$V$7,U14<V14)),$AN$7,0)))*4 -> 0 | X14: 2 | Y14: 2 | Z14: =IF(OR(EXACT($X$7,X14)*(EXACT($Y$7,Y14)))=TRUE,$AN$9,IF(($Y$7-$X$7=Y14-X14),$AN$8,IF(OR(EXACT($X$7>$Y$7,X14>Y14)*EXACT($X$7=$Y$7,X14=Y14)*EXACT($X$7<$Y$7,X14<Y14)),$AN$7,0))) -> 0 | AA14: 3 | AB14: 2 | AC14: =IF(OR(EXACT($AA$7,AA14)*(EXACT($AB$7,AB14)))=TRUE,$AN$9,IF(($AB$7-$AA$7=AB14-AA14),$AN$8,IF(OR(EXACT($AA$7>$AB$7,AA14>AB14)*EXACT($AA$7=$AB$7,AA14=AB14)*EXACT($AA$7<$AB$7,AA14<AB14)),$AN$7,0))) -> 0 | AG14: =E14+H14+K14+N14+Q14+T14+W14+Z14+AC14+AF14 -> 11 | AH14: ='1.Spieltag'!AI14 -> 11 | AI14: =AG14+AH14 -> 22 | AJ14: =RANK(AI14,$AI$8:$AI$50) -> 11
A15: =AJ15 -> 8 | B15: ='1.Spieltag'!B15 -> Franzi04 | C15: 2 | D15: 1 | E15: =IF(OR(EXACT($C$7,C15)*(EXACT($D$7,D15)))=TRUE,$AN$9,IF(($D$7-$C$7=D15-C15),$AN$8,IF(OR(EXACT($C$7>$D$7,C15>D15)*EXACT($C$7=$D$7,C15=D15)*EXACT($C$7<$D$7,C15<D15)),$AN$7,0))) -> 2 | F15: 1 | G15: 3 | H15: =IF(OR(EXACT($F$7,F15)*(EXACT($G$7,G15)))=TRUE,$AN$9,IF(($G$7-$F$7=G15-F15),$AN$8,IF(OR(EXACT($F$7>$G$7,F15>G15)*EXACT($F$7=$G$7,F15=G15)*EXACT($F$7<$G$7,F15<G15)),$AN$7,0))) -> 2 | I15: 2 | J15: 0 | K15: =IF(OR(EXACT($I$7,I15)*(EXACT($J$7,J15)))=TRUE,$AN$9,IF(($J$7-$I$7=J15-I15),$AN$8,IF(OR(EXACT($I$7>$J$7,I15>J15)*EXACT($I$7=$J$7,I15=J15)*EXACT($I$7<$J$7,I15<J15)),$AN$7,0))) -> 2 | L15: 1 | M15: 2 | N15: =IF(OR(EXACT($L$7,L15)*(EXACT($M$7,M15)))=TRUE,$AN$9,IF(($M$7-$L$7=M15-L15),$AN$8,IF(OR(EXACT($L$7>$M$7,L15>M15)*EXACT($L$7=$M$7,L15=M15)*EXACT($L$7<$M$7,L15<M15)),$AN$7,0))) -> 3 | O15: 0 | P15: 3 | Q15: =IF(OR(EXACT($O$7,O15)*(EXACT($P$7,P15)))=TRUE,$AN$9,IF(($P$7-$O$7=P15-O15),$AN$8,IF(OR(EXACT($O$7>$P$7,O15>P15)*EXACT($O$7=$P$7,O15=P15)*EXACT($O$7<$P$7,O15<P15)),$AN$7,0))) -> 0 | R15: 0 | S15: 2 | T15: =IF(OR(EXACT($R$7,R15)*(EXACT($S$7,S15)))=TRUE,$AN$9,IF(($S$7-$R$7=S15-R15),$AN$8,IF(OR(EXACT($R$7>$S$7,R15>S15)*EXACT($R$7=$S$7,R15=S15)*EXACT($R$7<$S$7,R15<S15)),$AN$7,0))) -> 2 | U15: 2 | V15: 1 | W15: =IF(OR(EXACT($U$7,U15)*(EXACT($V$7,V15)))=TRUE,$AN$9,IF(($V$7-$U$7=V15-U15),$AN$8,IF(OR(EXACT($U$7>$V$7,U15>V15)*EXACT($U$7=$V$7,U15=V15)*EXACT($U$7<$V$7,U15<V15)),$AN$7,0)))*4 -> 0 | X15: 2 | Y15: 1 | Z15: =IF(OR(EXACT($X$7,X15)*(EXACT($Y$7,Y15)))=TRUE,$AN$9,IF(($Y$7-$X$7=Y15-X15),$AN$8,IF(OR(EXACT($X$7>$Y$7,X15>Y15)*EXACT($X$7=$Y$7,X15=Y15)*EXACT($X$7<$Y$7,X15<Y15)),$AN$7,0))) -> 0 | AA15: 2 | AB15: 0 | AC15: =IF(OR(EXACT($AA$7,AA15)*(EXACT($AB$7,AB15)))=TRUE,$AN$9,IF(($AB$7-$AA$7=AB15-AA15),$AN$8,IF(OR(EXACT($AA$7>$AB$7,AA15>AB15)*EXACT($AA$7=$AB$7,AA15=AB15)*EXACT($AA$7<$AB$7,AA15<AB15)),$AN$7,0))) -> 0 | AG15: =E15+H15+K15+N15+Q15+T15+W15+Z15+AC15+AF15 -> 11 | AH15: ='1.Spieltag'!AI15 -> 14 | AI15: =AG15+AH15 -> 25 | AJ15: =RANK(AI15,$AI$8:$AI$50) -> 8
A16: =AJ16 -> 18 | B16: ='1.Spieltag'!B16 -> Jasmin1985 | C16: 2 | D16: 1 | E16: =IF(OR(EXACT($C$7,C16)*(EXACT($D$7,D16)))=TRUE,$AN$9,IF(($D$7-$C$7=D16-C16),$AN$8,IF(OR(EXACT($C$7>$D$7,C16>D16)*EXACT($C$7=$D$7,C16=D16)*EXACT($C$7<$D$7,C16<D16)),$AN$7,0))) -> 2 | F16: 1 | G16: 3 | H16: =IF(OR(EXACT($F$7,F16)*(EXACT($G$7,G16)))=TRUE,$AN$9,IF(($G$7-$F$7=G16-F16),$AN$8,IF(OR(EXACT($F$7>$G$7,F16>G16)*EXACT($F$7=$G$7,F16=G16)*EXACT($F$7<$G$7,F16<G16)),$AN$7,0))) -> 2 | I16: 2 | J16: 1 | K16: =IF(OR(EXACT($I$7,I16)*(EXACT($J$7,J16)))=TRUE,$AN$9,IF(($J$7-$I$7=J16-I16),$AN$8,IF(OR(EXACT($I$7>$J$7,I16>J16)*EXACT($I$7=$J$7,I16=J16)*EXACT($I$7<$J$7,I16<J16)),$AN$7,0))) -> 2 | L16: 2 | M16: 1 | N16: =IF(OR(EXACT($L$7,L16)*(EXACT($M$7,M16)))=TRUE,$AN$9,IF(($M$7-$L$7=M16-L16),$AN$8,IF(OR(EXACT($L$7>$M$7,L16>M16)*EXACT($L$7=$M$7,L16=M16)*EXACT($L$7<$M$7,L16<M16)),$AN$7,0))) -> 0 | O16: 1 | P16: 3 | Q16: =IF(OR(EXACT($O$7,O16)*(EXACT($P$7,P16)))=TRUE,$AN$9,IF(($P$7-$O$7=P16-O16),$AN$8,IF(OR(EXACT($O$7>$P$7,O16>P16)*EXACT($O$7=$P$7,O16=P16)*EXACT($O$7<$P$7,O16<P16)),$AN$7,0))) -> 0 | R16: 1 | S16: 2 | T16: =IF(OR(EXACT($R$7,R16)*(EXACT($S$7,S16)))=TRUE,$AN$9,IF(($S$7-$R$7=S16-R16),$AN$8,IF(OR(EXACT($R$7>$S$7,R16>S16)*EXACT($R$7=$S$7,R16=S16)*EXACT($R$7<$S$7,R16<S16)),$AN$7,0))) -> 3 | U16: 1 | V16: 2 | W16: =IF(OR(EXACT($U$7,U16)*(EXACT($V$7,V16)))=TRUE,$AN$9,IF(($V$7-$U$7=V16-U16),$AN$8,IF(OR(EXACT($U$7>$V$7,U16>V16)*EXACT($U$7=$V$7,U16=V16)*EXACT($U$7<$V$7,U16<V16)),$AN$7,0))) -> 0 | X16: 1 | Y16: 1 | Z16: =IF(OR(EXACT($X$7,X16)*(EXACT($Y$7,Y16)))=TRUE,$AN$9,IF(($Y$7-$X$7=Y16-X16),$AN$8,IF(OR(EXACT($X$7>$Y$7,X16>Y16)*EXACT($X$7=$Y$7,X16=Y16)*EXACT($X$7<$Y$7,X16<Y16)),$AN$7,0))) -> 0 | AA16: 2 | AB16: 1 | AC16: =IF(OR(EXACT($AA$7,AA16)*(EXACT($AB$7,AB16)))=TRUE,$AN$9,IF(($AB$7-$AA$7=AB16-AA16),$AN$8,IF(OR(EXACT($AA$7>$AB$7,AA16>AB16)*EXACT($AA$7=$AB$7,AA16=AB16)*EXACT($AA$7<$AB$7,AA16<AB16)),$AN$7,0))) -> 0 | AG16: =E16+K16+Q16+T16+N16+H16+W16+Z16+AC16+AF16 -> 9 | AH16: ='1.Spieltag'!AI16 -> 9 | AI16: =AG16+AH16 -> 18 | AJ16: =RANK(AI16,$AI$8:$AI$50) -> 18
A17: =AJ17 -> 1 | B17: ='1.Spieltag'!B17 -> Jean-Pierre | C17: 2 | D17: 1 | E17: =IF(OR(EXACT($C$7,C17)*(EXACT($D$7,D17)))=TRUE,$AN$9,IF(($D$7-$C$7=D17-C17),$AN$8,IF(OR(EXACT($C$7>$D$7,C17>D17)*EXACT($C$7=$D$7,C17=D17)*EXACT($C$7<$D$7,C17<D17)),$AN$7,0))) -> 2 | F17: 1 | G17: 3 | H17: =IF(OR(EXACT($F$7,F17)*(EXACT($G$7,G17)))=TRUE,$AN$9,IF(($G$7-$F$7=G17-F17),$AN$8,IF(OR(EXACT($F$7>$G$7,F17>G17)*EXACT($F$7=$G$7,F17=G17)*EXACT($F$7<$G$7,F17<G17)),$AN$7,0))) -> 2 | I17: 1 | J17: 1 | K17: =IF(OR(EXACT($I$7,I17)*(EXACT($J$7,J17)))=TRUE,$AN$9,IF(($J$7-$I$7=J17-I17),$AN$8,IF(OR(EXACT($I$7>$J$7,I17>J17)*EXACT($I$7=$J$7,I17=J17)*EXACT($I$7<$J$7,I17<J17)),$AN$7,0))) -> 0 | L17: 1 | M17: 2 | N17: =IF(OR(EXACT($L$7,L17)*(EXACT($M$7,M17)))=TRUE,$AN$9,IF(($M$7-$L$7=M17-L17),$AN$8,IF(OR(EXACT($L$7>$M$7,L17>M17)*EXACT($L$7=$M$7,L17=M17)*EXACT($L$7<$M$7,L17<M17)),$AN$7,0))) -> 3 | O17: 1 | P17: 2 | Q17: =IF(OR(EXACT($O$7,O17)*(EXACT($P$7,P17)))=TRUE,$AN$9,IF(($P$7-$O$7=P17-O17),$AN$8,IF(OR(EXACT($O$7>$P$7,O17>P17)*EXACT($O$7=$P$7,O17=P17)*EXACT($O$7<$P$7,O17<P17)),$AN$7,0))) -> 0 | R17: 1 | S17: 2 | T17: =IF(OR(EXACT($R$7,R17)*(EXACT($S$7,S17)))=TRUE,$AN$9,IF(($S$7-$R$7=S17-R17),$AN$8,IF(OR(EXACT($R$7>$S$7,R17>S17)*EXACT($R$7=$S$7,R17=S17)*EXACT($R$7<$S$7,R17<S17)),$AN$7,0))) -> 3 | U17: 6 | V17: 6 | W17: =IF(OR(EXACT($U$7,U17)*(EXACT($V$7,V17)))=TRUE,$AN$9,IF(($V$7-$U$7=V17-U17),$AN$8,IF(OR(EXACT($U$7>$V$7,U17>V17)*EXACT($U$7=$V$7,U17=V17)*EXACT($U$7<$V$7,U17<V17)),$AN$7,0)))*2 -> 6 | X17: 2 | Y17: 1 | Z17: =IF(OR(EXACT($X$7,X17)*(EXACT($Y$7,Y17)))=TRUE,$AN$9,IF(($Y$7-$X$7=Y17-X17),$AN$8,IF(OR(EXACT($X$7>$Y$7,X17>Y17)*EXACT($X$7=$Y$7,X17=Y17)*EXACT($X$7<$Y$7,X17<Y17)),$AN$7,0))) -> 0 | AA17: 2 | AB17: 1 | AC17: =IF(OR(EXACT($AA$7,AA17)*(EXACT($AB$7,AB17)))=TRUE,$AN$9,IF(($AB$7-$AA$7=AB17-AA17),$AN$8,IF(OR(EXACT($AA$7>$AB$7,AA17>AB17)*EXACT($AA$7=$AB$7,AA17=AB17)*EXACT($AA$7<$AB$7,AA17<AB17)),$AN$7,0))) -> 0 | AG17: =E17+H17+K17+N17+Q17+T17+W17+Z17+AC17+AF17 -> 16 | AH17: ='1.Spieltag'!AI17 -> 14 | AI17: =AG17+AH17 -> 30 | AJ17: =RANK(AI17,$AI$8:$AI$50) -> 1
A18: =AJ18 -> 4 | B18: ='1.Spieltag'!B18 -> jupp04 | C18: 3 | D18: 1 | E18: =IF(OR(EXACT($C$7,C18)*(EXACT($D$7,D18)))=TRUE,$AN$9,IF(($D$7-$C$7=D18-C18),$AN$8,IF(OR(EXACT($C$7>$D$7,C18>D18)*EXACT($C$7=$D$7,C18=D18)*EXACT($C$7<$D$7,C18<D18)),$AN$7,0))) -> 2 | F18: 1 | G18: 3 | H18: =IF(OR(EXACT($F$7,F18)*(EXACT($G$7,G18)))=TRUE,$AN$9,IF(($G$7-$F$7=G18-F18),$AN$8,IF(OR(EXACT($F$7>$G$7,F18>G18)*EXACT($F$7=$G$7,F18=G18)*EXACT($F$7<$G$7,F18<G18)),$AN$7,0))) -> 2 | I18: 2 | J18: 2 | K18: =IF(OR(EXACT($I$7,I18)*(EXACT($J$7,J18)))=TRUE,$AN$9,IF(($J$7-$I$7=J18-I18),$AN$8,IF(OR(EXACT($I$7>$J$7,I18>J18)*EXACT($I$7=$J$7,I18=J18)*EXACT($I$7<$J$7,I18<J18)),$AN$7,0))) -> 0 | L18: 2 | M18: 2 | N18: =IF(OR(EXACT($L$7,L18)*(EXACT($M$7,M18)))=TRUE,$AN$9,IF(($M$7-$L$7=M18-L18),$AN$8,IF(OR(EXACT($L$7>$M$7,L18>M18)*EXACT($L$7=$M$7,L18=M18)*EXACT($L$7<$M$7,L18<M18)),$AN$7,0))) -> 0 | O18: 1 | P18: 3 | Q18: =IF(OR(EXACT($O$7,O18)*(EXACT($P$7,P18)))=TRUE,$AN$9,IF(($P$7-$O$7=P18-O18),$AN$8,IF(OR(EXACT($O$7>$P$7,O18>P18)*EXACT($O$7=$P$7,O18=P18)*EXACT($O$7<$P$7,O18<P18)),$AN$7,0))) -> 0 | R18: 1 | S18: 3 | T18: =IF(OR(EXACT($R$7,R18)*(EXACT($S$7,S18)))=TRUE,$AN$9,IF(($S$7-$R$7=S18-R18),$AN$8,IF(OR(EXACT($R$7>$S$7,R18>S18)*EXACT($R$7=$S$7,R18=S18)*EXACT($R$7<$S$7,R18<S18)),$AN$7,0))) -> 2 | U18: 1 | V18: 1 | W18: =IF(OR(EXACT($U$7,U18)*(EXACT($V$7,V18)))=TRUE,$AN$9,IF(($V$7-$U$7=V18-U18),$AN$8,IF(OR(EXACT($U$7>$V$7,U18>V18)*EXACT($U$7=$V$7,U18=V18)*EXACT($U$7<$V$7,U18<V18)),$AN$7,0)))*2 -> 6 | X18: 1 | Y18: 2 | Z18: =IF(OR(EXACT($X$7,X18)*(EXACT($Y$7,Y18)))=TRUE,$AN$9,IF(($Y$7-$X$7=Y18-X18),$AN$8,IF(OR(EXACT($X$7>$Y$7,X18>Y18)*EXACT($X$7=$Y$7,X18=Y18)*EXACT($X$7<$Y$7,X18<Y18)),$AN$7,0))) -> 2 | AA18: 2 | AB18: 2 | AC18: =IF(OR(EXACT($AA$7,AA18)*(EXACT($AB$7,AB18)))=TRUE,$AN$9,IF(($AB$7-$AA$7=AB18-AA18),$AN$8,IF(OR(EXACT($AA$7>$AB$7,AA18>AB18)*EXACT($AA$7=$AB$7,AA18=AB18)*EXACT($AA$7<$AB$7,AA18<AB18)),$AN$7,0))) -> 0 | AG18: =E18+H18+K18+N18+Q18+T18+W18+Z18+AC18+AF18 -> 14 | AH18: ='1.Spieltag'!AI18 -> 14 | AI18: =AG18+AH18 -> 28 | AJ18: =RANK(AI18,$AI$8:$AI$50) -> 4
A19: =AJ19 -> 8 | B19: ='1.Spieltag'!B19 -> Justin_Ignr | C19: 2 | D19: 0 | E19: =IF(OR(EXACT($C$7,C19)*(EXACT($D$7,D19)))=TRUE,$AN$9,IF(($D$7-$C$7=D19-C19),$AN$8,IF(OR(EXACT($C$7>$D$7,C19>D19)*EXACT($C$7=$D$7,C19=D19)*EXACT($C$7<$D$7,C19<D19)),$AN$7,0))) -> 2 | F19: 1 | G19: 3 | H19: =IF(OR(EXACT($F$7,F19)*(EXACT($G$7,G19)))=TRUE,$AN$9,IF(($G$7-$F$7=G19-F19),$AN$8,IF(OR(EXACT($F$7>$G$7,F19>G19)*EXACT($F$7=$G$7,F19=G19)*EXACT($F$7<$G$7,F19<G19)),$AN$7,0))) -> 2 | I19: 2 | J19: 2 | K19: =IF(OR(EXACT($I$7,I19)*(EXACT($J$7,J19)))=TRUE,$AN$9,IF(($J$7-$I$7=J19-I19),$AN$8,IF(OR(EXACT($I$7>$J$7,I19>J19)*EXACT($I$7=$J$7,I19=J19)*EXACT($I$7<$J$7,I19<J19)),$AN$7,0))) -> 0 | L19: 2 | M19: 0 | N19: =IF(OR(EXACT($L$7,L19)*(EXACT($M$7,M19)))=TRUE,$AN$9,IF(($M$7-$L$7=M19-L19),$AN$8,IF(OR(EXACT($L$7>$M$7,L19>M19)*EXACT($L$7=$M$7,L19=M19)*EXACT($L$7<$M$7,L19<M19)),$AN$7,0))) -> 0 | O19: 0 | P19: 2 | Q19: =IF(OR(EXACT($O$7,O19)*(EXACT($P$7,P19)))=TRUE,$AN$9,IF(($P$7-$O$7=P19-O19),$AN$8,IF(OR(EXACT($O$7>$P$7,O19>P19)*EXACT($O$7=$P$7,O19=P19)*EXACT($O$7<$P$7,O19<P19)),$AN$7,0))) -> 0 | R19: 1 | S19: 2 | T19: =IF(OR(EXACT($R$7,R19)*(EXACT($S$7,S19)))=TRUE,$AN$9,IF(($S$7-$R$7=S19-R19),$AN$8,IF(OR(EXACT($R$7>$S$7,R19>S19)*EXACT($R$7=$S$7,R19=S19)*EXACT($R$7<$S$7,R19<S19)),$AN$7,0))) -> 3 | U19: 1 | V19: 1 | W19: =IF(OR(EXACT($U$7,U19)*(EXACT($V$7,V19)))=TRUE,$AN$9,IF(($V$7-$U$7=V19-U19),$AN$8,IF(OR(EXACT($U$7>$V$7,U19>V19)*EXACT($U$7=$V$7,U19=V19)*EXACT($U$7<$V$7,U19<V19)),$AN$7,0)))*2 -> 6 | X19: 0 | Y19: 2 | Z19: =IF(OR(EXACT($X$7,X19)*(EXACT($Y$7,Y19)))=TRUE,$AN$9,IF(($Y$7-$X$7=Y19-X19),$AN$8,IF(OR(EXACT($X$7>$Y$7,X19>Y19)*EXACT($X$7=$Y$7,X19=Y19)*EXACT($X$7<$Y$7,X19<Y19)),$AN$7,0))) -> 2 | AA19: 1 | AB19: 1 | AC19: =IF(OR(EXACT($AA$7,AA19)*(EXACT($AB$7,AB19)))=TRUE,$AN$9,IF(($AB$7-$AA$7=AB19-AA19),$AN$8,IF(OR(EXACT($AA$7>$AB$7,AA19>AB19)*EXACT($AA$7=$AB$7,AA19=AB19)*EXACT($AA$7<$AB$7,AA19<AB19)),$AN$7,0))) -> 0 | AG19: =E19+H19+K19+N19+Q19+T19+W19+Z19+AC19+AF19 -> 15 | AH19: ='1.Spieltag'!AI19 -> 10 | AI19: =AG19+AH19 -> 25 | AJ19: =RANK(AI19,$AI$8:$AI$50) -> 8
A20: =AJ20 -> 27 | B20: ='1.Spieltag'!B20 -> Kiki | C20: 3 | D20: 1 | E20: =IF(OR(EXACT($C$7,C20)*(EXACT($D$7,D20)))=TRUE,$AN$9,IF(($D$7-$C$7=D20-C20),$AN$8,IF(OR(EXACT($C$7>$D$7,C20>D20)*EXACT($C$7=$D$7,C20=D20)*EXACT($C$7<$D$7,C20<D20)),$AN$7,0))) -> 2 | F20: 1 | G20: 1 | H20: =IF(OR(EXACT($F$7,F20)*(EXACT($G$7,G20)))=TRUE,$AN$9,IF(($G$7-$F$7=G20-F20),$AN$8,IF(OR(EXACT($F$7>$G$7,F20>G20)*EXACT($F$7=$G$7,F20=G20)*EXACT($F$7<$G$7,F20<G20)),$AN$7,0))) -> 0 | I20: 3 | J20: 1 | K20: =IF(OR(EXACT($I$7,I20)*(EXACT($J$7,J20)))=TRUE,$AN$9,IF(($J$7-$I$7=J20-I20),$AN$8,IF(OR(EXACT($I$7>$J$7,I20>J20)*EXACT($I$7=$J$7,I20=J20)*EXACT($I$7<$J$7,I20<J20)),$AN$7,0))) -> 2 | L20: 1 | M20: 1 | N20: =IF(OR(EXACT($L$7,L20)*(EXACT($M$7,M20)))=TRUE,$AN$9,IF(($M$7-$L$7=M20-L20),$AN$8,IF(OR(EXACT($L$7>$M$7,L20>M20)*EXACT($L$7=$M$7,L20=M20)*EXACT($L$7<$M$7,L20<M20)),$AN$7,0))) -> 0 | O20: 1 | P20: 2 | Q20: =IF(OR(EXACT($O$7,O20)*(EXACT($P$7,P20)))=TRUE,$AN$9,IF(($P$7-$O$7=P20-O20),$AN$8,IF(OR(EXACT($O$7>$P$7,O20>P20)*EXACT($O$7=$P$7,O20=P20)*EXACT($O$7<$P$7,O20<P20)),$AN$7,0))) -> 0 | R20: 1 | S20: 1 | T20: =IF(OR(EXACT($R$7,R20)*(EXACT($S$7,S20)))=TRUE,$AN$9,IF(($S$7-$R$7=S20-R20),$AN$8,IF(OR(EXACT($R$7>$S$7,R20>S20)*EXACT($R$7=$S$7,R20=S20)*EXACT($R$7<$S$7,R20<S20)),$AN$7,0))) -> 0 | U20: 2 | V20: 1 | W20: =IF(OR(EXACT($U$7,U20)*(EXACT($V$7,V20)))=TRUE,$AN$9,IF(($V$7-$U$7=V20-U20),$AN$8,IF(OR(EXACT($U$7>$V$7,U20>V20)*EXACT($U$7=$V$7,U20=V20)*EXACT($U$7<$V$7,U20<V20)),$AN$7,0)))*4 -> 0 | X20: 2 | Y20: 0 | Z20: =IF(OR(EXACT($X$7,X20)*(EXACT($Y$7,Y20)))=TRUE,$AN$9,IF(($Y$7-$X$7=Y20-X20),$AN$8,IF(OR(EXACT($X$7>$Y$7,X20>Y20)*EXACT($X$7=$Y$7,X20=Y20)*EXACT($X$7<$Y$7,X20<Y20)),$AN$7,0))) -> 0 | AA20: 3 | AB20: 1 | AC20: =IF(OR(EXACT($AA$7,AA20)*(EXACT($AB$7,AB20)))=TRUE,$AN$9,IF(($AB$7-$AA$7=AB20-AA20),$AN$8,IF(OR(EXACT($AA$7>$AB$7,AA20>AB20)*EXACT($AA$7=$AB$7,AA20=AB20)*EXACT($AA$7<$AB$7,AA20<AB20)),$AN$7,0))) -> 0 | AG20: =E20+H20+K20+N20+Q20+T20+W20+Z20+AC20+AF20 -> 4 | AH20: ='1.Spieltag'!AI20 -> 9 | AI20: =AG20+AH20 -> 13 | AJ20: =RANK(AI20,$AI$8:$AI$50) -> 27
A21: =AJ21 -> 1 | B21: ='1.Spieltag'!B21 -> Lola04 | C21: 3 | D21: 1 | E21: =IF(OR(EXACT($C$7,C21)*(EXACT($D$7,D21)))=TRUE,$AN$9,IF(($D$7-$C$7=D21-C21),$AN$8,IF(OR(EXACT($C$7>$D$7,C21>D21)*EXACT($C$7=$D$7,C21=D21)*EXACT($C$7<$D$7,C21<D21)),$AN$7,0))) -> 2 | F21: 1 | G21: 2 | H21: =IF(OR(EXACT($F$7,F21)*(EXACT($G$7,G21)))=TRUE,$AN$9,IF(($G$7-$F$7=G21-F21),$AN$8,IF(OR(EXACT($F$7>$G$7,F21>G21)*EXACT($F$7=$G$7,F21=G21)*EXACT($F$7<$G$7,F21<G21)),$AN$7,0))) -> 3 | I21: 2 | J21: 1 | K21: =IF(OR(EXACT($I$7,I21)*(EXACT($J$7,J21)))=TRUE,$AN$9,IF(($J$7-$I$7=J21-I21),$AN$8,IF(OR(EXACT($I$7>$J$7,I21>J21)*EXACT($I$7=$J$7,I21=J21)*EXACT($I$7<$J$7,I21<J21)),$AN$7,0))) -> 2 | L21: 1 | M21: 0 | N21: =IF(OR(EXACT($L$7,L21)*(EXACT($M$7,M21)))=TRUE,$AN$9,IF(($M$7-$L$7=M21-L21),$AN$8,IF(OR(EXACT($L$7>$M$7,L21>M21)*EXACT($L$7=$M$7,L21=M21)*EXACT($L$7<$M$7,L21<M21)),$AN$7,0))) -> 0 | O21: 1 | P21: 2 | Q21: =IF(OR(EXACT($O$7,O21)*(EXACT($P$7,P21)))=TRUE,$AN$9,IF(($P$7-$O$7=P21-O21),$AN$8,IF(OR(EXACT($O$7>$P$7,O21>P21)*EXACT($O$7=$P$7,O21=P21)*EXACT($O$7<$P$7,O21<P21)),$AN$7,0))) -> 0 | R21: 0 | S21: 1 | T21: =IF(OR(EXACT($R$7,R21)*(EXACT($S$7,S21)))=TRUE,$AN$9,IF(($S$7-$R$7=S21-R21),$AN$8,IF(OR(EXACT($R$7>$S$7,R21>S21)*EXACT($R$7=$S$7,R21=S21)*EXACT($R$7<$S$7,R21<S21)),$AN$7,0))) -> 5 | U21: 1 | V21: 1 | W21: =IF(OR(EXACT($U$7,U21)*(EXACT($V$7,V21)))=TRUE,$AN$9,IF(($V$7-$U$7=V21-U21),$AN$8,IF(OR(EXACT($U$7>$V$7,U21>V21)*EXACT($U$7=$V$7,U21=V21)*EXACT($U$7<$V$7,U21<V21)),$AN$7,0)))*2 -> 6 | X21: 1 | Y21: 0 | Z21: =IF(OR(EXACT($X$7,X21)*(EXACT($Y$7,Y21)))=TRUE,$AN$9,IF(($Y$7-$X$7=Y21-X21),$AN$8,IF(OR(EXACT($X$7>$Y$7,X21>Y21)*EXACT($X$7=$Y$7,X21=Y21)*EXACT($X$7<$Y$7,X21<Y21)),$AN$7,0))) -> 0 | AA21: 2 | AB21: 1 | AC21: =IF(OR(EXACT($AA$7,AA21)*(EXACT($AB$7,AB21)))=TRUE,$AN$9,IF(($AB$7-$AA$7=AB21-AA21),$AN$8,IF(OR(EXACT($AA$7>$AB$7,AA21>AB21)*EXACT($AA$7=$AB$7,AA21=AB21)*EXACT($AA$7<$AB$7,AA21<AB21)),$AN$7,0))) -> 0 | AG21: =E21+H21+K21+N21+Q21+T21+W21+Z21+AC21+AF21 -> 18 | AH21: ='1.Spieltag'!AI21 -> 12 | AI21: =AG21+AH21 -> 30 | AJ21: =RANK(AI21,$AI$8:$AI$50) -> 1
A22: =AJ22 -> 18 | B22: ='1.Spieltag'!B22 -> Markus Müller | C22: 2 | D22: 0 | E22: =IF(OR(EXACT($C$7,C22)*(EXACT($D$7,D22)))=TRUE,$AN$9,IF(($D$7-$C$7=D22-C22),$AN$8,IF(OR(EXACT($C$7>$D$7,C22>D22)*EXACT($C$7=$D$7,C22=D22)*EXACT($C$7<$D$7,C22<D22)),$AN$7,0))) -> 2 | F22: 1 | G22: 3 | H22: =IF(OR(EXACT($F$7,F22)*(EXACT($G$7,G22)))=TRUE,$AN$9,IF(($G$7-$F$7=G22-F22),$AN$8,IF(OR(EXACT($F$7>$G$7,F22>G22)*EXACT($F$7=$G$7,F22=G22)*EXACT($F$7<$G$7,F22<G22)),$AN$7,0))) -> 2 | I22: 2 | J22: 0 | K22: =IF(OR(EXACT($I$7,I22)*(EXACT($J$7,J22)))=TRUE,$AN$9,IF(($J$7-$I$7=J22-I22),$AN$8,IF(OR(EXACT($I$7>$J$7,I22>J22)*EXACT($I$7=$J$7,I22=J22)*EXACT($I$7<$J$7,I22<J22)),$AN$7,0))) -> 2 | L22: 2 | M22: 1 | N22: =IF(OR(EXACT($L$7,L22)*(EXACT($M$7,M22)))=TRUE,$AN$9,IF(($M$7-$L$7=M22-L22),$AN$8,IF(OR(EXACT($L$7>$M$7,L22>M22)*EXACT($L$7=$M$7,L22=M22)*EXACT($L$7<$M$7,L22<M22)),$AN$7,0))) -> 0 | O22: 1 | P22: 3 | Q22: =IF(OR(EXACT($O$7,O22)*(EXACT($P$7,P22)))=TRUE,$AN$9,IF(($P$7-$O$7=P22-O22),$AN$8,IF(OR(EXACT($O$7>$P$7,O22>P22)*EXACT($O$7=$P$7,O22=P22)*EXACT($O$7<$P$7,O22<P22)),$AN$7,0))) -> 0 | R22: 0 | S22: 2 | T22: =IF(OR(EXACT($R$7,R22)*(EXACT($S$7,S22)))=TRUE,$AN$9,IF(($S$7-$R$7=S22-R22),$AN$8,IF(OR(EXACT($R$7>$S$7,R22>S22)*EXACT($R$7=$S$7,R22=S22)*EXACT($R$7<$S$7,R22<S22)),$AN$7,0))) -> 2 | U22: 0 | V22: 3 | W22: =IF(OR(EXACT($U$7,U22)*(EXACT($V$7,V22)))=TRUE,$AN$9,IF(($V$7-$U$7=V22-U22),$AN$8,IF(OR(EXACT($U$7>$V$7,U22>V22)*EXACT($U$7=$V$7,U22=V22)*EXACT($U$7<$V$7,U22<V22)),$AN$7,0))) -> 0 | X22: 1 | Y22: 3 | Z22: =IF(OR(EXACT($X$7,X22)*(EXACT($Y$7,Y22)))=TRUE,$AN$9,IF(($Y$7-$X$7=Y22-X22),$AN$8,IF(OR(EXACT($X$7>$Y$7,X22>Y22)*EXACT($X$7=$Y$7,X22=Y22)*EXACT($X$7<$Y$7,X22<Y22)),$AN$7,0))) -> 2 | AA22: 2 | AB22: 1 | AC22: =IF(OR(EXACT($AA$7,AA22)*(EXACT($AB$7,AB22)))=TRUE,$AN$9,IF(($AB$7-$AA$7=AB22-AA22),$AN$8,IF(OR(EXACT($AA$7>$AB$7,AA22>AB22)*EXACT($AA$7=$AB$7,AA22=AB22)*EXACT($AA$7<$AB$7,AA22<AB22)),$AN$7,0))) -> 0 | AG22: =E22+H22+K22+N22+Q22+T22+W22+Z22+AC22+AF22 -> 10 | AH22: ='1.Spieltag'!AI22 -> 8 | AI22: =AG22+AH22 -> 18 | AJ22: =RANK(AI22,$AI$8:$AI$50) -> 18
A23: =AJ23 -> 10 | B23: ='1.Spieltag'!B23 -> Master1 | C23: 3 | D23: 1 | E23: =IF(OR(EXACT($C$7,C23)*(EXACT($D$7,D23)))=TRUE,$AN$9,IF(($D$7-$C$7=D23-C23),$AN$8,IF(OR(EXACT($C$7>$D$7,C23>D23)*EXACT($C$7=$D$7,C23=D23)*EXACT($C$7<$D$7,C23<D23)),$AN$7,0))) -> 2 | F23: 1 | G23: 2 | H23: =IF(OR(EXACT($F$7,F23)*(EXACT($G$7,G23)))=TRUE,$AN$9,IF(($G$7-$F$7=G23-F23),$AN$8,IF(OR(EXACT($F$7>$G$7,F23>G23)*EXACT($F$7=$G$7,F23=G23)*EXACT($F$7<$G$7,F23<G23)),$AN$7,0))) -> 3 | I23: 2 | J23: 1 | K23: =IF(OR(EXACT($I$7,I23)*(EXACT($J$7,J23)))=TRUE,$AN$9,IF(($J$7-$I$7=J23-I23),$AN$8,IF(OR(EXACT($I$7>$J$7,I23>J23)*EXACT($I$7=$J$7,I23=J23)*EXACT($I$7<$J$7,I23<J23)),$AN$7,0))) -> 2 | L23: 2 | M23: 2 | N23: =IF(OR(EXACT($L$7,L23)*(EXACT($M$7,M23)))=TRUE,$AN$9,IF(($M$7-$L$7=M23-L23),$AN$8,IF(OR(EXACT($L$7>$M$7,L23>M23)*EXACT($L$7=$M$7,L23=M23)*EXACT($L$7<$M$7,L23<M23)),$AN$7,0))) -> 0 | O23: 1 | P23: 3 | Q23: =IF(OR(EXACT($O$7,O23)*(EXACT($P$7,P23)))=TRUE,$AN$9,IF(($P$7-$O$7=P23-O23),$AN$8,IF(OR(EXACT($O$7>$P$7,O23>P23)*EXACT($O$7=$P$7,O23=P23)*EXACT($O$7<$P$7,O23<P23)),$AN$7,0))) -> 0 | R23: 1 | S23: 2 | T23: =IF(OR(EXACT($R$7,R23)*(EXACT($S$7,S23)))=TRUE,$AN$9,IF(($S$7-$R$7=S23-R23),$AN$8,IF(OR(EXACT($R$7>$S$7,R23>S23)*EXACT($R$7=$S$7,R23=S23)*EXACT($R$7<$S$7,R23<S23)),$AN$7,0))) -> 3 | U23: 1 | V23: 3 | W23: =IF(OR(EXACT($U$7,U23)*(EXACT($V$7,V23)))=TRUE,$AN$9,IF(($V$7-$U$7=V23-U23),$AN$8,IF(OR(EXACT($U$7>$V$7,U23>V23)*EXACT($U$7=$V$7,U23=V23)*EXACT($U$7<$V$7,U23<V23)),$AN$7,0))) -> 0 | X23: 1 | Y23: 1 | Z23: =IF(OR(EXACT($X$7,X23)*(EXACT($Y$7,Y23)))=TRUE,$AN$9,IF(($Y$7-$X$7=Y23-X23),$AN$8,IF(OR(EXACT($X$7>$Y$7,X23>Y23)*EXACT($X$7=$Y$7,X23=Y23)*EXACT($X$7<$Y$7,X23<Y23)),$AN$7,0))) -> 0 | AA23: 2 | AB23: 1 | AC23: =IF(OR(EXACT($AA$7,AA23)*(EXACT($AB$7,AB23)))=TRUE,$AN$9,IF(($AB$7-$AA$7=AB23-AA23),$AN$8,IF(OR(EXACT($AA$7>$AB$7,AA23>AB23)*EXACT($AA$7=$AB$7,AA23=AB23)*EXACT($AA$7<$AB$7,AA23<AB23)),$AN$7,0))) -> 0 | AG23: =E23+H23+K23+N23+Q23+T23+W23+Z23+AC23+AF23 -> 10 | AH23: ='1.Spieltag'!AI23 -> 14 | AI23: =AG23+AH23 -> 24 | AJ23: =RANK(AI23,$AI$8:$AI$50) -> 10
A24: =AJ24 -> 21 | B24: ='1.Spieltag'!B24 -> MichaBolz | C24: 2 | D24: 1 | E24: =IF(OR(EXACT($C$7,C24)*(EXACT($D$7,D24)))=TRUE,$AN$9,IF(($D$7-$C$7=D24-C24),$AN$8,IF(OR(EXACT($C$7>$D$7,C24>D24)*EXACT($C$7=$D$7,C24=D24)*EXACT($C$7<$D$7,C24<D24)),$AN$7,0))) -> 2 | F24: 1 | G24: 3 | H24: =IF(OR(EXACT($F$7,F24)*(EXACT($G$7,G24)))=TRUE,$AN$9,IF(($G$7-$F$7=G24-F24),$AN$8,IF(OR(EXACT($F$7>$G$7,F24>G24)*EXACT($F$7=$G$7,F24=G24)*EXACT($F$7<$G$7,F24<G24)),$AN$7,0))) -> 2 | I24: 2 | J24: 1 | K24: =IF(OR(EXACT($I$7,I24)*(EXACT($J$7,J24)))=TRUE,$AN$9,IF(($J$7-$I$7=J24-I24),$AN$8,IF(OR(EXACT($I$7>$J$7,I24>J24)*EXACT($I$7=$J$7,I24=J24)*EXACT($I$7<$J$7,I24<J24)),$AN$7,0))) -> 2 | L24: 2 | M24: 1 | N24: =IF(OR(EXACT($L$7,L24)*(EXACT($M$7,M24)))=TRUE,$AN$9,IF(($M$7-$L$7=M24-L24),$AN$8,IF(OR(EXACT($L$7>$M$7,L24>M24)*EXACT($L$7=$M$7,L24=M24)*EXACT($L$7<$M$7,L24<M24)),$AN$7,0))) -> 0 | O24: 0 | P24: 2 | Q24: =IF(OR(EXACT($O$7,O24)*(EXACT($P$7,P24)))=TRUE,$AN$9,IF(($P$7-$O$7=P24-O24),$AN$8,IF(OR(EXACT($O$7>$P$7,O24>P24)*EXACT($O$7=$P$7,O24=P24)*EXACT($O$7<$P$7,O24<P24)),$AN$7,0))) -> 0 | R24: 0 | S24: 2 | T24: =IF(OR(EXACT($R$7,R24)*(EXACT($S$7,S24)))=TRUE,$AN$9,IF(($S$7-$R$7=S24-R24),$AN$8,IF(OR(EXACT($R$7>$S$7,R24>S24)*EXACT($R$7=$S$7,R24=S24)*EXACT($R$7<$S$7,R24<S24)),$AN$7,0))) -> 2 | U24: 0 | V24: 5 | W24: =IF(OR(EXACT($U$7,U24)*(EXACT($V$7,V24)))=TRUE,$AN$9,IF(($V$7-$U$7=V24-U24),$AN$8,IF(OR(EXACT($U$7>$V$7,U24>V24)*EXACT($U$7=$V$7,U24=V24)*EXACT($U$7<$V$7,U24<V24)),$AN$7,0))) -> 0 | X24: 2 | Y24: 0 | Z24: =IF(OR(EXACT($X$7,X24)*(EXACT($Y$7,Y24)))=TRUE,$AN$9,IF(($Y$7-$X$7=Y24-X24),$AN$8,IF(OR(EXACT($X$7>$Y$7,X24>Y24)*EXACT($X$7=$Y$7,X24=Y24)*EXACT($X$7<$Y$7,X24<Y24)),$AN$7,0))) -> 0 | AA24: 2 | AB24: 1 | AC24: =IF(OR(EXACT($AA$7,AA24)*(EXACT($AB$7,AB24)))=TRUE,$AN$9,IF(($AB$7-$AA$7=AB24-AA24),$AN$8,IF(OR(EXACT($AA$7>$AB$7,AA24>AB24)*EXACT($AA$7=$AB$7,AA24=AB24)*EXACT($AA$7<$AB$7,AA24<AB24)),$AN$7,0))) -> 0 | AG24: =E24+H24+K24+N24+Q24+T24+W24+Z24+AC24+AF24 -> 8 | AH24: ='1.Spieltag'!AI24 -> 9 | AI24: =AG24+AH24 -> 17 | AJ24: =RANK(AI24,$AI$8:$AI$50) -> 21
A25: =AJ25 -> 6 | B25: ='1.Spieltag'!B25 -> Mike04 | C25: 2 | D25: 0 | E25: =IF(OR(EXACT($C$7,C25)*(EXACT($D$7,D25)))=TRUE,$AN$9,IF(($D$7-$C$7=D25-C25),$AN$8,IF(OR(EXACT($C$7>$D$7,C25>D25)*EXACT($C$7=$D$7,C25=D25)*EXACT($C$7<$D$7,C25<D25)),$AN$7,0))) -> 2 | F25: 2 | G25: 1 | H25: =IF(OR(EXACT($F$7,F25)*(EXACT($G$7,G25)))=TRUE,$AN$9,IF(($G$7-$F$7=G25-F25),$AN$8,IF(OR(EXACT($F$7>$G$7,F25>G25)*EXACT($F$7=$G$7,F25=G25)*EXACT($F$7<$G$7,F25<G25)),$AN$7,0))) -> 0 | I25: 3 | J25: 1 | K25: =IF(OR(EXACT($I$7,I25)*(EXACT($J$7,J25)))=TRUE,$AN$9,IF(($J$7-$I$7=J25-I25),$AN$8,IF(OR(EXACT($I$7>$J$7,I25>J25)*EXACT($I$7=$J$7,I25=J25)*EXACT($I$7<$J$7,I25<J25)),$AN$7,0))) -> 2 | L25: 2 | M25: 0 | N25: =IF(OR(EXACT($L$7,L25)*(EXACT($M$7,M25)))=TRUE,$AN$9,IF(($M$7-$L$7=M25-L25),$AN$8,IF(OR(EXACT($L$7>$M$7,L25>M25)*EXACT($L$7=$M$7,L25=M25)*EXACT($L$7<$M$7,L25<M25)),$AN$7,0))) -> 0 | O25: 0 | P25: 2 | Q25: =IF(OR(EXACT($O$7,O25)*(EXACT($P$7,P25)))=TRUE,$AN$9,IF(($P$7-$O$7=P25-O25),$AN$8,IF(OR(EXACT($O$7>$P$7,O25>P25)*EXACT($O$7=$P$7,O25=P25)*EXACT($O$7<$P$7,O25<P25)),$AN$7,0))) -> 0 | R25: 1 | S25: 2 | T25: =IF(OR(EXACT($R$7,R25)*(EXACT($S$7,S25)))=TRUE,$AN$9,IF(($S$7-$R$7=S25-R25),$AN$8,IF(OR(EXACT($R$7>$S$7,R25>S25)*EXACT($R$7=$S$7,R25=S25)*EXACT($R$7<$S$7,R25<S25)),$AN$7,0))) -> 3 | U25: 1 | V25: 1 | W25: =IF(OR(EXACT($U$7,U25)*(EXACT($V$7,V25)))=TRUE,$AN$9,IF(($V$7-$U$7=V25-U25),$AN$8,IF(OR(EXACT($U$7>$V$7,U25>V25)*EXACT($U$7=$V$7,U25=V25)*EXACT($U$7<$V$7,U25<V25)),$AN$7,0)))*2 -> 6 | X25: 2 | Y25: 1 | Z25: =IF(OR(EXACT($X$7,X25)*(EXACT($Y$7,Y25)))=TRUE,$AN$9,IF(($Y$7-$X$7=Y25-X25),$AN$8,IF(OR(EXACT($X$7>$Y$7,X25>Y25)*EXACT($X$7=$Y$7,X25=Y25)*EXACT($X$7<$Y$7,X25<Y25)),$AN$7,0))) -> 0 | AA25: 2 | AB25: 0 | AC25: =IF(OR(EXACT($AA$7,AA25)*(EXACT($AB$7,AB25)))=TRUE,$AN$9,IF(($AB$7-$AA$7=AB25-AA25),$AN$8,IF(OR(EXACT($AA$7>$AB$7,AA25>AB25)*EXACT($AA$7=$AB$7,AA25=AB25)*EXACT($AA$7<$AB$7,AA25<AB25)),$AN$7,0))) -> 0 | AG25: =E25+H25+K25+N25+Q25+T25+W25+Z25+AC25+AF25 -> 13 | AH25: ='1.Spieltag'!AI25 -> 14 | AI25: =AG25+AH25 -> 27 | AJ25: =RANK(AI25,$AI$8:$AI$50) -> 6
A26: =AJ26 -> 17 | B26: ='1.Spieltag'!B26 -> Reinhold | C26: 3 | D26: 1 | E26: =IF(OR(EXACT($C$7,C26)*(EXACT($D$7,D26)))=TRUE,$AN$9,IF(($D$7-$C$7=D26-C26),$AN$8,IF(OR(EXACT($C$7>$D$7,C26>D26)*EXACT($C$7=$D$7,C26=D26)*EXACT($C$7<$D$7,C26<D26)),$AN$7,0))) -> 2 | F26: 3 | G26: 2 | H26: =IF(OR(EXACT($F$7,F26)*(EXACT($G$7,G26)))=TRUE,$AN$9,IF(($G$7-$F$7=G26-F26),$AN$8,IF(OR(EXACT($F$7>$G$7,F26>G26)*EXACT($F$7=$G$7,F26=G26)*EXACT($F$7<$G$7,F26<G26)),$AN$7,0))) -> 0 | I26: 2 | J26: 1 | K26: =IF(OR(EXACT($I$7,I26)*(EXACT($J$7,J26)))=TRUE,$AN$9,IF(($J$7-$I$7=J26-I26),$AN$8,IF(OR(EXACT($I$7>$J$7,I26>J26)*EXACT($I$7=$J$7,I26=J26)*EXACT($I$7<$J$7,I26<J26)),$AN$7,0))) -> 2 | L26: 1 | M26: 0 | N26: =IF(OR(EXACT($L$7,L26)*(EXACT($M$7,M26)))=TRUE,$AN$9,IF(($M$7-$L$7=M26-L26),$AN$8,IF(OR(EXACT($L$7>$M$7,L26>M26)*EXACT($L$7=$M$7,L26=M26)*EXACT($L$7<$M$7,L26<M26)),$AN$7,0))) -> 0 | O26: 2 | P26: 5 | Q26: =IF(OR(EXACT($O$7,O26)*(EXACT($P$7,P26)))=TRUE,$AN$9,IF(($P$7-$O$7=P26-O26),$AN$8,IF(OR(EXACT($O$7>$P$7,O26>P26)*EXACT($O$7=$P$7,O26=P26)*EXACT($O$7<$P$7,O26<P26)),$AN$7,0))) -> 0 | R26: 0 | S26: 2 | T26: =IF(OR(EXACT($R$7,R26)*(EXACT($S$7,S26)))=TRUE,$AN$9,IF(($S$7-$R$7=S26-R26),$AN$8,IF(OR(EXACT($R$7>$S$7,R26>S26)*EXACT($R$7=$S$7,R26=S26)*EXACT($R$7<$S$7,R26<S26)),$AN$7,0))) -> 2 | U26: 4 | V26: 1 | W26: =IF(OR(EXACT($U$7,U26)*(EXACT($V$7,V26)))=TRUE,$AN$9,IF(($V$7-$U$7=V26-U26),$AN$8,IF(OR(EXACT($U$7>$V$7,U26>V26)*EXACT($U$7=$V$7,U26=V26)*EXACT($U$7<$V$7,U26<V26)),$AN$7,0)))*4 -> 0 | X26: 1 | Y26: 1 | Z26: =IF(OR(EXACT($X$7,X26)*(EXACT($Y$7,Y26)))=TRUE,$AN$9,IF(($Y$7-$X$7=Y26-X26),$AN$8,IF(OR(EXACT($X$7>$Y$7,X26>Y26)*EXACT($X$7=$Y$7,X26=Y26)*EXACT($X$7<$Y$7,X26<Y26)),$AN$7,0))) -> 0 | AA26: 2 | AB26: 3 | AC26: =IF(OR(EXACT($AA$7,AA26)*(EXACT($AB$7,AB26)))=TRUE,$AN$9,IF(($AB$7-$AA$7=AB26-AA26),$AN$8,IF(OR(EXACT($AA$7>$AB$7,AA26>AB26)*EXACT($AA$7=$AB$7,AA26=AB26)*EXACT($AA$7<$AB$7,AA26<AB26)),$AN$7,0))) -> 2 | AG26: =E26+H26+K26+N26+Q26+T26+W26+Z26+AC26+AF26 -> 8 | AH26: ='1.Spieltag'!AI26 -> 11 | AI26: =AG26+AH26 -> 19 | AJ26: =RANK(AI26,$AI$8:$AI$50) -> 17
A27: =AJ27 -> 6 | B27: ='1.Spieltag'!B27 -> ReneMause | C27: 3 | D27: 1 | E27: =IF(OR(EXACT($C$7,C27)*(EXACT($D$7,D27)))=TRUE,$AN$9,IF(($D$7-$C$7=D27-C27),$AN$8,IF(OR(EXACT($C$7>$D$7,C27>D27)*EXACT($C$7=$D$7,C27=D27)*EXACT($C$7<$D$7,C27<D27)),$AN$7,0))) -> 2 | F27: 2 | G27: 1 | H27: =IF(OR(EXACT($F$7,F27)*(EXACT($G$7,G27)))=TRUE,$AN$9,IF(($G$7-$F$7=G27-F27),$AN$8,IF(OR(EXACT($F$7>$G$7,F27>G27)*EXACT($F$7=$G$7,F27=G27)*EXACT($F$7<$G$7,F27<G27)),$AN$7,0))) -> 0 | I27: 2 | J27: 0 | K27: =IF(OR(EXACT($I$7,I27)*(EXACT($J$7,J27)))=TRUE,$AN$9,IF(($J$7-$I$7=J27-I27),$AN$8,IF(OR(EXACT($I$7>$J$7,I27>J27)*EXACT($I$7=$J$7,I27=J27)*EXACT($I$7<$J$7,I27<J27)),$AN$7,0))) -> 2 | L27: 1 | M27: 2 | N27: =IF(OR(EXACT($L$7,L27)*(EXACT($M$7,M27)))=TRUE,$AN$9,IF(($M$7-$L$7=M27-L27),$AN$8,IF(OR(EXACT($L$7>$M$7,L27>M27)*EXACT($L$7=$M$7,L27=M27)*EXACT($L$7<$M$7,L27<M27)),$AN$7,0))) -> 3 | O27: 1 | P27: 2 | Q27: =IF(OR(EXACT($O$7,O27)*(EXACT($P$7,P27)))=TRUE,$AN$9,IF(($P$7-$O$7=P27-O27),$AN$8,IF(OR(EXACT($O$7>$P$7,O27>P27)*EXACT($O$7=$P$7,O27=P27)*EXACT($O$7<$P$7,O27<P27)),$AN$7,0))) -> 0 | R27: 1 | S27: 2 | T27: =IF(OR(EXACT($R$7,R27)*(EXACT($S$7,S27)))=TRUE,$AN$9,IF(($S$7-$R$7=S27-R27),$AN$8,IF(OR(EXACT($R$7>$S$7,R27>S27)*EXACT($R$7=$S$7,R27=S27)*EXACT($R$7<$S$7,R27<S27)),$AN$7,0))) -> 3 | U27: 2 | V27: 1 | W27: =IF(OR(EXACT($U$7,U27)*(EXACT($V$7,V27)))=TRUE,$AN$9,IF(($V$7-$U$7=V27-U27),$AN$8,IF(OR(EXACT($U$7>$V$7,U27>V27)*EXACT($U$7=$V$7,U27=V27)*EXACT($U$7<$V$7,U27<V27)),$AN$7,0)))*4 -> 0 | X27: 1 | Y27: 0 | Z27: =IF(OR(EXACT($X$7,X27)*(EXACT($Y$7,Y27)))=TRUE,$AN$9,IF(($Y$7-$X$7=Y27-X27),$AN$8,IF(OR(EXACT($X$7>$Y$7,X27>Y27)*EXACT($X$7=$Y$7,X27=Y27)*EXACT($X$7<$Y$7,X27<Y27)),$AN$7,0))) -> 0 | AA27: 2 | AB27: 1 | AC27: =IF(OR(EXACT($AA$7,AA27)*(EXACT($AB$7,AB27)))=TRUE,$AN$9,IF(($AB$7-$AA$7=AB27-AA27),$AN$8,IF(OR(EXACT($AA$7>$AB$7,AA27>AB27)*EXACT($AA$7=$AB$7,AA27=AB27)*EXACT($AA$7<$AB$7,AA27<AB27)),$AN$7,0))) -> 0 | AG27: =E27+H27+K27+N27+Q27+T27+W27+Z27+AC27+AF27 -> 10 | AH27: ='1.Spieltag'!AI27 -> 17 | AI27: =AG27+AH27 -> 27 | AJ27: =RANK(AI27,$AI$8:$AI$50) -> 6
A28: =AJ28 -> 24 | B28: ='1.Spieltag'!B28 -> Ricardo04 | C28: 3 | D28: 1 | E28: =IF(OR(EXACT($C$7,C28)*(EXACT($D$7,D28)))=TRUE,$AN$9,IF(($D$7-$C$7=D28-C28),$AN$8,IF(OR(EXACT($C$7>$D$7,C28>D28)*EXACT($C$7=$D$7,C28=D28)*EXACT($C$7<$D$7,C28<D28)),$AN$7,0))) -> 2 | F28: 1 | G28: 2 | H28: =IF(OR(EXACT($F$7,F28)*(EXACT($G$7,G28)))=TRUE,$AN$9,IF(($G$7-$F$7=G28-F28),$AN$8,IF(OR(EXACT($F$7>$G$7,F28>G28)*EXACT($F$7=$G$7,F28=G28)*EXACT($F$7<$G$7,F28<G28)),$AN$7,0))) -> 3 | I28: 1 | J28: 1 | K28: =IF(OR(EXACT($I$7,I28)*(EXACT($J$7,J28)))=TRUE,$AN$9,IF(($J$7-$I$7=J28-I28),$AN$8,IF(OR(EXACT($I$7>$J$7,I28>J28)*EXACT($I$7=$J$7,I28=J28)*EXACT($I$7<$J$7,I28<J28)),$AN$7,0))) -> 0 | L28: 1 | M28: 2 | N28: =IF(OR(EXACT($L$7,L28)*(EXACT($M$7,M28)))=TRUE,$AN$9,IF(($M$7-$L$7=M28-L28),$AN$8,IF(OR(EXACT($L$7>$M$7,L28>M28)*EXACT($L$7=$M$7,L28=M28)*EXACT($L$7<$M$7,L28<M28)),$AN$7,0))) -> 3 | O28: 1 | P28: 4 | Q28: =IF(OR(EXACT($O$7,O28)*(EXACT($P$7,P28)))=TRUE,$AN$9,IF(($P$7-$O$7=P28-O28),$AN$8,IF(OR(EXACT($O$7>$P$7,O28>P28)*EXACT($O$7=$P$7,O28=P28)*EXACT($O$7<$P$7,O28<P28)),$AN$7,0))) -> 0 | R28: 1 | S28: 3 | T28: =IF(OR(EXACT($R$7,R28)*(EXACT($S$7,S28)))=TRUE,$AN$9,IF(($S$7-$R$7=S28-R28),$AN$8,IF(OR(EXACT($R$7>$S$7,R28>S28)*EXACT($R$7=$S$7,R28=S28)*EXACT($R$7<$S$7,R28<S28)),$AN$7,0))) -> 2 | U28: 1 | V28: 0 | W28: =IF(OR(EXACT($U$7,U28)*(EXACT($V$7,V28)))=TRUE,$AN$9,IF(($V$7-$U$7=V28-U28),$AN$8,IF(OR(EXACT($U$7>$V$7,U28>V28)*EXACT($U$7=$V$7,U28=V28)*EXACT($U$7<$V$7,U28<V28)),$AN$7,0)))*4 -> 0 | X28: 1 | Y28: 1 | Z28: =IF(OR(EXACT($X$7,X28)*(EXACT($Y$7,Y28)))=TRUE,$AN$9,IF(($Y$7-$X$7=Y28-X28),$AN$8,IF(OR(EXACT($X$7>$Y$7,X28>Y28)*EXACT($X$7=$Y$7,X28=Y28)*EXACT($X$7<$Y$7,X28<Y28)),$AN$7,0))) -> 0 | AA28: 3 | AB28: 1 | AC28: =IF(OR(EXACT($AA$7,AA28)*(EXACT($AB$7,AB28)))=TRUE,$AN$9,IF(($AB$7-$AA$7=AB28-AA28),$AN$8,IF(OR(EXACT($AA$7>$AB$7,AA28>AB28)*EXACT($AA$7=$AB$7,AA28=AB28)*EXACT($AA$7<$AB$7,AA28<AB28)),$AN$7,0))) -> 0 | AG28: =E28+H28+K28+N28+Q28+T28+W28+Z28+AC28+AF28 -> 10 | AH28: ='1.Spieltag'!AI28 -> 6 | AI28: =AG28+AH28 -> 16 | AJ28: =RANK(AI28,$AI$8:$AI$50) -> 24
A29: =AJ29 -> 21 | B29: ='1.Spieltag'!B29 -> schmiddi04 | C29: 2 | D29: 0 | E29: =IF(OR(EXACT($C$7,C29)*(EXACT($D$7,D29)))=TRUE,$AN$9,IF(($D$7-$C$7=D29-C29),$AN$8,IF(OR(EXACT($C$7>$D$7,C29>D29)*EXACT($C$7=$D$7,C29=D29)*EXACT($C$7<$D$7,C29<D29)),$AN$7,0))) -> 2 | F29: 2 | G29: 3 | H29: =IF(OR(EXACT($F$7,F29)*(EXACT($G$7,G29)))=TRUE,$AN$9,IF(($G$7-$F$7=G29-F29),$AN$8,IF(OR(EXACT($F$7>$G$7,F29>G29)*EXACT($F$7=$G$7,F29=G29)*EXACT($F$7<$G$7,F29<G29)),$AN$7,0))) -> 5 | I29: 2 | J29: 0 | K29: =IF(OR(EXACT($I$7,I29)*(EXACT($J$7,J29)))=TRUE,$AN$9,IF(($J$7-$I$7=J29-I29),$AN$8,IF(OR(EXACT($I$7>$J$7,I29>J29)*EXACT($I$7=$J$7,I29=J29)*EXACT($I$7<$J$7,I29<J29)),$AN$7,0))) -> 2 | L29: 2 | M29: 0 | N29: =IF(OR(EXACT($L$7,L29)*(EXACT($M$7,M29)))=TRUE,$AN$9,IF(($M$7-$L$7=M29-L29),$AN$8,IF(OR(EXACT($L$7>$M$7,L29>M29)*EXACT($L$7=$M$7,L29=M29)*EXACT($L$7<$M$7,L29<M29)),$AN$7,0))) -> 0 | O29: 0 | P29: 3 | Q29: =IF(OR(EXACT($O$7,O29)*(EXACT($P$7,P29)))=TRUE,$AN$9,IF(($P$7-$O$7=P29-O29),$AN$8,IF(OR(EXACT($O$7>$P$7,O29>P29)*EXACT($O$7=$P$7,O29=P29)*EXACT($O$7<$P$7,O29<P29)),$AN$7,0))) -> 0 | R29: 1 | S29: 1 | T29: =IF(OR(EXACT($R$7,R29)*(EXACT($S$7,S29)))=TRUE,$AN$9,IF(($S$7-$R$7=S29-R29),$AN$8,IF(OR(EXACT($R$7>$S$7,R29>S29)*EXACT($R$7=$S$7,R29=S29)*EXACT($R$7<$S$7,R29<S29)),$AN$7,0))) -> 0 | U29: 1 | V29: 0 | W29: =IF(OR(EXACT($U$7,U29)*(EXACT($V$7,V29)))=TRUE,$AN$9,IF(($V$7-$U$7=V29-U29),$AN$8,IF(OR(EXACT($U$7>$V$7,U29>V29)*EXACT($U$7=$V$7,U29=V29)*EXACT($U$7<$V$7,U29<V29)),$AN$7,0)))*4 -> 0 | X29: 1 | Y29: 0 | Z29: =IF(OR(EXACT($X$7,X29)*(EXACT($Y$7,Y29)))=TRUE,$AN$9,IF(($Y$7-$X$7=Y29-X29),$AN$8,IF(OR(EXACT($X$7>$Y$7,X29>Y29)*EXACT($X$7=$Y$7,X29=Y29)*EXACT($X$7<$Y$7,X29<Y29)),$AN$7,0))) -> 0 | AA29: 1 | AB29: 0 | AC29: =IF(OR(EXACT($AA$7,AA29)*(EXACT($AB$7,AB29)))=TRUE,$AN$9,IF(($AB$7-$AA$7=AB29-AA29),$AN$8,IF(OR(EXACT($AA$7>$AB$7,AA29>AB29)*EXACT($AA$7=$AB$7,AA29=AB29)*EXACT($AA$7<$AB$7,AA29<AB29)),$AN$7,0))) -> 0 | AG29: =E29+H29+K29+N29+Q29+T29+W29+Z29+AC29+AF29 -> 9 | AH29: ='1.Spieltag'!AI29 -> 8 | AI29: =AG29+AH29 -> 17 | AJ29: =RANK(AI29,$AI$8:$AI$50) -> 21
A30: =AJ30 -> 14 | B30: ='1.Spieltag'!B30 -> shiny | C30: 2 | D30: 1 | E30: =IF(OR(EXACT($C$7,C30)*(EXACT($D$7,D30)))=TRUE,$AN$9,IF(($D$7-$C$7=D30-C30),$AN$8,IF(OR(EXACT($C$7>$D$7,C30>D30)*EXACT($C$7=$D$7,C30=D30)*EXACT($C$7<$D$7,C30<D30)),$AN$7,0))) -> 2 | F30: 1 | G30: 2 | H30: =IF(OR(EXACT($F$7,F30)*(EXACT($G$7,G30)))=TRUE,$AN$9,IF(($G$7-$F$7=G30-F30),$AN$8,IF(OR(EXACT($F$7>$G$7,F30>G30)*EXACT($F$7=$G$7,F30=G30)*EXACT($F$7<$G$7,F30<G30)),$AN$7,0))) -> 3 | I30: 2 | J30: 0 | K30: =IF(OR(EXACT($I$7,I30)*(EXACT($J$7,J30)))=TRUE,$AN$9,IF(($J$7-$I$7=J30-I30),$AN$8,IF(OR(EXACT($I$7>$J$7,I30>J30)*EXACT($I$7=$J$7,I30=J30)*EXACT($I$7<$J$7,I30<J30)),$AN$7,0))) -> 2 | L30: 2 | M30: 1 | N30: =IF(OR(EXACT($L$7,L30)*(EXACT($M$7,M30)))=TRUE,$AN$9,IF(($M$7-$L$7=M30-L30),$AN$8,IF(OR(EXACT($L$7>$M$7,L30>M30)*EXACT($L$7=$M$7,L30=M30)*EXACT($L$7<$M$7,L30<M30)),$AN$7,0))) -> 0 | O30: 1 | P30: 2 | Q30: =IF(OR(EXACT($O$7,O30)*(EXACT($P$7,P30)))=TRUE,$AN$9,IF(($P$7-$O$7=P30-O30),$AN$8,IF(OR(EXACT($O$7>$P$7,O30>P30)*EXACT($O$7=$P$7,O30=P30)*EXACT($O$7<$P$7,O30<P30)),$AN$7,0))) -> 0 | R30: 1 | S30: 3 | T30: =IF(OR(EXACT($R$7,R30)*(EXACT($S$7,S30)))=TRUE,$AN$9,IF(($S$7-$R$7=S30-R30),$AN$8,IF(OR(EXACT($R$7>$S$7,R30>S30)*EXACT($R$7=$S$7,R30=S30)*EXACT($R$7<$S$7,R30<S30)),$AN$7,0))) -> 2 | U30: 2 | V30: 1 | W30: =IF(OR(EXACT($U$7,U30)*(EXACT($V$7,V30)))=TRUE,$AN$9,IF(($V$7-$U$7=V30-U30),$AN$8,IF(OR(EXACT($U$7>$V$7,U30>V30)*EXACT($U$7=$V$7,U30=V30)*EXACT($U$7<$V$7,U30<V30)),$AN$7,0)))*4 -> 0 | X30: 2 | Y30: 1 | Z30: =IF(OR(EXACT($X$7,X30)*(EXACT($Y$7,Y30)))=TRUE,$AN$9,IF(($Y$7-$X$7=Y30-X30),$AN$8,IF(OR(EXACT($X$7>$Y$7,X30>Y30)*EXACT($X$7=$Y$7,X30=Y30)*EXACT($X$7<$Y$7,X30<Y30)),$AN$7,0))) -> 0 | AA30: 2 | AB30: 1 | AC30: =IF(OR(EXACT($AA$7,AA30)*(EXACT($AB$7,AB30)))=TRUE,$AN$9,IF(($AB$7-$AA$7=AB30-AA30),$AN$8,IF(OR(EXACT($AA$7>$AB$7,AA30>AB30)*EXACT($AA$7=$AB$7,AA30=AB30)*EXACT($AA$7<$AB$7,AA30<AB30)),$AN$7,0))) -> 0 | AG30: =E30+H30+K30+N30+Q30+T30+W30+Z30+AC30+AF30 -> 9 | AH30: ='1.Spieltag'!AI30 -> 12 | AI30: =AG30+AH30 -> 21 | AJ30: =RANK(AI30,$AI$8:$AI$50) -> 14
A31: =AJ31 -> 4 | B31: ='1.Spieltag'!B31 -> Silfa04 | C31: 2 | D31: 1 | E31: =IF(OR(EXACT($C$7,C31)*(EXACT($D$7,D31)))=TRUE,$AN$9,IF(($D$7-$C$7=D31-C31),$AN$8,IF(OR(EXACT($C$7>$D$7,C31>D31)*EXACT($C$7=$D$7,C31=D31)*EXACT($C$7<$D$7,C31<D31)),$AN$7,0))) -> 2 | F31: 1 | G31: 3 | H31: =IF(OR(EXACT($F$7,F31)*(EXACT($G$7,G31)))=TRUE,$AN$9,IF(($G$7-$F$7=G31-F31),$AN$8,IF(OR(EXACT($F$7>$G$7,F31>G31)*EXACT($F$7=$G$7,F31=G31)*EXACT($F$7<$G$7,F31<G31)),$AN$7,0))) -> 2 | I31: 1 | J31: 0 | K31: =IF(OR(EXACT($I$7,I31)*(EXACT($J$7,J31)))=TRUE,$AN$9,IF(($J$7-$I$7=J31-I31),$AN$8,IF(OR(EXACT($I$7>$J$7,I31>J31)*EXACT($I$7=$J$7,I31=J31)*EXACT($I$7<$J$7,I31<J31)),$AN$7,0))) -> 2 | L31: 1 | M31: 1 | N31: =IF(OR(EXACT($L$7,L31)*(EXACT($M$7,M31)))=TRUE,$AN$9,IF(($M$7-$L$7=M31-L31),$AN$8,IF(OR(EXACT($L$7>$M$7,L31>M31)*EXACT($L$7=$M$7,L31=M31)*EXACT($L$7<$M$7,L31<M31)),$AN$7,0))) -> 0 | O31: 0 | P31: 2 | Q31: =IF(OR(EXACT($O$7,O31)*(EXACT($P$7,P31)))=TRUE,$AN$9,IF(($P$7-$O$7=P31-O31),$AN$8,IF(OR(EXACT($O$7>$P$7,O31>P31)*EXACT($O$7=$P$7,O31=P31)*EXACT($O$7<$P$7,O31<P31)),$AN$7,0))) -> 0 | R31: 0 | S31: 1 | T31: =IF(OR(EXACT($R$7,R31)*(EXACT($S$7,S31)))=TRUE,$AN$9,IF(($S$7-$R$7=S31-R31),$AN$8,IF(OR(EXACT($R$7>$S$7,R31>S31)*EXACT($R$7=$S$7,R31=S31)*EXACT($R$7<$S$7,R31<S31)),$AN$7,0))) -> 5 | U31: 1 | V31: 1 | W31: =IF(OR(EXACT($U$7,U31)*(EXACT($V$7,V31)))=TRUE,$AN$9,IF(($V$7-$U$7=V31-U31),$AN$8,IF(OR(EXACT($U$7>$V$7,U31>V31)*EXACT($U$7=$V$7,U31=V31)*EXACT($U$7<$V$7,U31<V31)),$AN$7,0)))*2 -> 6 | X31: 1 | Y31: 3 | Z31: =IF(OR(EXACT($X$7,X31)*(EXACT($Y$7,Y31)))=TRUE,$AN$9,IF(($Y$7-$X$7=Y31-X31),$AN$8,IF(OR(EXACT($X$7>$Y$7,X31>Y31)*EXACT($X$7=$Y$7,X31=Y31)*EXACT($X$7<$Y$7,X31<Y31)),$AN$7,0))) -> 2 | AA31: 4 | AB31: 0 | AC31: =IF(OR(EXACT($AA$7,AA31)*(EXACT($AB$7,AB31)))=TRUE,$AN$9,IF(($AB$7-$AA$7=AB31-AA31),$AN$8,IF(OR(EXACT($AA$7>$AB$7,AA31>AB31)*EXACT($AA$7=$AB$7,AA31=AB31)*EXACT($AA$7<$AB$7,AA31<AB31)),$AN$7,0))) -> 0 | AG31: =E31+H31+K31+N31+Q31+T31+W31+Z31+AC31+AF31 -> 19 | AH31: ='1.Spieltag'!AI31 -> 9 | AI31: =AG31+AH31 -> 28 | AJ31: =RANK(AI31,$AI$8:$AI$50) -> 4
A32: =AJ32 -> 15 | B32: ='1.Spieltag'!B32 -> Tanja04 | C32: 3 | D32: 1 | E32: =IF(OR(EXACT($C$7,C32)*(EXACT($D$7,D32)))=TRUE,$AN$9,IF(($D$7-$C$7=D32-C32),$AN$8,IF(OR(EXACT($C$7>$D$7,C32>D32)*EXACT($C$7=$D$7,C32=D32)*EXACT($C$7<$D$7,C32<D32)),$AN$7,0))) -> 2 | F32: 1 | G32: 2 | H32: =IF(OR(EXACT($F$7,F32)*(EXACT($G$7,G32)))=TRUE,$AN$9,IF(($G$7-$F$7=G32-F32),$AN$8,IF(OR(EXACT($F$7>$G$7,F32>G32)*EXACT($F$7=$G$7,F32=G32)*EXACT($F$7<$G$7,F32<G32)),$AN$7,0))) -> 3 | I32: 2 | J32: 0 | K32: =IF(OR(EXACT($I$7,I32)*(EXACT($J$7,J32)))=TRUE,$AN$9,IF(($J$7-$I$7=J32-I32),$AN$8,IF(OR(EXACT($I$7>$J$7,I32>J32)*EXACT($I$7=$J$7,I32=J32)*EXACT($I$7<$J$7,I32<J32)),$AN$7,0))) -> 2 | L32: 2 | M32: 1 | N32: =IF(OR(EXACT($L$7,L32)*(EXACT($M$7,M32)))=TRUE,$AN$9,IF(($M$7-$L$7=M32-L32),$AN$8,IF(OR(EXACT($L$7>$M$7,L32>M32)*EXACT($L$7=$M$7,L32=M32)*EXACT($L$7<$M$7,L32<M32)),$AN$7,0))) -> 0 | O32: 0 | P32: 3 | Q32: =IF(OR(EXACT($O$7,O32)*(EXACT($P$7,P32)))=TRUE,$AN$9,IF(($P$7-$O$7=P32-O32),$AN$8,IF(OR(EXACT($O$7>$P$7,O32>P32)*EXACT($O$7=$P$7,O32=P32)*EXACT($O$7<$P$7,O32<P32)),$AN$7,0))) -> 0 | R32: 0 | S32: 2 | T32: =IF(OR(EXACT($R$7,R32)*(EXACT($S$7,S32)))=TRUE,$AN$9,IF(($S$7-$R$7=S32-R32),$AN$8,IF(OR(EXACT($R$7>$S$7,R32>S32)*EXACT($R$7=$S$7,R32=S32)*EXACT($R$7<$S$7,R32<S32)),$AN$7,0))) -> 2 | U32: 2 | V32: 1 | W32: =IF(OR(EXACT($U$7,U32)*(EXACT($V$7,V32)))=TRUE,$AN$9,IF(($V$7-$U$7=V32-U32),$AN$8,IF(OR(EXACT($U$7>$V$7,U32>V32)*EXACT($U$7=$V$7,U32=V32)*EXACT($U$7<$V$7,U32<V32)),$AN$7,0)))*4 -> 0 | X32: 1 | Y32: 0 | Z32: =IF(OR(EXACT($X$7,X32)*(EXACT($Y$7,Y32)))=TRUE,$AN$9,IF(($Y$7-$X$7=Y32-X32),$AN$8,IF(OR(EXACT($X$7>$Y$7,X32>Y32)*EXACT($X$7=$Y$7,X32=Y32)*EXACT($X$7<$Y$7,X32<Y32)),$AN$7,0))) -> 0 | AA32: 2 | AB32: 0 | AC32: =IF(OR(EXACT($AA$7,AA32)*(EXACT($AB$7,AB32)))=TRUE,$AN$9,IF(($AB$7-$AA$7=AB32-AA32),$AN$8,IF(OR(EXACT($AA$7>$AB$7,AA32>AB32)*EXACT($AA$7=$AB$7,AA32=AB32)*EXACT($AA$7<$AB$7,AA32<AB32)),$AN$7,0))) -> 0 | AG32: =E32+H32+K32+N32+Q32+T32+W32+Z32+AC32+AF32 -> 9 | AH32: ='1.Spieltag'!AI32 -> 11 | AI32: =AG32+AH32 -> 20 | AJ32: =RANK(AI32,$AI$8:$AI$50) -> 15
A33: =AJ33 -> 11 | B33: ='1.Spieltag'!B33 -> Th. Bülles | C33: 2 | D33: 0 | E33: =IF(OR(EXACT($C$7,C33)*(EXACT($D$7,D33)))=TRUE,$AN$9,IF(($D$7-$C$7=D33-C33),$AN$8,IF(OR(EXACT($C$7>$D$7,C33>D33)*EXACT($C$7=$D$7,C33=D33)*EXACT($C$7<$D$7,C33<D33)),$AN$7,0))) -> 2 | F33: 1 | G33: 2 | H33: =IF(OR(EXACT($F$7,F33)*(EXACT($G$7,G33)))=TRUE,$AN$9,IF(($G$7-$F$7=G33-F33),$AN$8,IF(OR(EXACT($F$7>$G$7,F33>G33)*EXACT($F$7=$G$7,F33=G33)*EXACT($F$7<$G$7,F33<G33)),$AN$7,0))) -> 3 | I33: 2 | J33: 0 | K33: =IF(OR(EXACT($I$7,I33)*(EXACT($J$7,J33)))=TRUE,$AN$9,IF(($J$7-$I$7=J33-I33),$AN$8,IF(OR(EXACT($I$7>$J$7,I33>J33)*EXACT($I$7=$J$7,I33=J33)*EXACT($I$7<$J$7,I33<J33)),$AN$7,0))) -> 2 | L33: 1 | M33: 0 | N33: =IF(OR(EXACT($L$7,L33)*(EXACT($M$7,M33)))=TRUE,$AN$9,IF(($M$7-$L$7=M33-L33),$AN$8,IF(OR(EXACT($L$7>$M$7,L33>M33)*EXACT($L$7=$M$7,L33=M33)*EXACT($L$7<$M$7,L33<M33)),$AN$7,0))) -> 0 | O33: 1 | P33: 3 | Q33: =IF(OR(EXACT($O$7,O33)*(EXACT($P$7,P33)))=TRUE,$AN$9,IF(($P$7-$O$7=P33-O33),$AN$8,IF(OR(EXACT($O$7>$P$7,O33>P33)*EXACT($O$7=$P$7,O33=P33)*EXACT($O$7<$P$7,O33<P33)),$AN$7,0))) -> 0 | R33: 0 | S33: 2 | T33: =IF(OR(EXACT($R$7,R33)*(EXACT($S$7,S33)))=TRUE,$AN$9,IF(($S$7-$R$7=S33-R33),$AN$8,IF(OR(EXACT($R$7>$S$7,R33>S33)*EXACT($R$7=$S$7,R33=S33)*EXACT($R$7<$S$7,R33<S33)),$AN$7,0))) -> 2 | U33: 1 | V33: 0 | W33: =IF(OR(EXACT($U$7,U33)*(EXACT($V$7,V33)))=TRUE,$AN$9,IF(($V$7-$U$7=V33-U33),$AN$8,IF(OR(EXACT($U$7>$V$7,U33>V33)*EXACT($U$7=$V$7,U33=V33)*EXACT($U$7<$V$7,U33<V33)),$AN$7,0)))*4 -> 0 | X33: 1 | Y33: 3 | Z33: =IF(OR(EXACT($X$7,X33)*(EXACT($Y$7,Y33)))=TRUE,$AN$9,IF(($Y$7-$X$7=Y33-X33),$AN$8,IF(OR(EXACT($X$7>$Y$7,X33>Y33)*EXACT($X$7=$Y$7,X33=Y33)*EXACT($X$7<$Y$7,X33<Y33)),$AN$7,0))) -> 2 | AA33: 2 | AB33: 0 | AC33: =IF(OR(EXACT($AA$7,AA33)*(EXACT($AB$7,AB33)))=TRUE,$AN$9,IF(($AB$7-$AA$7=AB33-AA33),$AN$8,IF(OR(EXACT($AA$7>$AB$7,AA33>AB33)*EXACT($AA$7=$AB$7,AA33=AB33)*EXACT($AA$7<$AB$7,AA33<AB33)),$AN$7,0))) -> 0 | AG33: =E33+H33+K33+N33+Q33+T33+W33+Z33+AC33+AF33 -> 11 | AH33: ='1.Spieltag'!AI33 -> 11 | AI33: =AG33+AH33 -> 22 | AJ33: =RANK(AI33,$AI$8:$AI$50) -> 11
A34: =AJ34 -> 15 | B34: ='1.Spieltag'!B34 -> Thomas Müller | C34: 2 | D34: 0 | E34: =IF(OR(EXACT($C$7,C34)*(EXACT($D$7,D34)))=TRUE,$AN$9,IF(($D$7-$C$7=D34-C34),$AN$8,IF(OR(EXACT($C$7>$D$7,C34>D34)*EXACT($C$7=$D$7,C34=D34)*EXACT($C$7<$D$7,C34<D34)),$AN$7,0))) -> 2 | F34: 0 | G34: 2 | H34: =IF(OR(EXACT($F$7,F34)*(EXACT($G$7,G34)))=TRUE,$AN$9,IF(($G$7-$F$7=G34-F34),$AN$8,IF(OR(EXACT($F$7>$G$7,F34>G34)*EXACT($F$7=$G$7,F34=G34)*EXACT($F$7<$G$7,F34<G34)),$AN$7,0))) -> 2 | I34: 3 | J34: 1 | K34: =IF(OR(EXACT($I$7,I34)*(EXACT($J$7,J34)))=TRUE,$AN$9,IF(($J$7-$I$7=J34-I34),$AN$8,IF(OR(EXACT($I$7>$J$7,I34>J34)*EXACT($I$7=$J$7,I34=J34)*EXACT($I$7<$J$7,I34<J34)),$AN$7,0))) -> 2 | L34: 2 | M34: 1 | N34: =IF(OR(EXACT($L$7,L34)*(EXACT($M$7,M34)))=TRUE,$AN$9,IF(($M$7-$L$7=M34-L34),$AN$8,IF(OR(EXACT($L$7>$M$7,L34>M34)*EXACT($L$7=$M$7,L34=M34)*EXACT($L$7<$M$7,L34<M34)),$AN$7,0))) -> 0 | O34: 0 | P34: 3 | Q34: =IF(OR(EXACT($O$7,O34)*(EXACT($P$7,P34)))=TRUE,$AN$9,IF(($P$7-$O$7=P34-O34),$AN$8,IF(OR(EXACT($O$7>$P$7,O34>P34)*EXACT($O$7=$P$7,O34=P34)*EXACT($O$7<$P$7,O34<P34)),$AN$7,0))) -> 0 | R34: 0 | S34: 2 | T34: =IF(OR(EXACT($R$7,R34)*(EXACT($S$7,S34)))=TRUE,$AN$9,IF(($S$7-$R$7=S34-R34),$AN$8,IF(OR(EXACT($R$7>$S$7,R34>S34)*EXACT($R$7=$S$7,R34=S34)*EXACT($R$7<$S$7,R34<S34)),$AN$7,0))) -> 2 | U34: 0 | V34: 3 | W34: =IF(OR(EXACT($U$7,U34)*(EXACT($V$7,V34)))=TRUE,$AN$9,IF(($V$7-$U$7=V34-U34),$AN$8,IF(OR(EXACT($U$7>$V$7,U34>V34)*EXACT($U$7=$V$7,U34=V34)*EXACT($U$7<$V$7,U34<V34)),$AN$7,0)))*4 -> 0 | X34: 1 | Y34: 1 | Z34: =IF(OR(EXACT($X$7,X34)*(EXACT($Y$7,Y34)))=TRUE,$AN$9,IF(($Y$7-$X$7=Y34-X34),$AN$8,IF(OR(EXACT($X$7>$Y$7,X34>Y34)*EXACT($X$7=$Y$7,X34=Y34)*EXACT($X$7<$Y$7,X34<Y34)),$AN$7,0))) -> 0 | AA34: 2 | AB34: 1 | AC34: =IF(OR(EXACT($AA$7,AA34)*(EXACT($AB$7,AB34)))=TRUE,$AN$9,IF(($AB$7-$AA$7=AB34-AA34),$AN$8,IF(OR(EXACT($AA$7>$AB$7,AA34>AB34)*EXACT($AA$7=$AB$7,AA34=AB34)*EXACT($AA$7<$AB$7,AA34<AB34)),$AN$7,0))) -> 0 | AG34: =E34+H34+K34+N34+Q34+T34+W34+Z34+AC34+AF34 -> 8 | AH34: ='1.Spieltag'!AI34 -> 12 | AI34: =AG34+AH34 -> 20 | AJ34: =RANK(AI34,$AI$8:$AI$50) -> 15
A35: =AJ35 -> 21 | B35: ='1.Spieltag'!B35 -> Totti | C35: 2 | D35: 1 | E35: =IF(OR(EXACT($C$7,C35)*(EXACT($D$7,D35)))=TRUE,$AN$9,IF(($D$7-$C$7=D35-C35),$AN$8,IF(OR(EXACT($C$7>$D$7,C35>D35)*EXACT($C$7=$D$7,C35=D35)*EXACT($C$7<$D$7,C35<D35)),$AN$7,0))) -> 2 | F35: 1 | G35: 1 | H35: =IF(OR(EXACT($F$7,F35)*(EXACT($G$7,G35)))=TRUE,$AN$9,IF(($G$7-$F$7=G35-F35),$AN$8,IF(OR(EXACT($F$7>$G$7,F35>G35)*EXACT($F$7=$G$7,F35=G35)*EXACT($F$7<$G$7,F35<G35)),$AN$7,0))) -> 0 | I35: 3 | J35: 1 | K35: =IF(OR(EXACT($I$7,I35)*(EXACT($J$7,J35)))=TRUE,$AN$9,IF(($J$7-$I$7=J35-I35),$AN$8,IF(OR(EXACT($I$7>$J$7,I35>J35)*EXACT($I$7=$J$7,I35=J35)*EXACT($I$7<$J$7,I35<J35)),$AN$7,0))) -> 2 | L35: 2 | M35: 1 | N35: =IF(OR(EXACT($L$7,L35)*(EXACT($M$7,M35)))=TRUE,$AN$9,IF(($M$7-$L$7=M35-L35),$AN$8,IF(OR(EXACT($L$7>$M$7,L35>M35)*EXACT($L$7=$M$7,L35=M35)*EXACT($L$7<$M$7,L35<M35)),$AN$7,0))) -> 0 | O35: 0 | P35: 2 | Q35: =IF(OR(EXACT($O$7,O35)*(EXACT($P$7,P35)))=TRUE,$AN$9,IF(($P$7-$O$7=P35-O35),$AN$8,IF(OR(EXACT($O$7>$P$7,O35>P35)*EXACT($O$7=$P$7,O35=P35)*EXACT($O$7<$P$7,O35<P35)),$AN$7,0))) -> 0 | R35: 1 | S35: 2 | T35: =IF(OR(EXACT($R$7,R35)*(EXACT($S$7,S35)))=TRUE,$AN$9,IF(($S$7-$R$7=S35-R35),$AN$8,IF(OR(EXACT($R$7>$S$7,R35>S35)*EXACT($R$7=$S$7,R35=S35)*EXACT($R$7<$S$7,R35<S35)),$AN$7,0))) -> 3 | U35: 1 | V35: 3 | W35: =IF(OR(EXACT($U$7,U35)*(EXACT($V$7,V35)))=TRUE,$AN$9,IF(($V$7-$U$7=V35-U35),$AN$8,IF(OR(EXACT($U$7>$V$7,U35>V35)*EXACT($U$7=$V$7,U35=V35)*EXACT($U$7<$V$7,U35<V35)),$AN$7,0)))*4 -> 0 | X35: 2 | Y35: 2 | Z35: =IF(OR(EXACT($X$7,X35)*(EXACT($Y$7,Y35)))=TRUE,$AN$9,IF(($Y$7-$X$7=Y35-X35),$AN$8,IF(OR(EXACT($X$7>$Y$7,X35>Y35)*EXACT($X$7=$Y$7,X35=Y35)*EXACT($X$7<$Y$7,X35<Y35)),$AN$7,0))) -> 0 | AA35: 1 | AB35: 1 | AC35: =IF(OR(EXACT($AA$7,AA35)*(EXACT($AB$7,AB35)))=TRUE,$AN$9,IF(($AB$7-$AA$7=AB35-AA35),$AN$8,IF(OR(EXACT($AA$7>$AB$7,AA35>AB35)*EXACT($AA$7=$AB$7,AA35=AB35)*EXACT($AA$7<$AB$7,AA35<AB35)),$AN$7,0))) -> 0 | AG35: =E35+H35+K35+N35+Q35+T35+W35+Z35+AC35+AF35 -> 7 | AH35: ='1.Spieltag'!AI35 -> 10 | AI35: =AG35+AH35 -> 17 | AJ35: =RANK(AI35,$AI$8:$AI$50) -> 21
A36: =AJ36 -> 18 | B36: ='1.Spieltag'!B36 -> UltraGE | C36: 2 | D36: 1 | E36: =IF(OR(EXACT($C$7,C36)*(EXACT($D$7,D36)))=TRUE,$AN$9,IF(($D$7-$C$7=D36-C36),$AN$8,IF(OR(EXACT($C$7>$D$7,C36>D36)*EXACT($C$7=$D$7,C36=D36)*EXACT($C$7<$D$7,C36<D36)),$AN$7,0))) -> 2 | F36: 1 | G36: 3 | H36: =IF(OR(EXACT($F$7,F36)*(EXACT($G$7,G36)))=TRUE,$AN$9,IF(($G$7-$F$7=G36-F36),$AN$8,IF(OR(EXACT($F$7>$G$7,F36>G36)*EXACT($F$7=$G$7,F36=G36)*EXACT($F$7<$G$7,F36<G36)),$AN$7,0))) -> 2 | I36: 3 | J36: 1 | K36: =IF(OR(EXACT($I$7,I36)*(EXACT($J$7,J36)))=TRUE,$AN$9,IF(($J$7-$I$7=J36-I36),$AN$8,IF(OR(EXACT($I$7>$J$7,I36>J36)*EXACT($I$7=$J$7,I36=J36)*EXACT($I$7<$J$7,I36<J36)),$AN$7,0))) -> 2 | L36: 2 | M36: 1 | N36: =IF(OR(EXACT($L$7,L36)*(EXACT($M$7,M36)))=TRUE,$AN$9,IF(($M$7-$L$7=M36-L36),$AN$8,IF(OR(EXACT($L$7>$M$7,L36>M36)*EXACT($L$7=$M$7,L36=M36)*EXACT($L$7<$M$7,L36<M36)),$AN$7,0))) -> 0 | O36: 1 | P36: 3 | Q36: =IF(OR(EXACT($O$7,O36)*(EXACT($P$7,P36)))=TRUE,$AN$9,IF(($P$7-$O$7=P36-O36),$AN$8,IF(OR(EXACT($O$7>$P$7,O36>P36)*EXACT($O$7=$P$7,O36=P36)*EXACT($O$7<$P$7,O36<P36)),$AN$7,0))) -> 0 | R36: 1 | S36: 2 | T36: =IF(OR(EXACT($R$7,R36)*(EXACT($S$7,S36)))=TRUE,$AN$9,IF(($S$7-$R$7=S36-R36),$AN$8,IF(OR(EXACT($R$7>$S$7,R36>S36)*EXACT($R$7=$S$7,R36=S36)*EXACT($R$7<$S$7,R36<S36)),$AN$7,0))) -> 3 | U36: 0 | V36: 3 | W36: =IF(OR(EXACT($U$7,U36)*(EXACT($V$7,V36)))=TRUE,$AN$9,IF(($V$7-$U$7=V36-U36),$AN$8,IF(OR(EXACT($U$7>$V$7,U36>V36)*EXACT($U$7=$V$7,U36=V36)*EXACT($U$7<$V$7,U36<V36)),$AN$7,0))) -> 0 | X36: 2 | Y36: 1 | Z36: =IF(OR(EXACT($X$7,X36)*(EXACT($Y$7,Y36)))=TRUE,$AN$9,IF(($Y$7-$X$7=Y36-X36),$AN$8,IF(OR(EXACT($X$7>$Y$7,X36>Y36)*EXACT($X$7=$Y$7,X36=Y36)*EXACT($X$7<$Y$7,X36<Y36)),$AN$7,0))) -> 0 | AA36: 2 | AB36: 0 | AC36: =IF(OR(EXACT($AA$7,AA36)*(EXACT($AB$7,AB36)))=TRUE,$AN$9,IF(($AB$7-$AA$7=AB36-AA36),$AN$8,IF(OR(EXACT($AA$7>$AB$7,AA36>AB36)*EXACT($AA$7=$AB$7,AA36=AB36)*EXACT($AA$7<$AB$7,AA36<AB36)),$AN$7,0))) -> 0 | AG36: =E36+H36+K36+N36+Q36+T36+W36+Z36+AC36+AF36 -> 9 | AH36: ='1.Spieltag'!AI36 -> 9 | AI36: =AG36+AH36 -> 18 | AJ36: =RANK(AI36,$AI$8:$AI$50) -> 18
A37: =AJ37 -> 30 | B37: ='1.Spieltag'!B37 -> Nico1904 | C37: 2 | D37: 0 | E37: =IF(OR(EXACT($C$7,C37)*(EXACT($D$7,D37)))=TRUE,$AN$9,IF(($D$7-$C$7=D37-C37),$AN$8,IF(OR(EXACT($C$7>$D$7,C37>D37)*EXACT($C$7=$D$7,C37=D37)*EXACT($C$7<$D$7,C37<D37)),$AN$7,0))) -> 2 | F37: 2 | G37: 2 | H37: =IF(OR(EXACT($F$7,F37)*(EXACT($G$7,G37)))=TRUE,$AN$9,IF(($G$7-$F$7=G37-F37),$AN$8,IF(OR(EXACT($F$7>$G$7,F37>G37)*EXACT($F$7=$G$7,F37=G37)*EXACT($F$7<$G$7,F37<G37)),$AN$7,0))) -> 0 | I37: 2 | J37: 1 | K37: =IF(OR(EXACT($I$7,I37)*(EXACT($J$7,J37)))=TRUE,$AN$9,IF(($J$7-$I$7=J37-I37),$AN$8,IF(OR(EXACT($I$7>$J$7,I37>J37)*EXACT($I$7=$J$7,I37=J37)*EXACT($I$7<$J$7,I37<J37)),$AN$7,0))) -> 2 | L37: 2 | M37: 2 | N37: =IF(OR(EXACT($L$7,L37)*(EXACT($M$7,M37)))=TRUE,$AN$9,IF(($M$7-$L$7=M37-L37),$AN$8,IF(OR(EXACT($L$7>$M$7,L37>M37)*EXACT($L$7=$M$7,L37=M37)*EXACT($L$7<$M$7,L37<M37)),$AN$7,0))) -> 0 | O37: 0 | P37: 2 | Q37: =IF(OR(EXACT($O$7,O37)*(EXACT($P$7,P37)))=TRUE,$AN$9,IF(($P$7-$O$7=P37-O37),$AN$8,IF(OR(EXACT($O$7>$P$7,O37>P37)*EXACT($O$7=$P$7,O37=P37)*EXACT($O$7<$P$7,O37<P37)),$AN$7,0))) -> 0 | R37: 1 | S37: 3 | T37: =IF(OR(EXACT($R$7,R37)*(EXACT($S$7,S37)))=TRUE,$AN$9,IF(($S$7-$R$7=S37-R37),$AN$8,IF(OR(EXACT($R$7>$S$7,R37>S37)*EXACT($R$7=$S$7,R37=S37)*EXACT($R$7<$S$7,R37<S37)),$AN$7,0))) -> 2 | U37: 7 | V37: 1 | W37: =IF(OR(EXACT($U$7,U37)*(EXACT($V$7,V37)))=TRUE,$AN$9,IF(($V$7-$U$7=V37-U37),$AN$8,IF(OR(EXACT($U$7>$V$7,U37>V37)*EXACT($U$7=$V$7,U37=V37)*EXACT($U$7<$V$7,U37<V37)),$AN$7,0))) -> 0 | X37: 1 | Y37: 1 | Z37: =IF(OR(EXACT($X$7,X37)*(EXACT($Y$7,Y37)))=TRUE,$AN$9,IF(($Y$7-$X$7=Y37-X37),$AN$8,IF(OR(EXACT($X$7>$Y$7,X37>Y37)*EXACT($X$7=$Y$7,X37=Y37)*EXACT($X$7<$Y$7,X37<Y37)),$AN$7,0))) -> 0 | AA37: 2 | AB37: 1 | AC37: =IF(OR(EXACT($AA$7,AA37)*(EXACT($AB$7,AB37)))=TRUE,$AN$9,IF(($AB$7-$AA$7=AB37-AA37),$AN$8,IF(OR(EXACT($AA$7>$AB$7,AA37>AB37)*EXACT($AA$7=$AB$7,AA37=AB37)*EXACT($AA$7<$AB$7,AA37<AB37)),$AN$7,0))) -> 0 | AG37: =E37+H37+K37+N37+Q37+T37+W37+Z37+AC37+AF37 -> 6 | AH37: ='1.Spieltag'!AI37 -> 0 | AI37: =AG37+AH37 -> 6 | AJ37: =RANK(AI37,$AI$8:$AI$50) -> 30
A38: =AJ38 -> 31 | E38: =IF(OR(EXACT($C$7,C38)*(EXACT($D$7,D38)))=TRUE,$AN$9,IF(($D$7-$C$7=D38-C38),$AN$8,IF(OR(EXACT($C$7>$D$7,C38>D38)*EXACT($C$7=$D$7,C38=D38)*EXACT($C$7<$D$7,C38<D38)),$AN$7,0))) -> 0 | H38: =IF(OR(EXACT($F$7,F38)*(EXACT($G$7,G38)))=TRUE,$AN$9,IF(($G$7-$F$7=G38-F38),$AN$8,IF(OR(EXACT($F$7>$G$7,F38>G38)*EXACT($F$7=$G$7,F38=G38)*EXACT($F$7<$G$7,F38<G38)),$AN$7,0))) -> 0 | K38: =IF(OR(EXACT($I$7,I38)*(EXACT($J$7,J38)))=TRUE,$AN$9,IF(($J$7-$I$7=J38-I38),$AN$8,IF(OR(EXACT($I$7>$J$7,I38>J38)*EXACT($I$7=$J$7,I38=J38)*EXACT($I$7<$J$7,I38<J38)),$AN$7,0))) -> 0 | N38: =IF(OR(EXACT($L$7,L38)*(EXACT($M$7,M38)))=TRUE,$AN$9,IF(($M$7-$L$7=M38-L38),$AN$8,IF(OR(EXACT($L$7>$M$7,L38>M38)*EXACT($L$7=$M$7,L38=M38)*EXACT($L$7<$M$7,L38<M38)),$AN$7,0))) -> 0 | Q38: =IF(OR(EXACT($O$7,O38)*(EXACT($P$7,P38)))=TRUE,$AN$9,IF(($P$7-$O$7=P38-O38),$AN$8,IF(OR(EXACT($O$7>$P$7,O38>P38)*EXACT($O$7=$P$7,O38=P38)*EXACT($O$7<$P$7,O38<P38)),$AN$7,0))) -> 0 | T38: =IF(OR(EXACT($R$7,R38)*(EXACT($S$7,S38)))=TRUE,$AN$9,IF(($S$7-$R$7=S38-R38),$AN$8,IF(OR(EXACT($R$7>$S$7,R38>S38)*EXACT($R$7=$S$7,R38=S38)*EXACT($R$7<$S$7,R38<S38)),$AN$7,0))) -> 0 | W38: =IF(OR(EXACT($U$7,U38)*(EXACT($V$7,V38)))=TRUE,$AN$9,IF(($V$7-$U$7=V38-U38),$AN$8,IF(OR(EXACT($U$7>$V$7,U38>V38)*EXACT($U$7=$V$7,U38=V38)*EXACT($U$7<$V$7,U38<V38)),$AN$7,0))) -> 3 | Z38: =IF(OR(EXACT($X$7,X38)*(EXACT($Y$7,Y38)))=TRUE,$AN$9,IF(($Y$7-$X$7=Y38-X38),$AN$8,IF(OR(EXACT($X$7>$Y$7,X38>Y38)*EXACT($X$7=$Y$7,X38=Y38)*EXACT($X$7<$Y$7,X38<Y38)),$AN$7,0))) -> 0 | AC38: =IF(OR(EXACT($AA$7,AA38)*(EXACT($AB$7,AB38)))=TRUE,$AN$9,IF(($AB$7-$AA$7=AB38-AA38),$AN$8,IF(OR(EXACT($AA$7>$AB$7,AA38>AB38)*EXACT($AA$7=$AB$7,AA38=AB38)*EXACT($AA$7<$AB$7,AA38<AB38)),$AN$7,0))) -> 0 | AG38: =E38+H38+K38+N38+Q38+T38+W38+Z38+AC38+AF38 -> 3 | AH38: ='1.Spieltag'!AI38 -> 0 | AI38: =AG38+AH38 -> 3 | AJ38: =RANK(AI38,$AI$8:$AI$50) -> 31
A39: =AJ39 -> 31 | E39: =IF(OR(EXACT($C$7,C39)*(EXACT($D$7,D39)))=TRUE,$AN$9,IF(($D$7-$C$7=D39-C39),$AN$8,IF(OR(EXACT($C$7>$D$7,C39>D39)*EXACT($C$7=$D$7,C39=D39)*EXACT($C$7<$D$7,C39<D39)),$AN$7,0))) -> 0 | H39: =IF(OR(EXACT($F$7,F39)*(EXACT($G$7,G39)))=TRUE,$AN$9,IF(($G$7-$F$7=G39-F39),$AN$8,IF(OR(EXACT($F$7>$G$7,F39>G39)*EXACT($F$7=$G$7,F39=G39)*EXACT($F$7<$G$7,F39<G39)),$AN$7,0))) -> 0 | K39: =IF(OR(EXACT($I$7,I39)*(EXACT($J$7,J39)))=TRUE,$AN$9,IF(($J$7-$I$7=J39-I39),$AN$8,IF(OR(EXACT($I$7>$J$7,I39>J39)*EXACT($I$7=$J$7,I39=J39)*EXACT($I$7<$J$7,I39<J39)),$AN$7,0))) -> 0 | N39: =IF(OR(EXACT($L$7,L39)*(EXACT($M$7,M39)))=TRUE,$AN$9,IF(($M$7-$L$7=M39-L39),$AN$8,IF(OR(EXACT($L$7>$M$7,L39>M39)*EXACT($L$7=$M$7,L39=M39)*EXACT($L$7<$M$7,L39<M39)),$AN$7,0))) -> 0 | Q39: =IF(OR(EXACT($O$7,O39)*(EXACT($P$7,P39)))=TRUE,$AN$9,IF(($P$7-$O$7=P39-O39),$AN$8,IF(OR(EXACT($O$7>$P$7,O39>P39)*EXACT($O$7=$P$7,O39=P39)*EXACT($O$7<$P$7,O39<P39)),$AN$7,0))) -> 0 | T39: =IF(OR(EXACT($R$7,R39)*(EXACT($S$7,S39)))=TRUE,$AN$9,IF(($S$7-$R$7=S39-R39),$AN$8,IF(OR(EXACT($R$7>$S$7,R39>S39)*EXACT($R$7=$S$7,R39=S39)*EXACT($R$7<$S$7,R39<S39)),$AN$7,0))) -> 0 | W39: =IF(OR(EXACT($U$7,U39)*(EXACT($V$7,V39)))=TRUE,$AN$9,IF(($V$7-$U$7=V39-U39),$AN$8,IF(OR(EXACT($U$7>$V$7,U39>V39)*EXACT($U$7=$V$7,U39=V39)*EXACT($U$7<$V$7,U39<V39)),$AN$7,0))) -> 3 | Z39: =IF(OR(EXACT($X$7,X39)*(EXACT($Y$7,Y39)))=TRUE,$AN$9,IF(($Y$7-$X$7=Y39-X39),$AN$8,IF(OR(EXACT($X$7>$Y$7,X39>Y39)*EXACT($X$7=$Y$7,X39=Y39)*EXACT($X$7<$Y$7,X39<Y39)),$AN$7,0))) -> 0 | AC39: =IF(OR(EXACT($AA$7,AA39)*(EXACT($AB$7,AB39)))=TRUE,$AN$9,IF(($AB$7-$AA$7=AB39-AA39),$AN$8,IF(OR(EXACT($AA$7>$AB$7,AA39>AB39)*EXACT($AA$7=$AB$7,AA39=AB39)*EXACT($AA$7<$AB$7,AA39<AB39)),$AN$7,0))) -> 0 | AG39: =E39+H39+K39+N39+Q39+T39+W39+Z39+AC39+AF39 -> 3 | AH39: ='1.Spieltag'!AI39 -> 0 | AI39: =AG39+AH39 -> 3 | AJ39: =RANK(AI39,$AI$8:$AI$50) -> 31
A40: =AJ40 -> 31 | E40: =IF(OR(EXACT($C$7,C40)*(EXACT($D$7,D40)))=TRUE,$AN$9,IF(($D$7-$C$7=D40-C40),$AN$8,IF(OR(EXACT($C$7>$D$7,C40>D40)*EXACT($C$7=$D$7,C40=D40)*EXACT($C$7<$D$7,C40<D40)),$AN$7,0))) -> 0 | H40: =IF(OR(EXACT($F$7,F40)*(EXACT($G$7,G40)))=TRUE,$AN$9,IF(($G$7-$F$7=G40-F40),$AN$8,IF(OR(EXACT($F$7>$G$7,F40>G40)*EXACT($F$7=$G$7,F40=G40)*EXACT($F$7<$G$7,F40<G40)),$AN$7,0))) -> 0 | K40: =IF(OR(EXACT($I$7,I40)*(EXACT($J$7,J40)))=TRUE,$AN$9,IF(($J$7-$I$7=J40-I40),$AN$8,IF(OR(EXACT($I$7>$J$7,I40>J40)*EXACT($I$7=$J$7,I40=J40)*EXACT($I$7<$J$7,I40<J40)),$AN$7,0))) -> 0 | N40: =IF(OR(EXACT($L$7,L40)*(EXACT($M$7,M40)))=TRUE,$AN$9,IF(($M$7-$L$7=M40-L40),$AN$8,IF(OR(EXACT($L$7>$M$7,L40>M40)*EXACT($L$7=$M$7,L40=M40)*EXACT($L$7<$M$7,L40<M40)),$AN$7,0))) -> 0 | Q40: =IF(OR(EXACT($O$7,O40)*(EXACT($P$7,P40)))=TRUE,$AN$9,IF(($P$7-$O$7=P40-O40),$AN$8,IF(OR(EXACT($O$7>$P$7,O40>P40)*EXACT($O$7=$P$7,O40=P40)*EXACT($O$7<$P$7,O40<P40)),$AN$7,0))) -> 0 | T40: =IF(OR(EXACT($R$7,R40)*(EXACT($S$7,S40)))=TRUE,$AN$9,IF(($S$7-$R$7=S40-R40),$AN$8,IF(OR(EXACT($R$7>$S$7,R40>S40)*EXACT($R$7=$S$7,R40=S40)*EXACT($R$7<$S$7,R40<S40)),$AN$7,0))) -> 0 | W40: =IF(OR(EXACT($U$7,U40)*(EXACT($V$7,V40)))=TRUE,$AN$9,IF(($V$7-$U$7=V40-U40),$AN$8,IF(OR(EXACT($U$7>$V$7,U40>V40)*EXACT($U$7=$V$7,U40=V40)*EXACT($U$7<$V$7,U40<V40)),$AN$7,0))) -> 3 | Z40: =IF(OR(EXACT($X$7,X40)*(EXACT($Y$7,Y40)))=TRUE,$AN$9,IF(($Y$7-$X$7=Y40-X40),$AN$8,IF(OR(EXACT($X$7>$Y$7,X40>Y40)*EXACT($X$7=$Y$7,X40=Y40)*EXACT($X$7<$Y$7,X40<Y40)),$AN$7,0))) -> 0 | AC40: =IF(OR(EXACT($AA$7,AA40)*(EXACT($AB$7,AB40)))=TRUE,$AN$9,IF(($AB$7-$AA$7=AB40-AA40),$AN$8,IF(OR(EXACT($AA$7>$AB$7,AA40>AB40)*EXACT($AA$7=$AB$7,AA40=AB40)*EXACT($AA$7<$AB$7,AA40<AB40)),$AN$7,0))) -> 0 | AG40: =E40+H40+K40+N40+Q40+T40+W40+Z40+AC40+AF40 -> 3 | AH40: ='1.Spieltag'!AI40 -> 0 | AI40: =AG40+AH40 -> 3 | AJ40: =RANK(AI40,$AI$8:$AI$50) -> 31
A41: =AJ41 -> 31 | E41: =IF(OR(EXACT($C$7,C41)*(EXACT($D$7,D41)))=TRUE,$AN$9,IF(($D$7-$C$7=D41-C41),$AN$8,IF(OR(EXACT($C$7>$D$7,C41>D41)*EXACT($C$7=$D$7,C41=D41)*EXACT($C$7<$D$7,C41<D41)),$AN$7,0))) -> 0 | H41: =IF(OR(EXACT($F$7,F41)*(EXACT($G$7,G41)))=TRUE,$AN$9,IF(($G$7-$F$7=G41-F41),$AN$8,IF(OR(EXACT($F$7>$G$7,F41>G41)*EXACT($F$7=$G$7,F41=G41)*EXACT($F$7<$G$7,F41<G41)),$AN$7,0))) -> 0 | K41: =IF(OR(EXACT($I$7,I41)*(EXACT($J$7,J41)))=TRUE,$AN$9,IF(($J$7-$I$7=J41-I41),$AN$8,IF(OR(EXACT($I$7>$J$7,I41>J41)*EXACT($I$7=$J$7,I41=J41)*EXACT($I$7<$J$7,I41<J41)),$AN$7,0))) -> 0 | N41: =IF(OR(EXACT($L$7,L41)*(EXACT($M$7,M41)))=TRUE,$AN$9,IF(($M$7-$L$7=M41-L41),$AN$8,IF(OR(EXACT($L$7>$M$7,L41>M41)*EXACT($L$7=$M$7,L41=M41)*EXACT($L$7<$M$7,L41<M41)),$AN$7,0))) -> 0 | Q41: =IF(OR(EXACT($O$7,O41)*(EXACT($P$7,P41)))=TRUE,$AN$9,IF(($P$7-$O$7=P41-O41),$AN$8,IF(OR(EXACT($O$7>$P$7,O41>P41)*EXACT($O$7=$P$7,O41=P41)*EXACT($O$7<$P$7,O41<P41)),$AN$7,0))) -> 0 | T41: =IF(OR(EXACT($R$7,R41)*(EXACT($S$7,S41)))=TRUE,$AN$9,IF(($S$7-$R$7=S41-R41),$AN$8,IF(OR(EXACT($R$7>$S$7,R41>S41)*EXACT($R$7=$S$7,R41=S41)*EXACT($R$7<$S$7,R41<S41)),$AN$7,0))) -> 0 | W41: =IF(OR(EXACT($U$7,U41)*(EXACT($V$7,V41)))=TRUE,$AN$9,IF(($V$7-$U$7=V41-U41),$AN$8,IF(OR(EXACT($U$7>$V$7,U41>V41)*EXACT($U$7=$V$7,U41=V41)*EXACT($U$7<$V$7,U41<V41)),$AN$7,0))) -> 3 | Z41: =IF(OR(EXACT($X$7,X41)*(EXACT($Y$7,Y41)))=TRUE,$AN$9,IF(($Y$7-$X$7=Y41-X41),$AN$8,IF(OR(EXACT($X$7>$Y$7,X41>Y41)*EXACT($X$7=$Y$7,X41=Y41)*EXACT($X$7<$Y$7,X41<Y41)),$AN$7,0))) -> 0 | AC41: =IF(OR(EXACT($AA$7,AA41)*(EXACT($AB$7,AB41)))=TRUE,$AN$9,IF(($AB$7-$AA$7=AB41-AA41),$AN$8,IF(OR(EXACT($AA$7>$AB$7,AA41>AB41)*EXACT($AA$7=$AB$7,AA41=AB41)*EXACT($AA$7<$AB$7,AA41<AB41)),$AN$7,0))) -> 0 | AG41: =E41+H41+K41+N41+Q41+T41+W41+Z41+AC41+AF41 -> 3 | AH41: ='1.Spieltag'!AI41 -> 0 | AI41: =AG41+AH41 -> 3 | AJ41: =RANK(AI41,$AI$8:$AI$50) -> 31
A42: =AJ42 -> 31 | E42: =IF(OR(EXACT($C$7,C42)*(EXACT($D$7,D42)))=TRUE,$AN$9,IF(($D$7-$C$7=D42-C42),$AN$8,IF(OR(EXACT($C$7>$D$7,C42>D42)*EXACT($C$7=$D$7,C42=D42)*EXACT($C$7<$D$7,C42<D42)),$AN$7,0))) -> 0 | H42: =IF(OR(EXACT($F$7,F42)*(EXACT($G$7,G42)))=TRUE,$AN$9,IF(($G$7-$F$7=G42-F42),$AN$8,IF(OR(EXACT($F$7>$G$7,F42>G42)*EXACT($F$7=$G$7,F42=G42)*EXACT($F$7<$G$7,F42<G42)),$AN$7,0))) -> 0 | K42: =IF(OR(EXACT($I$7,I42)*(EXACT($J$7,J42)))=TRUE,$AN$9,IF(($J$7-$I$7=J42-I42),$AN$8,IF(OR(EXACT($I$7>$J$7,I42>J42)*EXACT($I$7=$J$7,I42=J42)*EXACT($I$7<$J$7,I42<J42)),$AN$7,0))) -> 0 | N42: =IF(OR(EXACT($L$7,L42)*(EXACT($M$7,M42)))=TRUE,$AN$9,IF(($M$7-$L$7=M42-L42),$AN$8,IF(OR(EXACT($L$7>$M$7,L42>M42)*EXACT($L$7=$M$7,L42=M42)*EXACT($L$7<$M$7,L42<M42)),$AN$7,0))) -> 0 | Q42: =IF(OR(EXACT($O$7,O42)*(EXACT($P$7,P42)))=TRUE,$AN$9,IF(($P$7-$O$7=P42-O42),$AN$8,IF(OR(EXACT($O$7>$P$7,O42>P42)*EXACT($O$7=$P$7,O42=P42)*EXACT($O$7<$P$7,O42<P42)),$AN$7,0))) -> 0 | T42: =IF(OR(EXACT($R$7,R42)*(EXACT($S$7,S42)))=TRUE,$AN$9,IF(($S$7-$R$7=S42-R42),$AN$8,IF(OR(EXACT($R$7>$S$7,R42>S42)*EXACT($R$7=$S$7,R42=S42)*EXACT($R$7<$S$7,R42<S42)),$AN$7,0))) -> 0 | W42: =IF(OR(EXACT($U$7,U42)*(EXACT($V$7,V42)))=TRUE,$AN$9,IF(($V$7-$U$7=V42-U42),$AN$8,IF(OR(EXACT($U$7>$V$7,U42>V42)*EXACT($U$7=$V$7,U42=V42)*EXACT($U$7<$V$7,U42<V42)),$AN$7,0))) -> 3 | Z42: =IF(OR(EXACT($X$7,X42)*(EXACT($Y$7,Y42)))=TRUE,$AN$9,IF(($Y$7-$X$7=Y42-X42),$AN$8,IF(OR(EXACT($X$7>$Y$7,X42>Y42)*EXACT($X$7=$Y$7,X42=Y42)*EXACT($X$7<$Y$7,X42<Y42)),$AN$7,0))) -> 0 | AC42: =IF(OR(EXACT($AA$7,AA42)*(EXACT($AB$7,AB42)))=TRUE,$AN$9,IF(($AB$7-$AA$7=AB42-AA42),$AN$8,IF(OR(EXACT($AA$7>$AB$7,AA42>AB42)*EXACT($AA$7=$AB$7,AA42=AB42)*EXACT($AA$7<$AB$7,AA42<AB42)),$AN$7,0))) -> 0 | AG42: =E42+H42+K42+N42+Q42+T42+W42+Z42+AC42+AF42 -> 3 | AH42: ='1.Spieltag'!AI42 -> 0 | AI42: =AG42+AH42 -> 3 | AJ42: =RANK(AI42,$AI$8:$AI$50) -> 31
A43: =AJ43 -> 31 | E43: =IF(OR(EXACT($C$7,C43)*(EXACT($D$7,D43)))=TRUE,$AN$9,IF(($D$7-$C$7=D43-C43),$AN$8,IF(OR(EXACT($C$7>$D$7,C43>D43)*EXACT($C$7=$D$7,C43=D43)*EXACT($C$7<$D$7,C43<D43)),$AN$7,0))) -> 0 | H43: =IF(OR(EXACT($F$7,F43)*(EXACT($G$7,G43)))=TRUE,$AN$9,IF(($G$7-$F$7=G43-F43),$AN$8,IF(OR(EXACT($F$7>$G$7,F43>G43)*EXACT($F$7=$G$7,F43=G43)*EXACT($F$7<$G$7,F43<G43)),$AN$7,0))) -> 0 | K43: =IF(OR(EXACT($I$7,I43)*(EXACT($J$7,J43)))=TRUE,$AN$9,IF(($J$7-$I$7=J43-I43),$AN$8,IF(OR(EXACT($I$7>$J$7,I43>J43)*EXACT($I$7=$J$7,I43=J43)*EXACT($I$7<$J$7,I43<J43)),$AN$7,0))) -> 0 | N43: =IF(OR(EXACT($L$7,L43)*(EXACT($M$7,M43)))=TRUE,$AN$9,IF(($M$7-$L$7=M43-L43),$AN$8,IF(OR(EXACT($L$7>$M$7,L43>M43)*EXACT($L$7=$M$7,L43=M43)*EXACT($L$7<$M$7,L43<M43)),$AN$7,0))) -> 0 | Q43: =IF(OR(EXACT($O$7,O43)*(EXACT($P$7,P43)))=TRUE,$AN$9,IF(($P$7-$O$7=P43-O43),$AN$8,IF(OR(EXACT($O$7>$P$7,O43>P43)*EXACT($O$7=$P$7,O43=P43)*EXACT($O$7<$P$7,O43<P43)),$AN$7,0))) -> 0 | T43: =IF(OR(EXACT($R$7,R43)*(EXACT($S$7,S43)))=TRUE,$AN$9,IF(($S$7-$R$7=S43-R43),$AN$8,IF(OR(EXACT($R$7>$S$7,R43>S43)*EXACT($R$7=$S$7,R43=S43)*EXACT($R$7<$S$7,R43<S43)),$AN$7,0))) -> 0 | W43: =IF(OR(EXACT($U$7,U43)*(EXACT($V$7,V43)))=TRUE,$AN$9,IF(($V$7-$U$7=V43-U43),$AN$8,IF(OR(EXACT($U$7>$V$7,U43>V43)*EXACT($U$7=$V$7,U43=V43)*EXACT($U$7<$V$7,U43<V43)),$AN$7,0))) -> 3 | Z43: =IF(OR(EXACT($X$7,X43)*(EXACT($Y$7,Y43)))=TRUE,$AN$9,IF(($Y$7-$X$7=Y43-X43),$AN$8,IF(OR(EXACT($X$7>$Y$7,X43>Y43)*EXACT($X$7=$Y$7,X43=Y43)*EXACT($X$7<$Y$7,X43<Y43)),$AN$7,0))) -> 0 | AC43: =IF(OR(EXACT($AA$7,AA43)*(EXACT($AB$7,AB43)))=TRUE,$AN$9,IF(($AB$7-$AA$7=AB43-AA43),$AN$8,IF(OR(EXACT($AA$7>$AB$7,AA43>AB43)*EXACT($AA$7=$AB$7,AA43=AB43)*EXACT($AA$7<$AB$7,AA43<AB43)),$AN$7,0))) -> 0 | AG43: =E43+H43+K43+N43+Q43+T43+W43+Z43+AC43+AF43 -> 3 | AH43: ='1.Spieltag'!AI43 -> 0 | AI43: =AG43+AH43 -> 3 | AJ43: =RANK(AI43,$AI$8:$AI$50) -> 31
A44: =AJ44 -> 31 | E44: =IF(OR(EXACT($C$7,C44)*(EXACT($D$7,D44)))=TRUE,$AN$9,IF(($D$7-$C$7=D44-C44),$AN$8,IF(OR(EXACT($C$7>$D$7,C44>D44)*EXACT($C$7=$D$7,C44=D44)*EXACT($C$7<$D$7,C44<D44)),$AN$7,0))) -> 0 | H44: =IF(OR(EXACT($F$7,F44)*(EXACT($G$7,G44)))=TRUE,$AN$9,IF(($G$7-$F$7=G44-F44),$AN$8,IF(OR(EXACT($F$7>$G$7,F44>G44)*EXACT($F$7=$G$7,F44=G44)*EXACT($F$7<$G$7,F44<G44)),$AN$7,0))) -> 0 | K44: =IF(OR(EXACT($I$7,I44)*(EXACT($J$7,J44)))=TRUE,$AN$9,IF(($J$7-$I$7=J44-I44),$AN$8,IF(OR(EXACT($I$7>$J$7,I44>J44)*EXACT($I$7=$J$7,I44=J44)*EXACT($I$7<$J$7,I44<J44)),$AN$7,0))) -> 0 | N44: =IF(OR(EXACT($L$7,L44)*(EXACT($M$7,M44)))=TRUE,$AN$9,IF(($M$7-$L$7=M44-L44),$AN$8,IF(OR(EXACT($L$7>$M$7,L44>M44)*EXACT($L$7=$M$7,L44=M44)*EXACT($L$7<$M$7,L44<M44)),$AN$7,0))) -> 0 | Q44: =IF(OR(EXACT($O$7,O44)*(EXACT($P$7,P44)))=TRUE,$AN$9,IF(($P$7-$O$7=P44-O44),$AN$8,IF(OR(EXACT($O$7>$P$7,O44>P44)*EXACT($O$7=$P$7,O44=P44)*EXACT($O$7<$P$7,O44<P44)),$AN$7,0))) -> 0 | T44: =IF(OR(EXACT($R$7,R44)*(EXACT($S$7,S44)))=TRUE,$AN$9,IF(($S$7-$R$7=S44-R44),$AN$8,IF(OR(EXACT($R$7>$S$7,R44>S44)*EXACT($R$7=$S$7,R44=S44)*EXACT($R$7<$S$7,R44<S44)),$AN$7,0))) -> 0 | W44: =IF(OR(EXACT($U$7,U44)*(EXACT($V$7,V44)))=TRUE,$AN$9,IF(($V$7-$U$7=V44-U44),$AN$8,IF(OR(EXACT($U$7>$V$7,U44>V44)*EXACT($U$7=$V$7,U44=V44)*EXACT($U$7<$V$7,U44<V44)),$AN$7,0))) -> 3 | Z44: =IF(OR(EXACT($X$7,X44)*(EXACT($Y$7,Y44)))=TRUE,$AN$9,IF(($Y$7-$X$7=Y44-X44),$AN$8,IF(OR(EXACT($X$7>$Y$7,X44>Y44)*EXACT($X$7=$Y$7,X44=Y44)*EXACT($X$7<$Y$7,X44<Y44)),$AN$7,0))) -> 0 | AC44: =IF(OR(EXACT($AA$7,AA44)*(EXACT($AB$7,AB44)))=TRUE,$AN$9,IF(($AB$7-$AA$7=AB44-AA44),$AN$8,IF(OR(EXACT($AA$7>$AB$7,AA44>AB44)*EXACT($AA$7=$AB$7,AA44=AB44)*EXACT($AA$7<$AB$7,AA44<AB44)),$AN$7,0))) -> 0 | AG44: =E44+H44+K44+N44+Q44+T44+W44+Z44+AC44+AF44 -> 3 | AH44: ='1.Spieltag'!AI44 -> 0 | AI44: =AG44+AH44 -> 3 | AJ44: =RANK(AI44,$AI$8:$AI$50) -> 31
A45: =AJ45 -> 31 | E45: =IF(OR(EXACT($C$7,C45)*(EXACT($D$7,D45)))=TRUE,$AN$9,IF(($D$7-$C$7=D45-C45),$AN$8,IF(OR(EXACT($C$7>$D$7,C45>D45)*EXACT($C$7=$D$7,C45=D45)*EXACT($C$7<$D$7,C45<D45)),$AN$7,0))) -> 0 | H45: =IF(OR(EXACT($F$7,F45)*(EXACT($G$7,G45)))=TRUE,$AN$9,IF(($G$7-$F$7=G45-F45),$AN$8,IF(OR(EXACT($F$7>$G$7,F45>G45)*EXACT($F$7=$G$7,F45=G45)*EXACT($F$7<$G$7,F45<G45)),$AN$7,0))) -> 0 | K45: =IF(OR(EXACT($I$7,I45)*(EXACT($J$7,J45)))=TRUE,$AN$9,IF(($J$7-$I$7=J45-I45),$AN$8,IF(OR(EXACT($I$7>$J$7,I45>J45)*EXACT($I$7=$J$7,I45=J45)*EXACT($I$7<$J$7,I45<J45)),$AN$7,0))) -> 0 | N45: =IF(OR(EXACT($L$7,L45)*(EXACT($M$7,M45)))=TRUE,$AN$9,IF(($M$7-$L$7=M45-L45),$AN$8,IF(OR(EXACT($L$7>$M$7,L45>M45)*EXACT($L$7=$M$7,L45=M45)*EXACT($L$7<$M$7,L45<M45)),$AN$7,0))) -> 0 | Q45: =IF(OR(EXACT($O$7,O45)*(EXACT($P$7,P45)))=TRUE,$AN$9,IF(($P$7-$O$7=P45-O45),$AN$8,IF(OR(EXACT($O$7>$P$7,O45>P45)*EXACT($O$7=$P$7,O45=P45)*EXACT($O$7<$P$7,O45<P45)),$AN$7,0))) -> 0 | T45: =IF(OR(EXACT($R$7,R45)*(EXACT($S$7,S45)))=TRUE,$AN$9,IF(($S$7-$R$7=S45-R45),$AN$8,IF(OR(EXACT($R$7>$S$7,R45>S45)*EXACT($R$7=$S$7,R45=S45)*EXACT($R$7<$S$7,R45<S45)),$AN$7,0))) -> 0 | W45: =IF(OR(EXACT($U$7,U45)*(EXACT($V$7,V45)))=TRUE,$AN$9,IF(($V$7-$U$7=V45-U45),$AN$8,IF(OR(EXACT($U$7>$V$7,U45>V45)*EXACT($U$7=$V$7,U45=V45)*EXACT($U$7<$V$7,U45<V45)),$AN$7,0))) -> 3 | Z45: =IF(OR(EXACT($X$7,X45)*(EXACT($Y$7,Y45)))=TRUE,$AN$9,IF(($Y$7-$X$7=Y45-X45),$AN$8,IF(OR(EXACT($X$7>$Y$7,X45>Y45)*EXACT($X$7=$Y$7,X45=Y45)*EXACT($X$7<$Y$7,X45<Y45)),$AN$7,0))) -> 0 | AC45: =IF(OR(EXACT($AA$7,AA45)*(EXACT($AB$7,AB45)))=TRUE,$AN$9,IF(($AB$7-$AA$7=AB45-AA45),$AN$8,IF(OR(EXACT($AA$7>$AB$7,AA45>AB45)*EXACT($AA$7=$AB$7,AA45=AB45)*EXACT($AA$7<$AB$7,AA45<AB45)),$AN$7,0))) -> 0 | AG45: =E45+H45+K45+N45+Q45+T45+W45+Z45+AC45+AF45 -> 3 | AH45: ='1.Spieltag'!AI45 -> 0 | AI45: =AG45+AH45 -> 3 | AJ45: =RANK(AI45,$AI$8:$AI$50) -> 31
A46: =AJ46 -> 31 | E46: =IF(OR(EXACT($C$7,C46)*(EXACT($D$7,D46)))=TRUE,$AN$9,IF(($D$7-$C$7=D46-C46),$AN$8,IF(OR(EXACT($C$7>$D$7,C46>D46)*EXACT($C$7=$D$7,C46=D46)*EXACT($C$7<$D$7,C46<D46)),$AN$7,0))) -> 0 | H46: =IF(OR(EXACT($F$7,F46)*(EXACT($G$7,G46)))=TRUE,$AN$9,IF(($G$7-$F$7=G46-F46),$AN$8,IF(OR(EXACT($F$7>$G$7,F46>G46)*EXACT($F$7=$G$7,F46=G46)*EXACT($F$7<$G$7,F46<G46)),$AN$7,0))) -> 0 | K46: =IF(OR(EXACT($I$7,I46)*(EXACT($J$7,J46)))=TRUE,$AN$9,IF(($J$7-$I$7=J46-I46),$AN$8,IF(OR(EXACT($I$7>$J$7,I46>J46)*EXACT($I$7=$J$7,I46=J46)*EXACT($I$7<$J$7,I46<J46)),$AN$7,0))) -> 0 | N46: =IF(OR(EXACT($L$7,L46)*(EXACT($M$7,M46)))=TRUE,$AN$9,IF(($M$7-$L$7=M46-L46),$AN$8,IF(OR(EXACT($L$7>$M$7,L46>M46)*EXACT($L$7=$M$7,L46=M46)*EXACT($L$7<$M$7,L46<M46)),$AN$7,0))) -> 0 | Q46: =IF(OR(EXACT($O$7,O46)*(EXACT($P$7,P46)))=TRUE,$AN$9,IF(($P$7-$O$7=P46-O46),$AN$8,IF(OR(EXACT($O$7>$P$7,O46>P46)*EXACT($O$7=$P$7,O46=P46)*EXACT($O$7<$P$7,O46<P46)),$AN$7,0))) -> 0 | T46: =IF(OR(EXACT($R$7,R46)*(EXACT($S$7,S46)))=TRUE,$AN$9,IF(($S$7-$R$7=S46-R46),$AN$8,IF(OR(EXACT($R$7>$S$7,R46>S46)*EXACT($R$7=$S$7,R46=S46)*EXACT($R$7<$S$7,R46<S46)),$AN$7,0))) -> 0 | W46: =IF(OR(EXACT($U$7,U46)*(EXACT($V$7,V46)))=TRUE,$AN$9,IF(($V$7-$U$7=V46-U46),$AN$8,IF(OR(EXACT($U$7>$V$7,U46>V46)*EXACT($U$7=$V$7,U46=V46)*EXACT($U$7<$V$7,U46<V46)),$AN$7,0))) -> 3 | Z46: =IF(OR(EXACT($X$7,X46)*(EXACT($Y$7,Y46)))=TRUE,$AN$9,IF(($Y$7-$X$7=Y46-X46),$AN$8,IF(OR(EXACT($X$7>$Y$7,X46>Y46)*EXACT($X$7=$Y$7,X46=Y46)*EXACT($X$7<$Y$7,X46<Y46)),$AN$7,0))) -> 0 | AC46: =IF(OR(EXACT($AA$7,AA46)*(EXACT($AB$7,AB46)))=TRUE,$AN$9,IF(($AB$7-$AA$7=AB46-AA46),$AN$8,IF(OR(EXACT($AA$7>$AB$7,AA46>AB46)*EXACT($AA$7=$AB$7,AA46=AB46)*EXACT($AA$7<$AB$7,AA46<AB46)),$AN$7,0))) -> 0 | AG46: =E46+H46+K46+N46+Q46+T46+W46+Z46+AC46+AF46 -> 3 | AH46: ='1.Spieltag'!AI46 -> 0 | AI46: =AG46+AH46 -> 3 | AJ46: =RANK(AI46,$AI$8:$AI$50) -> 31
A47: =AJ47 -> 31 | E47: =IF(OR(EXACT($C$7,C47)*(EXACT($D$7,D47)))=TRUE,$AN$9,IF(($D$7-$C$7=D47-C47),$AN$8,IF(OR(EXACT($C$7>$D$7,C47>D47)*EXACT($C$7=$D$7,C47=D47)*EXACT($C$7<$D$7,C47<D47)),$AN$7,0))) -> 0 | H47: =IF(OR(EXACT($F$7,F47)*(EXACT($G$7,G47)))=TRUE,$AN$9,IF(($G$7-$F$7=G47-F47),$AN$8,IF(OR(EXACT($F$7>$G$7,F47>G47)*EXACT($F$7=$G$7,F47=G47)*EXACT($F$7<$G$7,F47<G47)),$AN$7,0))) -> 0 | K47: =IF(OR(EXACT($I$7,I47)*(EXACT($J$7,J47)))=TRUE,$AN$9,IF(($J$7-$I$7=J47-I47),$AN$8,IF(OR(EXACT($I$7>$J$7,I47>J47)*EXACT($I$7=$J$7,I47=J47)*EXACT($I$7<$J$7,I47<J47)),$AN$7,0))) -> 0 | N47: =IF(OR(EXACT($L$7,L47)*(EXACT($M$7,M47)))=TRUE,$AN$9,IF(($M$7-$L$7=M47-L47),$AN$8,IF(OR(EXACT($L$7>$M$7,L47>M47)*EXACT($L$7=$M$7,L47=M47)*EXACT($L$7<$M$7,L47<M47)),$AN$7,0))) -> 0 | Q47: =IF(OR(EXACT($O$7,O47)*(EXACT($P$7,P47)))=TRUE,$AN$9,IF(($P$7-$O$7=P47-O47),$AN$8,IF(OR(EXACT($O$7>$P$7,O47>P47)*EXACT($O$7=$P$7,O47=P47)*EXACT($O$7<$P$7,O47<P47)),$AN$7,0))) -> 0 | T47: =IF(OR(EXACT($R$7,R47)*(EXACT($S$7,S47)))=TRUE,$AN$9,IF(($S$7-$R$7=S47-R47),$AN$8,IF(OR(EXACT($R$7>$S$7,R47>S47)*EXACT($R$7=$S$7,R47=S47)*EXACT($R$7<$S$7,R47<S47)),$AN$7,0))) -> 0 | W47: =IF(OR(EXACT($U$7,U47)*(EXACT($V$7,V47)))=TRUE,$AN$9,IF(($V$7-$U$7=V47-U47),$AN$8,IF(OR(EXACT($U$7>$V$7,U47>V47)*EXACT($U$7=$V$7,U47=V47)*EXACT($U$7<$V$7,U47<V47)),$AN$7,0))) -> 3 | Z47: =IF(OR(EXACT($X$7,X47)*(EXACT($Y$7,Y47)))=TRUE,$AN$9,IF(($Y$7-$X$7=Y47-X47),$AN$8,IF(OR(EXACT($X$7>$Y$7,X47>Y47)*EXACT($X$7=$Y$7,X47=Y47)*EXACT($X$7<$Y$7,X47<Y47)),$AN$7,0))) -> 0 | AC47: =IF(OR(EXACT($AA$7,AA47)*(EXACT($AB$7,AB47)))=TRUE,$AN$9,IF(($AB$7-$AA$7=AB47-AA47),$AN$8,IF(OR(EXACT($AA$7>$AB$7,AA47>AB47)*EXACT($AA$7=$AB$7,AA47=AB47)*EXACT($AA$7<$AB$7,AA47<AB47)),$AN$7,0))) -> 0 | AG47: =E47+H47+K47+N47+Q47+T47+W47+Z47+AC47+AF47 -> 3 | AH47: ='1.Spieltag'!AI47 -> 0 | AI47: =AG47+AH47 -> 3 | AJ47: =RANK(AI47,$AI$8:$AI$50) -> 31
A48: =AJ48 -> 31 | E48: =IF(OR(EXACT($C$7,C48)*(EXACT($D$7,D48)))=TRUE,$AN$9,IF(($D$7-$C$7=D48-C48),$AN$8,IF(OR(EXACT($C$7>$D$7,C48>D48)*EXACT($C$7=$D$7,C48=D48)*EXACT($C$7<$D$7,C48<D48)),$AN$7,0))) -> 0 | H48: =IF(OR(EXACT($F$7,F48)*(EXACT($G$7,G48)))=TRUE,$AN$9,IF(($G$7-$F$7=G48-F48),$AN$8,IF(OR(EXACT($F$7>$G$7,F48>G48)*EXACT($F$7=$G$7,F48=G48)*EXACT($F$7<$G$7,F48<G48)),$AN$7,0))) -> 0 | K48: =IF(OR(EXACT($I$7,I48)*(EXACT($J$7,J48)))=TRUE,$AN$9,IF(($J$7-$I$7=J48-I48),$AN$8,IF(OR(EXACT($I$7>$J$7,I48>J48)*EXACT($I$7=$J$7,I48=J48)*EXACT($I$7<$J$7,I48<J48)),$AN$7,0))) -> 0 | N48: =IF(OR(EXACT($L$7,L48)*(EXACT($M$7,M48)))=TRUE,$AN$9,IF(($M$7-$L$7=M48-L48),$AN$8,IF(OR(EXACT($L$7>$M$7,L48>M48)*EXACT($L$7=$M$7,L48=M48)*EXACT($L$7<$M$7,L48<M48)),$AN$7,0))) -> 0 | Q48: =IF(OR(EXACT($O$7,O48)*(EXACT($P$7,P48)))=TRUE,$AN$9,IF(($P$7-$O$7=P48-O48),$AN$8,IF(OR(EXACT($O$7>$P$7,O48>P48)*EXACT($O$7=$P$7,O48=P48)*EXACT($O$7<$P$7,O48<P48)),$AN$7,0))) -> 0 | T48: =IF(OR(EXACT($R$7,R48)*(EXACT($S$7,S48)))=TRUE,$AN$9,IF(($S$7-$R$7=S48-R48),$AN$8,IF(OR(EXACT($R$7>$S$7,R48>S48)*EXACT($R$7=$S$7,R48=S48)*EXACT($R$7<$S$7,R48<S48)),$AN$7,0))) -> 0 | W48: =IF(OR(EXACT($U$7,U48)*(EXACT($V$7,V48)))=TRUE,$AN$9,IF(($V$7-$U$7=V48-U48),$AN$8,IF(OR(EXACT($U$7>$V$7,U48>V48)*EXACT($U$7=$V$7,U48=V48)*EXACT($U$7<$V$7,U48<V48)),$AN$7,0))) -> 3 | Z48: =IF(OR(EXACT($X$7,X48)*(EXACT($Y$7,Y48)))=TRUE,$AN$9,IF(($Y$7-$X$7=Y48-X48),$AN$8,IF(OR(EXACT($X$7>$Y$7,X48>Y48)*EXACT($X$7=$Y$7,X48=Y48)*EXACT($X$7<$Y$7,X48<Y48)),$AN$7,0))) -> 0 | AC48: =IF(OR(EXACT($AA$7,AA48)*(EXACT($AB$7,AB48)))=TRUE,$AN$9,IF(($AB$7-$AA$7=AB48-AA48),$AN$8,IF(OR(EXACT($AA$7>$AB$7,AA48>AB48)*EXACT($AA$7=$AB$7,AA48=AB48)*EXACT($AA$7<$AB$7,AA48<AB48)),$AN$7,0))) -> 0 | AG48: =E48+H48+K48+N48+Q48+T48+W48+Z48+AC48+AF48 -> 3 | AH48: ='1.Spieltag'!AI48 -> 0 | AI48: =AG48+AH48 -> 3 | AJ48: =RANK(AI48,$AI$8:$AI$50) -> 31
A49: =AJ49 -> 31 | E49: =IF(OR(EXACT($C$7,C49)*(EXACT($D$7,D49)))=TRUE,$AN$9,IF(($D$7-$C$7=D49-C49),$AN$8,IF(OR(EXACT($C$7>$D$7,C49>D49)*EXACT($C$7=$D$7,C49=D49)*EXACT($C$7<$D$7,C49<D49)),$AN$7,0))) -> 0 | H49: =IF(OR(EXACT($F$7,F49)*(EXACT($G$7,G49)))=TRUE,$AN$9,IF(($G$7-$F$7=G49-F49),$AN$8,IF(OR(EXACT($F$7>$G$7,F49>G49)*EXACT($F$7=$G$7,F49=G49)*EXACT($F$7<$G$7,F49<G49)),$AN$7,0))) -> 0 | K49: =IF(OR(EXACT($I$7,I49)*(EXACT($J$7,J49)))=TRUE,$AN$9,IF(($J$7-$I$7=J49-I49),$AN$8,IF(OR(EXACT($I$7>$J$7,I49>J49)*EXACT($I$7=$J$7,I49=J49)*EXACT($I$7<$J$7,I49<J49)),$AN$7,0))) -> 0 | N49: =IF(OR(EXACT($L$7,L49)*(EXACT($M$7,M49)))=TRUE,$AN$9,IF(($M$7-$L$7=M49-L49),$AN$8,IF(OR(EXACT($L$7>$M$7,L49>M49)*EXACT($L$7=$M$7,L49=M49)*EXACT($L$7<$M$7,L49<M49)),$AN$7,0))) -> 0 | Q49: =IF(OR(EXACT($O$7,O49)*(EXACT($P$7,P49)))=TRUE,$AN$9,IF(($P$7-$O$7=P49-O49),$AN$8,IF(OR(EXACT($O$7>$P$7,O49>P49)*EXACT($O$7=$P$7,O49=P49)*EXACT($O$7<$P$7,O49<P49)),$AN$7,0))) -> 0 | T49: =IF(OR(EXACT($R$7,R49)*(EXACT($S$7,S49)))=TRUE,$AN$9,IF(($S$7-$R$7=S49-R49),$AN$8,IF(OR(EXACT($R$7>$S$7,R49>S49)*EXACT($R$7=$S$7,R49=S49)*EXACT($R$7<$S$7,R49<S49)),$AN$7,0))) -> 0 | W49: =IF(OR(EXACT($U$7,U49)*(EXACT($V$7,V49)))=TRUE,$AN$9,IF(($V$7-$U$7=V49-U49),$AN$8,IF(OR(EXACT($U$7>$V$7,U49>V49)*EXACT($U$7=$V$7,U49=V49)*EXACT($U$7<$V$7,U49<V49)),$AN$7,0))) -> 3 | Z49: =IF(OR(EXACT($X$7,X49)*(EXACT($Y$7,Y49)))=TRUE,$AN$9,IF(($Y$7-$X$7=Y49-X49),$AN$8,IF(OR(EXACT($X$7>$Y$7,X49>Y49)*EXACT($X$7=$Y$7,X49=Y49)*EXACT($X$7<$Y$7,X49<Y49)),$AN$7,0))) -> 0 | AC49: =IF(OR(EXACT($AA$7,AA49)*(EXACT($AB$7,AB49)))=TRUE,$AN$9,IF(($AB$7-$AA$7=AB49-AA49),$AN$8,IF(OR(EXACT($AA$7>$AB$7,AA49>AB49)*EXACT($AA$7=$AB$7,AA49=AB49)*EXACT($AA$7<$AB$7,AA49<AB49)),$AN$7,0))) -> 0 | AG49: =E49+H49+K49+N49+Q49+T49+W49+Z49+AC49+AF49 -> 3 | AH49: ='1.Spieltag'!AI49 -> 0 | AI49: =AG49+AH49 -> 3 | AJ49: =RANK(AI49,$AI$8:$AI$50) -> 31
A50: =AJ50 -> 31 | E50: =IF(OR(EXACT($C$7,C50)*(EXACT($D$7,D50)))=TRUE,$AN$9,IF(($D$7-$C$7=D50-C50),$AN$8,IF(OR(EXACT($C$7>$D$7,C50>D50)*EXACT($C$7=$D$7,C50=D50)*EXACT($C$7<$D$7,C50<D50)),$AN$7,0))) -> 0 | H50: =IF(OR(EXACT($F$7,F50)*(EXACT($G$7,G50)))=TRUE,$AN$9,IF(($G$7-$F$7=G50-F50),$AN$8,IF(OR(EXACT($F$7>$G$7,F50>G50)*EXACT($F$7=$G$7,F50=G50)*EXACT($F$7<$G$7,F50<G50)),$AN$7,0))) -> 0 | K50: =IF(OR(EXACT($I$7,I50)*(EXACT($J$7,J50)))=TRUE,$AN$9,IF(($J$7-$I$7=J50-I50),$AN$8,IF(OR(EXACT($I$7>$J$7,I50>J50)*EXACT($I$7=$J$7,I50=J50)*EXACT($I$7<$J$7,I50<J50)),$AN$7,0))) -> 0 | N50: =IF(OR(EXACT($L$7,L50)*(EXACT($M$7,M50)))=TRUE,$AN$9,IF(($M$7-$L$7=M50-L50),$AN$8,IF(OR(EXACT($L$7>$M$7,L50>M50)*EXACT($L$7=$M$7,L50=M50)*EXACT($L$7<$M$7,L50<M50)),$AN$7,0))) -> 0 | Q50: =IF(OR(EXACT($O$7,O50)*(EXACT($P$7,P50)))=TRUE,$AN$9,IF(($P$7-$O$7=P50-O50),$AN$8,IF(OR(EXACT($O$7>$P$7,O50>P50)*EXACT($O$7=$P$7,O50=P50)*EXACT($O$7<$P$7,O50<P50)),$AN$7,0))) -> 0 | T50: =IF(OR(EXACT($R$7,R50)*(EXACT($S$7,S50)))=TRUE,$AN$9,IF(($S$7-$R$7=S50-R50),$AN$8,IF(OR(EXACT($R$7>$S$7,R50>S50)*EXACT($R$7=$S$7,R50=S50)*EXACT($R$7<$S$7,R50<S50)),$AN$7,0))) -> 0 | W50: =IF(OR(EXACT($U$7,U50)*(EXACT($V$7,V50)))=TRUE,$AN$9,IF(($V$7-$U$7=V50-U50),$AN$8,IF(OR(EXACT($U$7>$V$7,U50>V50)*EXACT($U$7=$V$7,U50=V50)*EXACT($U$7<$V$7,U50<V50)),$AN$7,0))) -> 3 | Z50: =IF(OR(EXACT($X$7,X50)*(EXACT($Y$7,Y50)))=TRUE,$AN$9,IF(($Y$7-$X$7=Y50-X50),$AN$8,IF(OR(EXACT($X$7>$Y$7,X50>Y50)*EXACT($X$7=$Y$7,X50=Y50)*EXACT($X$7<$Y$7,X50<Y50)),$AN$7,0))) -> 0 | AC50: =IF(OR(EXACT($AA$7,AA50)*(EXACT($AB$7,AB50)))=TRUE,$AN$9,IF(($AB$7-$AA$7=AB50-AA50),$AN$8,IF(OR(EXACT($AA$7>$AB$7,AA50>AB50)*EXACT($AA$7=$AB$7,AA50=AB50)*EXACT($AA$7<$AB$7,AA50<AB50)),$AN$7,0))) -> 0 | AG50: =E50+H50+K50+N50+Q50+T50+W50+Z50+AC50+AF50 -> 3 | AH50: ='1.Spieltag'!AI50 -> 0 | AI50: =AG50+AH50 -> 3 | AJ50: =RANK(AI50,$AI$8:$AI$50) -> 31

Sheet 3.Spieltag
A4: 3. Spieltag | C4: U. Berlin | F4: Dortmund | I4: Hoffenheim | L4: Freiburg | O4: Augsburg | R4: Mainz | U4: Köln | X4: Leipzig | AA4: Elversberg
AG5: G E S A M T W E R T U N G | AT5: 24
C6: Schalke 04 | F6: Paderborn | I6: Stuttgart | L6: Gladbach | O6: Leverkusen | R6: Frankfurt | U6: Bremen | X6: Hamburg | AA6: B. München | AG6: Punkte | AH6: Punkte | AI6: Gesamt | AJ6: Platz | AK6: PUNKTEVERTEILUNG
A7: PLATZ | B7: ERGEBNISSE=> | C7: 1 | D7: 3 | E7: Pkt. | F7: 3 | G7: 0 | H7: Pkt. | I7: 2 | J7: 1 | K7: Pkt. | L7: 5 | M7: 0 | N7: Pkt. | O7: 2 | P7: 2 | Q7: Pkt. | R7: 1 | S7: 3 | T7: Pkt. | U7: 1 | V7: 1 | W7: Pkt. | X7: 5 | Y7: 0 | Z7: Pkt. | AA7: 1 | AB7: 2 | AC7: Pkt. | AG7: Spieltag | AH7: bisher | AI7: Punkte | AK7: richtige Tendenz | AN7: 2
A8: =AJ8 -> 19 | B8: ='1.Spieltag'!B8 -> ahaupt1904 | C8: 1 | D8: 2 | E8: =IF(OR(EXACT($C$7,C8)*(EXACT($D$7,D8)))=TRUE,$AN$9,IF(($D$7-$C$7=D8-C8),$AN$8,IF(OR(EXACT($C$7>$D$7,C8>D8)*EXACT($C$7=$D$7,C8=D8)*EXACT($C$7<$D$7,C8<D8)),$AN$7,0)))*4 -> 8 | F8: 3 | G8: 0 | H8: =IF(OR(EXACT($F$7,F8)*(EXACT($G$7,G8)))=TRUE,$AN$9,IF(($G$7-$F$7=G8-F8),$AN$8,IF(OR(EXACT($F$7>$G$7,F8>G8)*EXACT($F$7=$G$7,F8=G8)*EXACT($F$7<$G$7,F8<G8)),$AN$7,0))) -> 5 | I8: 1 | J8: 2 | K8: =IF(OR(EXACT($I$7,I8)*(EXACT($J$7,J8)))=TRUE,$AN$9,IF(($J$7-$I$7=J8-I8),$AN$8,IF(OR(EXACT($I$7>$J$7,I8>J8)*EXACT($I$7=$J$7,I8=J8)*EXACT($I$7<$J$7,I8<J8)),$AN$7,0))) -> 0 | L8: 2 | M8: 1 | N8: =IF(OR(EXACT($L$7,L8)*(EXACT($M$7,M8)))=TRUE,$AN$9,IF(($M$7-$L$7=M8-L8),$AN$8,IF(OR(EXACT($L$7>$M$7,L8>M8)*EXACT($L$7=$M$7,L8=M8)*EXACT($L$7<$M$7,L8<M8)),$AN$7,0))) -> 2 | O8: 2 | P8: 2 | Q8: =IF(OR(EXACT($O$7,O8)*(EXACT($P$7,P8)))=TRUE,$AN$9,IF(($P$7-$O$7=P8-O8),$AN$8,IF(OR(EXACT($O$7>$P$7,O8>P8)*EXACT($O$7=$P$7,O8=P8)*EXACT($O$7<$P$7,O8<P8)),$AN$7,0))) -> 5 | R8: 2 | S8: 2 | T8: =IF(OR(EXACT($R$7,R8)*(EXACT($S$7,S8)))=TRUE,$AN$9,IF(($S$7-$R$7=S8-R8),$AN$8,IF(OR(EXACT($R$7>$S$7,R8>S8)*EXACT($R$7=$S$7,R8=S8)*EXACT($R$7<$S$7,R8<S8)),$AN$7,0))) -> 0 | U8: 2 | V8: 1 | W8: =IF(OR(EXACT($U$7,U8)*(EXACT($V$7,V8)))=TRUE,$AN$9,IF(($V$7-$U$7=V8-U8),$AN$8,IF(OR(EXACT($U$7>$V$7,U8>V8)*EXACT($U$7=$V$7,U8=V8)*EXACT($U$7<$V$7,U8<V8)),$AN$7,0))) -> 0 | X8: 3 | Y8: 1 | Z8: =IF(OR(EXACT($X$7,X8)*(EXACT($Y$7,Y8)))=TRUE,$AN$9,IF(($Y$7-$X$7=Y8-X8),$AN$8,IF(OR(EXACT($X$7>$Y$7,X8>Y8)*EXACT($X$7=$Y$7,X8=Y8)*EXACT($X$7<$Y$7,X8<Y8)),$AN$7,0))) -> 2 | AA8: 0 | AB8: 3 | AC8: =IF(OR(EXACT($AA$7,AA8)*(EXACT($AB$7,AB8)))=TRUE,$AN$9,IF(($AB$7-$AA$7=AB8-AA8),$AN$8,IF(OR(EXACT($AA$7>$AB$7,AA8>AB8)*EXACT($AA$7=$AB$7,AA8=AB8)*EXACT($AA$7<$AB$7,AA8<AB8)),$AN$7,0))) -> 2 | AG8: =E8+H8+K8+N8+Q8+T8+W8+Z8+AC8+AF8 -> 24 | AH8: ='2.Spieltag '!AI8 -> 16 | AI8: =AG8+AH8 -> 40 | AJ8: =RANK(AI8,$AI$8:$AI$50) -> 19 | AK8: richtige Tend. + korr. Torabst. | AN8: 3
A9: =AJ9 -> 29 | B9: ='1.Spieltag'!B9 -> Alexander18 | C9: 1 | D9: 2 | E9: =IF(OR(EXACT($C$7,C9)*(EXACT($D$7,D9)))=TRUE,$AN$9,IF(($D$7-$C$7=D9-C9),$AN$8,IF(OR(EXACT($C$7>$D$7,C9>D9)*EXACT($C$7=$D$7,C9=D9)*EXACT($C$7<$D$7,C9<D9)),$AN$7,0)))*4 -> 8 | F9: 3 | G9: 0 | H9: =IF(OR(EXACT($F$7,F9)*(EXACT($G$7,G9)))=TRUE,$AN$9,IF(($G$7-$F$7=G9-F9),$AN$8,IF(OR(EXACT($F$7>$G$7,F9>G9)*EXACT($F$7=$G$7,F9=G9)*EXACT($F$7<$G$7,F9<G9)),$AN$7,0))) -> 5 | I9: 1 | J9: 3 | K9: =IF(OR(EXACT($I$7,I9)*(EXACT($J$7,J9)))=TRUE,$AN$9,IF(($J$7-$I$7=J9-I9),$AN$8,IF(OR(EXACT($I$7>$J$7,I9>J9)*EXACT($I$7=$J$7,I9=J9)*EXACT($I$7<$J$7,I9<J9)),$AN$7,0))) -> 0 | L9: 2 | M9: 2 | N9: =IF(OR(EXACT($L$7,L9)*(EXACT($M$7,M9)))=TRUE,$AN$9,IF(($M$7-$L$7=M9-L9),$AN$8,IF(OR(EXACT($L$7>$M$7,L9>M9)*EXACT($L$7=$M$7,L9=M9)*EXACT($L$7<$M$7,L9<M9)),$AN$7,0))) -> 0 | O9: 1 | P9: 2 | Q9: =IF(OR(EXACT($O$7,O9)*(EXACT($P$7,P9)))=TRUE,$AN$9,IF(($P$7-$O$7=P9-O9),$AN$8,IF(OR(EXACT($O$7>$P$7,O9>P9)*EXACT($O$7=$P$7,O9=P9)*EXACT($O$7<$P$7,O9<P9)),$AN$7,0))) -> 0 | R9: 2 | S9: 2 | T9: =IF(OR(EXACT($R$7,R9)*(EXACT($S$7,S9)))=TRUE,$AN$9,IF(($S$7-$R$7=S9-R9),$AN$8,IF(OR(EXACT($R$7>$S$7,R9>S9)*EXACT($R$7=$S$7,R9=S9)*EXACT($R$7<$S$7,R9<S9)),$AN$7,0))) -> 0 | U9: 1 | V9: 2 | W9: =IF(OR(EXACT($U$7,U9)*(EXACT($V$7,V9)))=TRUE,$AN$9,IF(($V$7-$U$7=V9-U9),$AN$8,IF(OR(EXACT($U$7>$V$7,U9>V9)*EXACT($U$7=$V$7,U9=V9)*EXACT($U$7<$V$7,U9<V9)),$AN$7,0))) -> 0 | X9: 3 | Y9: 0 | Z9: =IF(OR(EXACT($X$7,X9)*(EXACT($Y$7,Y9)))=TRUE,$AN$9,IF(($Y$7-$X$7=Y9-X9),$AN$8,IF(OR(EXACT($X$7>$Y$7,X9>Y9)*EXACT($X$7=$Y$7,X9=Y9)*EXACT($X$7<$Y$7,X9<Y9)),$AN$7,0))) -> 2 | AA9: 1 | AB9: 3 | AC9: =IF(OR(EXACT($AA$7,AA9)*(EXACT($AB$7,AB9)))=TRUE,$AN$9,IF(($AB$7-$AA$7=AB9-AA9),$AN$8,IF(OR(EXACT($AA$7>$AB$7,AA9>AB9)*EXACT($AA$7=$AB$7,AA9=AB9)*EXACT($AA$7<$AB$7,AA9<AB9)),$AN$7,0))) -> 2 | AG9: =E9+H9+K9+N9+Q9+T9+W9+Z9+AC9+AF9 -> 17 | AH9: ='2.Spieltag '!AI9 -> 12 | AI9: =AG9+AH9 -> 29 | AJ9: =RANK(AI9,$AI$8:$AI$50) -> 29 | AK9: richtiges Ergebnis | AN9: 5
A10: =AJ10 -> 1 | B10: ='1.Spieltag'!B10 -> Archie04 | C10: 1 | D10: 3 | E10: =IF(OR(EXACT($C$7,C10)*(EXACT($D$7,D10)))=TRUE,$AN$9,IF(($D$7-$C$7=D10-C10),$AN$8,IF(OR(EXACT($C$7>$D$7,C10>D10)*EXACT($C$7=$D$7,C10=D10)*EXACT($C$7<$D$7,C10<D10)),$AN$7,0)))*4 -> 20 | F10: 2 | G10: 1 | H10: =IF(OR(EXACT($F$7,F10)*(EXACT($G$7,G10)))=TRUE,$AN$9,IF(($G$7-$F$7=G10-F10),$AN$8,IF(OR(EXACT($F$7>$G$7,F10>G10)*EXACT($F$7=$G$7,F10=G10)*EXACT($F$7<$G$7,F10<G10)),$AN$7,0))) -> 2 | I10: 1 | J10: 3 | K10: =IF(OR(EXACT($I$7,I10)*(EXACT($J$7,J10)))=TRUE,$AN$9,IF(($J$7-$I$7=J10-I10),$AN$8,IF(OR(EXACT($I$7>$J$7,I10>J10)*EXACT($I$7=$J$7,I10=J10)*EXACT($I$7<$J$7,I10<J10)),$AN$7,0))) -> 0 | L10: 2 | M10: 0 | N10: =IF(OR(EXACT($L$7,L10)*(EXACT($M$7,M10)))=TRUE,$AN$9,IF(($M$7-$L$7=M10-L10),$AN$8,IF(OR(EXACT($L$7>$M$7,L10>M10)*EXACT($L$7=$M$7,L10=M10)*EXACT($L$7<$M$7,L10<M10)),$AN$7,0))) -> 2 | O10: 3 | P10: 1 | Q10: =IF(OR(EXACT($O$7,O10)*(EXACT($P$7,P10)))=TRUE,$AN$9,IF(($P$7-$O$7=P10-O10),$AN$8,IF(OR(EXACT($O$7>$P$7,O10>P10)*EXACT($O$7=$P$7,O10=P10)*EXACT($O$7<$P$7,O10<P10)),$AN$7,0))) -> 0 | R10: 2 | S10: 1 | T10: =IF(OR(EXACT($R$7,R10)*(EXACT($S$7,S10)))=TRUE,$AN$9,IF(($S$7-$R$7=S10-R10),$AN$8,IF(OR(EXACT($R$7>$S$7,R10>S10)*EXACT($R$7=$S$7,R10=S10)*EXACT($R$7<$S$7,R10<S10)),$AN$7,0))) -> 0 | U10: 1 | V10: 1 | W10: =IF(OR(EXACT($U$7,U10)*(EXACT($V$7,V10)))=TRUE,$AN$9,IF(($V$7-$U$7=V10-U10),$AN$8,IF(OR(EXACT($U$7>$V$7,U10>V10)*EXACT($U$7=$V$7,U10=V10)*EXACT($U$7<$V$7,U10<V10)),$AN$7,0))) -> 5 | X10: 3 | Y10: 0 | Z10: =IF(OR(EXACT($X$7,X10)*(EXACT($Y$7,Y10)))=TRUE,$AN$9,IF(($Y$7-$X$7=Y10-X10),$AN$8,IF(OR(EXACT($X$7>$Y$7,X10>Y10)*EXACT($X$7=$Y$7,X10=Y10)*EXACT($X$7<$Y$7,X10<Y10)),$AN$7,0))) -> 2 | AA10: 1 | AB10: 4 | AC10: =IF(OR(EXACT($AA$7,AA10)*(EXACT($AB$7,AB10)))=TRUE,$AN$9,IF(($AB$7-$AA$7=AB10-AA10),$AN$8,IF(OR(EXACT($AA$7>$AB$7,AA10>AB10)*EXACT($AA$7=$AB$7,AA10=AB10)*EXACT($AA$7<$AB$7,AA10<AB10)),$AN$7,0))) -> 2 | AG10: =E10+H10+K10+N10+Q10+T10+W10+Z10+AC10+AF10 -> 33 | AH10: ='2.Spieltag '!AI10 -> 30 | AI10: =AG10+AH10 -> 63 | AJ10: =RANK(AI10,$AI$8:$AI$50) -> 1
A11: =AJ11 -> 11 | B11: ='1.Spieltag'!B11 -> atschi91 | C11: 0 | D11: 1 | E11: =IF(OR(EXACT($C$7,C11)*(EXACT($D$7,D11)))=TRUE,$AN$9,IF(($D$7-$C$7=D11-C11),$AN$8,IF(OR(EXACT($C$7>$D$7,C11>D11)*EXACT($C$7=$D$7,C11=D11)*EXACT($C$7<$D$7,C11<D11)),$AN$7,0)))*4 -> 8 | F11: 2 | G11: 0 | H11: =IF(OR(EXACT($F$7,F11)*(EXACT($G$7,G11)))=TRUE,$AN$9,IF(($G$7-$F$7=G11-F11),$AN$8,IF(OR(EXACT($F$7>$G$7,F11>G11)*EXACT($F$7=$G$7,F11=G11)*EXACT($F$7<$G$7,F11<G11)),$AN$7,0))) -> 2 | I11: 1 | J11: 2 | K11: =IF(OR(EXACT($I$7,I11)*(EXACT($J$7,J11)))=TRUE,$AN$9,IF(($J$7-$I$7=J11-I11),$AN$8,IF(OR(EXACT($I$7>$J$7,I11>J11)*EXACT($I$7=$J$7,I11=J11)*EXACT($I$7<$J$7,I11<J11)),$AN$7,0))) -> 0 | L11: 4 | M11: 1 | N11: =IF(OR(EXACT($L$7,L11)*(EXACT($M$7,M11)))=TRUE,$AN$9,IF(($M$7-$L$7=M11-L11),$AN$8,IF(OR(EXACT($L$7>$M$7,L11>M11)*EXACT($L$7=$M$7,L11=M11)*EXACT($L$7<$M$7,L11<M11)),$AN$7,0))) -> 2 | O11: 2 | P11: 1 | Q11: =IF(OR(EXACT($O$7,O11)*(EXACT($P$7,P11)))=TRUE,$AN$9,IF(($P$7-$O$7=P11-O11),$AN$8,IF(OR(EXACT($O$7>$P$7,O11>P11)*EXACT($O$7=$P$7,O11=P11)*EXACT($O$7<$P$7,O11<P11)),$AN$7,0))) -> 0 | R11: 2 | S11: 1 | T11: =IF(OR(EXACT($R$7,R11)*(EXACT($S$7,S11)))=TRUE,$AN$9,IF(($S$7-$R$7=S11-R11),$AN$8,IF(OR(EXACT($R$7>$S$7,R11>S11)*EXACT($R$7=$S$7,R11=S11)*EXACT($R$7<$S$7,R11<S11)),$AN$7,0))) -> 0 | U11: 1 | V11: 1 | W11: =IF(OR(EXACT($U$7,U11)*(EXACT($V$7,V11)))=TRUE,$AN$9,IF(($V$7-$U$7=V11-U11),$AN$8,IF(OR(EXACT($U$7>$V$7,U11>V11)*EXACT($U$7=$V$7,U11=V11)*EXACT($U$7<$V$7,U11<V11)),$AN$7,0))) -> 5 | X11: 2 | Y11: 0 | Z11: =IF(OR(EXACT($X$7,X11)*(EXACT($Y$7,Y11)))=TRUE,$AN$9,IF(($Y$7-$X$7=Y11-X11),$AN$8,IF(OR(EXACT($X$7>$Y$7,X11>Y11)*EXACT($X$7=$Y$7,X11=Y11)*EXACT($X$7<$Y$7,X11<Y11)),$AN$7,0))) -> 2 | AA11: 0 | AB11: 3 | AC11: =IF(OR(EXACT($AA$7,AA11)*(EXACT($AB$7,AB11)))=TRUE,$AN$9,IF(($AB$7-$AA$7=AB11-AA11),$AN$8,IF(OR(EXACT($AA$7>$AB$7,AA11>AB11)*EXACT($AA$7=$AB$7,AA11=AB11)*EXACT($AA$7<$AB$7,AA11<AB11)),$AN$7,0))) -> 2 | AG11: =E11+H11+K11+N11+Q11+T11+W11+Z11+AC11+AF11 -> 21 | AH11: ='2.Spieltag '!AI11 -> 22 | AI11: =AG11+AH11 -> 43 | AJ11: =RANK(AI11,$AI$8:$AI$50) -> 11
A12: =AJ12 -> 27 | B12: ='1.Spieltag'!B12 -> CathaHaupt1904 | C12: 1 | D12: 2 | E12: =IF(OR(EXACT($C$7,C12)*(EXACT($D$7,D12)))=TRUE,$AN$9,IF(($D$7-$C$7=D12-C12),$AN$8,IF(OR(EXACT($C$7>$D$7,C12>D12)*EXACT($C$7=$D$7,C12=D12)*EXACT($C$7<$D$7,C12<D12)),$AN$7,0)))*4 -> 8 | F12: 2 | G12: 0 | H12: =IF(OR(EXACT($F$7,F12)*(EXACT($G$7,G12)))=TRUE,$AN$9,IF(($G$7-$F$7=G12-F12),$AN$8,IF(OR(EXACT($F$7>$G$7,F12>G12)*EXACT($F$7=$G$7,F12=G12)*EXACT($F$7<$G$7,F12<G12)),$AN$7,0))) -> 2 | I12: 1 | J12: 3 | K12: =IF(OR(EXACT($I$7,I12)*(EXACT($J$7,J12)))=TRUE,$AN$9,IF(($J$7-$I$7=J12-I12),$AN$8,IF(OR(EXACT($I$7>$J$7,I12>J12)*EXACT($I$7=$J$7,I12=J12)*EXACT($I$7<$J$7,I12<J12)),$AN$7,0))) -> 0 | L12: 1 | M12: 1 | N12: =IF(OR(EXACT($L$7,L12)*(EXACT($M$7,M12)))=TRUE,$AN$9,IF(($M$7-$L$7=M12-L12),$AN$8,IF(OR(EXACT($L$7>$M$7,L12>M12)*EXACT($L$7=$M$7,L12=M12)*EXACT($L$7<$M$7,L12<M12)),$AN$7,0))) -> 0 | O12: 3 | P12: 1 | Q12: =IF(OR(EXACT($O$7,O12)*(EXACT($P$7,P12)))=TRUE,$AN$9,IF(($P$7-$O$7=P12-O12),$AN$8,IF(OR(EXACT($O$7>$P$7,O12>P12)*EXACT($O$7=$P$7,O12=P12)*EXACT($O$7<$P$7,O12<P12)),$AN$7,0))) -> 0 | R12: 1 | S12: 2 | T12: =IF(OR(EXACT($R$7,R12)*(EXACT($S$7,S12)))=TRUE,$AN$9,IF(($S$7-$R$7=S12-R12),$AN$8,IF(OR(EXACT($R$7>$S$7,R12>S12)*EXACT($R$7=$S$7,R12=S12)*EXACT($R$7<$S$7,R12<S12)),$AN$7,0))) -> 2 | U12: 2 | V12: 2 | W12: =IF(OR(EXACT($U$7,U12)*(EXACT($V$7,V12)))=TRUE,$AN$9,IF(($V$7-$U$7=V12-U12),$AN$8,IF(OR(EXACT($U$7>$V$7,U12>V12)*EXACT($U$7=$V$7,U12=V12)*EXACT($U$7<$V$7,U12<V12)),$AN$7,0))) -> 3 | X12: 4 | Y12: 1 | Z12: =IF(OR(EXACT($X$7,X12)*(EXACT($Y$7,Y12)))=TRUE,$AN$9,IF(($Y$7-$X$7=Y12-X12),$AN$8,IF(OR(EXACT($X$7>$Y$7,X12>Y12)*EXACT($X$7=$Y$7,X12=Y12)*EXACT($X$7<$Y$7,X12<Y12)),$AN$7,0))) -> 2 | AA12: 1 | AB12: 3 | AC12: =IF(OR(EXACT($AA$7,AA12)*(EXACT($AB$7,AB12)))=TRUE,$AN$9,IF(($AB$7-$AA$7=AB12-AA12),$AN$8,IF(OR(EXACT($AA$7>$AB$7,AA12>AB12)*EXACT($AA$7=$AB$7,AA12=AB12)*EXACT($AA$7<$AB$7,AA12<AB12)),$AN$7,0))) -> 2 | AG12: =E12+H12+K12+N12+Q12+T12+W12+Z12+AC12+AF12 -> 19 | AH12: ='2.Spieltag '!AI12 -> 13 | AI12: =AG12+AH12 -> 32 | AJ12: =RANK(AI12,$AI$8:$AI$50) -> 27
A13: =AJ13 -> 6 | B13: ='1.Spieltag'!B13 -> Dickmeis04 | C13: 1 | D13: 3 | E13: =IF(OR(EXACT($C$7,C13)*(EXACT($D$7,D13)))=TRUE,$AN$9,IF(($D$7-$C$7=D13-C13),$AN$8,IF(OR(EXACT($C$7>$D$7,C13>D13)*EXACT($C$7=$D$7,C13=D13)*EXACT($C$7<$D$7,C13<D13)),$AN$7,0)))*4 -> 20 | F13: 3 | G13: 1 | H13: =IF(OR(EXACT($F$7,F13)*(EXACT($G$7,G13)))=TRUE,$AN$9,IF(($G$7-$F$7=G13-F13),$AN$8,IF(OR(EXACT($F$7>$G$7,F13>G13)*EXACT($F$7=$G$7,F13=G13)*EXACT($F$7<$G$7,F13<G13)),$AN$7,0))) -> 2 | I13: 2 | J13: 2 | K13: =IF(OR(EXACT($I$7,I13)*(EXACT($J$7,J13)))=TRUE,$AN$9,IF(($J$7-$I$7=J13-I13),$AN$8,IF(OR(EXACT($I$7>$J$7,I13>J13)*EXACT($I$7=$J$7,I13=J13)*EXACT($I$7<$J$7,I13<J13)),$AN$7,0))) -> 0 | L13: 3 | M13: 1 | N13: =IF(OR(EXACT($L$7,L13)*(EXACT($M$7,M13)))=TRUE,$AN$9,IF(($M$7-$L$7=M13-L13),$AN$8,IF(OR(EXACT($L$7>$M$7,L13>M13)*EXACT($L$7=$M$7,L13=M13)*EXACT($L$7<$M$7,L13<M13)),$AN$7,0))) -> 2 | O13: 2 | P13: 2 | Q13: =IF(OR(EXACT($O$7,O13)*(EXACT($P$7,P13)))=TRUE,$AN$9,IF(($P$7-$O$7=P13-O13),$AN$8,IF(OR(EXACT($O$7>$P$7,O13>P13)*EXACT($O$7=$P$7,O13=P13)*EXACT($O$7<$P$7,O13<P13)),$AN$7,0))) -> 5 | R13: 2 | S13: 1 | T13: =IF(OR(EXACT($R$7,R13)*(EXACT($S$7,S13)))=TRUE,$AN$9,IF(($S$7-$R$7=S13-R13),$AN$8,IF(OR(EXACT($R$7>$S$7,R13>S13)*EXACT($R$7=$S$7,R13=S13)*EXACT($R$7<$S$7,R13<S13)),$AN$7,0))) -> 0 | U13: 3 | V13: 2 | W13: =IF(OR(EXACT($U$7,U13)*(EXACT($V$7,V13)))=TRUE,$AN$9,IF(($V$7-$U$7=V13-U13),$AN$8,IF(OR(EXACT($U$7>$V$7,U13>V13)*EXACT($U$7=$V$7,U13=V13)*EXACT($U$7<$V$7,U13<V13)),$AN$7,0))) -> 0 | X13: 3 | Y13: 0 | Z13: =IF(OR(EXACT($X$7,X13)*(EXACT($Y$7,Y13)))=TRUE,$AN$9,IF(($Y$7-$X$7=Y13-X13),$AN$8,IF(OR(EXACT($X$7>$Y$7,X13>Y13)*EXACT($X$7=$Y$7,X13=Y13)*EXACT($X$7<$Y$7,X13<Y13)),$AN$7,0))) -> 2 | AA13: 0 | AB13: 4 | AC13: =IF(OR(EXACT($AA$7,AA13)*(EXACT($AB$7,AB13)))=TRUE,$AN$9,IF(($AB$7-$AA$7=AB13-AA13),$AN$8,IF(OR(EXACT($AA$7>$AB$7,AA13>AB13)*EXACT($AA$7=$AB$7,AA13=AB13)*EXACT($AA$7<$AB$7,AA13<AB13)),$AN$7,0))) -> 2 | AG13: =E13+H13+K13+N13+Q13+T13+W13+Z13+AC13+AF13 -> 33 | AH13: ='2.Spieltag '!AI13 -> 14 | AI13: =AG13+AH13 -> 47 | AJ13: =RANK(AI13,$AI$8:$AI$50) -> 6
A14: =AJ14 -> 11 | B14: ='1.Spieltag'!B14 -> fabian1904 | C14: 0 | D14: 2 | E14: =IF(OR(EXACT($C$7,C14)*(EXACT($D$7,D14)))=TRUE,$AN$9,IF(($D$7-$C$7=D14-C14),$AN$8,IF(OR(EXACT($C$7>$D$7,C14>D14)*EXACT($C$7=$D$7,C14=D14)*EXACT($C$7<$D$7,C14<D14)),$AN$7,0)))*4 -> 12 | F14: 4 | G14: 1 | H14: =IF(OR(EXACT($F$7,F14)*(EXACT($G$7,G14)))=TRUE,$AN$9,IF(($G$7-$F$7=G14-F14),$AN$8,IF(OR(EXACT($F$7>$G$7,F14>G14)*EXACT($F$7=$G$7,F14=G14)*EXACT($F$7<$G$7,F14<G14)),$AN$7,0))) -> 3 | I14: 2 | J14: 2 | K14: =IF(OR(EXACT($I$7,I14)*(EXACT($J$7,J14)))=TRUE,$AN$9,IF(($J$7-$I$7=J14-I14),$AN$8,IF(OR(EXACT($I$7>$J$7,I14>J14)*EXACT($I$7=$J$7,I14=J14)*EXACT($I$7<$J$7,I14<J14)),$AN$7,0))) -> 0 | L14: 3 | M14: 0 | N14: =IF(OR(EXACT($L$7,L14)*(EXACT($M$7,M14)))=TRUE,$AN$9,IF(($M$7-$L$7=M14-L14),$AN$8,IF(OR(EXACT($L$7>$M$7,L14>M14)*EXACT($L$7=$M$7,L14=M14)*EXACT($L$7<$M$7,L14<M14)),$AN$7,0))) -> 2 | O14: 1 | P14: 2 | Q14: =IF(OR(EXACT($O$7,O14)*(EXACT($P$7,P14)))=TRUE,$AN$9,IF(($P$7-$O$7=P14-O14),$AN$8,IF(OR(EXACT($O$7>$P$7,O14>P14)*EXACT($O$7=$P$7,O14=P14)*EXACT($O$7<$P$7,O14<P14)),$AN$7,0))) -> 0 | R14: 1 | S14: 1 | T14: =IF(OR(EXACT($R$7,R14)*(EXACT($S$7,S14)))=TRUE,$AN$9,IF(($S$7-$R$7=S14-R14),$AN$8,IF(OR(EXACT($R$7>$S$7,R14>S14)*EXACT($R$7=$S$7,R14=S14)*EXACT($R$7<$S$7,R14<S14)),$AN$7,0))) -> 0 | U14: 3 | V14: 2 | W14: =IF(OR(EXACT($U$7,U14)*(EXACT($V$7,V14)))=TRUE,$AN$9,IF(($V$7-$U$7=V14-U14),$AN$8,IF(OR(EXACT($U$7>$V$7,U14>V14)*EXACT($U$7=$V$7,U14=V14)*EXACT($U$7<$V$7,U14<V14)),$AN$7,0))) -> 0 | X14: 2 | Y14: 0 | Z14: =IF(OR(EXACT($X$7,X14)*(EXACT($Y$7,Y14)))=TRUE,$AN$9,IF(($Y$7-$X$7=Y14-X14),$AN$8,IF(OR(EXACT($X$7>$Y$7,X14>Y14)*EXACT($X$7=$Y$7,X14=Y14)*EXACT($X$7<$Y$7,X14<Y14)),$AN$7,0))) -> 2 | AA14: 0 | AB14: 3 | AC14: =IF(OR(EXACT($AA$7,AA14)*(EXACT($AB$7,AB14)))=TRUE,$AN$9,IF(($AB$7-$AA$7=AB14-AA14),$AN$8,IF(OR(EXACT($AA$7>$AB$7,AA14>AB14)*EXACT($AA$7=$AB$7,AA14=AB14)*EXACT($AA$7<$AB$7,AA14<AB14)),$AN$7,0))) -> 2 | AG14: =E14+H14+K14+N14+Q14+T14+W14+Z14+AC14+AF14 -> 21 | AH14: ='2.Spieltag '!AI14 -> 22 | AI14: =AG14+AH14 -> 43 | AJ14: =RANK(AI14,$AI$8:$AI$50) -> 11
A15: =AJ15 -> 9 | B15: ='1.Spieltag'!B15 -> Franzi04 | C15: 1 | D15: 2 | E15: =IF(OR(EXACT($C$7,C15)*(EXACT($D$7,D15)))=TRUE,$AN$9,IF(($D$7-$C$7=D15-C15),$AN$8,IF(OR(EXACT($C$7>$D$7,C15>D15)*EXACT($C$7=$D$7,C15=D15)*EXACT($C$7<$D$7,C15<D15)),$AN$7,0)))*4 -> 8 | F15: 3 | G15: 0 | H15: =IF(OR(EXACT($F$7,F15)*(EXACT($G$7,G15)))=TRUE,$AN$9,IF(($G$7-$F$7=G15-F15),$AN$8,IF(OR(EXACT($F$7>$G$7,F15>G15)*EXACT($F$7=$G$7,F15=G15)*EXACT($F$7<$G$7,F15<G15)),$AN$7,0))) -> 5 | I15: 1 | J15: 2 | K15: =IF(OR(EXACT($I$7,I15)*(EXACT($J$7,J15)))=TRUE,$AN$9,IF(($J$7-$I$7=J15-I15),$AN$8,IF(OR(EXACT($I$7>$J$7,I15>J15)*EXACT($I$7=$J$7,I15=J15)*EXACT($I$7<$J$7,I15<J15)),$AN$7,0))) -> 0 | L15: 2 | M15: 1 | N15: =IF(OR(EXACT($L$7,L15)*(EXACT($M$7,M15)))=TRUE,$AN$9,IF(($M$7-$L$7=M15-L15),$AN$8,IF(OR(EXACT($L$7>$M$7,L15>M15)*EXACT($L$7=$M$7,L15=M15)*EXACT($L$7<$M$7,L15<M15)),$AN$7,0))) -> 2 | O15: 1 | P15: 2 | Q15: =IF(OR(EXACT($O$7,O15)*(EXACT($P$7,P15)))=TRUE,$AN$9,IF(($P$7-$O$7=P15-O15),$AN$8,IF(OR(EXACT($O$7>$P$7,O15>P15)*EXACT($O$7=$P$7,O15=P15)*EXACT($O$7<$P$7,O15<P15)),$AN$7,0))) -> 0 | R15: 2 | S15: 1 | T15: =IF(OR(EXACT($R$7,R15)*(EXACT($S$7,S15)))=TRUE,$AN$9,IF(($S$7-$R$7=S15-R15),$AN$8,IF(OR(EXACT($R$7>$S$7,R15>S15)*EXACT($R$7=$S$7,R15=S15)*EXACT($R$7<$S$7,R15<S15)),$AN$7,0))) -> 0 | U15: 1 | V15: 2 | W15: =IF(OR(EXACT($U$7,U15)*(EXACT($V$7,V15)))=TRUE,$AN$9,IF(($V$7-$U$7=V15-U15),$AN$8,IF(OR(EXACT($U$7>$V$7,U15>V15)*EXACT($U$7=$V$7,U15=V15)*EXACT($U$7<$V$7,U15<V15)),$AN$7,0))) -> 0 | X15: 2 | Y15: 0 | Z15: =IF(OR(EXACT($X$7,X15)*(EXACT($Y$7,Y15)))=TRUE,$AN$9,IF(($Y$7-$X$7=Y15-X15),$AN$8,IF(OR(EXACT($X$7>$Y$7,X15>Y15)*EXACT($X$7=$Y$7,X15=Y15)*EXACT($X$7<$Y$7,X15<Y15)),$AN$7,0))) -> 2 | AA15: 1 | AB15: 3 | AC15: =IF(OR(EXACT($AA$7,AA15)*(EXACT($AB$7,AB15)))=TRUE,$AN$9,IF(($AB$7-$AA$7=AB15-AA15),$AN$8,IF(OR(EXACT($AA$7>$AB$7,AA15>AB15)*EXACT($AA$7=$AB$7,AA15=AB15)*EXACT($AA$7<$AB$7,AA15<AB15)),$AN$7,0))) -> 2 | AG15: =E15+H15+K15+N15+Q15+T15+W15+Z15+AC15+AF15 -> 19 | AH15: ='2.Spieltag '!AI15 -> 25 | AI15: =AG15+AH15 -> 44 | AJ15: =RANK(AI15,$AI$8:$AI$50) -> 9
A16: =AJ16 -> 22 | B16: ='1.Spieltag'!B16 -> Jasmin1985 | C16: 1 | D16: 2 | E16: =IF(OR(EXACT($C$7,C16)*(EXACT($D$7,D16)))=TRUE,$AN$9,IF(($D$7-$C$7=D16-C16),$AN$8,IF(OR(EXACT($C$7>$D$7,C16>D16)*EXACT($C$7=$D$7,C16=D16)*EXACT($C$7<$D$7,C16<D16)),$AN$7,0)))*4 -> 8 | F16: 3 | G16: 1 | H16: =IF(OR(EXACT($F$7,F16)*(EXACT($G$7,G16)))=TRUE,$AN$9,IF(($G$7-$F$7=G16-F16),$AN$8,IF(OR(EXACT($F$7>$G$7,F16>G16)*EXACT($F$7=$G$7,F16=G16)*EXACT($F$7<$G$7,F16<G16)),$AN$7,0))) -> 2 | I16: 1 | J16: 2 | K16: =IF(OR(EXACT($I$7,I16)*(EXACT($J$7,J16)))=TRUE,$AN$9,IF(($J$7-$I$7=J16-I16),$AN$8,IF(OR(EXACT($I$7>$J$7,I16>J16)*EXACT($I$7=$J$7,I16=J16)*EXACT($I$7<$J$7,I16<J16)),$AN$7,0))) -> 0 | L16: 3 | M16: 1 | N16: =IF(OR(EXACT($L$7,L16)*(EXACT($M$7,M16)))=TRUE,$AN$9,IF(($M$7-$L$7=M16-L16),$AN$8,IF(OR(EXACT($L$7>$M$7,L16>M16)*EXACT($L$7=$M$7,L16=M16)*EXACT($L$7<$M$7,L16<M16)),$AN$7,0))) -> 2 | O16: 1 | P16: 2 | Q16: =IF(OR(EXACT($O$7,O16)*(EXACT($P$7,P16)))=TRUE,$AN$9,IF(($P$7-$O$7=P16-O16),$AN$8,IF(OR(EXACT($O$7>$P$7,O16>P16)*EXACT($O$7=$P$7,O16=P16)*EXACT($O$7<$P$7,O16<P16)),$AN$7,0))) -> 0 | R16: 1 | S16: 2 | T16: =IF(OR(EXACT($R$7,R16)*(EXACT($S$7,S16)))=TRUE,$AN$9,IF(($S$7-$R$7=S16-R16),$AN$8,IF(OR(EXACT($R$7>$S$7,R16>S16)*EXACT($R$7=$S$7,R16=S16)*EXACT($R$7<$S$7,R16<S16)),$AN$7,0))) -> 2 | U16: 1 | V16: 3 | W16: =IF(OR(EXACT($U$7,U16)*(EXACT($V$7,V16)))=TRUE,$AN$9,IF(($V$7-$U$7=V16-U16),$AN$8,IF(OR(EXACT($U$7>$V$7,U16>V16)*EXACT($U$7=$V$7,U16=V16)*EXACT($U$7<$V$7,U16<V16)),$AN$7,0))) -> 0 | X16: 2 | Y16: 1 | Z16: =IF(OR(EXACT($X$7,X16)*(EXACT($Y$7,Y16)))=TRUE,$AN$9,IF(($Y$7-$X$7=Y16-X16),$AN$8,IF(OR(EXACT($X$7>$Y$7,X16>Y16)*EXACT($X$7=$Y$7,X16=Y16)*EXACT($X$7<$Y$7,X16<Y16)),$AN$7,0))) -> 2 | AA16: 1 | AB16: 3 | AC16: =IF(OR(EXACT($AA$7,AA16)*(EXACT($AB$7,AB16)))=TRUE,$AN$9,IF(($AB$7-$AA$7=AB16-AA16),$AN$8,IF(OR(EXACT($AA$7>$AB$7,AA16>AB16)*EXACT($AA$7=$AB$7,AA16=AB16)*EXACT($AA$7<$AB$7,AA16<AB16)),$AN$7,0))) -> 2 | AG16: =E16+K16+Q16+T16+N16+H16+W16+Z16+AC16+AF16 -> 18 | AH16: ='2.Spieltag '!AI16 -> 18 | AI16: =AG16+AH16 -> 36 | AJ16: =RANK(AI16,$AI$8:$AI$50) -> 22
A17: =AJ17 -> 2 | B17: ='1.Spieltag'!B17 -> Jean-Pierre | C17: 0 | D17: 1 | E17: =IF(OR(EXACT($C$7,C17)*(EXACT($D$7,D17)))=TRUE,$AN$9,IF(($D$7-$C$7=D17-C17),$AN$8,IF(OR(EXACT($C$7>$D$7,C17>D17)*EXACT($C$7=$D$7,C17=D17)*EXACT($C$7<$D$7,C17<D17)),$AN$7,0)))*4 -> 8 | F17: 2 | G17: 1 | H17: =IF(OR(EXACT($F$7,F17)*(EXACT($G$7,G17)))=TRUE,$AN$9,IF(($G$7-$F$7=G17-F17),$AN$8,IF(OR(EXACT($F$7>$G$7,F17>G17)*EXACT($F$7=$G$7,F17=G17)*EXACT($F$7<$G$7,F17<G17)),$AN$7,0))) -> 2 | I17: 1 | J17: 2 | K17: =IF(OR(EXACT($I$7,I17)*(EXACT($J$7,J17)))=TRUE,$AN$9,IF(($J$7-$I$7=J17-I17),$AN$8,IF(OR(EXACT($I$7>$J$7,I17>J17)*EXACT($I$7=$J$7,I17=J17)*EXACT($I$7<$J$7,I17<J17)),$AN$7,0))) -> 0 | L17: 2 | M17: 1 | N17: =IF(OR(EXACT($L$7,L17)*(EXACT($M$7,M17)))=TRUE,$AN$9,IF(($M$7-$L$7=M17-L17),$AN$8,IF(OR(EXACT($L$7>$M$7,L17>M17)*EXACT($L$7=$M$7,L17=M17)*EXACT($L$7<$M$7,L17<M17)),$AN$7,0))) -> 2 | O17: 1 | P17: 1 | Q17: =IF(OR(EXACT($O$7,O17)*(EXACT($P$7,P17)))=TRUE,$AN$9,IF(($P$7-$O$7=P17-O17),$AN$8,IF(OR(EXACT($O$7>$P$7,O17>P17)*EXACT($O$7=$P$7,O17=P17)*EXACT($O$7<$P$7,O17<P17)),$AN$7,0))) -> 3 | R17: 1 | S17: 2 | T17: =IF(OR(EXACT($R$7,R17)*(EXACT($S$7,S17)))=TRUE,$AN$9,IF(($S$7-$R$7=S17-R17),$AN$8,IF(OR(EXACT($R$7>$S$7,R17>S17)*EXACT($R$7=$S$7,R17=S17)*EXACT($R$7<$S$7,R17<S17)),$AN$7,0))) -> 2 | U17: 1 | V17: 2 | W17: =IF(OR(EXACT($U$7,U17)*(EXACT($V$7,V17)))=TRUE,$AN$9,IF(($V$7-$U$7=V17-U17),$AN$8,IF(OR(EXACT($U$7>$V$7,U17>V17)*EXACT($U$7=$V$7,U17=V17)*EXACT($U$7<$V$7,U17<V17)),$AN$7,0))) -> 0 | X17: 2 | Y17: 1 | Z17: =IF(OR(EXACT($X$7,X17)*(EXACT($Y$7,Y17)))=TRUE,$AN$9,IF(($Y$7-$X$7=Y17-X17),$AN$8,IF(OR(EXACT($X$7>$Y$7,X17>Y17)*EXACT($X$7=$Y$7,X17=Y17)*EXACT($X$7<$Y$7,X17<Y17)),$AN$7,0))) -> 2 | AA17: 1 | AB17: 6 | AC17: =IF(OR(EXACT($AA$7,AA17)*(EXACT($AB$7,AB17)))=TRUE,$AN$9,IF(($AB$7-$AA$7=AB17-AA17),$AN$8,IF(OR(EXACT($AA$7>$AB$7,AA17>AB17)*EXACT($AA$7=$AB$7,AA17=AB17)*EXACT($AA$7<$AB$7,AA17<AB17)),$AN$7,0))) -> 2 | AG17: =E17+H17+K17+N17+Q17+T17+W17+Z17+AC17+AF17 -> 21 | AH17: ='2.Spieltag '!AI17 -> 30 | AI17: =AG17+AH17 -> 51 | AJ17: =RANK(AI17,$AI$8:$AI$50) -> 2
A18: =AJ18 -> 5 | B18: ='1.Spieltag'!B18 -> jupp04 | C18: 1 | D18: 2 | E18: =IF(OR(EXACT($C$7,C18)*(EXACT($D$7,D18)))=TRUE,$AN$9,IF(($D$7-$C$7=D18-C18),$AN$8,IF(OR(EXACT($C$7>$D$7,C18>D18)*EXACT($C$7=$D$7,C18=D18)*EXACT($C$7<$D$7,C18<D18)),$AN$7,0)))*4 -> 8 | F18: 4 | G18: 1 | H18: =IF(OR(EXACT($F$7,F18)*(EXACT($G$7,G18)))=TRUE,$AN$9,IF(($G$7-$F$7=G18-F18),$AN$8,IF(OR(EXACT($F$7>$G$7,F18>G18)*EXACT($F$7=$G$7,F18=G18)*EXACT($F$7<$G$7,F18<G18)),$AN$7,0))) -> 3 | I18: 1 | J18: 3 | K18: =IF(OR(EXACT($I$7,I18)*(EXACT($J$7,J18)))=TRUE,$AN$9,IF(($J$7-$I$7=J18-I18),$AN$8,IF(OR(EXACT($I$7>$J$7,I18>J18)*EXACT($I$7=$J$7,I18=J18)*EXACT($I$7<$J$7,I18<J18)),$AN$7,0))) -> 0 | L18: 3 | M18: 1 | N18: =IF(OR(EXACT($L$7,L18)*(EXACT($M$7,M18)))=TRUE,$AN$9,IF(($M$7-$L$7=M18-L18),$AN$8,IF(OR(EXACT($L$7>$M$7,L18>M18)*EXACT($L$7=$M$7,L18=M18)*EXACT($L$7<$M$7,L18<M18)),$AN$7,0))) -> 2 | O18: 3 | P18: 2 | Q18: =IF(OR(EXACT($O$7,O18)*(EXACT($P$7,P18)))=TRUE,$AN$9,IF(($P$7-$O$7=P18-O18),$AN$8,IF(OR(EXACT($O$7>$P$7,O18>P18)*EXACT($O$7=$P$7,O18=P18)*EXACT($O$7<$P$7,O18<P18)),$AN$7,0))) -> 0 | R18: 2 | S18: 2 | T18: =IF(OR(EXACT($R$7,R18)*(EXACT($S$7,S18)))=TRUE,$AN$9,IF(($S$7-$R$7=S18-R18),$AN$8,IF(OR(EXACT($R$7>$S$7,R18>S18)*EXACT($R$7=$S$7,R18=S18)*EXACT($R$7<$S$7,R18<S18)),$AN$7,0))) -> 0 | U18: 2 | V18: 2 | W18: =IF(OR(EXACT($U$7,U18)*(EXACT($V$7,V18)))=TRUE,$AN$9,IF(($V$7-$U$7=V18-U18),$AN$8,IF(OR(EXACT($U$7>$V$7,U18>V18)*EXACT($U$7=$V$7,U18=V18)*EXACT($U$7<$V$7,U18<V18)),$AN$7,0))) -> 3 | X18: 3 | Y18: 1 | Z18: =IF(OR(EXACT($X$7,X18)*(EXACT($Y$7,Y18)))=TRUE,$AN$9,IF(($Y$7-$X$7=Y18-X18),$AN$8,IF(OR(EXACT($X$7>$Y$7,X18>Y18)*EXACT($X$7=$Y$7,X18=Y18)*EXACT($X$7<$Y$7,X18<Y18)),$AN$7,0))) -> 2 | AA18: 1 | AB18: 4 | AC18: =IF(OR(EXACT($AA$7,AA18)*(EXACT($AB$7,AB18)))=TRUE,$AN$9,IF(($AB$7-$AA$7=AB18-AA18),$AN$8,IF(OR(EXACT($AA$7>$AB$7,AA18>AB18)*EXACT($AA$7=$AB$7,AA18=AB18)*EXACT($AA$7<$AB$7,AA18<AB18)),$AN$7,0))) -> 2 | AG18: =E18+H18+K18+N18+Q18+T18+W18+Z18+AC18+AF18 -> 20 | AH18: ='2.Spieltag '!AI18 -> 28 | AI18: =AG18+AH18 -> 48 | AJ18: =RANK(AI18,$AI$8:$AI$50) -> 5
A19: =AJ19 -> 17 | B19: ='1.Spieltag'!B19 -> Justin_Ignr | C19: 0 | D19: 1 | E19: =IF(OR(EXACT($C$7,C19)*(EXACT($D$7,D19)))=TRUE,$AN$9,IF(($D$7-$C$7=D19-C19),$AN$8,IF(OR(EXACT($C$7>$D$7,C19>D19)*EXACT($C$7=$D$7,C19=D19)*EXACT($C$7<$D$7,C19<D19)),$AN$7,0)))*4 -> 8 | F19: 2 | G19: 0 | H19: =IF(OR(EXACT($F$7,F19)*(EXACT($G$7,G19)))=TRUE,$AN$9,IF(($G$7-$F$7=G19-F19),$AN$8,IF(OR(EXACT($F$7>$G$7,F19>G19)*EXACT($F$7=$G$7,F19=G19)*EXACT($F$7<$G$7,F19<G19)),$AN$7,0))) -> 2 | I19: 0 | J19: 2 | K19: =IF(OR(EXACT($I$7,I19)*(EXACT($J$7,J19)))=TRUE,$AN$9,IF(($J$7-$I$7=J19-I19),$AN$8,IF(OR(EXACT($I$7>$J$7,I19>J19)*EXACT($I$7=$J$7,I19=J19)*EXACT($I$7<$J$7,I19<J19)),$AN$7,0))) -> 0 | L19: 3 | M19: 1 | N19: =IF(OR(EXACT($L$7,L19)*(EXACT($M$7,M19)))=TRUE,$AN$9,IF(($M$7-$L$7=M19-L19),$AN$8,IF(OR(EXACT($L$7>$M$7,L19>M19)*EXACT($L$7=$M$7,L19=M19)*EXACT($L$7<$M$7,L19<M19)),$AN$7,0))) -> 2 | O19: 2 | P19: 1 | Q19: =IF(OR(EXACT($O$7,O19)*(EXACT($P$7,P19)))=TRUE,$AN$9,IF(($P$7-$O$7=P19-O19),$AN$8,IF(OR(EXACT($O$7>$P$7,O19>P19)*EXACT($O$7=$P$7,O19=P19)*EXACT($O$7<$P$7,O19<P19)),$AN$7,0))) -> 0 | R19: 2 | S19: 1 | T19: =IF(OR(EXACT($R$7,R19)*(EXACT($S$7,S19)))=TRUE,$AN$9,IF(($S$7-$R$7=S19-R19),$AN$8,IF(OR(EXACT($R$7>$S$7,R19>S19)*EXACT($R$7=$S$7,R19=S19)*EXACT($R$7<$S$7,R19<S19)),$AN$7,0))) -> 0 | U19: 0 | V19: 2 | W19: =IF(OR(EXACT($U$7,U19)*(EXACT($V$7,V19)))=TRUE,$AN$9,IF(($V$7-$U$7=V19-U19),$AN$8,IF(OR(EXACT($U$7>$V$7,U19>V19)*EXACT($U$7=$V$7,U19=V19)*EXACT($U$7<$V$7,U19<V19)),$AN$7,0))) -> 0 | X19: 2 | Y19: 0 | Z19: =IF(OR(EXACT($X$7,X19)*(EXACT($Y$7,Y19)))=TRUE,$AN$9,IF(($Y$7-$X$7=Y19-X19),$AN$8,IF(OR(EXACT($X$7>$Y$7,X19>Y19)*EXACT($X$7=$Y$7,X19=Y19)*EXACT($X$7<$Y$7,X19<Y19)),$AN$7,0))) -> 2 | AA19: 1 | AB19: 3 | AC19: =IF(OR(EXACT($AA$7,AA19)*(EXACT($AB$7,AB19)))=TRUE,$AN$9,IF(($AB$7-$AA$7=AB19-AA19),$AN$8,IF(OR(EXACT($AA$7>$AB$7,AA19>AB19)*EXACT($AA$7=$AB$7,AA19=AB19)*EXACT($AA$7<$AB$7,AA19<AB19)),$AN$7,0))) -> 2 | AG19: =E19+H19+K19+N19+Q19+T19+W19+Z19+AC19+AF19 -> 16 | AH19: ='2.Spieltag '!AI19 -> 25 | AI19: =AG19+AH19 -> 41 | AJ19: =RANK(AI19,$AI$8:$AI$50) -> 17
A20: =AJ20 -> 22 | B20: ='1.Spieltag'!B20 -> Kiki | C20: 0 | D20: 2 | E20: =IF(OR(EXACT($C$7,C20)*(EXACT($D$7,D20)))=TRUE,$AN$9,IF(($D$7-$C$7=D20-C20),$AN$8,IF(OR(EXACT($C$7>$D$7,C20>D20)*EXACT($C$7=$D$7,C20=D20)*EXACT($C$7<$D$7,C20<D20)),$AN$7,0)))*4 -> 12 | F20: 3 | G20: 1 | H20: =IF(OR(EXACT($F$7,F20)*(EXACT($G$7,G20)))=TRUE,$AN$9,IF(($G$7-$F$7=G20-F20),$AN$8,IF(OR(EXACT($F$7>$G$7,F20>G20)*EXACT($F$7=$G$7,F20=G20)*EXACT($F$7<$G$7,F20<G20)),$AN$7,0))) -> 2 | I20: 1 | J20: 1 | K20: =IF(OR(EXACT($I$7,I20)*(EXACT($J$7,J20)))=TRUE,$AN$9,IF(($J$7-$I$7=J20-I20),$AN$8,IF(OR(EXACT($I$7>$J$7,I20>J20)*EXACT($I$7=$J$7,I20=J20)*EXACT($I$7<$J$7,I20<J20)),$AN$7,0))) -> 0 | L20: 3 | M20: 1 | N20: =IF(OR(EXACT($L$7,L20)*(EXACT($M$7,M20)))=TRUE,$AN$9,IF(($M$7-$L$7=M20-L20),$AN$8,IF(OR(EXACT($L$7>$M$7,L20>M20)*EXACT($L$7=$M$7,L20=M20)*EXACT($L$7<$M$7,L20<M20)),$AN$7,0))) -> 2 | O20: 2 | P20: 1 | Q20: =IF(OR(EXACT($O$7,O20)*(EXACT($P$7,P20)))=TRUE,$AN$9,IF(($P$7-$O$7=P20-O20),$AN$8,IF(OR(EXACT($O$7>$P$7,O20>P20)*EXACT($O$7=$P$7,O20=P20)*EXACT($O$7<$P$7,O20<P20)),$AN$7,0))) -> 0 | R20: 2 | S20: 1 | T20: =IF(OR(EXACT($R$7,R20)*(EXACT($S$7,S20)))=TRUE,$AN$9,IF(($S$7-$R$7=S20-R20),$AN$8,IF(OR(EXACT($R$7>$S$7,R20>S20)*EXACT($R$7=$S$7,R20=S20)*EXACT($R$7<$S$7,R20<S20)),$AN$7,0))) -> 0 | U20: 2 | V20: 2 | W20: =IF(OR(EXACT($U$7,U20)*(EXACT($V$7,V20)))=TRUE,$AN$9,IF(($V$7-$U$7=V20-U20),$AN$8,IF(OR(EXACT($U$7>$V$7,U20>V20)*EXACT($U$7=$V$7,U20=V20)*EXACT($U$7<$V$7,U20<V20)),$AN$7,0))) -> 3 | X20: 3 | Y20: 0 | Z20: =IF(OR(EXACT($X$7,X20)*(EXACT($Y$7,Y20)))=TRUE,$AN$9,IF(($Y$7-$X$7=Y20-X20),$AN$8,IF(OR(EXACT($X$7>$Y$7,X20>Y20)*EXACT($X$7=$Y$7,X20=Y20)*EXACT($X$7<$Y$7,X20<Y20)),$AN$7,0))) -> 2 | AA20: 1 | AB20: 3 | AC20: =IF(OR(EXACT($AA$7,AA20)*(EXACT($AB$7,AB20)))=TRUE,$AN$9,IF(($AB$7-$AA$7=AB20-AA20),$AN$8,IF(OR(EXACT($AA$7>$AB$7,AA20>AB20)*EXACT($AA$7=$AB$7,AA20=AB20)*EXACT($AA$7<$AB$7,AA20<AB20)),$AN$7,0))) -> 2 | AG20: =E20+H20+K20+N20+Q20+T20+W20+Z20+AC20+AF20 -> 23 | AH20: ='2.Spieltag '!AI20 -> 13 | AI20: =AG20+AH20 -> 36 | AJ20: =RANK(AI20,$AI$8:$AI$50) -> 22
A21: =AJ21 -> 11 | B21: ='1.Spieltag'!B21 -> Lola04 | C21: 2 | D21: 2 | E21: =IF(OR(EXACT($C$7,C21)*(EXACT($D$7,D21)))=TRUE,$AN$9,IF(($D$7-$C$7=D21-C21),$AN$8,IF(OR(EXACT($C$7>$D$7,C21>D21)*EXACT($C$7=$D$7,C21=D21)*EXACT($C$7<$D$7,C21<D21)),$AN$7,0)))*4 -> 0 | F21: 3 | G21: 1 | H21: =IF(OR(EXACT($F$7,F21)*(EXACT($G$7,G21)))=TRUE,$AN$9,IF(($G$7-$F$7=G21-F21),$AN$8,IF(OR(EXACT($F$7>$G$7,F21>G21)*EXACT($F$7=$G$7,F21=G21)*EXACT($F$7<$G$7,F21<G21)),$AN$7,0))) -> 2 | I21: 2 | J21: 1 | K21: =IF(OR(EXACT($I$7,I21)*(EXACT($J$7,J21)))=TRUE,$AN$9,IF(($J$7-$I$7=J21-I21),$AN$8,IF(OR(EXACT($I$7>$J$7,I21>J21)*EXACT($I$7=$J$7,I21=J21)*EXACT($I$7<$J$7,I21<J21)),$AN$7,0))) -> 5 | L21: 2 | M21: 0 | N21: =IF(OR(EXACT($L$7,L21)*(EXACT($M$7,M21)))=TRUE,$AN$9,IF(($M$7-$L$7=M21-L21),$AN$8,IF(OR(EXACT($L$7>$M$7,L21>M21)*EXACT($L$7=$M$7,L21=M21)*EXACT($L$7<$M$7,L21<M21)),$AN$7,0))) -> 2 | O21: 2 | P21: 1 | Q21: =IF(OR(EXACT($O$7,O21)*(EXACT($P$7,P21)))=TRUE,$AN$9,IF(($P$7-$O$7=P21-O21),$AN$8,IF(OR(EXACT($O$7>$P$7,O21>P21)*EXACT($O$7=$P$7,O21=P21)*EXACT($O$7<$P$7,O21<P21)),$AN$7,0))) -> 0 | R21: 2 | S21: 1 | T21: =IF(OR(EXACT($R$7,R21)*(EXACT($S$7,S21)))=TRUE,$AN$9,IF(($S$7-$R$7=S21-R21),$AN$8,IF(OR(EXACT($R$7>$S$7,R21>S21)*EXACT($R$7=$S$7,R21=S21)*EXACT($R$7<$S$7,R21<S21)),$AN$7,0))) -> 0 | U21: 2 | V21: 1 | W21: =IF(OR(EXACT($U$7,U21)*(EXACT($V$7,V21)))=TRUE,$AN$9,IF(($V$7-$U$7=V21-U21),$AN$8,IF(OR(EXACT($U$7>$V$7,U21>V21)*EXACT($U$7=$V$7,U21=V21)*EXACT($U$7<$V$7,U21<V21)),$AN$7,0))) -> 0 | X21: 3 | Y21: 1 | Z21: =IF(OR(EXACT($X$7,X21)*(EXACT($Y$7,Y21)))=TRUE,$AN$9,IF(($Y$7-$X$7=Y21-X21),$AN$8,IF(OR(EXACT($X$7>$Y$7,X21>Y21)*EXACT($X$7=$Y$7,X21=Y21)*EXACT($X$7<$Y$7,X21<Y21)),$AN$7,0))) -> 2 | AA21: 1 | AB21: 4 | AC21: =IF(OR(EXACT($AA$7,AA21)*(EXACT($AB$7,AB21)))=TRUE,$AN$9,IF(($AB$7-$AA$7=AB21-AA21),$AN$8,IF(OR(EXACT($AA$7>$AB$7,AA21>AB21)*EXACT($AA$7=$AB$7,AA21=AB21)*EXACT($AA$7<$AB$7,AA21<AB21)),$AN$7,0))) -> 2 | AG21: =E21+H21+K21+N21+Q21+T21+W21+Z21+AC21+AF21 -> 13 | AH21: ='2.Spieltag '!AI21 -> 30 | AI21: =AG21+AH21 -> 43 | AJ21: =RANK(AI21,$AI$8:$AI$50) -> 11
A22: =AJ22 -> 4 | B22: ='1.Spieltag'!B22 -> Markus Müller | C22: 1 | D22: 3 | E22: =IF(OR(EXACT($C$7,C22)*(EXACT($D$7,D22)))=TRUE,$AN$9,IF(($D$7-$C$7=D22-C22),$AN$8,IF(OR(EXACT($C$7>$D$7,C22>D22)*EXACT($C$7=$D$7,C22=D22)*EXACT($C$7<$D$7,C22<D22)),$AN$7,0)))*4 -> 20 | F22: 3 | G22: 0 | H22: =IF(OR(EXACT($F$7,F22)*(EXACT($G$7,G22)))=TRUE,$AN$9,IF(($G$7-$F$7=G22-F22),$AN$8,IF(OR(EXACT($F$7>$G$7,F22>G22)*EXACT($F$7=$G$7,F22=G22)*EXACT($F$7<$G$7,F22<G22)),$AN$7,0))) -> 5 | I22: 1 | J22: 3 | K22: =IF(OR(EXACT($I$7,I22)*(EXACT($J$7,J22)))=TRUE,$AN$9,IF(($J$7-$I$7=J22-I22),$AN$8,IF(OR(EXACT($I$7>$J$7,I22>J22)*EXACT($I$7=$J$7,I22=J22)*EXACT($I$7<$J$7,I22<J22)),$AN$7,0))) -> 0 | L22: 2 | M22: 0 | N22: =IF(OR(EXACT($L$7,L22)*(EXACT($M$7,M22)))=TRUE,$AN$9,IF(($M$7-$L$7=M22-L22),$AN$8,IF(OR(EXACT($L$7>$M$7,L22>M22)*EXACT($L$7=$M$7,L22=M22)*EXACT($L$7<$M$7,L22<M22)),$AN$7,0))) -> 2 | O22: 1 | P22: 2 | Q22: =IF(OR(EXACT($O$7,O22)*(EXACT($P$7,P22)))=TRUE,$AN$9,IF(($P$7-$O$7=P22-O22),$AN$8,IF(OR(EXACT($O$7>$P$7,O22>P22)*EXACT($O$7=$P$7,O22=P22)*EXACT($O$7<$P$7,O22<P22)),$AN$7,0))) -> 0 | R22: 2 | S22: 1 | T22: =IF(OR(EXACT($R$7,R22)*(EXACT($S$7,S22)))=TRUE,$AN$9,IF(($S$7-$R$7=S22-R22),$AN$8,IF(OR(EXACT($R$7>$S$7,R22>S22)*EXACT($R$7=$S$7,R22=S22)*EXACT($R$7<$S$7,R22<S22)),$AN$7,0))) -> 0 | U22: 2 | V22: 1 | W22: =IF(OR(EXACT($U$7,U22)*(EXACT($V$7,V22)))=TRUE,$AN$9,IF(($V$7-$U$7=V22-U22),$AN$8,IF(OR(EXACT($U$7>$V$7,U22>V22)*EXACT($U$7=$V$7,U22=V22)*EXACT($U$7<$V$7,U22<V22)),$AN$7,0))) -> 0 | X22: 2 | Y22: 0 | Z22: =IF(OR(EXACT($X$7,X22)*(EXACT($Y$7,Y22)))=TRUE,$AN$9,IF(($Y$7-$X$7=Y22-X22),$AN$8,IF(OR(EXACT($X$7>$Y$7,X22>Y22)*EXACT($X$7=$Y$7,X22=Y22)*EXACT($X$7<$Y$7,X22<Y22)),$AN$7,0))) -> 2 | AA22: 0 | AB22: 3 | AC22: =IF(OR(EXACT($AA$7,AA22)*(EXACT($AB$7,AB22)))=TRUE,$AN$9,IF(($AB$7-$AA$7=AB22-AA22),$AN$8,IF(OR(EXACT($AA$7>$AB$7,AA22>AB22)*EXACT($AA$7=$AB$7,AA22=AB22)*EXACT($AA$7<$AB$7,AA22<AB22)),$AN$7,0))) -> 2 | AG22: =E22+H22+K22+N22+Q22+T22+W22+Z22+AC22+AF22 -> 31 | AH22: ='2.Spieltag '!AI22 -> 18 | AI22: =AG22+AH22 -> 49 | AJ22: =RANK(AI22,$AI$8:$AI$50) -> 4
A23: =AJ23 -> 11 | B23: ='1.Spieltag'!B23 -> Master1 | C23: 1 | D23: 2 | E23: =IF(OR(EXACT($C$7,C23)*(EXACT($D$7,D23)))=TRUE,$AN$9,IF(($D$7-$C$7=D23-C23),$AN$8,IF(OR(EXACT($C$7>$D$7,C23>D23)*EXACT($C$7=$D$7,C23=D23)*EXACT($C$7<$D$7,C23<D23)),$AN$7,0)))*4 -> 8 | F23: 3 | G23: 1 | H23: =IF(OR(EXACT($F$7,F23)*(EXACT($G$7,G23)))=TRUE,$AN$9,IF(($G$7-$F$7=G23-F23),$AN$8,IF(OR(EXACT($F$7>$G$7,F23>G23)*EXACT($F$7=$G$7,F23=G23)*EXACT($F$7<$G$7,F23<G23)),$AN$7,0))) -> 2 | I23: 2 | J23: 2 | K23: =IF(OR(EXACT($I$7,I23)*(EXACT($J$7,J23)))=TRUE,$AN$9,IF(($J$7-$I$7=J23-I23),$AN$8,IF(OR(EXACT($I$7>$J$7,I23>J23)*EXACT($I$7=$J$7,I23=J23)*EXACT($I$7<$J$7,I23<J23)),$AN$7,0))) -> 0 | L23: 2 | M23: 0 | N23: =IF(OR(EXACT($L$7,L23)*(EXACT($M$7,M23)))=TRUE,$AN$9,IF(($M$7-$L$7=M23-L23),$AN$8,IF(OR(EXACT($L$7>$M$7,L23>M23)*EXACT($L$7=$M$7,L23=M23)*EXACT($L$7<$M$7,L23<M23)),$AN$7,0))) -> 2 | O23: 1 | P23: 1 | Q23: =IF(OR(EXACT($O$7,O23)*(EXACT($P$7,P23)))=TRUE,$AN$9,IF(($P$7-$O$7=P23-O23),$AN$8,IF(OR(EXACT($O$7>$P$7,O23>P23)*EXACT($O$7=$P$7,O23=P23)*EXACT($O$7<$P$7,O23<P23)),$AN$7,0))) -> 3 | R23: 1 | S23: 1 | T23: =IF(OR(EXACT($R$7,R23)*(EXACT($S$7,S23)))=TRUE,$AN$9,IF(($S$7-$R$7=S23-R23),$AN$8,IF(OR(EXACT($R$7>$S$7,R23>S23)*EXACT($R$7=$S$7,R23=S23)*EXACT($R$7<$S$7,R23<S23)),$AN$7,0))) -> 0 | U23: 1 | V23: 0 | W23: =IF(OR(EXACT($U$7,U23)*(EXACT($V$7,V23)))=TRUE,$AN$9,IF(($V$7-$U$7=V23-U23),$AN$8,IF(OR(EXACT($U$7>$V$7,U23>V23)*EXACT($U$7=$V$7,U23=V23)*EXACT($U$7<$V$7,U23<V23)),$AN$7,0))) -> 0 | X23: 3 | Y23: 0 | Z23: =IF(OR(EXACT($X$7,X23)*(EXACT($Y$7,Y23)))=TRUE,$AN$9,IF(($Y$7-$X$7=Y23-X23),$AN$8,IF(OR(EXACT($X$7>$Y$7,X23>Y23)*EXACT($X$7=$Y$7,X23=Y23)*EXACT($X$7<$Y$7,X23<Y23)),$AN$7,0))) -> 2 | AA23: 1 | AB23: 3 | AC23: =IF(OR(EXACT($AA$7,AA23)*(EXACT($AB$7,AB23)))=TRUE,$AN$9,IF(($AB$7-$AA$7=AB23-AA23),$AN$8,IF(OR(EXACT($AA$7>$AB$7,AA23>AB23)*EXACT($AA$7=$AB$7,AA23=AB23)*EXACT($AA$7<$AB$7,AA23<AB23)),$AN$7,0))) -> 2 | AG23: =E23+H23+K23+N23+Q23+T23+W23+Z23+AC23+AF23 -> 19 | AH23: ='2.Spieltag '!AI23 -> 24 | AI23: =AG23+AH23 -> 43 | AJ23: =RANK(AI23,$AI$8:$AI$50) -> 11
A24: =AJ24 -> 8 | B24: ='1.Spieltag'!B24 -> MichaBolz | C24: 0 | D24: 2 | E24: =IF(OR(EXACT($C$7,C24)*(EXACT($D$7,D24)))=TRUE,$AN$9,IF(($D$7-$C$7=D24-C24),$AN$8,IF(OR(EXACT($C$7>$D$7,C24>D24)*EXACT($C$7=$D$7,C24=D24)*EXACT($C$7<$D$7,C24<D24)),$AN$7,0)))*4 -> 12 | F24: 3 | G24: 0 | H24: =IF(OR(EXACT($F$7,F24)*(EXACT($G$7,G24)))=TRUE,$AN$9,IF(($G$7-$F$7=G24-F24),$AN$8,IF(OR(EXACT($F$7>$G$7,F24>G24)*EXACT($F$7=$G$7,F24=G24)*EXACT($F$7<$G$7,F24<G24)),$AN$7,0))) -> 5 | I24: 1 | J24: 2 | K24: =IF(OR(EXACT($I$7,I24)*(EXACT($J$7,J24)))=TRUE,$AN$9,IF(($J$7-$I$7=J24-I24),$AN$8,IF(OR(EXACT($I$7>$J$7,I24>J24)*EXACT($I$7=$J$7,I24=J24)*EXACT($I$7<$J$7,I24<J24)),$AN$7,0))) -> 0 | L24: 2 | M24: 0 | N24: =IF(OR(EXACT($L$7,L24)*(EXACT($M$7,M24)))=TRUE,$AN$9,IF(($M$7-$L$7=M24-L24),$AN$8,IF(OR(EXACT($L$7>$M$7,L24>M24)*EXACT($L$7=$M$7,L24=M24)*EXACT($L$7<$M$7,L24<M24)),$AN$7,0))) -> 2 | O24: 1 | P24: 1 | Q24: =IF(OR(EXACT($O$7,O24)*(EXACT($P$7,P24)))=TRUE,$AN$9,IF(($P$7-$O$7=P24-O24),$AN$8,IF(OR(EXACT($O$7>$P$7,O24>P24)*EXACT($O$7=$P$7,O24=P24)*EXACT($O$7<$P$7,O24<P24)),$AN$7,0))) -> 3 | R24: 1 | S24: 2 | T24: =IF(OR(EXACT($R$7,R24)*(EXACT($S$7,S24)))=TRUE,$AN$9,IF(($S$7-$R$7=S24-R24),$AN$8,IF(OR(EXACT($R$7>$S$7,R24>S24)*EXACT($R$7=$S$7,R24=S24)*EXACT($R$7<$S$7,R24<S24)),$AN$7,0))) -> 2 | U24: 1 | V24: 2 | W24: =IF(OR(EXACT($U$7,U24)*(EXACT($V$7,V24)))=TRUE,$AN$9,IF(($V$7-$U$7=V24-U24),$AN$8,IF(OR(EXACT($U$7>$V$7,U24>V24)*EXACT($U$7=$V$7,U24=V24)*EXACT($U$7<$V$7,U24<V24)),$AN$7,0))) -> 0 | X24: 3 | Y24: 1 | Z24: =IF(OR(EXACT($X$7,X24)*(EXACT($Y$7,Y24)))=TRUE,$AN$9,IF(($Y$7-$X$7=Y24-X24),$AN$8,IF(OR(EXACT($X$7>$Y$7,X24>Y24)*EXACT($X$7=$Y$7,X24=Y24)*EXACT($X$7<$Y$7,X24<Y24)),$AN$7,0))) -> 2 | AA24: 0 | AB24: 3 | AC24: =IF(OR(EXACT($AA$7,AA24)*(EXACT($AB$7,AB24)))=TRUE,$AN$9,IF(($AB$7-$AA$7=AB24-AA24),$AN$8,IF(OR(EXACT($AA$7>$AB$7,AA24>AB24)*EXACT($AA$7=$AB$7,AA24=AB24)*EXACT($AA$7<$AB$7,AA24<AB24)),$AN$7,0))) -> 2 | AG24: =E24+H24+K24+N24+Q24+T24+W24+Z24+AC24+AF24 -> 28 | AH24: ='2.Spieltag '!AI24 -> 17 | AI24: =AG24+AH24 -> 45 | AJ24: =RANK(AI24,$AI$8:$AI$50) -> 8
A25: =AJ25 -> 11 | B25: ='1.Spieltag'!B25 -> Mike04 | C25: 1 | D25: 2 | E25: =IF(OR(EXACT($C$7,C25)*(EXACT($D$7,D25)))=TRUE,$AN$9,IF(($D$7-$C$7=D25-C25),$AN$8,IF(OR(EXACT($C$7>$D$7,C25>D25)*EXACT($C$7=$D$7,C25=D25)*EXACT($C$7<$D$7,C25<D25)),$AN$7,0)))*4 -> 8 | F25: 3 | G25: 1 | H25: =IF(OR(EXACT($F$7,F25)*(EXACT($G$7,G25)))=TRUE,$AN$9,IF(($G$7-$F$7=G25-F25),$AN$8,IF(OR(EXACT($F$7>$G$7,F25>G25)*EXACT($F$7=$G$7,F25=G25)*EXACT($F$7<$G$7,F25<G25)),$AN$7,0))) -> 2 | I25: 1 | J25: 2 | K25: =IF(OR(EXACT($I$7,I25)*(EXACT($J$7,J25)))=TRUE,$AN$9,IF(($J$7-$I$7=J25-I25),$AN$8,IF(OR(EXACT($I$7>$J$7,I25>J25)*EXACT($I$7=$J$7,I25=J25)*EXACT($I$7<$J$7,I25<J25)),$AN$7,0))) -> 0 | L25: 2 | M25: 0 | N25: =IF(OR(EXACT($L$7,L25)*(EXACT($M$7,M25)))=TRUE,$AN$9,IF(($M$7-$L$7=M25-L25),$AN$8,IF(OR(EXACT($L$7>$M$7,L25>M25)*EXACT($L$7=$M$7,L25=M25)*EXACT($L$7<$M$7,L25<M25)),$AN$7,0))) -> 2 | O25: 1 | P25: 2 | Q25: =IF(OR(EXACT($O$7,O25)*(EXACT($P$7,P25)))=TRUE,$AN$9,IF(($P$7-$O$7=P25-O25),$AN$8,IF(OR(EXACT($O$7>$P$7,O25>P25)*EXACT($O$7=$P$7,O25=P25)*EXACT($O$7<$P$7,O25<P25)),$AN$7,0))) -> 0 | R25: 2 | S25: 2 | T25: =IF(OR(EXACT($R$7,R25)*(EXACT($S$7,S25)))=TRUE,$AN$9,IF(($S$7-$R$7=S25-R25),$AN$8,IF(OR(EXACT($R$7>$S$7,R25>S25)*EXACT($R$7=$S$7,R25=S25)*EXACT($R$7<$S$7,R25<S25)),$AN$7,0))) -> 0 | U25: 1 | V25: 0 | W25: =IF(OR(EXACT($U$7,U25)*(EXACT($V$7,V25)))=TRUE,$AN$9,IF(($V$7-$U$7=V25-U25),$AN$8,IF(OR(EXACT($U$7>$V$7,U25>V25)*EXACT($U$7=$V$7,U25=V25)*EXACT($U$7<$V$7,U25<V25)),$AN$7,0))) -> 0 | X25: 2 | Y25: 0 | Z25: =IF(OR(EXACT($X$7,X25)*(EXACT($Y$7,Y25)))=TRUE,$AN$9,IF(($Y$7-$X$7=Y25-X25),$AN$8,IF(OR(EXACT($X$7>$Y$7,X25>Y25)*EXACT($X$7=$Y$7,X25=Y25)*EXACT($X$7<$Y$7,X25<Y25)),$AN$7,0))) -> 2 | AA25: 0 | AB25: 3 | AC25: =IF(OR(EXACT($AA$7,AA25)*(EXACT($AB$7,AB25)))=TRUE,$AN$9,IF(($AB$7-$AA$7=AB25-AA25),$AN$8,IF(OR(EXACT($AA$7>$AB$7,AA25>AB25)*EXACT($AA$7=$AB$7,AA25=AB25)*EXACT($AA$7<$AB$7,AA25<AB25)),$AN$7,0))) -> 2 | AG25: =E25+H25+K25+N25+Q25+T25+W25+Z25+AC25+AF25 -> 16 | AH25: ='2.Spieltag '!AI25 -> 27 | AI25: =AG25+AH25 -> 43 | AJ25: =RANK(AI25,$AI$8:$AI$50) -> 11
A26: =AJ26 -> 19 | B26: ='1.Spieltag'!B26 -> Reinhold | C26: 1 | D26: 2 | E26: =IF(OR(EXACT($C$7,C26)*(EXACT($D$7,D26)))=TRUE,$AN$9,IF(($D$7-$C$7=D26-C26),$AN$8,IF(OR(EXACT($C$7>$D$7,C26>D26)*EXACT($C$7=$D$7,C26=D26)*EXACT($C$7<$D$7,C26<D26)),$AN$7,0)))*4 -> 8 | F26: 2 | G26: 1 | H26: =IF(OR(EXACT($F$7,F26)*(EXACT($G$7,G26)))=TRUE,$AN$9,IF(($G$7-$F$7=G26-F26),$AN$8,IF(OR(EXACT($F$7>$G$7,F26>G26)*EXACT($F$7=$G$7,F26=G26)*EXACT($F$7<$G$7,F26<G26)),$AN$7,0))) -> 2 | I26: 3 | J26: 1 | K26: =IF(OR(EXACT($I$7,I26)*(EXACT($J$7,J26)))=TRUE,$AN$9,IF(($J$7-$I$7=J26-I26),$AN$8,IF(OR(EXACT($I$7>$J$7,I26>J26)*EXACT($I$7=$J$7,I26=J26)*EXACT($I$7<$J$7,I26<J26)),$AN$7,0))) -> 2 | L26: 2 | M26: 0 | N26: =IF(OR(EXACT($L$7,L26)*(EXACT($M$7,M26)))=TRUE,$AN$9,IF(($M$7-$L$7=M26-L26),$AN$8,IF(OR(EXACT($L$7>$M$7,L26>M26)*EXACT($L$7=$M$7,L26=M26)*EXACT($L$7<$M$7,L26<M26)),$AN$7,0))) -> 2 | O26: 1 | P26: 1 | Q26: =IF(OR(EXACT($O$7,O26)*(EXACT($P$7,P26)))=TRUE,$AN$9,IF(($P$7-$O$7=P26-O26),$AN$8,IF(OR(EXACT($O$7>$P$7,O26>P26)*EXACT($O$7=$P$7,O26=P26)*EXACT($O$7<$P$7,O26<P26)),$AN$7,0))) -> 3 | R26: 2 | S26: 1 | T26: =IF(OR(EXACT($R$7,R26)*(EXACT($S$7,S26)))=TRUE,$AN$9,IF(($S$7-$R$7=S26-R26),$AN$8,IF(OR(EXACT($R$7>$S$7,R26>S26)*EXACT($R$7=$S$7,R26=S26)*EXACT($R$7<$S$7,R26<S26)),$AN$7,0))) -> 0 | U26: 2 | V26: 3 | W26: =IF(OR(EXACT($U$7,U26)*(EXACT($V$7,V26)))=TRUE,$AN$9,IF(($V$7-$U$7=V26-U26),$AN$8,IF(OR(EXACT($U$7>$V$7,U26>V26)*EXACT($U$7=$V$7,U26=V26)*EXACT($U$7<$V$7,U26<V26)),$AN$7,0))) -> 0 | X26: 1 | Y26: 0 | Z26: =IF(OR(EXACT($X$7,X26)*(EXACT($Y$7,Y26)))=TRUE,$AN$9,IF(($Y$7-$X$7=Y26-X26),$AN$8,IF(OR(EXACT($X$7>$Y$7,X26>Y26)*EXACT($X$7=$Y$7,X26=Y26)*EXACT($X$7<$Y$7,X26<Y26)),$AN$7,0))) -> 2 | AA26: 1 | AB26: 3 | AC26: =IF(OR(EXACT($AA$7,AA26)*(EXACT($AB$7,AB26)))=TRUE,$AN$9,IF(($AB$7-$AA$7=AB26-AA26),$AN$8,IF(OR(EXACT($AA$7>$AB$7,AA26>AB26)*EXACT($AA$7=$AB$7,AA26=AB26)*EXACT($AA$7<$AB$7,AA26<AB26)),$AN$7,0))) -> 2 | AG26: =E26+H26+K26+N26+Q26+T26+W26+Z26+AC26+AF26 -> 21 | AH26: ='2.Spieltag '!AI26 -> 19 | AI26: =AG26+AH26 -> 40 | AJ26: =RANK(AI26,$AI$8:$AI$50) -> 19
A27: =AJ27 -> 7 | B27: ='1.Spieltag'!B27 -> ReneMause | C27: 1 | D27: 2 | E27: =IF(OR(EXACT($C$7,C27)*(EXACT($D$7,D27)))=TRUE,$AN$9,IF(($D$7-$C$7=D27-C27),$AN$8,IF(OR(EXACT($C$7>$D$7,C27>D27)*EXACT($C$7=$D$7,C27=D27)*EXACT($C$7<$D$7,C27<D27)),$AN$7,0)))*4 -> 8 | F27: 3 | G27: 0 | H27: =IF(OR(EXACT($F$7,F27)*(EXACT($G$7,G27)))=TRUE,$AN$9,IF(($G$7-$F$7=G27-F27),$AN$8,IF(OR(EXACT($F$7>$G$7,F27>G27)*EXACT($F$7=$G$7,F27=G27)*EXACT($F$7<$G$7,F27<G27)),$AN$7,0))) -> 5 | I27: 1 | J27: 2 | K27: =IF(OR(EXACT($I$7,I27)*(EXACT($J$7,J27)))=TRUE,$AN$9,IF(($J$7-$I$7=J27-I27),$AN$8,IF(OR(EXACT($I$7>$J$7,I27>J27)*EXACT($I$7=$J$7,I27=J27)*EXACT($I$7<$J$7,I27<J27)),$AN$7,0))) -> 0 | L27: 2 | M27: 0 | N27: =IF(OR(EXACT($L$7,L27)*(EXACT($M$7,M27)))=TRUE,$AN$9,IF(($M$7-$L$7=M27-L27),$AN$8,IF(OR(EXACT($L$7>$M$7,L27>M27)*EXACT($L$7=$M$7,L27=M27)*EXACT($L$7<$M$7,L27<M27)),$AN$7,0))) -> 2 | O27: 1 | P27: 2 | Q27: =IF(OR(EXACT($O$7,O27)*(EXACT($P$7,P27)))=TRUE,$AN$9,IF(($P$7-$O$7=P27-O27),$AN$8,IF(OR(EXACT($O$7>$P$7,O27>P27)*EXACT($O$7=$P$7,O27=P27)*EXACT($O$7<$P$7,O27<P27)),$AN$7,0))) -> 0 | R27: 1 | S27: 1 | T27: =IF(OR(EXACT($R$7,R27)*(EXACT($S$7,S27)))=TRUE,$AN$9,IF(($S$7-$R$7=S27-R27),$AN$8,IF(OR(EXACT($R$7>$S$7,R27>S27)*EXACT($R$7=$S$7,R27=S27)*EXACT($R$7<$S$7,R27<S27)),$AN$7,0))) -> 0 | U27: 3 | V27: 1 | W27: =IF(OR(EXACT($U$7,U27)*(EXACT($V$7,V27)))=TRUE,$AN$9,IF(($V$7-$U$7=V27-U27),$AN$8,IF(OR(EXACT($U$7>$V$7,U27>V27)*EXACT($U$7=$V$7,U27=V27)*EXACT($U$7<$V$7,U27<V27)),$AN$7,0))) -> 0 | X27: 2 | Y27: 0 | Z27: =IF(OR(EXACT($X$7,X27)*(EXACT($Y$7,Y27)))=TRUE,$AN$9,IF(($Y$7-$X$7=Y27-X27),$AN$8,IF(OR(EXACT($X$7>$Y$7,X27>Y27)*EXACT($X$7=$Y$7,X27=Y27)*EXACT($X$7<$Y$7,X27<Y27)),$AN$7,0))) -> 2 | AA27: 1 | AB27: 3 | AC27: =IF(OR(EXACT($AA$7,AA27)*(EXACT($AB$7,AB27)))=TRUE,$AN$9,IF(($AB$7-$AA$7=AB27-AA27),$AN$8,IF(OR(EXACT($AA$7>$AB$7,AA27>AB27)*EXACT($AA$7=$AB$7,AA27=AB27)*EXACT($AA$7<$AB$7,AA27<AB27)),$AN$7,0))) -> 2 | AG27: =E27+H27+K27+N27+Q27+T27+W27+Z27+AC27+AF27 -> 19 | AH27: ='2.Spieltag '!AI27 -> 27 | AI27: =AG27+AH27 -> 46 | AJ27: =RANK(AI27,$AI$8:$AI$50) -> 7
A28: =AJ28 -> 17 | B28: ='1.Spieltag'!B28 -> Ricardo04 | C28: 0 | D28: 2 | E28: =IF(OR(EXACT($C$7,C28)*(EXACT($D$7,D28)))=TRUE,$AN$9,IF(($D$7-$C$7=D28-C28),$AN$8,IF(OR(EXACT($C$7>$D$7,C28>D28)*EXACT($C$7=$D$7,C28=D28)*EXACT($C$7<$D$7,C28<D28)),$AN$7,0)))*4 -> 12 | F28: 2 | G28: 0 | H28: =IF(OR(EXACT($F$7,F28)*(EXACT($G$7,G28)))=TRUE,$AN$9,IF(($G$7-$F$7=G28-F28),$AN$8,IF(OR(EXACT($F$7>$G$7,F28>G28)*EXACT($F$7=$G$7,F28=G28)*EXACT($F$7<$G$7,F28<G28)),$AN$7,0))) -> 2 | I28: 1 | J28: 2 | K28: =IF(OR(EXACT($I$7,I28)*(EXACT($J$7,J28)))=TRUE,$AN$9,IF(($J$7-$I$7=J28-I28),$AN$8,IF(OR(EXACT($I$7>$J$7,I28>J28)*EXACT($I$7=$J$7,I28=J28)*EXACT($I$7<$J$7,I28<J28)),$AN$7,0))) -> 0 | L28: 2 | M28: 1 | N28: =IF(OR(EXACT($L$7,L28)*(EXACT($M$7,M28)))=TRUE,$AN$9,IF(($M$7-$L$7=M28-L28),$AN$8,IF(OR(EXACT($L$7>$M$7,L28>M28)*EXACT($L$7=$M$7,L28=M28)*EXACT($L$7<$M$7,L28<M28)),$AN$7,0))) -> 2 | O28: 1 | P28: 2 | Q28: =IF(OR(EXACT($O$7,O28)*(EXACT($P$7,P28)))=TRUE,$AN$9,IF(($P$7-$O$7=P28-O28),$AN$8,IF(OR(EXACT($O$7>$P$7,O28>P28)*EXACT($O$7=$P$7,O28=P28)*EXACT($O$7<$P$7,O28<P28)),$AN$7,0))) -> 0 | R28: 1 | S28: 2 | T28: =IF(OR(EXACT($R$7,R28)*(EXACT($S$7,S28)))=TRUE,$AN$9,IF(($S$7-$R$7=S28-R28),$AN$8,IF(OR(EXACT($R$7>$S$7,R28>S28)*EXACT($R$7=$S$7,R28=S28)*EXACT($R$7<$S$7,R28<S28)),$AN$7,0))) -> 2 | U28: 1 | V28: 1 | W28: =IF(OR(EXACT($U$7,U28)*(EXACT($V$7,V28)))=TRUE,$AN$9,IF(($V$7-$U$7=V28-U28),$AN$8,IF(OR(EXACT($U$7>$V$7,U28>V28)*EXACT($U$7=$V$7,U28=V28)*EXACT($U$7<$V$7,U28<V28)),$AN$7,0))) -> 5 | X28: 1 | Y28: 2 | Z28: =IF(OR(EXACT($X$7,X28)*(EXACT($Y$7,Y28)))=TRUE,$AN$9,IF(($Y$7-$X$7=Y28-X28),$AN$8,IF(OR(EXACT($X$7>$Y$7,X28>Y28)*EXACT($X$7=$Y$7,X28=Y28)*EXACT($X$7<$Y$7,X28<Y28)),$AN$7,0))) -> 0 | AA28: 1 | AB28: 3 | AC28: =IF(OR(EXACT($AA$7,AA28)*(EXACT($AB$7,AB28)))=TRUE,$AN$9,IF(($AB$7-$AA$7=AB28-AA28),$AN$8,IF(OR(EXACT($AA$7>$AB$7,AA28>AB28)*EXACT($AA$7=$AB$7,AA28=AB28)*EXACT($AA$7<$AB$7,AA28<AB28)),$AN$7,0))) -> 2 | AG28: =E28+H28+K28+N28+Q28+T28+W28+Z28+AC28+AF28 -> 25 | AH28: ='2.Spieltag '!AI28 -> 16 | AI28: =AG28+AH28 -> 41 | AJ28: =RANK(AI28,$AI$8:$AI$50) -> 17
... A32: =AJ32 -> 22 | B32: ='1.Spieltag'!B32 -> Tanja04 | C32: 0 | D32: 1 | E32: =IF(OR(EXACT($C$7,C32)*(EXACT($D$7,D32)))=TRUE,$AN$9,IF(($D$7-$C$7=D32-C32),$AN$8,IF(OR(EXACT($C$7>$D$7,C32>D32)*EXACT($C$7=$D$7,C32=D32)*EXACT($C$7<$D$7,C32<D32)),$AN$7,0)))*4 -> 8 | F32: 2 | G32: 0 | H32: =IF(OR(EXACT($F$7,F32)*(EXACT($G$7,G32)))=TRUE,$AN$9,IF(($G$7-$F$7=G32-F32),$AN$8,IF(OR(EXACT($F$7>$G$7,F32>G32)*EXACT($F$7=$G$7,F32=G32)*EXACT($F$7<$G$7,F32<G32)),$AN$7,0))) -> 2 | I32: 1 | J32: 1 | K32: =IF(OR(EXACT($I$7,I32)*(EXACT($J$7,J32)))=TRUE,$AN$9,IF(($J$7-$I$7=J32-I32),$AN$8,IF(OR(EXACT($I$7>$J$7,I32>J32)*EXACT($I$7=$J$7,I32=J32)*EXACT($I$7<$J$7,I32<J32)),$AN$7,0))) -> 0 | L32: 2 | M32: 0 | N32: =IF(OR(EXACT($L$7,L32)*(EXACT($M$7,M32)))=TRUE,$AN$9,IF(($M$7-$L$7=M32-L32),$AN$8,IF(OR(EXACT($L$7>$M$7,L32>M32)*EXACT($L$7=$M$7,L32=M32)*EXACT($L$7<$M$7,L32<M32)),$AN$7,0))) -> 2 | O32: 0 | P32: 2 | Q32: =IF(OR(EXACT($O$7,O32)*(EXACT($P$7,P32)))=TRUE,$AN$9,IF(($P$7-$O$7=P32-O32),$AN$8,IF(OR(EXACT($O$7>$P$7,O32>P32)*EXACT($O$7=$P$7,O32=P32)*EXACT($O$7<$P$7,O32<P32)),$AN$7,0))) -> 0 | R32: 2 | S32: 1 | T32: =IF(OR(EXACT($R$7,R32)*(EXACT($S$7,S32)))=TRUE,$AN$9,IF(($S$7-$R$7=S32-R32),$AN$8,IF(OR(EXACT($R$7>$S$7,R32>S32)*EXACT($R$7=$S$7,R32=S32)*EXACT($R$7<$S$7,R32<S32)),$AN$7,0))) -> 0 | U32: 2 | V32: 0 | W32: =IF(OR(EXACT($U$7,U32)*(EXACT($V$7,V32)))=TRUE,$AN$9,IF(($V$7-$U$7=V32-U32),$AN$8,IF(OR(EXACT($U$7>$V$7,U32>V32)*EXACT($U$7=$V$7,U32=V32)*EXACT($U$7<$V$7,U32<V32)),$AN$7,0))) -> 0 | X32: 3 | Y32: 0 | Z32: =IF(OR(EXACT($X$7,X32)*(EXACT($Y$7,Y32)))=TRUE,$AN$9,IF(($Y$7-$X$7=Y32-X32),$AN$8,IF(OR(EXACT($X$7>$Y$7,X32>Y32)*EXACT($X$7=$Y$7,X32=Y32)*EXACT($X$7<$Y$7,X32<Y32)),$AN$7,0))) -> 2 | AA32: 1 | AB32: 3 | AC32: =IF(OR(EXACT($AA$7,AA32)*(EXACT($AB$7,AB32)))=TRUE,$AN$9,IF(($AB$7-$AA$7=AB32-AA32),$AN$8,IF(OR(EXACT($AA$7>$AB$7,AA32>AB32)*EXACT($AA$7=$AB$7,AA32=AB32)*EXACT($AA$7<$AB$7,AA32<AB32)),$AN$7,0))) -> 2 | AG32: =E32+H32+K32+N32+Q32+T32+W32+Z32+AC32+AF32 -> 16 | AH32: ='2.Spieltag '!AI32 -> 20 | AI32: =AG32+AH32 -> 36 | AJ32: =RANK(AI32,$AI$8:$AI$50) -> 22
A33: =AJ33 -> 26 | B33: ='1.Spieltag'!B33 -> Th. Bülles | F33: 3 | G33: 0 | H33: =IF(OR(EXACT($F$7,F33)*(EXACT($G$7,G33)))=TRUE,$AN$9,IF(($G$7-$F$7=G33-F33),$AN$8,IF(OR(EXACT($F$7>$G$7,F33>G33)*EXACT($F$7=$G$7,F33=G33)*EXACT($F$7<$G$7,F33<G33)),$AN$7,0))) -> 5 | I33: 1 | J33: 2 | K33: =IF(OR(EXACT($I$7,I33)*(EXACT($J$7,J33)))=TRUE,$AN$9,IF(($J$7-$I$7=J33-I33),$AN$8,IF(OR(EXACT($I$7>$J$7,I33>J33)*EXACT($I$7=$J$7,I33=J33)*EXACT($I$7<$J$7,I33<J33)),$AN$7,0))) -> 0 | L33: 2 | M33: 0 | N33: =IF(OR(EXACT($L$7,L33)*(EXACT($M$7,M33)))=TRUE,$AN$9,IF(($M$7-$L$7=M33-L33),$AN$8,IF(OR(EXACT($L$7>$M$7,L33>M33)*EXACT($L$7=$M$7,L33=M33)*EXACT($L$7<$M$7,L33<M33)),$AN$7,0))) -> 2 | O33: 0 | P33: 2 | Q33: =IF(OR(EXACT($O$7,O33)*(EXACT($P$7,P33)))=TRUE,$AN$9,IF(($P$7-$O$7=P33-O33),$AN$8,IF(OR(EXACT($O$7>$P$7,O33>P33)*EXACT($O$7=$P$7,O33=P33)*EXACT($O$7<$P$7,O33<P33)),$AN$7,0))) -> 0 | R33: 2 | S33: 1 | T33: =IF(OR(EXACT($R$7,R33)*(EXACT($S$7,S33)))=TRUE,$AN$9,IF(($S$7-$R$7=S33-R33),$AN$8,IF(OR(EXACT($R$7>$S$7,R33>S33)*EXACT($R$7=$S$7,R33=S33)*EXACT($R$7<$S$7,R33<S33)),$AN$7,0))) -> 0 | U33: 1 | V33: 2 | W33: =IF(OR(EXACT($U$7,U33)*(EXACT($V$7,V33)))=TRUE,$AN$9,IF(($V$7-$U$7=V33-U33),$AN$8,IF(OR(EXACT($U$7>$V$7,U33>V33)*EXACT($U$7=$V$7,U33=V33)*EXACT($U$7<$V$7,U33<V33)),$AN$7,0))) -> 0 | X33: 3 | Y33: 0 | Z33: =IF(OR(EXACT($X$7,X33)*(EXACT($Y$7,Y33)))=TRUE,$AN$9,IF(($Y$7-$X$7=Y33-X33),$AN$8,IF(OR(EXACT($X$7>$Y$7,X33>Y33)*EXACT($X$7=$Y$7,X33=Y33)*EXACT($X$7<$Y$7,X33<Y33)),$AN$7,0))) -> 2 | AA33: 1 | AB33: 3 | AC33: =IF(OR(EXACT($AA$7,AA33)*(EXACT($AB$7,AB33)))=TRUE,$AN$9,IF(($AB$7-$AA$7=AB33-AA33),$AN$8,IF(OR(EXACT($AA$7>$AB$7,AA33>AB33)*EXACT($AA$7=$AB$7,AA33=AB33)*EXACT($AA$7<$AB$7,AA33<AB33)),$AN$7,0))) -> 2 | AG33: =E33+H33+K33+N33+Q33+T33+W33+Z33+AC33+AF33 -> 11 | AH33: ='2.Spieltag '!AI33 -> 22 | AI33: =AG33+AH33 -> 33 | AJ33: =RANK(AI33,$AI$8:$AI$50) -> 26
A34: =AJ34 -> 31 | B34: ='1.Spieltag'!B34 -> Thomas Müller | AG34: =E34+H34+K34+N34+Q34+T34+W34+Z34+AC34+AF34 -> 0 | AH34: ='2.Spieltag '!AI34 -> 20 | AI34: =AG34+AH34 -> 20 | AJ34: =RANK(AI34,$AI$8:$AI$50) -> 31
A35: =AJ35 -> 9 | B35: ='1.Spieltag'!B35 -> Totti | C35: 1 | D35: 2 | E35: =IF(OR(EXACT($C$7,C35)*(EXACT($D$7,D35)))=TRUE,$AN$9,IF(($D$7-$C$7=D35-C35),$AN$8,IF(OR(EXACT($C$7>$D$7,C35>D35)*EXACT($C$7=$D$7,C35=D35)*EXACT($C$7<$D$7,C35<D35)),$AN$7,0)))*4 -> 8 | F35: 3 | G35: 0 | H35: =IF(OR(EXACT($F$7,F35)*(EXACT($G$7,G35)))=TRUE,$AN$9,IF(($G$7-$F$7=G35-F35),$AN$8,IF(OR(EXACT($F$7>$G$7,F35>G35)*EXACT($F$7=$G$7,F35=G35)*EXACT($F$7<$G$7,F35<G35)),$AN$7,0))) -> 5 | I35: 1 | J35: 3 | K35: =IF(OR(EXACT($I$7,I35)*(EXACT($J$7,J35)))=TRUE,$AN$9,IF(($J$7-$I$7=J35-I35),$AN$8,IF(OR(EXACT($I$7>$J$7,I35>J35)*EXACT($I$7=$J$7,I35=J35)*EXACT($I$7<$J$7,I35<J35)),$AN$7,0))) -> 0 | L35: 1 | M35: 1 | N35: =IF(OR(EXACT($L$7,L35)*(EXACT($M$7,M35)))=TRUE,$AN$9,IF(($M$7-$L$7=M35-L35),$AN$8,IF(OR(EXACT($L$7>$M$7,L35>M35)*EXACT($L$7=$M$7,L35=M35)*EXACT($L$7<$M$7,L35<M35)),$AN$7,0))) -> 0 | O35: 2 | P35: 2 | Q35: =IF(OR(EXACT($O$7,O35)*(EXACT($P$7,P35)))=TRUE,$AN$9,IF(($P$7-$O$7=P35-O35),$AN$8,IF(OR(EXACT($O$7>$P$7,O35>P35)*EXACT($O$7=$P$7,O35=P35)*EXACT($O$7<$P$7,O35<P35)),$AN$7,0))) -> 5 | R35: 1 | S35: 2 | T35: =IF(OR(EXACT($R$7,R35)*(EXACT($S$7,S35)))=TRUE,$AN$9,IF(($S$7-$R$7=S35-R35),$AN$8,IF(OR(EXACT($R$7>$S$7,R35>S35)*EXACT($R$7=$S$7,R35=S35)*EXACT($R$7<$S$7,R35<S35)),$AN$7,0))) -> 2 | U35: 0 | V35: 0 | W35: =IF(OR(EXACT($U$7,U35)*(EXACT($V$7,V35)))=TRUE,$AN$9,IF(($V$7-$U$7=V35-U35),$AN$8,IF(OR(EXACT($U$7>$V$7,U35>V35)*EXACT($U$7=$V$7,U35=V35)*EXACT($U$7<$V$7,U35<V35)),$AN$7,0))) -> 3 | X35: 2 | Y35: 1 | Z35: =IF(OR(EXACT($X$7,X35)*(EXACT($Y$7,Y35)))=TRUE,$AN$9,IF(($Y$7-$X$7=Y35-X35),$AN$8,IF(OR(EXACT($X$7>$Y$7,X35>Y35)*EXACT($X$7=$Y$7,X35=Y35)*EXACT($X$7<$Y$7,X35<Y35)),$AN$7,0))) -> 2 | AA35: 1 | AB35: 3 | AC35: =IF(OR(EXACT($AA$7,AA35)*(EXACT($AB$7,AB35)))=TRUE,$AN$9,IF(($AB$7-$AA$7=AB35-AA35),$AN$8,IF(OR(EXACT($AA$7>$AB$7,AA35>AB35)*EXACT($AA$7=$AB$7,AA35=AB35)*EXACT($AA$7<$AB$7,AA35<AB35)),$AN$7,0))) -> 2 | AG35: =E35+H35+K35+N35+Q35+T35+W35+Z35+AC35+AF35 -> 27 | AH35: ='2.Spieltag '!AI35 -> 17 | AI35: =AG35+AH35 -> 44 | AJ35: =RANK(AI35,$AI$8:$AI$50) -> 9
A36: =AJ36 -> 22 | B36: ='1.Spieltag'!B36 -> UltraGE | C36: 1 | D36: 2 | E36: =IF(OR(EXACT($C$7,C36)*(EXACT($D$7,D36)))=TRUE,$AN$9,IF(($D$7-$C$7=D36-C36),$AN$8,IF(OR(EXACT($C$7>$D$7,C36>D36)*EXACT($C$7=$D$7,C36=D36)*EXACT($C$7<$D$7,C36<D36)),$AN$7,0)))*4 -> 8 | F36: 3 | G36: 1 | H36: =IF(OR(EXACT($F$7,F36)*(EXACT($G$7,G36)))=TRUE,$AN$9,IF(($G$7-$F$7=G36-F36),$AN$8,IF(OR(EXACT($F$7>$G$7,F36>G36)*EXACT($F$7=$G$7,F36=G36)*EXACT($F$7<$G$7,F36<G36)),$AN$7,0))) -> 2 | I36: 1 | J36: 2 | K36: =IF(OR(EXACT($I$7,I36)*(EXACT($J$7,J36)))=TRUE,$AN$9,IF(($J$7-$I$7=J36-I36),$AN$8,IF(OR(EXACT($I$7>$J$7,I36>J36)*EXACT($I$7=$J$7,I36=J36)*EXACT($I$7<$J$7,I36<J36)),$AN$7,0))) -> 0 | L36: 3 | M36: 1 | N36: =IF(OR(EXACT($L$7,L36)*(EXACT($M$7,M36)))=TRUE,$AN$9,IF(($M$7-$L$7=M36-L36),$AN$8,IF(OR(EXACT($L$7>$M$7,L36>M36)*EXACT($L$7=$M$7,L36=M36)*EXACT($L$7<$M$7,L36<M36)),$AN$7,0))) -> 2 | O36: 1 | P36: 2 | Q36: =IF(OR(EXACT($O$7,O36)*(EXACT($P$7,P36)))=TRUE,$AN$9,IF(($P$7-$O$7=P36-O36),$AN$8,IF(OR(EXACT($O$7>$P$7,O36>P36)*EXACT($O$7=$P$7,O36=P36)*EXACT($O$7<$P$7,O36<P36)),$AN$7,0))) -> 0 | R36: 1 | S36: 2 | T36: =IF(OR(EXACT($R$7,R36)*(EXACT($S$7,S36)))=TRUE,$AN$9,IF(($S$7-$R$7=S36-R36),$AN$8,IF(OR(EXACT($R$7>$S$7,R36>S36)*EXACT($R$7=$S$7,R36=S36)*EXACT($R$7<$S$7,R36<S36)),$AN$7,0))) -> 2 | U36: 2 | V36: 1 | W36: =IF(OR(EXACT($U$7,U36)*(EXACT($V$7,V36)))=TRUE,$AN$9,IF(($V$7-$U$7=V36-U36),$AN$8,IF(OR(EXACT($U$7>$V$7,U36>V36)*EXACT($U$7=$V$7,U36=V36)*EXACT($U$7<$V$7,U36<V36)),$AN$7,0))) -> 0 | X36: 3 | Y36: 0 | Z36: =IF(OR(EXACT($X$7,X36)*(EXACT($Y$7,Y36)))=TRUE,$AN$9,IF(($Y$7-$X$7=Y36-X36),$AN$8,IF(OR(EXACT($X$7>$Y$7,X36>Y36)*EXACT($X$7=$Y$7,X36=Y36)*EXACT($X$7<$Y$7,X36<Y36)),$AN$7,0))) -> 2 | AA36: 1 | AB36: 4 | AC36: =IF(OR(EXACT($AA$7,AA36)*(EXACT($AB$7,AB36)))=TRUE,$AN$9,IF(($AB$7-$AA$7=AB36-AA36),$AN$8,IF(OR(EXACT($AA$7>$AB$7,AA36>AB36)*EXACT($AA$7=$AB$7,AA36=AB36)*EXACT($AA$7<$AB$7,AA36<AB36)),$AN$7,0))) -> 2 | AG36: =E36+H36+K36+N36+Q36+T36+W36+Z36+AC36+AF36 -> 18 | AH36: ='2.Spieltag '!AI36 -> 18 | AI36: =AG36+AH36 -> 36 | AJ36: =RANK(AI36,$AI$8:$AI$50) -> 22
