Workbook

Sheet Ergebnisse
C1: 1 | D1: 2 | E1: 3 | F1: 4 | G1: 5 | H1: 6 | I1: 7 | J1: 8 | K1: 9 | L1: 10 | M1: 11 | N1: 12 | O1: 13 | P1: 14 | Q1: 15 | R1: 16 | S1: 17 | T1: 18 | U1: 19 | V1: 20 | W1: 21 | X1: 22 | Y1: 23 | Z1: 24 | AA1: 25 | AB1: 26 | AC1: 27 | AD1: 28 | AE1: 29 | AF1: 30 | AG1: 31 | AH1: 32 | AI1: 33 | AJ1: 34
A2: Platz | B2: Name | C2: Spieltag | D2: Spieltag | E2: Spieltag | F2: Spieltag | G2: Spieltag | H2: Spieltag | I2: Spieltag | J2: Spieltag | K2: Spieltag | L2: Spieltag | M2: Spieltag | N2: Spieltag | O2: Spieltag | P2: Spieltag | Q2: Spieltag | R2: Spieltag | S2: Spieltag | T2: Spieltag | U2: Spieltag | V2: Spieltag | W2: Spieltag | X2: Spieltag | Y2: Spieltag | Z2: Spieltag | AA2: Spieltag | AB2: Spieltag | AC2: Spieltag | AD2: Spieltag | AE2: Spieltag | AF2: Spieltag | AG2: Spieltag | AH2: Spieltag | AI2: Spieltag | AJ2: Spieltag | AK2: Punkte gesamt | AL2: Streichergebnis | AM2: Streichergebnis | AN2: Streichergebnis | AO2: Streichergebnis | AP2: Endergebnis | AS2: Tagessieger | AT2: Name | AU2: Punkte
A3: 20 | B3: archie04 | C3: 6 | D3: 9 | E3: 9 | F3: 7 | G3: 7 | AK3: =SUM(C3:AJ3) -> 38 | AL3: =SMALL($C3:$AJ3,1) -> 6 | AM3: =SMALL($C3:$AJ3,2) -> 7 | AN3: =SMALL($C3:$AJ3,3) -> 7 | AO3: =SMALL($C3:$AJ3,4) -> 9 | AP3: =AK3-AO3-AN3-AM3-AL3 -> 9 | AQ3: =SUM(AL3:AO3) -> 29 | AS3: 1 | AT3: atschi91 | AU3: 17
A4: 2 | B4: atschi91 | C4: 17 | D4: 7 | E4: 16 | F4: 11 | G4: 10 | AK4: =SUM(C4:AJ4) -> 61 | AL4: =SMALL($C4:$AJ4,1) -> 7 | AM4: =SMALL($C4:$AJ4,2) -> 10 | AN4: =SMALL($C4:$AJ4,3) -> 11 | AO4: =SMALL($C4:$AJ4,4) -> 16 | AP4: =AK4-AO4-AN4-AM4-AL4 -> 17 | AQ4: =SUM(AL4:AO4) -> 44 | AS4: 2 | AT4: 3 Tipper | AU4: 15
A5: 15 | B5: cilli37 | C5: 13 | D5: 5 | E5: 10 | F5: 11 | G5: 11 | AK5: =SUM(C5:AJ5) -> 50 | AL5: =SMALL($C5:$AJ5,1) -> 5 | AM5: =SMALL($C5:$AJ5,2) -> 10 | AN5: =SMALL($C5:$AJ5,3) -> 11 | AO5: =SMALL($C5:$AJ5,4) -> 11 | AP5: =AK5-AO5-AN5-AM5-AL5 -> 13 | AQ5: =SUM(AL5:AO5) -> 37 | AS5: 3 | AT5: 3 Tipper | AU5: 18
A6: 15 | B6: Fabian1904 | C6: 10 | D6: 10 | E6: 14 | F6: 4 | G6: 9 | AK6: =SUM(C6:AJ6) -> 47 | AL6: =SMALL($C6:$AJ6,1) -> 4 | AM6: =SMALL($C6:$AJ6,2) -> 9 | AN6: =SMALL($C6:$AJ6,3) -> 10 | AO6: =SMALL($C6:$AJ6,4) -> 10 | AP6: =AK6-AO6-AN6-AM6-AL6 -> 14 | AQ6: =SUM(AL6:AO6) -> 33 | AS6: 4 | AT6: Reinhold | AU6: 15
A7: 13 | B7: Franzi 04 | C7: 6 | D7: 12 | E7: 14 | F7: 5 | G7: 11 | AK7: =SUM(C7:AJ7) -> 48 | AL7: =SMALL($C7:$AJ7,1) -> 5 | AM7: =SMALL($C7:$AJ7,2) -> 6 | AN7: =SMALL($C7:$AJ7,3) -> 11 | AO7: =SMALL($C7:$AJ7,4) -> 12 | AP7: =AK7-AO7-AN7-AM7-AL7 -> 14 | AQ7: =SUM(AL7:AO7) -> 34 | AS7: 5 | AT7: Mike04 | AU7: 20
A8: 7 | B8: gaby04 | C8: 5 | D8: 11 | E8: 18 | F8: 11 | G8: 12 | AK8: =SUM(C8:AJ8) -> 57 | AL8: =SMALL($C8:$AJ8,1) -> 5 | AM8: =SMALL($C8:$J8,2) -> 11 | AN8: =SMALL($C8:$J8,3) -> 11 | AO8: =SMALL($C8:$J8,4) -> 12 | AP8: =AK8-AO8-AN8-AM8-AL8 -> 18 | AQ8: =SUM(AL8:AO8) -> 39 | AS8: 6
A9: 22 | B9: Gudrun | C9: 6 | D9: 4 | E9: 5 | F9: 7 | G9: 7 | AK9: =SUM(C9:AJ9) -> 29 | AL9: =SMALL($C9:$AJ9,1) -> 4 | AM9: =SMALL($C9:$AJ9,2) -> 5 | AN9: =SMALL($C9:$AJ9,3) -> 6 | AO9: =SMALL($C9:$AJ9,4) -> 7 | AP9: =AK9-AO9-AN9-AM9-AL9 -> 7 | AQ9: =SUM(AL9:AO9) -> 22 | AS9: 7
A10: 4 | B10: Hans 04 | C10: 7 | D10: 12 | E10: 15 | F10: 6 | G10: 12 | AK10: =SUM(C10:AJ10) -> 52 | AL10: =SMALL($C10:$AJ10,1) -> 6 | AM10: =SMALL($C10:$AJ10,2) -> 7 | AN10: =SMALL($C10:$AJ10,3) -> 12 | AO10: =SMALL($C10:$AJ10,4) -> 12 | AP10: =AK10-AO10-AN10-AM10-AL10 -> 15 | AQ10: =SUM(AL10:AO10) -> 37 | AS10: 8
A11: 10 | B11: Jubby | C11: 5 | D11: 15 | E11: 10 | F11: 4 | G11: 12 | AK11: =SUM(C11:AJ11) -> 46 | AL11: =SMALL($C11:$AJ11,1) -> 4 | AM11: =SMALL($C11:$AJ11,2) -> 5 | AN11: =SMALL($C11:$AJ11,3) -> 10 | AO11: =SMALL($C11:$AJ11,4) -> 12 | AP11: =AK11-AO11-AN11-AM11-AL11 -> 15 | AQ11: =SUM(AL11:AO11) -> 31 | AS11: 9
A12: 6 | B12: Lola04 | C12: 11 | D12: 8 | E12: 17 | F12: 6 | G12: 7 | AK12: =SUM(C12:AJ12) -> 49 | AL12: =SMALL($C12:$AJ12,1) -> 6 | AM12: =SMALL($C12:$AJ12,2) -> 7 | AN12: =SMALL($C12:$AJ12,3) -> 8 | AO12: =SMALL($C12:$AJ12,4) -> 11 | AP12: =AK12-AO12-AN12-AM12-AL12 -> 17 | AQ12: =SUM(AL12:AO12) -> 32 | AS12: 10
A13: 24 | B13: Master1 | C13: 8 | D13: 5 | E13: 9 | F13: 10 | G13: 17 | AK13: =SUM(C13:AJ13) -> 49 | AL13: =SMALL($C13:$AJ13,1) -> 5 | AM13: =SMALL($C13:$AJ13,2) -> 8 | AN13: =SMALL($C13:$AJ13,3) -> 9 | AO13: =SMALL($C13:$AJ13,4) -> 10 | AP13: =AK13-AO13-AN13-AM13-AL13 -> 17 | AQ13: =SUM(AL13:AO13) -> 32 | AS13: 11
A14: 10 | B14: Mike04 | C14: 8 | D14: 5 | E14: 7 | F14: 7 | G14: 20 | AK14: =SUM(C14:AJ14) -> 47 | AL14: =SMALL($C14:$AJ14,1) -> 5 | AM14: =SMALL($C14:$AJ14,2) -> 7 | AN14: =SMALL($C14:$AJ14,3) -> 7 | AO14: =SMALL($C14:$AJ14,4) -> 8 | AP14: =AK14-AO14-AN14-AM14-AL14 -> 20 | AQ14: =SUM(AL14:AO14) -> 27 | AS14: 12
A15: 8 | B15: ralle04 | C15: 15 | D15: 2 | E15: 10 | F15: 8 | G15: 15 | AK15: =SUM(C15:AJ15) -> 50 | AL15: =SMALL($C15:$AJ15,1) -> 2 | AM15: =SMALL($C15:$AJ15,2) -> 8 | AN15: =SMALL($C15:$AJ15,3) -> 10 | AO15: =SMALL($C15:$AJ15,4) -> 15 | AP15: =AK15-AO15-AN15-AM15-AL15 -> 15 | AQ15: =SUM(AL15:AO15) -> 35 | AS15: 13
A16: 3 | B16: Reinhold | C16: 7 | D16: 5 | E16: 15 | F16: 15 | G16: 17 | AK16: =SUM(C16:AJ16) -> 59 | AL16: =SMALL($C16:$AJ16,1) -> 5 | AM16: =SMALL($C16:$AJ16,2) -> 7 | AN16: =SMALL($C16:$AJ16,3) -> 15 | AO16: =SMALL($C16:$AJ16,4) -> 15 | AP16: =AK16-AO16-AN16-AM16-AL16 -> 17 | AQ16: =SUM(AL16:AO16) -> 42 | AS16: 14
A17: 21 | B17: Ricardo04 | C17: 0 | D17: 0 | E17: 16 | F17: 2 | G17: 14 | AK17: =SUM(C17:AJ17) -> 32 | AL17: =SMALL($C17:$AJ17,1) -> 0 | AM17: =SMALL($C17:$AJ17,2) -> 0 | AN17: =SMALL($C17:$AJ17,3) -> 2 | AO17: =SMALL($C17:$AJ17,4) -> 14 | AP17: =AK17-AO17-AN17-AM17-AL17 -> 16 | AQ17: =SUM(AL17:AO17) -> 16 | AS17: 15
A18: 10 | B18: Schalkekalle | C18: 2 | D18: 13 | E18: 6 | F18: 4 | G18: 2 | AK18: =SUM(C18:AJ18) -> 27 | AL18: =SMALL($C18:$AJ18,1) -> 2 | AM18: =SMALL($C18:$AJ18,2) -> 2 | AN18: =SMALL($C18:$AJ18,3) -> 4 | AO18: =SMALL($C18:$AJ18,4) -> 6 | AP18: =AK18-AO18-AN18-AM18-AL18 -> 13 | AQ18: =SUM(AL18:AO18) -> 14 | AS18: 16
A19: 8 | B19: schalke-willi | C19: 4 | D19: 15 | E19: 16 | F19: 12 | G19: 9 | AK19: =SUM(C19:AJ19) -> 56 | AL19: =SMALL($C19:$AJ19,1) -> 4 | AM19: =SMALL($C19:$AJ19,2) -> 9 | AN19: =SMALL($C19:$AJ19,3) -> 12 | AO19: =SMALL($C19:$AJ19,4) -> 15 | AP19: =AK19-AO19-AN19-AM19-AL19 -> 16 | AQ19: =SUM(AL19:AO19) -> 40 | AS19: 17
A20: 22 | B20: schalt04 | C20: 0 | D20: 12 | E20: 9 | F20: 5 | G20: 3 | AK20: =SUM(C20:AJ20) -> 29 | AL20: =SMALL($C20:$AJ20,1) -> 0 | AM20: =SMALL($C20:$AJ20,2) -> 3 | AN20: =SMALL($C20:$AJ20,3) -> 5 | AO20: =SMALL($C20:$AJ20,4) -> 9 | AP20: =AK20-AO20-AN20-AM20-AL20 -> 12 | AQ20: =SUM(AL20:AO20) -> 17 | AS20: 18
... A26: 4 | B26: UltraGE | C26: 9 | D26: 16 | E26: 14 | F26: 6 | G26: 13 | AK26: =SUM(C26:AJ26) -> 58 | AL26: =SMALL($C26:$AJ26,1) -> 6 | AM26: =SMALL($C26:$AJ26,2) -> 9 | AN26: =SMALL($C26:$AJ26,3) -> 13 | AO26: =SMALL($C26:$AJ26,4) -> 14 | AP26: =AK26-AO26-AN26-AM26-AL26 -> 16 | AQ26: =SUM(AL26:AO26) -> 42 | AS26: 24
AK27: =SUM(C27:AJ27) -> 0 | AP27: =AK27-AO27-AN27-AM27-AL27 -> 0 | AQ27: =SUM(AL27:AO27) -> 0 | AS27: 25
AK28: =SUM(C28:AJ28) -> 0 | AP28: =AK28-AO28-AN28-AM28-AL28 -> 0 | AQ28: =SUM(AL28:AO28) -> 0 | AS28: 26
AK29: =SUM(C29:AJ29) -> 0 | AP29: =AK29-AO29-AN29-AM29-AL29 -> 0 | AQ29: =SUM(AL29:AO29) -> 0 | AS29: 27
AK30: =SUM(C30:AJ30) -> 0 | AP30: =AK30-AO30-AN30-AM30-AL30 -> 0 | AQ30: =SUM(AL30:AO30) -> 0 | AS30: 28
C31: =SUM(C3:C23) -> 167 | D31: =SUM(D3:D23) -> 179 | E31: =SUM(E3:E23) -> 259 | F31: =SUM(F3:F23) -> 150 | G31: =SUM(G3:G23) -> 229 | H31: =SUM(H3:H23) -> 0 | I31: =SUM(I3:I23) -> 0 | J31: =SUM(J3:J23) -> 0 | ... AF31: =SUM(AF3:AF23) -> 0 | AK31: =SUM(AK3:AK23) -> 984 | AL31: =SUM(AL3:AL23) -> 86 | AM31: =SUM(AM3:AM23) -> 149 | AN31: =SUM(AN3:AN23) -> 193 | AO31: =SUM(AO3:AO23) -> 240 | AP31: =SUM(AP3:AP23) -> 316 | AS31: 29
AS32: 30
AS33: 31
AS34: 32
AS35: 33
AS36: 34

Sheet 1.Spieltag
B1: 1. Spieltag | AG1: PUNKTEVERTEILUNG
AG2: richtige Tendenz | AJ2: 2
C4: München | F4: Bremen | I4: Berlin | L4: Wolfsburg | O4: Freiburg | R4: Düsseldorf | U4: Gladbach | X4: Mainz | AA4: Dortmund | AG4: richtige Tendenz + | AJ4: 3
AG5: korrekter Torab
C6: Hoffenheim | F6: Hannover | I6: Nürnberg | L6: Schalke 04 | O6: Frankfurt | R6: Augsburg | U6: Leverkusen | X6: Stuttgart | AA6: Leipzig
AG7: richtiges Ergebnis | AJ7: 5
AG8: G E S A M T W E R T U N G
AG9: Punkte | AH9: Punkte | AI9: Platz | AJ9: Gesamt | AK9: Platz
A10: PLATZ | B10: ERGEBNISSE=> | C10: 3 | D10: 1 | E10: Pkt. | F10: 1 | G10: 1 | H10: Pkt. | I10: 1 | J10: 0 | K10: Pkt. | L10: 2 | M10: 1 | N10: Pkt. | O10: 0 | P10: 2 | Q10: Pkt. | R10: 1 | S10: 2 | T10: Pkt. | U10: 2 | V10: 0 | W10: Pkt. | X10: 1 | Y10: 0 | Z10: Pkt. | AA10: 4 | AB10: 1 | AC10: Pkt. | AG10: Spieltag | AH10: bisher | AI10: bisher | AJ10: Punkte
A11: =AK11 -> 1 | B11: atschi91 | C11: 2 | D11: 1 | E11: =IF(OR(EXACT($C$10,C11)*(EXACT($D$10,D11)))=TRUE,$AJ$7,IF(($D$10-$C$10=D11-C11),$AJ$4,IF(OR(EXACT($C$10>$D$10,C11>D11)*EXACT($C$10=$D$10,C11=D11)*EXACT($C$10<$D$10,C11<D11)),$AJ$2,0))) -> 2 | F11: 1 | G11: 1 | H11: =IF(OR(EXACT($F$10,F11)*(EXACT($G$10,G11)))=TRUE,$AJ$7,IF(($G$10-$F$10=G11-F11),$AJ$4,IF(OR(EXACT($F$10>$G$10,F11>G11)*EXACT($F$10=$G$10,F11=G11)*EXACT($F$10<$G$10,F11<G11)),$AJ$2,0))) -> 5 | I11: 1 | J11: 0 | K11: =IF(OR(EXACT($I$10,I11)*(EXACT($J$10,J11)))=TRUE,$AJ$7,IF(($J$10-$I$10=J11-I11),$AJ$4,IF(OR(EXACT($I$10>$J$10,I11>J11)*EXACT($I$10=$J$10,I11=J11)*EXACT($I$10<$J$10,I11<J11)),$AJ$2,0))) -> 5 | L11: 0 | M11: 2 | N11: =IF(OR(EXACT($L$10,L11)*(EXACT($M$10,M11)))=TRUE,$AJ$7,IF(($M$10-$L$10=M11-L11),$AJ$4,IF(OR(EXACT($L$10>$M$10,L11>M11)*EXACT($L$10=$M$10,L11=M11)*EXACT($L$10<$M$10,L11<M11)),$AJ$2,0)))*2*2 -> 0 | O11: 1 | P11: 0 | Q11: =IF(OR(EXACT($O$10,O11)*(EXACT($P$10,P11)))=TRUE,$AJ$7,IF(($P$10-$O$10=P11-O11),$AJ$4,IF(OR(EXACT($O$10>$P$10,O11>P11)*EXACT($O$10=$P$10,O11=P11)*EXACT($O$10<$P$10,O11<P11)),$AJ$2,0))) -> 0 | R11: 2 | S11: 1 | T11: =IF(OR(EXACT($R$10,R11)*(EXACT($S$10,S11)))=TRUE,$AJ$7,IF(($S$10-$R$10=S11-R11),$AJ$4,IF(OR(EXACT($R$10>$S$10,R11>S11)*EXACT($R$10=$S$10,R11=S11)*EXACT($R$10<$S$10,R11<S11)),$AJ$2,0))) -> 0 | U11: 1 | V11: 1 | W11: =IF(OR(EXACT($U$10,U11)*(EXACT($V$10,V11)))=TRUE,$AJ$7,IF(($V$10-$U$10=V11-U11),$AJ$4,IF(OR(EXACT($U$10>$V$10,U11>V11)*EXACT($U$10=$V$10,U11=V11)*EXACT($U$10<$V$10,U11<V11)),$AJ$2,0))) -> 0 | X11: 1 | Y11: 0 | Z11: =IF(OR(EXACT($X$10,X11)*(EXACT($Y$10,Y11)))=TRUE,$AJ$7,IF(($Y$10-$X$10=Y11-X11),$AJ$4,IF(OR(EXACT($X$10>$Y$10,X11>Y11)*EXACT($X$10=$Y$10,X11=Y11)*EXACT($X$10<$Y$10,X11<Y11)),$AJ$2,0))) -> 5 | AA11: 1 | AB11: 2 | AC11: =IF(OR(EXACT($AA$10,AA11)*(EXACT($AB$10,AB11)))=TRUE,$AJ$7,IF(($AB$10-$AA$10=AB11-AA11),$AJ$4,IF(OR(EXACT($AA$10>$AB$10,AA11>AB11)*EXACT($AA$10=$AB$10,AA11=AB11)*EXACT($AA$10<$AB$10,AA11<AB11)),$AJ$2,0))) -> 0 | AG11: =E11+K11+Q11+T11+N11+H11+W11+Z11+AC11+AF11 -> 17 | AJ11: =AG11+AH11 -> 17 | AK11: =RANK(AJ11,$AJ$11:$AJ$32) -> 1
A12: =AK12 -> 2 | B12: Silja04 | C12: 3 | D12: 1 | E12: =IF(OR(EXACT($C$10,C12)*(EXACT($D$10,D12)))=TRUE,$AJ$7,IF(($D$10-$C$10=D12-C12),$AJ$4,IF(OR(EXACT($C$10>$D$10,C12>D12)*EXACT($C$10=$D$10,C12=D12)*EXACT($C$10<$D$10,C12<D12)),$AJ$2,0))) -> 5 | F12: 1 | G12: 1 | H12: =IF(OR(EXACT($F$10,F12)*(EXACT($G$10,G12)))=TRUE,$AJ$7,IF(($G$10-$F$10=G12-F12),$AJ$4,IF(OR(EXACT($F$10>$G$10,F12>G12)*EXACT($F$10=$G$10,F12=G12)*EXACT($F$10<$G$10,F12<G12)),$AJ$2,0))) -> 5 | I12: 1 | J12: 2 | K12: =IF(OR(EXACT($I$10,I12)*(EXACT($J$10,J12)))=TRUE,$AJ$7,IF(($J$10-$I$10=J12-I12),$AJ$4,IF(OR(EXACT($I$10>$J$10,I12>J12)*EXACT($I$10=$J$10,I12=J12)*EXACT($I$10<$J$10,I12<J12)),$AJ$2,0))) -> 0 | L12: 1 | M12: 2 | N12: =IF(OR(EXACT($L$10,L12)*(EXACT($M$10,M12)))=TRUE,$AJ$7,IF(($M$10-$L$10=M12-L12),$AJ$4,IF(OR(EXACT($L$10>$M$10,L12>M12)*EXACT($L$10=$M$10,L12=M12)*EXACT($L$10<$M$10,L12<M12)),$AJ$2,0)))*2*2 -> 0 | O12: 2 | P12: 2 | Q12: =IF(OR(EXACT($O$10,O12)*(EXACT($P$10,P12)))=TRUE,$AJ$7,IF(($P$10-$O$10=P12-O12),$AJ$4,IF(OR(EXACT($O$10>$P$10,O12>P12)*EXACT($O$10=$P$10,O12=P12)*EXACT($O$10<$P$10,O12<P12)),$AJ$2,0))) -> 0 | R12: 0 | S12: 1 | T12: =IF(OR(EXACT($R$10,R12)*(EXACT($S$10,S12)))=TRUE,$AJ$7,IF(($S$10-$R$10=S12-R12),$AJ$4,IF(OR(EXACT($R$10>$S$10,R12>S12)*EXACT($R$10=$S$10,R12=S12)*EXACT($R$10<$S$10,R12<S12)),$AJ$2,0))) -> 3 | U12: 2 | V12: 2 | W12: =IF(OR(EXACT($U$10,U12)*(EXACT($V$10,V12)))=TRUE,$AJ$7,IF(($V$10-$U$10=V12-U12),$AJ$4,IF(OR(EXACT($U$10>$V$10,U12>V12)*EXACT($U$10=$V$10,U12=V12)*EXACT($U$10<$V$10,U12<V12)),$AJ$2,0))) -> 0 | X12: 1 | Y12: 1 | Z12: =IF(OR(EXACT($X$10,X12)*(EXACT($Y$10,Y12)))=TRUE,$AJ$7,IF(($Y$10-$X$10=Y12-X12),$AJ$4,IF(OR(EXACT($X$10>$Y$10,X12>Y12)*EXACT($X$10=$Y$10,X12=Y12)*EXACT($X$10<$Y$10,X12<Y12)),$AJ$2,0))) -> 0 | AA12: 3 | AB12: 2 | AC12: =IF(OR(EXACT($AA$10,AA12)*(EXACT($AB$10,AB12)))=TRUE,$AJ$7,IF(($AB$10-$AA$10=AB12-AA12),$AJ$4,IF(OR(EXACT($AA$10>$AB$10,AA12>AB12)*EXACT($AA$10=$AB$10,AA12=AB12)*EXACT($AA$10<$AB$10,AA12<AB12)),$AJ$2,0))) -> 2 | AG12: =E12+K12+Q12+T12+N12+H12+W12+Z12+AC12+AF12 -> 15 | AJ12: =AG12+AH12 -> 15 | AK12: =RANK(AJ12,$AJ$11:$AJ$32) -> 2
A13: =AK13 -> 2 | B13: SkillFailer | C13: 2 | D13: 0 | E13: =IF(OR(EXACT($C$10,C13)*(EXACT($D$10,D13)))=TRUE,$AJ$7,IF(($D$10-$C$10=D13-C13),$AJ$4,IF(OR(EXACT($C$10>$D$10,C13>D13)*EXACT($C$10=$D$10,C13=D13)*EXACT($C$10<$D$10,C13<D13)),$AJ$2,0))) -> 3 | F13: 2 | G13: 1 | H13: =IF(OR(EXACT($F$10,F13)*(EXACT($G$10,G13)))=TRUE,$AJ$7,IF(($G$10-$F$10=G13-F13),$AJ$4,IF(OR(EXACT($F$10>$G$10,F13>G13)*EXACT($F$10=$G$10,F13=G13)*EXACT($F$10<$G$10,F13<G13)),$AJ$2,0))) -> 0 | I13: 1 | J13: 2 | K13: =IF(OR(EXACT($I$10,I13)*(EXACT($J$10,J13)))=TRUE,$AJ$7,IF(($J$10-$I$10=J13-I13),$AJ$4,IF(OR(EXACT($I$10>$J$10,I13>J13)*EXACT($I$10=$J$10,I13=J13)*EXACT($I$10<$J$10,I13<J13)),$AJ$2,0))) -> 0 | L13: 1 | M13: 2 | N13: =IF(OR(EXACT($L$10,L13)*(EXACT($M$10,M13)))=TRUE,$AJ$7,IF(($M$10-$L$10=M13-L13),$AJ$4,IF(OR(EXACT($L$10>$M$10,L13>M13)*EXACT($L$10=$M$10,L13=M13)*EXACT($L$10<$M$10,L13<M13)),$AJ$2,0)))*2*2 -> 0 | O13: 2 | P13: 1 | Q13: =IF(OR(EXACT($O$10,O13)*(EXACT($P$10,P13)))=TRUE,$AJ$7,IF(($P$10-$O$10=P13-O13),$AJ$4,IF(OR(EXACT($O$10>$P$10,O13>P13)*EXACT($O$10=$P$10,O13=P13)*EXACT($O$10<$P$10,O13<P13)),$AJ$2,0))) -> 0 | R13: 1 | S13: 2 | T13: =IF(OR(EXACT($R$10,R13)*(EXACT($S$10,S13)))=TRUE,$AJ$7,IF(($S$10-$R$10=S13-R13),$AJ$4,IF(OR(EXACT($R$10>$S$10,R13>S13)*EXACT($R$10=$S$10,R13=S13)*EXACT($R$10<$S$10,R13<S13)),$AJ$2,0))) -> 5 | U13: 2 | V13: 1 | W13: =IF(OR(EXACT($U$10,U13)*(EXACT($V$10,V13)))=TRUE,$AJ$7,IF(($V$10-$U$10=V13-U13),$AJ$4,IF(OR(EXACT($U$10>$V$10,U13>V13)*EXACT($U$10=$V$10,U13=V13)*EXACT($U$10<$V$10,U13<V13)),$AJ$2,0))) -> 2 | X13: 2 | Y13: 1 | Z13: =IF(OR(EXACT($X$10,X13)*(EXACT($Y$10,Y13)))=TRUE,$AJ$7,IF(($Y$10-$X$10=Y13-X13),$AJ$4,IF(OR(EXACT($X$10>$Y$10,X13>Y13)*EXACT($X$10=$Y$10,X13=Y13)*EXACT($X$10<$Y$10,X13<Y13)),$AJ$2,0))) -> 3 | AA13: 2 | AB13: 1 | AC13: =IF(OR(EXACT($AA$10,AA13)*(EXACT($AB$10,AB13)))=TRUE,$AJ$7,IF(($AB$10-$AA$10=AB13-AA13),$AJ$4,IF(OR(EXACT($AA$10>$AB$10,AA13>AB13)*EXACT($AA$10=$AB$10,AA13=AB13)*EXACT($AA$10<$AB$10,AA13<AB13)),$AJ$2,0))) -> 2 | AG13: =E13+K13+Q13+T13+N13+H13+W13+Z13+AC13+AF13 -> 15 | AJ13: =AG13+AH13 -> 15 | AK13: =RANK(AJ13,$AJ$11:$AJ$32) -> 2
A14: =AK14 -> 4 | B14: shiny | C14: 2 | D14: 1 | E14: =IF(OR(EXACT($C$10,C14)*(EXACT($D$10,D14)))=TRUE,$AJ$7,IF(($D$10-$C$10=D14-C14),$AJ$4,IF(OR(EXACT($C$10>$D$10,C14>D14)*EXACT($C$10=$D$10,C14=D14)*EXACT($C$10<$D$10,C14<D14)),$AJ$2,0))) -> 2 | F14: 1 | G14: 1 | H14: =IF(OR(EXACT($F$10,F14)*(EXACT($G$10,G14)))=TRUE,$AJ$7,IF(($G$10-$F$10=G14-F14),$AJ$4,IF(OR(EXACT($F$10>$G$10,F14>G14)*EXACT($F$10=$G$10,F14=G14)*EXACT($F$10<$G$10,F14<G14)),$AJ$2,0))) -> 5 | I14: 1 | J14: 0 | K14: =IF(OR(EXACT($I$10,I14)*(EXACT($J$10,J14)))=TRUE,$AJ$7,IF(($J$10-$I$10=J14-I14),$AJ$4,IF(OR(EXACT($I$10>$J$10,I14>J14)*EXACT($I$10=$J$10,I14=J14)*EXACT($I$10<$J$10,I14<J14)),$AJ$2,0))) -> 5 | L14: 0 | M14: 1 | N14: =IF(OR(EXACT($L$10,L14)*(EXACT($M$10,M14)))=TRUE,$AJ$7,IF(($M$10-$L$10=M14-L14),$AJ$4,IF(OR(EXACT($L$10>$M$10,L14>M14)*EXACT($L$10=$M$10,L14=M14)*EXACT($L$10<$M$10,L14<M14)),$AJ$2,0)))*2*2 -> 0 | O14: 1 | P14: 1 | Q14: =IF(OR(EXACT($O$10,O14)*(EXACT($P$10,P14)))=TRUE,$AJ$7,IF(($P$10-$O$10=P14-O14),$AJ$4,IF(OR(EXACT($O$10>$P$10,O14>P14)*EXACT($O$10=$P$10,O14=P14)*EXACT($O$10<$P$10,O14<P14)),$AJ$2,0))) -> 0 | R14: 1 | S14: 0 | T14: =IF(OR(EXACT($R$10,R14)*(EXACT($S$10,S14)))=TRUE,$AJ$7,IF(($S$10-$R$10=S14-R14),$AJ$4,IF(OR(EXACT($R$10>$S$10,R14>S14)*EXACT($R$10=$S$10,R14=S14)*EXACT($R$10<$S$10,R14<S14)),$AJ$2,0))) -> 0 | U14: 1 | V14: 0 | W14: =IF(OR(EXACT($U$10,U14)*(EXACT($V$10,V14)))=TRUE,$AJ$7,IF(($V$10-$U$10=V14-U14),$AJ$4,IF(OR(EXACT($U$10>$V$10,U14>V14)*EXACT($U$10=$V$10,U14=V14)*EXACT($U$10<$V$10,U14<V14)),$AJ$2,0))) -> 2 | X14: 0 | Y14: 1 | Z14: =IF(OR(EXACT($X$10,X14)*(EXACT($Y$10,Y14)))=TRUE,$AJ$7,IF(($Y$10-$X$10=Y14-X14),$AJ$4,IF(OR(EXACT($X$10>$Y$10,X14>Y14)*EXACT($X$10=$Y$10,X14=Y14)*EXACT($X$10<$Y$10,X14<Y14)),$AJ$2,0))) -> 0 | AA14: 1 | AB14: 2 | AC14: =IF(OR(EXACT($AA$10,AA14)*(EXACT($AB$10,AB14)))=TRUE,$AJ$7,IF(($AB$10-$AA$10=AB14-AA14),$AJ$4,IF(OR(EXACT($AA$10>$AB$10,AA14>AB14)*EXACT($AA$10=$AB$10,AA14=AB14)*EXACT($AA$10<$AB$10,AA14<AB14)),$AJ$2,0))) -> 0 | AG14: =E14+K14+Q14+T14+N14+H14+W14+Z14+AC14+AF14 -> 14 | AJ14: =AG14+AH14 -> 14 | AK14: =RANK(AJ14,$AJ$11:$AJ$32) -> 4
A15: =AK15 -> 5 | B15: Franzi 04 | C15: 2 | D15: 0 | E15: =IF(OR(EXACT($C$10,C15)*(EXACT($D$10,D15)))=TRUE,$AJ$7,IF(($D$10-$C$10=D15-C15),$AJ$4,IF(OR(EXACT($C$10>$D$10,C15>D15)*EXACT($C$10=$D$10,C15=D15)*EXACT($C$10<$D$10,C15<D15)),$AJ$2,0))) -> 3 | F15: 2 | G15: 1 | H15: =IF(OR(EXACT($F$10,F15)*(EXACT($G$10,G15)))=TRUE,$AJ$7,IF(($G$10-$F$10=G15-F15),$AJ$4,IF(OR(EXACT($F$10>$G$10,F15>G15)*EXACT($F$10=$G$10,F15=G15)*EXACT($F$10<$G$10,F15<G15)),$AJ$2,0))) -> 0 | I15: 2 | J15: 1 | K15: =IF(OR(EXACT($I$10,I15)*(EXACT($J$10,J15)))=TRUE,$AJ$7,IF(($J$10-$I$10=J15-I15),$AJ$4,IF(OR(EXACT($I$10>$J$10,I15>J15)*EXACT($I$10=$J$10,I15=J15)*EXACT($I$10<$J$10,I15<J15)),$AJ$2,0))) -> 3 | L15: 0 | M15: 2 | N15: =IF(OR(EXACT($L$10,L15)*(EXACT($M$10,M15)))=TRUE,$AJ$7,IF(($M$10-$L$10=M15-L15),$AJ$4,IF(OR(EXACT($L$10>$M$10,L15>M15)*EXACT($L$10=$M$10,L15=M15)*EXACT($L$10<$M$10,L15<M15)),$AJ$2,0)))*2*2 -> 0 | O15: 2 | P15: 1 | Q15: =IF(OR(EXACT($O$10,O15)*(EXACT($P$10,P15)))=TRUE,$AJ$7,IF(($P$10-$O$10=P15-O15),$AJ$4,IF(OR(EXACT($O$10>$P$10,O15>P15)*EXACT($O$10=$P$10,O15=P15)*EXACT($O$10<$P$10,O15<P15)),$AJ$2,0))) -> 0 | R15: 1 | S15: 2 | T15: =IF(OR(EXACT($R$10,R15)*(EXACT($S$10,S15)))=TRUE,$AJ$7,IF(($S$10-$R$10=S15-R15),$AJ$4,IF(OR(EXACT($R$10>$S$10,R15>S15)*EXACT($R$10=$S$10,R15=S15)*EXACT($R$10<$S$10,R15<S15)),$AJ$2,0))) -> 5 | U15: 1 | V15: 2 | W15: =IF(OR(EXACT($U$10,U15)*(EXACT($V$10,V15)))=TRUE,$AJ$7,IF(($V$10-$U$10=V15-U15),$AJ$4,IF(OR(EXACT($U$10>$V$10,U15>V15)*EXACT($U$10=$V$10,U15=V15)*EXACT($U$10<$V$10,U15<V15)),$AJ$2,0))) -> 0 | X15: 2 | Y15: 2 | Z15: =IF(OR(EXACT($X$10,X15)*(EXACT($Y$10,Y15)))=TRUE,$AJ$7,IF(($Y$10-$X$10=Y15-X15),$AJ$4,IF(OR(EXACT($X$10>$Y$10,X15>Y15)*EXACT($X$10=$Y$10,X15=Y15)*EXACT($X$10<$Y$10,X15<Y15)),$AJ$2,0))) -> 0 | AA15: 2 | AB15: 1 | AC15: =IF(OR(EXACT($AA$10,AA15)*(EXACT($AB$10,AB15)))=TRUE,$AJ$7,IF(($AB$10-$AA$10=AB15-AA15),$AJ$4,IF(OR(EXACT($AA$10>$AB$10,AA15>AB15)*EXACT($AA$10=$AB$10,AA15=AB15)*EXACT($AA$10<$AB$10,AA15<AB15)),$AJ$2,0))) -> 2 | AG15: =E15+K15+Q15+T15+N15+H15+W15+Z15+AC15+AF15 -> 13 | AJ15: =AG15+AH15 -> 13 | AK15: =RANK(AJ15,$AJ$11:$AJ$32) -> 5
A16: =AK16 -> 6 | B16: Silfa04 | C16: 1 | D16: 2 | E16: =IF(OR(EXACT($C$10,C16)*(EXACT($D$10,D16)))=TRUE,$AJ$7,IF(($D$10-$C$10=D16-C16),$AJ$4,IF(OR(EXACT($C$10>$D$10,C16>D16)*EXACT($C$10=$D$10,C16=D16)*EXACT($C$10<$D$10,C16<D16)),$AJ$2,0))) -> 0 | F16: 1 | G16: 1 | H16: =IF(OR(EXACT($F$10,F16)*(EXACT($G$10,G16)))=TRUE,$AJ$7,IF(($G$10-$F$10=G16-F16),$AJ$4,IF(OR(EXACT($F$10>$G$10,F16>G16)*EXACT($F$10=$G$10,F16=G16)*EXACT($F$10<$G$10,F16<G16)),$AJ$2,0))) -> 5 | I16: 0 | J16: 3 | K16: =IF(OR(EXACT($I$10,I16)*(EXACT($J$10,J16)))=TRUE,$AJ$7,IF(($J$10-$I$10=J16-I16),$AJ$4,IF(OR(EXACT($I$10>$J$10,I16>J16)*EXACT($I$10=$J$10,I16=J16)*EXACT($I$10<$J$10,I16<J16)),$AJ$2,0))) -> 0 | L16: 0 | M16: 2 | N16: =IF(OR(EXACT($L$10,L16)*(EXACT($M$10,M16)))=TRUE,$AJ$7,IF(($M$10-$L$10=M16-L16),$AJ$4,IF(OR(EXACT($L$10>$M$10,L16>M16)*EXACT($L$10=$M$10,L16=M16)*EXACT($L$10<$M$10,L16<M16)),$AJ$2,0)))*2*2 -> 0 | O16: 0 | P16: 1 | Q16: =IF(OR(EXACT($O$10,O16)*(EXACT($P$10,P16)))=TRUE,$AJ$7,IF(($P$10-$O$10=P16-O16),$AJ$4,IF(OR(EXACT($O$10>$P$10,O16>P16)*EXACT($O$10=$P$10,O16=P16)*EXACT($O$10<$P$10,O16<P16)),$AJ$2,0))) -> 2 | R16: 2 | S16: 2 | T16: =IF(OR(EXACT($R$10,R16)*(EXACT($S$10,S16)))=TRUE,$AJ$7,IF(($S$10-$R$10=S16-R16),$AJ$4,IF(OR(EXACT($R$10>$S$10,R16>S16)*EXACT($R$10=$S$10,R16=S16)*EXACT($R$10<$S$10,R16<S16)),$AJ$2,0))) -> 0 | U16: 2 | V16: 1 | W16: =IF(OR(EXACT($U$10,U16)*(EXACT($V$10,V16)))=TRUE,$AJ$7,IF(($V$10-$U$10=V16-U16),$AJ$4,IF(OR(EXACT($U$10>$V$10,U16>V16)*EXACT($U$10=$V$10,U16=V16)*EXACT($U$10<$V$10,U16<V16)),$AJ$2,0))) -> 2 | X16: 0 | Y16: 1 | Z16: =IF(OR(EXACT($X$10,X16)*(EXACT($Y$10,Y16)))=TRUE,$AJ$7,IF(($Y$10-$X$10=Y16-X16),$AJ$4,IF(OR(EXACT($X$10>$Y$10,X16>Y16)*EXACT($X$10=$Y$10,X16=Y16)*EXACT($X$10<$Y$10,X16<Y16)),$AJ$2,0))) -> 0 | AA16: 2 | AB16: 1 | AC16: =IF(OR(EXACT($AA$10,AA16)*(EXACT($AB$10,AB16)))=TRUE,$AJ$7,IF(($AB$10-$AA$10=AB16-AA16),$AJ$4,IF(OR(EXACT($AA$10>$AB$10,AA16>AB16)*EXACT($AA$10=$AB$10,AA16=AB16)*EXACT($AA$10<$AB$10,AA16<AB16)),$AJ$2,0))) -> 2 | AG16: =E16+K16+Q16+T16+N16+H16+W16+Z16+AC16+AF16 -> 11 | AJ16: =AG16+AH16 -> 11 | AK16: =RANK(AJ16,$AJ$11:$AJ$32) -> 6
A17: =AK17 -> 7 | B17: schalke-willi | C17: 1 | D17: 2 | E17: =IF(OR(EXACT($C$10,C17)*(EXACT($D$10,D17)))=TRUE,$AJ$7,IF(($D$10-$C$10=D17-C17),$AJ$4,IF(OR(EXACT($C$10>$D$10,C17>D17)*EXACT($C$10=$D$10,C17=D17)*EXACT($C$10<$D$10,C17<D17)),$AJ$2,0))) -> 0 | F17: 3 | G17: 1 | H17: =IF(OR(EXACT($F$10,F17)*(EXACT($G$10,G17)))=TRUE,$AJ$7,IF(($G$10-$F$10=G17-F17),$AJ$4,IF(OR(EXACT($F$10>$G$10,F17>G17)*EXACT($F$10=$G$10,F17=G17)*EXACT($F$10<$G$10,F17<G17)),$AJ$2,0))) -> 0 | I17: 2 | J17: 1 | K17: =IF(OR(EXACT($I$10,I17)*(EXACT($J$10,J17)))=TRUE,$AJ$7,IF(($J$10-$I$10=J17-I17),$AJ$4,IF(OR(EXACT($I$10>$J$10,I17>J17)*EXACT($I$10=$J$10,I17=J17)*EXACT($I$10<$J$10,I17<J17)),$AJ$2,0))) -> 3 | L17: 1 | M17: 2 | N17: =IF(OR(EXACT($L$10,L17)*(EXACT($M$10,M17)))=TRUE,$AJ$7,IF(($M$10-$L$10=M17-L17),$AJ$4,IF(OR(EXACT($L$10>$M$10,L17>M17)*EXACT($L$10=$M$10,L17=M17)*EXACT($L$10<$M$10,L17<M17)),$AJ$2,0)))*2*2 -> 0 | O17: 1 | P17: 0 | Q17: =IF(OR(EXACT($O$10,O17)*(EXACT($P$10,P17)))=TRUE,$AJ$7,IF(($P$10-$O$10=P17-O17),$AJ$4,IF(OR(EXACT($O$10>$P$10,O17>P17)*EXACT($O$10=$P$10,O17=P17)*EXACT($O$10<$P$10,O17<P17)),$AJ$2,0))) -> 0 | R17: 1 | S17: 1 | T17: =IF(OR(EXACT($R$10,R17)*(EXACT($S$10,S17)))=TRUE,$AJ$7,IF(($S$10-$R$10=S17-R17),$AJ$4,IF(OR(EXACT($R$10>$S$10,R17>S17)*EXACT($R$10=$S$10,R17=S17)*EXACT($R$10<$S$10,R17<S17)),$AJ$2,0))) -> 0 | U17: 3 | V17: 2 | W17: =IF(OR(EXACT($U$10,U17)*(EXACT($V$10,V17)))=TRUE,$AJ$7,IF(($V$10-$U$10=V17-U17),$AJ$4,IF(OR(EXACT($U$10>$V$10,U17>V17)*EXACT($U$10=$V$10,U17=V17)*EXACT($U$10<$V$10,U17<V17)),$AJ$2,0))) -> 2 | X17: 1 | Y17: 0 | Z17: =IF(OR(EXACT($X$10,X17)*(EXACT($Y$10,Y17)))=TRUE,$AJ$7,IF(($Y$10-$X$10=Y17-X17),$AJ$4,IF(OR(EXACT($X$10>$Y$10,X17>Y17)*EXACT($X$10=$Y$10,X17=Y17)*EXACT($X$10<$Y$10,X17<Y17)),$AJ$2,0))) -> 5 | AA17: 1 | AB17: 2 | AC17: =IF(OR(EXACT($AA$10,AA17)*(EXACT($AB$10,AB17)))=TRUE,$AJ$7,IF(($AB$10-$AA$10=AB17-AA17),$AJ$4,IF(OR(EXACT($AA$10>$AB$10,AA17>AB17)*EXACT($AA$10=$AB$10,AA17=AB17)*EXACT($AA$10<$AB$10,AA17<AB17)),$AJ$2,0))) -> 0 | AG17: =E17+K17+Q17+T17+N17+H17+W17+Z17+AC17+AF17 -> 10 | AJ17: =AG17+AH17 -> 10 | AK17: =RANK(AJ17,$AJ$11:$AJ$32) -> 7
A18: =AK18 -> 8 | B18: Tanja 04 | C18: 3 | D18: 1 | E18: =IF(OR(EXACT($C$10,C18)*(EXACT($D$10,D18)))=TRUE,$AJ$7,IF(($D$10-$C$10=D18-C18),$AJ$4,IF(OR(EXACT($C$10>$D$10,C18>D18)*EXACT($C$10=$D$10,C18=D18)*EXACT($C$10<$D$10,C18<D18)),$AJ$2,0))) -> 5 | F18: 2 | G18: 0 | H18: =IF(OR(EXACT($F$10,F18)*(EXACT($G$10,G18)))=TRUE,$AJ$7,IF(($G$10-$F$10=G18-F18),$AJ$4,IF(OR(EXACT($F$10>$G$10,F18>G18)*EXACT($F$10=$G$10,F18=G18)*EXACT($F$10<$G$10,F18<G18)),$AJ$2,0))) -> 0 | I18: 1 | J18: 2 | K18: =IF(OR(EXACT($I$10,I18)*(EXACT($J$10,J18)))=TRUE,$AJ$7,IF(($J$10-$I$10=J18-I18),$AJ$4,IF(OR(EXACT($I$10>$J$10,I18>J18)*EXACT($I$10=$J$10,I18=J18)*EXACT($I$10<$J$10,I18<J18)),$AJ$2,0))) -> 0 | L18: 1 | M18: 2 | N18: =IF(OR(EXACT($L$10,L18)*(EXACT($M$10,M18)))=TRUE,$AJ$7,IF(($M$10-$L$10=M18-L18),$AJ$4,IF(OR(EXACT($L$10>$M$10,L18>M18)*EXACT($L$10=$M$10,L18=M18)*EXACT($L$10<$M$10,L18<M18)),$AJ$2,0)))*2*2 -> 0 | O18: 2 | P18: 0 | Q18: =IF(OR(EXACT($O$10,O18)*(EXACT($P$10,P18)))=TRUE,$AJ$7,IF(($P$10-$O$10=P18-O18),$AJ$4,IF(OR(EXACT($O$10>$P$10,O18>P18)*EXACT($O$10=$P$10,O18=P18)*EXACT($O$10<$P$10,O18<P18)),$AJ$2,0))) -> 0 | R18: 1 | S18: 1 | T18: =IF(OR(EXACT($R$10,R18)*(EXACT($S$10,S18)))=TRUE,$AJ$7,IF(($S$10-$R$10=S18-R18),$AJ$4,IF(OR(EXACT($R$10>$S$10,R18>S18)*EXACT($R$10=$S$10,R18=S18)*EXACT($R$10<$S$10,R18<S18)),$AJ$2,0))) -> 0 | U18: 2 | V18: 1 | W18: =IF(OR(EXACT($U$10,U18)*(EXACT($V$10,V18)))=TRUE,$AJ$7,IF(($V$10-$U$10=V18-U18),$AJ$4,IF(OR(EXACT($U$10>$V$10,U18>V18)*EXACT($U$10=$V$10,U18=V18)*EXACT($U$10<$V$10,U18<V18)),$AJ$2,0))) -> 2 | X18: 1 | Y18: 1 | Z18: =IF(OR(EXACT($X$10,X18)*(EXACT($Y$10,Y18)))=TRUE,$AJ$7,IF(($Y$10-$X$10=Y18-X18),$AJ$4,IF(OR(EXACT($X$10>$Y$10,X18>Y18)*EXACT($X$10=$Y$10,X18=Y18)*EXACT($X$10<$Y$10,X18<Y18)),$AJ$2,0))) -> 0 | AA18: 3 | AB18: 1 | AC18: =IF(OR(EXACT($AA$10,AA18)*(EXACT($AB$10,AB18)))=TRUE,$AJ$7,IF(($AB$10-$AA$10=AB18-AA18),$AJ$4,IF(OR(EXACT($AA$10>$AB$10,AA18>AB18)*EXACT($AA$10=$AB$10,AA18=AB18)*EXACT($AA$10<$AB$10,AA18<AB18)),$AJ$2,0))) -> 2 | AG18: =E18+K18+Q18+T18+N18+H18+W18+Z18+AC18+AF18 -> 9 | AJ18: =AG18+AH18 -> 9 | AK18: =RANK(AJ18,$AJ$11:$AJ$32) -> 8
A19: =AK19 -> 8 | B19: UltraGE | C19: 3 | D19: 1 | E19: =IF(OR(EXACT($C$10,C19)*(EXACT($D$10,D19)))=TRUE,$AJ$7,IF(($D$10-$C$10=D19-C19),$AJ$4,IF(OR(EXACT($C$10>$D$10,C19>D19)*EXACT($C$10=$D$10,C19=D19)*EXACT($C$10<$D$10,C19<D19)),$AJ$2,0))) -> 5 | F19: 2 | G19: 1 | H19: =IF(OR(EXACT($F$10,F19)*(EXACT($G$10,G19)))=TRUE,$AJ$7,IF(($G$10-$F$10=G19-F19),$AJ$4,IF(OR(EXACT($F$10>$G$10,F19>G19)*EXACT($F$10=$G$10,F19=G19)*EXACT($F$10<$G$10,F19<G19)),$AJ$2,0))) -> 0 | I19: 1 | J19: 2 | K19: =IF(OR(EXACT($I$10,I19)*(EXACT($J$10,J19)))=TRUE,$AJ$7,IF(($J$10-$I$10=J19-I19),$AJ$4,IF(OR(EXACT($I$10>$J$10,I19>J19)*EXACT($I$10=$J$10,I19=J19)*EXACT($I$10<$J$10,I19<J19)),$AJ$2,0))) -> 0 | L19: 0 | M19: 2 | N19: =IF(OR(EXACT($L$10,L19)*(EXACT($M$10,M19)))=TRUE,$AJ$7,IF(($M$10-$L$10=M19-L19),$AJ$4,IF(OR(EXACT($L$10>$M$10,L19>M19)*EXACT($L$10=$M$10,L19=M19)*EXACT($L$10<$M$10,L19<M19)),$AJ$2,0)))*2*2 -> 0 | O19: 1 | P19: 2 | Q19: =IF(OR(EXACT($O$10,O19)*(EXACT($P$10,P19)))=TRUE,$AJ$7,IF(($P$10-$O$10=P19-O19),$AJ$4,IF(OR(EXACT($O$10>$P$10,O19>P19)*EXACT($O$10=$P$10,O19=P19)*EXACT($O$10<$P$10,O19<P19)),$AJ$2,0))) -> 2 | R19: 2 | S19: 1 | T19: =IF(OR(EXACT($R$10,R19)*(EXACT($S$10,S19)))=TRUE,$AJ$7,IF(($S$10-$R$10=S19-R19),$AJ$4,IF(OR(EXACT($R$10>$S$10,R19>S19)*EXACT($R$10=$S$10,R19=S19)*EXACT($R$10<$S$10,R19<S19)),$AJ$2,0))) -> 0 | U19: 1 | V19: 1 | W19: =IF(OR(EXACT($U$10,U19)*(EXACT($V$10,V19)))=TRUE,$AJ$7,IF(($V$10-$U$10=V19-U19),$AJ$4,IF(OR(EXACT($U$10>$V$10,U19>V19)*EXACT($U$10=$V$10,U19=V19)*EXACT($U$10<$V$10,U19<V19)),$AJ$2,0))) -> 0 | X19: 1 | Y19: 2 | Z19: =IF(OR(EXACT($X$10,X19)*(EXACT($Y$10,Y19)))=TRUE,$AJ$7,IF(($Y$10-$X$10=Y19-X19),$AJ$4,IF(OR(EXACT($X$10>$Y$10,X19>Y19)*EXACT($X$10=$Y$10,X19=Y19)*EXACT($X$10<$Y$10,X19<Y19)),$AJ$2,0))) -> 0 | AA19: 3 | AB19: 1 | AC19: =IF(OR(EXACT($AA$10,AA19)*(EXACT($AB$10,AB19)))=TRUE,$AJ$7,IF(($AB$10-$AA$10=AB19-AA19),$AJ$4,IF(OR(EXACT($AA$10>$AB$10,AA19>AB19)*EXACT($AA$10=$AB$10,AA19=AB19)*EXACT($AA$10<$AB$10,AA19<AB19)),$AJ$2,0))) -> 2 | AG19: =E19+K19+Q19+T19+N19+H19+W19+Z19+AC19+AF19 -> 9 | AJ19: =AG19+AH19 -> 9 | AK19: =RANK(AJ19,$AJ$11:$AJ$32) -> 8
A20: =AK20 -> 10 | B20: cilli37 | C20: 2 | D20: 2 | E20: =IF(OR(EXACT($C$10,C20)*(EXACT($D$10,D20)))=TRUE,$AJ$7,IF(($D$10-$C$10=D20-C20),$AJ$4,IF(OR(EXACT($C$10>$D$10,C20>D20)*EXACT($C$10=$D$10,C20=D20)*EXACT($C$10<$D$10,C20<D20)),$AJ$2,0))) -> 0 | F20: 2 | G20: 1 | H20: =IF(OR(EXACT($F$10,F20)*(EXACT($G$10,G20)))=TRUE,$AJ$7,IF(($G$10-$F$10=G20-F20),$AJ$4,IF(OR(EXACT($F$10>$G$10,F20>G20)*EXACT($F$10=$G$10,F20=G20)*EXACT($F$10<$G$10,F20<G20)),$AJ$2,0))) -> 0 | I20: 1 | J20: 1 | K20: =IF(OR(EXACT($I$10,I20)*(EXACT($J$10,J20)))=TRUE,$AJ$7,IF(($J$10-$I$10=J20-I20),$AJ$4,IF(OR(EXACT($I$10>$J$10,I20>J20)*EXACT($I$10=$J$10,I20=J20)*EXACT($I$10<$J$10,I20<J20)),$AJ$2,0))) -> 0 | L20: 1 | M20: 3 | N20: =IF(OR(EXACT($L$10,L20)*(EXACT($M$10,M20)))=TRUE,$AJ$7,IF(($M$10-$L$10=M20-L20),$AJ$4,IF(OR(EXACT($L$10>$M$10,L20>M20)*EXACT($L$10=$M$10,L20=M20)*EXACT($L$10<$M$10,L20<M20)),$AJ$2,0)))*2*2 -> 0 | O20: 1 | P20: 1 | Q20: =IF(OR(EXACT($O$10,O20)*(EXACT($P$10,P20)))=TRUE,$AJ$7,IF(($P$10-$O$10=P20-O20),$AJ$4,IF(OR(EXACT($O$10>$P$10,O20>P20)*EXACT($O$10=$P$10,O20=P20)*EXACT($O$10<$P$10,O20<P20)),$AJ$2,0))) -> 0 | R20: 1 | S20: 2 | T20: =IF(OR(EXACT($R$10,R20)*(EXACT($S$10,S20)))=TRUE,$AJ$7,IF(($S$10-$R$10=S20-R20),$AJ$4,IF(OR(EXACT($R$10>$S$10,R20>S20)*EXACT($R$10=$S$10,R20=S20)*EXACT($R$10<$S$10,R20<S20)),$AJ$2,0))) -> 5 | U20: 2 | V20: 2 | W20: =IF(OR(EXACT($U$10,U20)*(EXACT($V$10,V20)))=TRUE,$AJ$7,IF(($V$10-$U$10=V20-U20),$AJ$4,IF(OR(EXACT($U$10>$V$10,U20>V20)*EXACT($U$10=$V$10,U20=V20)*EXACT($U$10<$V$10,U20<V20)),$AJ$2,0))) -> 0 | X20: 2 | Y20: 1 | Z20: =IF(OR(EXACT($X$10,X20)*(EXACT($Y$10,Y20)))=TRUE,$AJ$7,IF(($Y$10-$X$10=Y20-X20),$AJ$4,IF(OR(EXACT($X$10>$Y$10,X20>Y20)*EXACT($X$10=$Y$10,X20=Y20)*EXACT($X$10<$Y$10,X20<Y20)),$AJ$2,0))) -> 3 | AA20: 1 | AB20: 2 | AC20: =IF(OR(EXACT($AA$10,AA20)*(EXACT($AB$10,AB20)))=TRUE,$AJ$7,IF(($AB$10-$AA$10=AB20-AA20),$AJ$4,IF(OR(EXACT($AA$10>$AB$10,AA20>AB20)*EXACT($AA$10=$AB$10,AA20=AB20)*EXACT($AA$10<$AB$10,AA20<AB20)),$AJ$2,0))) -> 0 | AG20: =E20+K20+Q20+T20+N20+H20+W20+Z20+AC20+AF20 -> 8 | AJ20: =AG20+AH20 -> 8 | AK20: =RANK(AJ20,$AJ$11:$AJ$32) -> 10
A21: =AK21 -> 10 | B21: Jubby | C21: 3 | D21: 1 | E21: =IF(OR(EXACT($C$10,C21)*(EXACT($D$10,D21)))=TRUE,$AJ$7,IF(($D$10-$C$10=D21-C21),$AJ$4,IF(OR(EXACT($C$10>$D$10,C21>D21)*EXACT($C$10=$D$10,C21=D21)*EXACT($C$10<$D$10,C21<D21)),$AJ$2,0))) -> 5 | F21: 2 | G21: 1 | H21: =IF(OR(EXACT($F$10,F21)*(EXACT($G$10,G21)))=TRUE,$AJ$7,IF(($G$10-$F$10=G21-F21),$AJ$4,IF(OR(EXACT($F$10>$G$10,F21>G21)*EXACT($F$10=$G$10,F21=G21)*EXACT($F$10<$G$10,F21<G21)),$AJ$2,0))) -> 0 | I21: 1 | J21: 2 | K21: =IF(OR(EXACT($I$10,I21)*(EXACT($J$10,J21)))=TRUE,$AJ$7,IF(($J$10-$I$10=J21-I21),$AJ$4,IF(OR(EXACT($I$10>$J$10,I21>J21)*EXACT($I$10=$J$10,I21=J21)*EXACT($I$10<$J$10,I21<J21)),$AJ$2,0))) -> 0 | L21: 1 | M21: 3 | N21: =IF(OR(EXACT($L$10,L21)*(EXACT($M$10,M21)))=TRUE,$AJ$7,IF(($M$10-$L$10=M21-L21),$AJ$4,IF(OR(EXACT($L$10>$M$10,L21>M21)*EXACT($L$10=$M$10,L21=M21)*EXACT($L$10<$M$10,L21<M21)),$AJ$2,0)))*2*2 -> 0 | O21: 2 | P21: 1 | Q21: =IF(OR(EXACT($O$10,O21)*(EXACT($P$10,P21)))=TRUE,$AJ$7,IF(($P$10-$O$10=P21-O21),$AJ$4,IF(OR(EXACT($O$10>$P$10,O21>P21)*EXACT($O$10=$P$10,O21=P21)*EXACT($O$10<$P$10,O21<P21)),$AJ$2,0))) -> 0 | R21: 0 | S21: 1 | T21: =IF(OR(EXACT($R$10,R21)*(EXACT($S$10,S21)))=TRUE,$AJ$7,IF(($S$10-$R$10=S21-R21),$AJ$4,IF(OR(EXACT($R$10>$S$10,R21>S21)*EXACT($R$10=$S$10,R21=S21)*EXACT($R$10<$S$10,R21<S21)),$AJ$2,0))) -> 3 | U21: 1 | V21: 1 | W21: =IF(OR(EXACT($U$10,U21)*(EXACT($V$10,V21)))=TRUE,$AJ$7,IF(($V$10-$U$10=V21-U21),$AJ$4,IF(OR(EXACT($U$10>$V$10,U21>V21)*EXACT($U$10=$V$10,U21=V21)*EXACT($U$10<$V$10,U21<V21)),$AJ$2,0))) -> 0 | X21: 1 | Y21: 1 | Z21: =IF(OR(EXACT($X$10,X21)*(EXACT($Y$10,Y21)))=TRUE,$AJ$7,IF(($Y$10-$X$10=Y21-X21),$AJ$4,IF(OR(EXACT($X$10>$Y$10,X21>Y21)*EXACT($X$10=$Y$10,X21=Y21)*EXACT($X$10<$Y$10,X21<Y21)),$AJ$2,0))) -> 0 | AA21: 2 | AB21: 3 | AC21: =IF(OR(EXACT($AA$10,AA21)*(EXACT($AB$10,AB21)))=TRUE,$AJ$7,IF(($AB$10-$AA$10=AB21-AA21),$AJ$4,IF(OR(EXACT($AA$10>$AB$10,AA21>AB21)*EXACT($AA$10=$AB$10,AA21=AB21)*EXACT($AA$10<$AB$10,AA21<AB21)),$AJ$2,0))) -> 0 | AG21: =E21+K21+Q21+T21+N21+H21+W21+Z21+AC21+AF21 -> 8 | AJ21: =AG21+AH21 -> 8 | AK21: =RANK(AJ21,$AJ$11:$AJ$32) -> 10
A22: =AK22 -> 10 | B22: Master1 | C22: 2 | D22: 1 | E22: =IF(OR(EXACT($C$10,C22)*(EXACT($D$10,D22)))=TRUE,$AJ$7,IF(($D$10-$C$10=D22-C22),$AJ$4,IF(OR(EXACT($C$10>$D$10,C22>D22)*EXACT($C$10=$D$10,C22=D22)*EXACT($C$10<$D$10,C22<D22)),$AJ$2,0))) -> 2 | F22: 2 | G22: 2 | H22: =IF(OR(EXACT($F$10,F22)*(EXACT($G$10,G22)))=TRUE,$AJ$7,IF(($G$10-$F$10=G22-F22),$AJ$4,IF(OR(EXACT($F$10>$G$10,F22>G22)*EXACT($F$10=$G$10,F22=G22)*EXACT($F$10<$G$10,F22<G22)),$AJ$2,0))) -> 3 | I22: 1 | J22: 1 | K22: =IF(OR(EXACT($I$10,I22)*(EXACT($J$10,J22)))=TRUE,$AJ$7,IF(($J$10-$I$10=J22-I22),$AJ$4,IF(OR(EXACT($I$10>$J$10,I22>J22)*EXACT($I$10=$J$10,I22=J22)*EXACT($I$10<$J$10,I22<J22)),$AJ$2,0))) -> 0 | L22: 1 | M22: 2 | N22: =IF(OR(EXACT($L$10,L22)*(EXACT($M$10,M22)))=TRUE,$AJ$7,IF(($M$10-$L$10=M22-L22),$AJ$4,IF(OR(EXACT($L$10>$M$10,L22>M22)*EXACT($L$10=$M$10,L22=M22)*EXACT($L$10<$M$10,L22<M22)),$AJ$2,0)))*2*2 -> 0 | O22: 2 | P22: 1 | Q22: =IF(OR(EXACT($O$10,O22)*(EXACT($P$10,P22)))=TRUE,$AJ$7,IF(($P$10-$O$10=P22-O22),$AJ$4,IF(OR(EXACT($O$10>$P$10,O22>P22)*EXACT($O$10=$P$10,O22=P22)*EXACT($O$10<$P$10,O22<P22)),$AJ$2,0))) -> 0 | R22: 1 | S22: 1 | T22: =IF(OR(EXACT($R$10,R22)*(EXACT($S$10,S22)))=TRUE,$AJ$7,IF(($S$10-$R$10=S22-R22),$AJ$4,IF(OR(EXACT($R$10>$S$10,R22>S22)*EXACT($R$10=$S$10,R22=S22)*EXACT($R$10<$S$10,R22<S22)),$AJ$2,0))) -> 0 | U22: 1 | V22: 3 | W22: =IF(OR(EXACT($U$10,U22)*(EXACT($V$10,V22)))=TRUE,$AJ$7,IF(($V$10-$U$10=V22-U22),$AJ$4,IF(OR(EXACT($U$10>$V$10,U22>V22)*EXACT($U$10=$V$10,U22=V22)*EXACT($U$10<$V$10,U22<V22)),$AJ$2,0))) -> 0 | X22: 2 | Y22: 1 | Z22: =IF(OR(EXACT($X$10,X22)*(EXACT($Y$10,Y22)))=TRUE,$AJ$7,IF(($Y$10-$X$10=Y22-X22),$AJ$4,IF(OR(EXACT($X$10>$Y$10,X22>Y22)*EXACT($X$10=$Y$10,X22=Y22)*EXACT($X$10<$Y$10,X22<Y22)),$AJ$2,0))) -> 3 | AA22: 2 | AB22: 2 | AC22: =IF(OR(EXACT($AA$10,AA22)*(EXACT($AB$10,AB22)))=TRUE,$AJ$7,IF(($AB$10-$AA$10=AB22-AA22),$AJ$4,IF(OR(EXACT($AA$10>$AB$10,AA22>AB22)*EXACT($AA$10=$AB$10,AA22=AB22)*EXACT($AA$10<$AB$10,AA22<AB22)),$AJ$2,0))) -> 0 | AG22: =E22+K22+Q22+T22+N22+H22+W22+Z22+AC22+AF22 -> 8 | AJ22: =AG22+AH22 -> 8 | AK22: =RANK(AJ22,$AJ$11:$AJ$32) -> 10
... A25: =AK25 -> 15 | B25: gaby04 | C25: 2 | D25: 2 | E25: =IF(OR(EXACT($C$10,C25)*(EXACT($D$10,D25)))=TRUE,$AJ$7,IF(($D$10-$C$10=D25-C25),$AJ$4,IF(OR(EXACT($C$10>$D$10,C25>D25)*EXACT($C$10=$D$10,C25=D25)*EXACT($C$10<$D$10,C25<D25)),$AJ$2,0))) -> 0 | F25: 2 | G25: 1 | H25: =IF(OR(EXACT($F$10,F25)*(EXACT($G$10,G25)))=TRUE,$AJ$7,IF(($G$10-$F$10=G25-F25),$AJ$4,IF(OR(EXACT($F$10>$G$10,F25>G25)*EXACT($F$10=$G$10,F25=G25)*EXACT($F$10<$G$10,F25<G25)),$AJ$2,0))) -> 0 | I25: 2 | J25: 1 | K25: =IF(OR(EXACT($I$10,I25)*(EXACT($J$10,J25)))=TRUE,$AJ$7,IF(($J$10-$I$10=J25-I25),$AJ$4,IF(OR(EXACT($I$10>$J$10,I25>J25)*EXACT($I$10=$J$10,I25=J25)*EXACT($I$10<$J$10,I25<J25)),$AJ$2,0))) -> 3 | L25: 1 | M25: 2 | N25: =IF(OR(EXACT($L$10,L25)*(EXACT($M$10,M25)))=TRUE,$AJ$7,IF(($M$10-$L$10=M25-L25),$AJ$4,IF(OR(EXACT($L$10>$M$10,L25>M25)*EXACT($L$10=$M$10,L25=M25)*EXACT($L$10<$M$10,L25<M25)),$AJ$2,0)))*2*2 -> 0 | O25: 2 | P25: 1 | Q25: =IF(OR(EXACT($O$10,O25)*(EXACT($P$10,P25)))=TRUE,$AJ$7,IF(($P$10-$O$10=P25-O25),$AJ$4,IF(OR(EXACT($O$10>$P$10,O25>P25)*EXACT($O$10=$P$10,O25=P25)*EXACT($O$10<$P$10,O25<P25)),$AJ$2,0))) -> 0 | R25: 1 | S25: 1 | T25: =IF(OR(EXACT($R$10,R25)*(EXACT($S$10,S25)))=TRUE,$AJ$7,IF(($S$10-$R$10=S25-R25),$AJ$4,IF(OR(EXACT($R$10>$S$10,R25>S25)*EXACT($R$10=$S$10,R25=S25)*EXACT($R$10<$S$10,R25<S25)),$AJ$2,0))) -> 0 | U25: 2 | V25: 2 | W25: =IF(OR(EXACT($U$10,U25)*(EXACT($V$10,V25)))=TRUE,$AJ$7,IF(($V$10-$U$10=V25-U25),$AJ$4,IF(OR(EXACT($U$10>$V$10,U25>V25)*EXACT($U$10=$V$10,U25=V25)*EXACT($U$10<$V$10,U25<V25)),$AJ$2,0))) -> 0 | X25: 2 | Y25: 1 | Z25: =IF(OR(EXACT($X$10,X25)*(EXACT($Y$10,Y25)))=TRUE,$AJ$7,IF(($Y$10-$X$10=Y25-X25),$AJ$4,IF(OR(EXACT($X$10>$Y$10,X25>Y25)*EXACT($X$10=$Y$10,X25=Y25)*EXACT($X$10<$Y$10,X25<Y25)),$AJ$2,0))) -> 3 | AA25: 2 | AB25: 2 | AC25: =IF(OR(EXACT($AA$10,AA25)*(EXACT($AB$10,AB25)))=TRUE,$AJ$7,IF(($AB$10-$AA$10=AB25-AA25),$AJ$4,IF(OR(EXACT($AA$10>$AB$10,AA25>AB25)*EXACT($AA$10=$AB$10,AA25=AB25)*EXACT($AA$10<$AB$10,AA25<AB25)),$AJ$2,0))) -> 0 | AG25: =E25+K25+Q25+T25+N25+H25+W25+Z25+AC25+AF25 -> 6 | AJ25: =AG25+AH25 -> 6 | AK25: =RANK(AJ25,$AJ$11:$AJ$32) -> 15
A26: =AK26 -> 15 | B26: Gudrun | F26: 2 | G26: 1 | H26: =IF(OR(EXACT($F$10,F26)*(EXACT($G$10,G26)))=TRUE,$AJ$7,IF(($G$10-$F$10=G26-F26),$AJ$4,IF(OR(EXACT($F$10>$G$10,F26>G26)*EXACT($F$10=$G$10,F26=G26)*EXACT($F$10<$G$10,F26<G26)),$AJ$2,0))) -> 0 | I26: 2 | J26: 1 | K26: =IF(OR(EXACT($I$10,I26)*(EXACT($J$10,J26)))=TRUE,$AJ$7,IF(($J$10-$I$10=J26-I26),$AJ$4,IF(OR(EXACT($I$10>$J$10,I26>J26)*EXACT($I$10=$J$10,I26=J26)*EXACT($I$10<$J$10,I26<J26)),$AJ$2,0))) -> 3 | L26: 0 | M26: 1 | N26: =IF(OR(EXACT($L$10,L26)*(EXACT($M$10,M26)))=TRUE,$AJ$7,IF(($M$10-$L$10=M26-L26),$AJ$4,IF(OR(EXACT($L$10>$M$10,L26>M26)*EXACT($L$10=$M$10,L26=M26)*EXACT($L$10<$M$10,L26<M26)),$AJ$2,0)))*2*2 -> 0 | O26: 2 | P26: 1 | Q26: =IF(OR(EXACT($O$10,O26)*(EXACT($P$10,P26)))=TRUE,$AJ$7,IF(($P$10-$O$10=P26-O26),$AJ$4,IF(OR(EXACT($O$10>$P$10,O26>P26)*EXACT($O$10=$P$10,O26=P26)*EXACT($O$10<$P$10,O26<P26)),$AJ$2,0))) -> 0 | R26: 1 | S26: 1 | T26: =IF(OR(EXACT($R$10,R26)*(EXACT($S$10,S26)))=TRUE,$AJ$7,IF(($S$10-$R$10=S26-R26),$AJ$4,IF(OR(EXACT($R$10>$S$10,R26>S26)*EXACT($R$10=$S$10,R26=S26)*EXACT($R$10<$S$10,R26<S26)),$AJ$2,0))) -> 0 | U26: 1 | V26: 1 | W26: =IF(OR(EXACT($U$10,U26)*(EXACT($V$10,V26)))=TRUE,$AJ$7,IF(($V$10-$U$10=V26-U26),$AJ$4,IF(OR(EXACT($U$10>$V$10,U26>V26)*EXACT($U$10=$V$10,U26=V26)*EXACT($U$10<$V$10,U26<V26)),$AJ$2,0))) -> 0 | X26: 2 | Y26: 1 | Z26: =IF(OR(EXACT($X$10,X26)*(EXACT($Y$10,Y26)))=TRUE,$AJ$7,IF(($Y$10-$X$10=Y26-X26),$AJ$4,IF(OR(EXACT($X$10>$Y$10,X26>Y26)*EXACT($X$10=$Y$10,X26=Y26)*EXACT($X$10<$Y$10,X26<Y26)),$AJ$2,0))) -> 3 | AA26: 0 | AB26: 1 | AC26: =IF(OR(EXACT($AA$10,AA26)*(EXACT($AB$10,AB26)))=TRUE,$AJ$7,IF(($AB$10-$AA$10=AB26-AA26),$AJ$4,IF(OR(EXACT($AA$10>$AB$10,AA26>AB26)*EXACT($AA$10=$AB$10,AA26=AB26)*EXACT($AA$10<$AB$10,AA26<AB26)),$AJ$2,0))) -> 0 | AG26: =E26+K26+Q26+T26+N26+H26+W26+Z26+AC26+AF26 -> 6 | AJ26: =AG26+AH26 -> 6 | AK26: =RANK(AJ26,$AJ$11:$AJ$32) -> 15
A27: =AK27 -> 15 | B27: Mike04 | C27: 2 | D27: 0 | E27: =IF(OR(EXACT($C$10,C27)*(EXACT($D$10,D27)))=TRUE,$AJ$7,IF(($D$10-$C$10=D27-C27),$AJ$4,IF(OR(EXACT($C$10>$D$10,C27>D27)*EXACT($C$10=$D$10,C27=D27)*EXACT($C$10<$D$10,C27<D27)),$AJ$2,0))) -> 3 | F27: 2 | G27: 0 | H27: =IF(OR(EXACT($F$10,F27)*(EXACT($G$10,G27)))=TRUE,$AJ$7,IF(($G$10-$F$10=G27-F27),$AJ$4,IF(OR(EXACT($F$10>$G$10,F27>G27)*EXACT($F$10=$G$10,F27=G27)*EXACT($F$10<$G$10,F27<G27)),$AJ$2,0))) -> 0 | I27: 2 | J27: 1 | K27: =IF(OR(EXACT($I$10,I27)*(EXACT($J$10,J27)))=TRUE,$AJ$7,IF(($J$10-$I$10=J27-I27),$AJ$4,IF(OR(EXACT($I$10>$J$10,I27>J27)*EXACT($I$10=$J$10,I27=J27)*EXACT($I$10<$J$10,I27<J27)),$AJ$2,0))) -> 3 | L27: 0 | M27: 2 | N27: =IF(OR(EXACT($L$10,L27)*(EXACT($M$10,M27)))=TRUE,$AJ$7,IF(($M$10-$L$10=M27-L27),$AJ$4,IF(OR(EXACT($L$10>$M$10,L27>M27)*EXACT($L$10=$M$10,L27=M27)*EXACT($L$10<$M$10,L27<M27)),$AJ$2,0)))*2*2 -> 0 | O27: 1 | P27: 0 | Q27: =IF(OR(EXACT($O$10,O27)*(EXACT($P$10,P27)))=TRUE,$AJ$7,IF(($P$10-$O$10=P27-O27),$AJ$4,IF(OR(EXACT($O$10>$P$10,O27>P27)*EXACT($O$10=$P$10,O27=P27)*EXACT($O$10<$P$10,O27<P27)),$AJ$2,0))) -> 0 | R27: 2 | S27: 1 | T27: =IF(OR(EXACT($R$10,R27)*(EXACT($S$10,S27)))=TRUE,$AJ$7,IF(($S$10-$R$10=S27-R27),$AJ$4,IF(OR(EXACT($R$10>$S$10,R27>S27)*EXACT($R$10=$S$10,R27=S27)*EXACT($R$10<$S$10,R27<S27)),$AJ$2,0))) -> 0 | U27: 1 | V27: 1 | W27: =IF(OR(EXACT($U$10,U27)*(EXACT($V$10,V27)))=TRUE,$AJ$7,IF(($V$10-$U$10=V27-U27),$AJ$4,IF(OR(EXACT($U$10>$V$10,U27>V27)*EXACT($U$10=$V$10,U27=V27)*EXACT($U$10<$V$10,U27<V27)),$AJ$2,0))) -> 0 | X27: 0 | Y27: 2 | Z27: =IF(OR(EXACT($X$10,X27)*(EXACT($Y$10,Y27)))=TRUE,$AJ$7,IF(($Y$10-$X$10=Y27-X27),$AJ$4,IF(OR(EXACT($X$10>$Y$10,X27>Y27)*EXACT($X$10=$Y$10,X27=Y27)*EXACT($X$10<$Y$10,X27<Y27)),$AJ$2,0))) -> 0 | AA27: 1 | AB27: 2 | AC27: =IF(OR(EXACT($AA$10,AA27)*(EXACT($AB$10,AB27)))=TRUE,$AJ$7,IF(($AB$10-$AA$10=AB27-AA27),$AJ$4,IF(OR(EXACT($AA$10>$AB$10,AA27>AB27)*EXACT($AA$10=$AB$10,AA27=AB27)*EXACT($AA$10<$AB$10,AA27<AB27)),$AJ$2,0))) -> 0 | AG27: =E27+K27+Q27+T27+N27+H27+W27+Z27+AC27+AF27 -> 6 | AJ27: =AG27+AH27 -> 6 | AK27: =RANK(AJ27,$AJ$11:$AJ$32) -> 15
A28: =AK28 -> 15 | B28: ralle04 | C28: 1 | D28: 2 | E28: =IF(OR(EXACT($C$10,C28)*(EXACT($D$10,D28)))=TRUE,$AJ$7,IF(($D$10-$C$10=D28-C28),$AJ$4,IF(OR(EXACT($C$10>$D$10,C28>D28)*EXACT($C$10=$D$10,C28=D28)*EXACT($C$10<$D$10,C28<D28)),$AJ$2,0))) -> 0 | F28: 2 | G28: 1 | H28: =IF(OR(EXACT($F$10,F28)*(EXACT($G$10,G28)))=TRUE,$AJ$7,IF(($G$10-$F$10=G28-F28),$AJ$4,IF(OR(EXACT($F$10>$G$10,F28>G28)*EXACT($F$10=$G$10,F28=G28)*EXACT($F$10<$G$10,F28<G28)),$AJ$2,0))) -> 0 | I28: 2 | J28: 1 | K28: =IF(OR(EXACT($I$10,I28)*(EXACT($J$10,J28)))=TRUE,$AJ$7,IF(($J$10-$I$10=J28-I28),$AJ$4,IF(OR(EXACT($I$10>$J$10,I28>J28)*EXACT($I$10=$J$10,I28=J28)*EXACT($I$10<$J$10,I28<J28)),$AJ$2,0))) -> 3 | L28: 0 | M28: 1 | N28: =IF(OR(EXACT($L$10,L28)*(EXACT($M$10,M28)))=TRUE,$AJ$7,IF(($M$10-$L$10=M28-L28),$AJ$4,IF(OR(EXACT($L$10>$M$10,L28>M28)*EXACT($L$10=$M$10,L28=M28)*EXACT($L$10<$M$10,L28<M28)),$AJ$2,0)))*2*2 -> 0 | O28: 2 | P28: 1 | Q28: =IF(OR(EXACT($O$10,O28)*(EXACT($P$10,P28)))=TRUE,$AJ$7,IF(($P$10-$O$10=P28-O28),$AJ$4,IF(OR(EXACT($O$10>$P$10,O28>P28)*EXACT($O$10=$P$10,O28=P28)*EXACT($O$10<$P$10,O28<P28)),$AJ$2,0))) -> 0 | R28: 1 | S28: 1 | T28: =IF(OR(EXACT($R$10,R28)*(EXACT($S$10,S28)))=TRUE,$AJ$7,IF(($S$10-$R$10=S28-R28),$AJ$4,IF(OR(EXACT($R$10>$S$10,R28>S28)*EXACT($R$10=$S$10,R28=S28)*EXACT($R$10<$S$10,R28<S28)),$AJ$2,0))) -> 0 | U28: 2 | V28: 2 | W28: =IF(OR(EXACT($U$10,U28)*(EXACT($V$10,V28)))=TRUE,$AJ$7,IF(($V$10-$U$10=V28-U28),$AJ$4,IF(OR(EXACT($U$10>$V$10,U28>V28)*EXACT($U$10=$V$10,U28=V28)*EXACT($U$10<$V$10,U28<V28)),$AJ$2,0))) -> 0 | X28: 2 | Y28: 1 | Z28: =IF(OR(EXACT($X$10,X28)*(EXACT($Y$10,Y28)))=TRUE,$AJ$7,IF(($Y$10-$X$10=Y28-X28),$AJ$4,IF(OR(EXACT($X$10>$Y$10,X28>Y28)*EXACT($X$10=$Y$10,X28=Y28)*EXACT($X$10<$Y$10,X28<Y28)),$AJ$2,0))) -> 3 | AA28: 2 | AB28: 2 | AC28: =IF(OR(EXACT($AA$10,AA28)*(EXACT($AB$10,AB28)))=TRUE,$AJ$7,IF(($AB$10-$AA$10=AB28-AA28),$AJ$4,IF(OR(EXACT($AA$10>$AB$10,AA28>AB28)*EXACT($AA$10=$AB$10,AA28=AB28)*EXACT($AA$10<$AB$10,AA28<AB28)),$AJ$2,0))) -> 0 | AG28: =E28+K28+Q28+T28+N28+H28+W28+Z28+AC28+AF28 -> 6 | AJ28: =AG28+AH28 -> 6 | AK28: =RANK(AJ28,$AJ$11:$AJ$32) -> 15
A29: =AK29 -> 19 | B29: Fabian1904 | C29: 2 | D29: 0 | E29: =IF(OR(EXACT($C$10,C29)*(EXACT($D$10,D29)))=TRUE,$AJ$7,IF(($D$10-$C$10=D29-C29),$AJ$4,IF(OR(EXACT($C$10>$D$10,C29>D29)*EXACT($C$10=$D$10,C29=D29)*EXACT($C$10<$D$10,C29<D29)),$AJ$2,0))) -> 3 | F29: 2 | G29: 0 | H29: =IF(OR(EXACT($F$10,F29)*(EXACT($G$10,G29)))=TRUE,$AJ$7,IF(($G$10-$F$10=G29-F29),$AJ$4,IF(OR(EXACT($F$10>$G$10,F29>G29)*EXACT($F$10=$G$10,F29=G29)*EXACT($F$10<$G$10,F29<G29)),$AJ$2,0))) -> 0 | I29: 1 | J29: 2 | K29: =IF(OR(EXACT($I$10,I29)*(EXACT($J$10,J29)))=TRUE,$AJ$7,IF(($J$10-$I$10=J29-I29),$AJ$4,IF(OR(EXACT($I$10>$J$10,I29>J29)*EXACT($I$10=$J$10,I29=J29)*EXACT($I$10<$J$10,I29<J29)),$AJ$2,0))) -> 0 | L29: 0 | M29: 2 | N29: =IF(OR(EXACT($L$10,L29)*(EXACT($M$10,M29)))=TRUE,$AJ$7,IF(($M$10-$L$10=M29-L29),$AJ$4,IF(OR(EXACT($L$10>$M$10,L29>M29)*EXACT($L$10=$M$10,L29=M29)*EXACT($L$10<$M$10,L29<M29)),$AJ$2,0)))*2*2 -> 0 | O29: 3 | P29: 0 | Q29: =IF(OR(EXACT($O$10,O29)*(EXACT($P$10,P29)))=TRUE,$AJ$7,IF(($P$10-$O$10=P29-O29),$AJ$4,IF(OR(EXACT($O$10>$P$10,O29>P29)*EXACT($O$10=$P$10,O29=P29)*EXACT($O$10<$P$10,O29<P29)),$AJ$2,0))) -> 0 | R29: 0 | S29: 0 | T29: =IF(OR(EXACT($R$10,R29)*(EXACT($S$10,S29)))=TRUE,$AJ$7,IF(($S$10-$R$10=S29-R29),$AJ$4,IF(OR(EXACT($R$10>$S$10,R29>S29)*EXACT($R$10=$S$10,R29=S29)*EXACT($R$10<$S$10,R29<S29)),$AJ$2,0))) -> 0 | U29: 2 | V29: 2 | W29: =IF(OR(EXACT($U$10,U29)*(EXACT($V$10,V29)))=TRUE,$AJ$7,IF(($V$10-$U$10=V29-U29),$AJ$4,IF(OR(EXACT($U$10>$V$10,U29>V29)*EXACT($U$10=$V$10,U29=V29)*EXACT($U$10<$V$10,U29<V29)),$AJ$2,0))) -> 0 | X29: 1 | Y29: 1 | Z29: =IF(OR(EXACT($X$10,X29)*(EXACT($Y$10,Y29)))=TRUE,$AJ$7,IF(($Y$10-$X$10=Y29-X29),$AJ$4,IF(OR(EXACT($X$10>$Y$10,X29>Y29)*EXACT($X$10=$Y$10,X29=Y29)*EXACT($X$10<$Y$10,X29<Y29)),$AJ$2,0))) -> 0 | AA29: 2 | AB29: 0 | AC29: =IF(OR(EXACT($AA$10,AA29)*(EXACT($AB$10,AB29)))=TRUE,$AJ$7,IF(($AB$10-$AA$10=AB29-AA29),$AJ$4,IF(OR(EXACT($AA$10>$AB$10,AA29>AB29)*EXACT($AA$10=$AB$10,AA29=AB29)*EXACT($AA$10<$AB$10,AA29<AB29)),$AJ$2,0))) -> 2 | AG29: =E29+K29+Q29+T29+N29+H29+W29+Z29+AC29+AF29 -> 5 | AJ29: =AG29+AH29 -> 5 | AK29: =RANK(AJ29,$AJ$11:$AJ$32) -> 19
A30: =AK30 -> 19 | B30: Schalkekalle | F30: 2 | G30: 2 | H30: =IF(OR(EXACT($F$10,F30)*(EXACT($G$10,G30)))=TRUE,$AJ$7,IF(($G$10-$F$10=G30-F30),$AJ$4,IF(OR(EXACT($F$10>$G$10,F30>G30)*EXACT($F$10=$G$10,F30=G30)*EXACT($F$10<$G$10,F30<G30)),$AJ$2,0))) -> 3 | I30: 0 | J30: 1 | K30: =IF(OR(EXACT($I$10,I30)*(EXACT($J$10,J30)))=TRUE,$AJ$7,IF(($J$10-$I$10=J30-I30),$AJ$4,IF(OR(EXACT($I$10>$J$10,I30>J30)*EXACT($I$10=$J$10,I30=J30)*EXACT($I$10<$J$10,I30<J30)),$AJ$2,0))) -> 0 | L30: 0 | M30: 1 | N30: =IF(OR(EXACT($L$10,L30)*(EXACT($M$10,M30)))=TRUE,$AJ$7,IF(($M$10-$L$10=M30-L30),$AJ$4,IF(OR(EXACT($L$10>$M$10,L30>M30)*EXACT($L$10=$M$10,L30=M30)*EXACT($L$10<$M$10,L30<M30)),$AJ$2,0)))*2*2 -> 0 | O30: 1 | P30: 1 | Q30: =IF(OR(EXACT($O$10,O30)*(EXACT($P$10,P30)))=TRUE,$AJ$7,IF(($P$10-$O$10=P30-O30),$AJ$4,IF(OR(EXACT($O$10>$P$10,O30>P30)*EXACT($O$10=$P$10,O30=P30)*EXACT($O$10<$P$10,O30<P30)),$AJ$2,0))) -> 0 | R30: 1 | S30: 1 | T30: =IF(OR(EXACT($R$10,R30)*(EXACT($S$10,S30)))=TRUE,$AJ$7,IF(($S$10-$R$10=S30-R30),$AJ$4,IF(OR(EXACT($R$10>$S$10,R30>S30)*EXACT($R$10=$S$10,R30=S30)*EXACT($R$10<$S$10,R30<S30)),$AJ$2,0))) -> 0 | U30: 1 | V30: 1 | W30: =IF(OR(EXACT($U$10,U30)*(EXACT($V$10,V30)))=TRUE,$AJ$7,IF(($V$10-$U$10=V30-U30),$AJ$4,IF(OR(EXACT($U$10>$V$10,U30>V30)*EXACT($U$10=$V$10,U30=V30)*EXACT($U$10<$V$10,U30<V30)),$AJ$2,0))) -> 0 | X30: 1 | Y30: 2 | Z30: =IF(OR(EXACT($X$10,X30)*(EXACT($Y$10,Y30)))=TRUE,$AJ$7,IF(($Y$10-$X$10=Y30-X30),$AJ$4,IF(OR(EXACT($X$10>$Y$10,X30>Y30)*EXACT($X$10=$Y$10,X30=Y30)*EXACT($X$10<$Y$10,X30<Y30)),$AJ$2,0))) -> 0 | AA30: 2 | AB30: 1 | AC30: =IF(OR(EXACT($AA$10,AA30)*(EXACT($AB$10,AB30)))=TRUE,$AJ$7,IF(($AB$10-$AA$10=AB30-AA30),$AJ$4,IF(OR(EXACT($AA$10>$AB$10,AA30>AB30)*EXACT($AA$10=$AB$10,AA30=AB30)*EXACT($AA$10<$AB$10,AA30<AB30)),$AJ$2,0))) -> 2 | AG30: =E30+K30+Q30+T30+N30+H30+W30+Z30+AC30+AF30 -> 5 | AJ30: =AG30+AH30 -> 5 | AK30: =RANK(AJ30,$AJ$11:$AJ$32) -> 19
A31: =AK31 -> 21 | B31: Hans 04 | C31: 2 | D31: 2 | E31: =IF(OR(EXACT($C$10,C31)*(EXACT($D$10,D31)))=TRUE,$AJ$7,IF(($D$10-$C$10=D31-C31),$AJ$4,IF(OR(EXACT($C$10>$D$10,C31>D31)*EXACT($C$10=$D$10,C31=D31)*EXACT($C$10<$D$10,C31<D31)),$AJ$2,0))) -> 0 | F31: 3 | G31: 1 | H31: =IF(OR(EXACT($F$10,F31)*(EXACT($G$10,G31)))=TRUE,$AJ$7,IF(($G$10-$F$10=G31-F31),$AJ$4,IF(OR(EXACT($F$10>$G$10,F31>G31)*EXACT($F$10=$G$10,F31=G31)*EXACT($F$10<$G$10,F31<G31)),$AJ$2,0))) -> 0 | I31: 2 | J31: 0 | K31: =IF(OR(EXACT($I$10,I31)*(EXACT($J$10,J31)))=TRUE,$AJ$7,IF(($J$10-$I$10=J31-I31),$AJ$4,IF(OR(EXACT($I$10>$J$10,I31>J31)*EXACT($I$10=$J$10,I31=J31)*EXACT($I$10<$J$10,I31<J31)),$AJ$2,0))) -> 2 | L31: 1 | M31: 2 | N31: =IF(OR(EXACT($L$10,L31)*(EXACT($M$10,M31)))=TRUE,$AJ$7,IF(($M$10-$L$10=M31-L31),$AJ$4,IF(OR(EXACT($L$10>$M$10,L31>M31)*EXACT($L$10=$M$10,L31=M31)*EXACT($L$10<$M$10,L31<M31)),$AJ$2,0)))*2*2 -> 0 | O31: 2 | P31: 1 | Q31: =IF(OR(EXACT($O$10,O31)*(EXACT($P$10,P31)))=TRUE,$AJ$7,IF(($P$10-$O$10=P31-O31),$AJ$4,IF(OR(EXACT($O$10>$P$10,O31>P31)*EXACT($O$10=$P$10,O31=P31)*EXACT($O$10<$P$10,O31<P31)),$AJ$2,0))) -> 0 | R31: 1 | S31: 1 | T31: =IF(OR(EXACT($R$10,R31)*(EXACT($S$10,S31)))=TRUE,$AJ$7,IF(($S$10-$R$10=S31-R31),$AJ$4,IF(OR(EXACT($R$10>$S$10,R31>S31)*EXACT($R$10=$S$10,R31=S31)*EXACT($R$10<$S$10,R31<S31)),$AJ$2,0))) -> 0 | U31: 1 | V31: 2 | W31: =IF(OR(EXACT($U$10,U31)*(EXACT($V$10,V31)))=TRUE,$AJ$7,IF(($V$10-$U$10=V31-U31),$AJ$4,IF(OR(EXACT($U$10>$V$10,U31>V31)*EXACT($U$10=$V$10,U31=V31)*EXACT($U$10<$V$10,U31<V31)),$AJ$2,0))) -> 0 | X31: 3 | Y31: 1 | Z31: =IF(OR(EXACT($X$10,X31)*(EXACT($Y$10,Y31)))=TRUE,$AJ$7,IF(($Y$10-$X$10=Y31-X31),$AJ$4,IF(OR(EXACT($X$10>$Y$10,X31>Y31)*EXACT($X$10=$Y$10,X31=Y31)*EXACT($X$10<$Y$10,X31<Y31)),$AJ$2,0))) -> 2 | AA31: 2 | AB31: 2 | AC31: =IF(OR(EXACT($AA$10,AA31)*(EXACT($AB$10,AB31)))=TRUE,$AJ$7,IF(($AB$10-$AA$10=AB31-AA31),$AJ$4,IF(OR(EXACT($AA$10>$AB$10,AA31>AB31)*EXACT($AA$10=$AB$10,AA31=AB31)*EXACT($AA$10<$AB$10,AA31<AB31)),$AJ$2,0))) -> 0 | AG31: =E31+K31+Q31+T31+N31+H31+W31+Z31+AC31+AF31 -> 4 | AJ31: =AG31+AH31 -> 4 | AK31: =RANK(AJ31,$AJ$11:$AJ$32) -> 21
A32: =AK32 -> 22 | B32: archie04 | C32: 2 | D32: 2 | E32: =IF(OR(EXACT($C$10,C32)*(EXACT($D$10,D32)))=TRUE,$AJ$7,IF(($D$10-$C$10=D32-C32),$AJ$4,IF(OR(EXACT($C$10>$D$10,C32>D32)*EXACT($C$10=$D$10,C32=D32)*EXACT($C$10<$D$10,C32<D32)),$AJ$2,0))) -> 0 | F32: 3 | G32: 1 | H32: =IF(OR(EXACT($F$10,F32)*(EXACT($G$10,G32)))=TRUE,$AJ$7,IF(($G$10-$F$10=G32-F32),$AJ$4,IF(OR(EXACT($F$10>$G$10,F32>G32)*EXACT($F$10=$G$10,F32=G32)*EXACT($F$10<$G$10,F32<G32)),$AJ$2,0))) -> 0 | I32: 1 | J32: 2 | K32: =IF(OR(EXACT($I$10,I32)*(EXACT($J$10,J32)))=TRUE,$AJ$7,IF(($J$10-$I$10=J32-I32),$AJ$4,IF(OR(EXACT($I$10>$J$10,I32>J32)*EXACT($I$10=$J$10,I32=J32)*EXACT($I$10<$J$10,I32<J32)),$AJ$2,0))) -> 0 | L32: 0 | M32: 3 | N32: =IF(OR(EXACT($L$10,L32)*(EXACT($M$10,M32)))=TRUE,$AJ$7,IF(($M$10-$L$10=M32-L32),$AJ$4,IF(OR(EXACT($L$10>$M$10,L32>M32)*EXACT($L$10=$M$10,L32=M32)*EXACT($L$10<$M$10,L32<M32)),$AJ$2,0)))*2*2 -> 0 | O32: 2 | P32: 1 | Q32: =IF(OR(EXACT($O$10,O32)*(EXACT($P$10,P32)))=TRUE,$AJ$7,IF(($P$10-$O$10=P32-O32),$AJ$4,IF(OR(EXACT($O$10>$P$10,O32>P32)*EXACT($O$10=$P$10,O32=P32)*EXACT($O$10<$P$10,O32<P32)),$AJ$2,0))) -> 0 | R32: 2 | S32: 0 | T32: =IF(OR(EXACT($R$10,R32)*(EXACT($S$10,S32)))=TRUE,$AJ$7,IF(($S$10-$R$10=S32-R32),$AJ$4,IF(OR(EXACT($R$10>$S$10,R32>S32)*EXACT($R$10=$S$10,R32=S32)*EXACT($R$10<$S$10,R32<S32)),$AJ$2,0))) -> 0 | U32: 1 | V32: 2 | W32: =IF(OR(EXACT($U$10,U32)*(EXACT($V$10,V32)))=TRUE,$AJ$7,IF(($V$10-$U$10=V32-U32),$AJ$4,IF(OR(EXACT($U$10>$V$10,U32>V32)*EXACT($U$10=$V$10,U32=V32)*EXACT($U$10<$V$10,U32<V32)),$AJ$2,0))) -> 0 | X32: 1 | Y32: 3 | Z32: =IF(OR(EXACT($X$10,X32)*(EXACT($Y$10,Y32)))=TRUE,$AJ$7,IF(($Y$10-$X$10=Y32-X32),$AJ$4,IF(OR(EXACT($X$10>$Y$10,X32>Y32)*EXACT($X$10=$Y$10,X32=Y32)*EXACT($X$10<$Y$10,X32<Y32)),$AJ$2,0))) -> 0 | AA32: 3 | AB32: 1 | AC32: =IF(OR(EXACT($AA$10,AA32)*(EXACT($AB$10,AB32)))=TRUE,$AJ$7,IF(($AB$10-$AA$10=AB32-AA32),$AJ$4,IF(OR(EXACT($AA$10>$AB$10,AA32>AB32)*EXACT($AA$10=$AB$10,AA32=AB32)*EXACT($AA$10<$AB$10,AA32<AB32)),$AJ$2,0))) -> 2 | AG32: =E32+K32+Q32+T32+N32+H32+W32+Z32+AC32+AF32 -> 2 | AJ32: =AG32+AH32 -> 2 | AK32: =RANK(AJ32,$AJ$11:$AJ$32) -> 22
A33: =AK33 -> 0 | B33: schalt04
A34: =AK34 -> 0 | B34: Ricardo04

Sheet 2.Spieltag
C1: 2. Spieltag | AH1: PUNKTEVERTEILUNG
AH2: richtige Tendenz | AK2: 2
D4: Hannover | G4: Leverkusen | J4: Hoffenheim | M4: Augsburg | P4: Frankfurt | S4: Nürnberg | V4: Stuttgart | Y4: Leipzig | AB4: Schalke 04 | AH4: richtige Tendenz + | AK4: 3
AH5: korrekter Torab
D6: Dortmund | G6: Wolfsburg | J6: Freiburg | M6: Gladbach | P6: Bremen | S6: Mainz | V6: München | Y6: Düsseldorf | AB6: Berlin
AH7: richtiges Ergebnis | AK7: 5
AH8: G E S A M T W E R T U N G
AH9: Punkte | AI9: Punkte | AJ9: Platz | AK9: Gesamt | AL9: Platz
A10: PLATZ | B10: PLATZ | C10: ERGEBNISSE=> | D10: 0 | E10: 0 | F10: Pkt. | G10: 1 | H10: 3 | I10: Pkt. | J10: 3 | K10: 1 | L10: Pkt. | M10: 1 | N10: 1 | O10: Pkt. | P10: 1 | Q10: 2 | R10: Pkt. | S10: 1 | T10: 1 | U10: Pkt. | V10: 0 | W10: 3 | X10: Pkt. | Y10: 1 | Z10: 1 | AA10: Pkt. | AB10: 0 | AC10: 2 | AD10: Pkt. | AH10: Spieltag | AI10: bisher | AJ10: bisher | AK10: Punkte
A11: =AL11 -> 1 | B11: =AL11 -> 1 | C11: ='1.Spieltag'!B14 -> shiny | D11: 1 | E11: 3 | F11: =IF(OR(EXACT($D$10,D11)*(EXACT($E$10,E11)))=TRUE,$AK$7,IF(($E$10-$D$10=E11-D11),$AK$4,IF(OR(EXACT($D$10>$E$10,D11>E11)*EXACT($D$10=$E$10,D11=E11)*EXACT($D$10<$E$10,D11<E11)),$AK$2,0))) -> 0 | G11: 2 | H11: 0 | I11: =IF(OR(EXACT($G$10,G11)*(EXACT($H$10,H11)))=TRUE,$AK$7,IF(($H$10-$G$10=H11-G11),$AK$4,IF(OR(EXACT($G$10>$H$10,G11>H11)*EXACT($G$10=$H$10,G11=H11)*EXACT($G$10<$H$10,G11<H11)),$AK$2,0))) -> 0 | J11: 2 | K11: 0 | L11: =IF(OR(EXACT($J$10,J11)*(EXACT($K$10,K11)))=TRUE,$AK$7,IF(($K$10-$J$10=K11-J11),$AK$4,IF(OR(EXACT($J$10>$K$10,J11>K11)*EXACT($J$10=$K$10,J11=K11)*EXACT($J$10<$K$10,J11<K11)),$AK$2,0))) -> 3 | M11: 1 | N11: 1 | O11: =IF(OR(EXACT($M$10,M11)*(EXACT($N$10,N11)))=TRUE,$AK$7,IF(($N$10-$M$10=N11-M11),$AK$4,IF(OR(EXACT($M$10>$N$10,M11>N11)*EXACT($M$10=$N$10,M11=N11)*EXACT($M$10<$N$10,M11<N11)),$AK$2,0))) -> 5 | P11: 2 | Q11: 1 | R11: =IF(OR(EXACT($P$10,P11)*(EXACT($Q$10,Q11)))=TRUE,$AK$7,IF(($Q$10-$P$10=Q11-P11),$AK$4,IF(OR(EXACT($P$10>$Q$10,P11>Q11)*EXACT($P$10=$Q$10,P11=Q11)*EXACT($P$10<$Q$10,P11<Q11)),$AK$2,0))) -> 0 | S11: 1 | T11: 1 | U11: =IF(OR(EXACT($S$10,S11)*(EXACT($T$10,T11)))=TRUE,$AK$7,IF(($T$10-$S$10=T11-S11),$AK$4,IF(OR(EXACT($S$10>$T$10,S11>T11)*EXACT($S$10=$T$10,S11=T11)*EXACT($S$10<$T$10,S11<T11)),$AK$2,0))) -> 5 | V11: 1 | W11: 2 | X11: =IF(OR(EXACT($V$10,V11)*(EXACT($W$10,W11)))=TRUE,$AK$7,IF(($W$10-$V$10=W11-V11),$AK$4,IF(OR(EXACT($V$10>$W$10,V11>W11)*EXACT($V$10=$W$10,V11=W11)*EXACT($V$10<$W$10,V11<W11)),$AK$2,0))) -> 2 | Y11: 2 | Z11: 0 | AA11: =IF(OR(EXACT($Y$10,Y11)*(EXACT($Z$10,Z11)))=TRUE,$AK$7,IF(($Z$10-$Y$10=Z11-Y11),$AK$4,IF(OR(EXACT($Y$10>$Z$10,Y11>Z11)*EXACT($Y$10=$Z$10,Y11=Z11)*EXACT($Y$10<$Z$10,Y11<Z11)),$AK$2,0))) -> 0 | AB11: 2 | AC11: 0 | AD11: =IF(OR(EXACT($AB$10,AB11)*(EXACT($AC$10,AC11)))=TRUE,$AK$7,IF(($AC$10-$AB$10=AC11-AB11),$AK$4,IF(OR(EXACT($AB$10>$AC$10,AB11>AC11)*EXACT($AB$10=$AC$10,AB11=AC11)*EXACT($AB$10<$AC$10,AB11<AC11)),$AK$2,0)))*2*2 -> 0 | AH11: =AD11+L11+I11+AA11+X11+R11+O11+F11+U11+AG11 -> 15 | AI11: ='1.Spieltag'!AJ14 -> 14 | AJ11: ='1.Spieltag'!AK14 -> 4 | AK11: =AH11+AI11 -> 29 | AL11: =RANK(AK11,$AK$11:$AK$33) -> 1
A12: =AL12 -> 2 | B12: =AL12 -> 2 | C12: ='1.Spieltag'!B19 -> UltraGE | D12: 1 | E12: 1 | F12: =IF(OR(EXACT($D$10,D12)*(EXACT($E$10,E12)))=TRUE,$AK$7,IF(($E$10-$D$10=E12-D12),$AK$4,IF(OR(EXACT($D$10>$E$10,D12>E12)*EXACT($D$10=$E$10,D12=E12)*EXACT($D$10<$E$10,D12<E12)),$AK$2,0))) -> 3 | G12: 2 | H12: 0 | I12: =IF(OR(EXACT($G$10,G12)*(EXACT($H$10,H12)))=TRUE,$AK$7,IF(($H$10-$G$10=H12-G12),$AK$4,IF(OR(EXACT($G$10>$H$10,G12>H12)*EXACT($G$10=$H$10,G12=H12)*EXACT($G$10<$H$10,G12<H12)),$AK$2,0))) -> 0 | J12: 2 | K12: 0 | L12: =IF(OR(EXACT($J$10,J12)*(EXACT($K$10,K12)))=TRUE,$AK$7,IF(($K$10-$J$10=K12-J12),$AK$4,IF(OR(EXACT($J$10>$K$10,J12>K12)*EXACT($J$10=$K$10,J12=K12)*EXACT($J$10<$K$10,J12<K12)),$AK$2,0))) -> 3 | M12: 1 | N12: 2 | O12: =IF(OR(EXACT($M$10,M12)*(EXACT($N$10,N12)))=TRUE,$AK$7,IF(($N$10-$M$10=N12-M12),$AK$4,IF(OR(EXACT($M$10>$N$10,M12>N12)*EXACT($M$10=$N$10,M12=N12)*EXACT($M$10<$N$10,M12<N12)),$AK$2,0))) -> 0 | P12: 1 | Q12: 2 | R12: =IF(OR(EXACT($P$10,P12)*(EXACT($Q$10,Q12)))=TRUE,$AK$7,IF(($Q$10-$P$10=Q12-P12),$AK$4,IF(OR(EXACT($P$10>$Q$10,P12>Q12)*EXACT($P$10=$Q$10,P12=Q12)*EXACT($P$10<$Q$10,P12<Q12)),$AK$2,0))) -> 5 | S12: 2 | T12: 0 | U12: =IF(OR(EXACT($S$10,S12)*(EXACT($T$10,T12)))=TRUE,$AK$7,IF(($T$10-$S$10=T12-S12),$AK$4,IF(OR(EXACT($S$10>$T$10,S12>T12)*EXACT($S$10=$T$10,S12=T12)*EXACT($S$10<$T$10,S12<T12)),$AK$2,0))) -> 0 | V12: 0 | W12: 3 | X12: =IF(OR(EXACT($V$10,V12)*(EXACT($W$10,W12)))=TRUE,$AK$7,IF(($W$10-$V$10=W12-V12),$AK$4,IF(OR(EXACT($V$10>$W$10,V12>W12)*EXACT($V$10=$W$10,V12=W12)*EXACT($V$10<$W$10,V12<W12)),$AK$2,0))) -> 5 | Y12: 3 | Z12: 0 | AA12: =IF(OR(EXACT($Y$10,Y12)*(EXACT($Z$10,Z12)))=TRUE,$AK$7,IF(($Z$10-$Y$10=Z12-Y12),$AK$4,IF(OR(EXACT($Y$10>$Z$10,Y12>Z12)*EXACT($Y$10=$Z$10,Y12=Z12)*EXACT($Y$10<$Z$10,Y12<Z12)),$AK$2,0))) -> 0 | AB12: 3 | AC12: 0 | AD12: =IF(OR(EXACT($AB$10,AB12)*(EXACT($AC$10,AC12)))=TRUE,$AK$7,IF(($AC$10-$AB$10=AC12-AB12),$AK$4,IF(OR(EXACT($AB$10>$AC$10,AB12>AC12)*EXACT($AB$10=$AC$10,AB12=AC12)*EXACT($AB$10<$AC$10,AB12<AC12)),$AK$2,0)))*2*2 -> 0 | AH12: =AD12+L12+I12+AA12+X12+R12+O12+F12+U12+AG12 -> 16 | AI12: ='1.Spieltag'!AJ19 -> 9 | AJ12: ='1.Spieltag'!AK18 -> 8 | AK12: =AH12+AI12 -> 25 | AL12: =RANK(AK12,$AK$11:$AK$33) -> 2
A13: =AL13 -> 3 | B13: =AL13 -> 3 | C13: ='1.Spieltag'!B11 -> atschi91 | D13: 0 | E13: 2 | F13: =IF(OR(EXACT($D$10,D13)*(EXACT($E$10,E13)))=TRUE,$AK$7,IF(($E$10-$D$10=E13-D13),$AK$4,IF(OR(EXACT($D$10>$E$10,D13>E13)*EXACT($D$10=$E$10,D13=E13)*EXACT($D$10<$E$10,D13<E13)),$AK$2,0))) -> 0 | G13: 1 | H13: 0 | I13: =IF(OR(EXACT($G$10,G13)*(EXACT($H$10,H13)))=TRUE,$AK$7,IF(($H$10-$G$10=H13-G13),$AK$4,IF(OR(EXACT($G$10>$H$10,G13>H13)*EXACT($G$10=$H$10,G13=H13)*EXACT($G$10<$H$10,G13<H13)),$AK$2,0))) -> 0 | J13: 2 | K13: 1 | L13: =IF(OR(EXACT($J$10,J13)*(EXACT($K$10,K13)))=TRUE,$AK$7,IF(($K$10-$J$10=K13-J13),$AK$4,IF(OR(EXACT($J$10>$K$10,J13>K13)*EXACT($J$10=$K$10,J13=K13)*EXACT($J$10<$K$10,J13<K13)),$AK$2,0))) -> 2 | M13: 1 | N13: 0 | O13: =IF(OR(EXACT($M$10,M13)*(EXACT($N$10,N13)))=TRUE,$AK$7,IF(($N$10-$M$10=N13-M13),$AK$4,IF(OR(EXACT($M$10>$N$10,M13>N13)*EXACT($M$10=$N$10,M13=N13)*EXACT($M$10<$N$10,M13<N13)),$AK$2,0))) -> 0 | P13: 1 | Q13: 1 | R13: =IF(OR(EXACT($P$10,P13)*(EXACT($Q$10,Q13)))=TRUE,$AK$7,IF(($Q$10-$P$10=Q13-P13),$AK$4,IF(OR(EXACT($P$10>$Q$10,P13>Q13)*EXACT($P$10=$Q$10,P13=Q13)*EXACT($P$10<$Q$10,P13<Q13)),$AK$2,0))) -> 0 | S13: 1 | T13: 1 | U13: =IF(OR(EXACT($S$10,S13)*(EXACT($T$10,T13)))=TRUE,$AK$7,IF(($T$10-$S$10=T13-S13),$AK$4,IF(OR(EXACT($S$10>$T$10,S13>T13)*EXACT($S$10=$T$10,S13=T13)*EXACT($S$10<$T$10,S13<T13)),$AK$2,0))) -> 5 | V13: 1 | W13: 0 | X13: =IF(OR(EXACT($V$10,V13)*(EXACT($W$10,W13)))=TRUE,$AK$7,IF(($W$10-$V$10=W13-V13),$AK$4,IF(OR(EXACT($V$10>$W$10,V13>W13)*EXACT($V$10=$W$10,V13=W13)*EXACT($V$10<$W$10,V13<W13)),$AK$2,0))) -> 0 | Y13: 2 | Z13: 0 | AA13: =IF(OR(EXACT($Y$10,Y13)*(EXACT($Z$10,Z13)))=TRUE,$AK$7,IF(($Z$10-$Y$10=Z13-Y13),$AK$4,IF(OR(EXACT($Y$10>$Z$10,Y13>Z13)*EXACT($Y$10=$Z$10,Y13=Z13)*EXACT($Y$10<$Z$10,Y13<Z13)),$AK$2,0))) -> 0 | AB13: 3 | AC13: 0 | AD13: =IF(OR(EXACT($AB$10,AB13)*(EXACT($AC$10,AC13)))=TRUE,$AK$7,IF(($AC$10-$AB$10=AC13-AB13),$AK$4,IF(OR(EXACT($AB$10>$AC$10,AB13>AC13)*EXACT($AB$10=$AC$10,AB13=AC13)*EXACT($AB$10<$AC$10,AB13<AC13)),$AK$2,0)))*2*2 -> 0 | AH13: =AD13+L13+I13+AA13+X13+R13+O13+F13+U13+AG13 -> 7 | AI13: ='1.Spieltag'!AJ11 -> 17 | AJ13: ='1.Spieltag'!AK11 -> 1 | AK13: =AH13+AI13 -> 24 | AL13: =RANK(AK13,$AK$11:$AK$33) -> 3
A14: =AL14 -> 4 | B14: =AL14 -> 4 | C14: ='1.Spieltag'!B21 -> Jubby | D14: 0 | E14: 3 | F14: =IF(OR(EXACT($D$10,D14)*(EXACT($E$10,E14)))=TRUE,$AK$7,IF(($E$10-$D$10=E14-D14),$AK$4,IF(OR(EXACT($D$10>$E$10,D14>E14)*EXACT($D$10=$E$10,D14=E14)*EXACT($D$10<$E$10,D14<E14)),$AK$2,0))) -> 0 | G14: 2 | H14: 2 | I14: =IF(OR(EXACT($G$10,G14)*(EXACT($H$10,H14)))=TRUE,$AK$7,IF(($H$10-$G$10=H14-G14),$AK$4,IF(OR(EXACT($G$10>$H$10,G14>H14)*EXACT($G$10=$H$10,G14=H14)*EXACT($G$10<$H$10,G14<H14)),$AK$2,0))) -> 0 | J14: 3 | K14: 1 | L14: =IF(OR(EXACT($J$10,J14)*(EXACT($K$10,K14)))=TRUE,$AK$7,IF(($K$10-$J$10=K14-J14),$AK$4,IF(OR(EXACT($J$10>$K$10,J14>K14)*EXACT($J$10=$K$10,J14=K14)*EXACT($J$10<$K$10,J14<K14)),$AK$2,0))) -> 5 | M14: 1 | N14: 2 | O14: =IF(OR(EXACT($M$10,M14)*(EXACT($N$10,N14)))=TRUE,$AK$7,IF(($N$10-$M$10=N14-M14),$AK$4,IF(OR(EXACT($M$10>$N$10,M14>N14)*EXACT($M$10=$N$10,M14=N14)*EXACT($M$10<$N$10,M14<N14)),$AK$2,0))) -> 0 | P14: 1 | Q14: 2 | R14: =IF(OR(EXACT($P$10,P14)*(EXACT($Q$10,Q14)))=TRUE,$AK$7,IF(($Q$10-$P$10=Q14-P14),$AK$4,IF(OR(EXACT($P$10>$Q$10,P14>Q14)*EXACT($P$10=$Q$10,P14=Q14)*EXACT($P$10<$Q$10,P14<Q14)),$AK$2,0))) -> 5 | S14: 2 | T14: 2 | U14: =IF(OR(EXACT($S$10,S14)*(EXACT($T$10,T14)))=TRUE,$AK$7,IF(($T$10-$S$10=T14-S14),$AK$4,IF(OR(EXACT($S$10>$T$10,S14>T14)*EXACT($S$10=$T$10,S14=T14)*EXACT($S$10<$T$10,S14<T14)),$AK$2,0))) -> 3 | V14: 0 | W14: 4 | X14: =IF(OR(EXACT($V$10,V14)*(EXACT($W$10,W14)))=TRUE,$AK$7,IF(($W$10-$V$10=W14-V14),$AK$4,IF(OR(EXACT($V$10>$W$10,V14>W14)*EXACT($V$10=$W$10,V14=W14)*EXACT($V$10<$W$10,V14<W14)),$AK$2,0))) -> 2 | Y14: 2 | Z14: 0 | AA14: =IF(OR(EXACT($Y$10,Y14)*(EXACT($Z$10,Z14)))=TRUE,$AK$7,IF(($Z$10-$Y$10=Z14-Y14),$AK$4,IF(OR(EXACT($Y$10>$Z$10,Y14>Z14)*EXACT($Y$10=$Z$10,Y14=Z14)*EXACT($Y$10<$Z$10,Y14<Z14)),$AK$2,0))) -> 0 | AB14: 2 | AC14: 1 | AD14: =IF(OR(EXACT($AB$10,AB14)*(EXACT($AC$10,AC14)))=TRUE,$AK$7,IF(($AC$10-$AB$10=AC14-AB14),$AK$4,IF(OR(EXACT($AB$10>$AC$10,AB14>AC14)*EXACT($AB$10=$AC$10,AB14=AC14)*EXACT($AB$10<$AC$10,AB14<AC14)),$AK$2,0)))*2*2 -> 0 | AH14: =AD14+L14+I14+AA14+X14+R14+O14+F14+U14+AG14 -> 15 | AI14: ='1.Spieltag'!AJ21 -> 8 | AJ14: ='1.Spieltag'!AK22 -> 10 | AK14: =AH14+AI14 -> 23 | AL14: =RANK(AK14,$AK$11:$AK$33) -> 4
A15: =AL15 -> 5 | B15: =AL15 -> 5 | C15: ='1.Spieltag'!B29 -> Fabian1904 | D15: 0 | E15: 4 | F15: =IF(OR(EXACT($D$10,D15)*(EXACT($E$10,E15)))=TRUE,$AK$7,IF(($E$10-$D$10=E15-D15),$AK$4,IF(OR(EXACT($D$10>$E$10,D15>E15)*EXACT($D$10=$E$10,D15=E15)*EXACT($D$10<$E$10,D15<E15)),$AK$2,0))) -> 0 | G15: 1 | H15: 0 | I15: =IF(OR(EXACT($G$10,G15)*(EXACT($H$10,H15)))=TRUE,$AK$7,IF(($H$10-$G$10=H15-G15),$AK$4,IF(OR(EXACT($G$10>$H$10,G15>H15)*EXACT($G$10=$H$10,G15=H15)*EXACT($G$10<$H$10,G15<H15)),$AK$2,0))) -> 0 | J15: 2 | K15: 0 | L15: =IF(OR(EXACT($J$10,J15)*(EXACT($K$10,K15)))=TRUE,$AK$7,IF(($K$10-$J$10=K15-J15),$AK$4,IF(OR(EXACT($J$10>$K$10,J15>K15)*EXACT($J$10=$K$10,J15=K15)*EXACT($J$10<$K$10,J15<K15)),$AK$2,0))) -> 3 | M15: 1 | N15: 3 | O15: =IF(OR(EXACT($M$10,M15)*(EXACT($N$10,N15)))=TRUE,$AK$7,IF(($N$10-$M$10=N15-M15),$AK$4,IF(OR(EXACT($M$10>$N$10,M15>N15)*EXACT($M$10=$N$10,M15=N15)*EXACT($M$10<$N$10,M15<N15)),$AK$2,0))) -> 0 | P15: 0 | Q15: 2 | R15: =IF(OR(EXACT($P$10,P15)*(EXACT($Q$10,Q15)))=TRUE,$AK$7,IF(($Q$10-$P$10=Q15-P15),$AK$4,IF(OR(EXACT($P$10>$Q$10,P15>Q15)*EXACT($P$10=$Q$10,P15=Q15)*EXACT($P$10<$Q$10,P15<Q15)),$AK$2,0))) -> 2 | S15: 1 | T15: 2 | U15: =IF(OR(EXACT($S$10,S15)*(EXACT($T$10,T15)))=TRUE,$AK$7,IF(($T$10-$S$10=T15-S15),$AK$4,IF(OR(EXACT($S$10>$T$10,S15>T15)*EXACT($S$10=$T$10,S15=T15)*EXACT($S$10<$T$10,S15<T15)),$AK$2,0))) -> 0 | V15: 0 | W15: 3 | X15: =IF(OR(EXACT($V$10,V15)*(EXACT($W$10,W15)))=TRUE,$AK$7,IF(($W$10-$V$10=W15-V15),$AK$4,IF(OR(EXACT($V$10>$W$10,V15>W15)*EXACT($V$10=$W$10,V15=W15)*EXACT($V$10<$W$10,V15<W15)),$AK$2,0))) -> 5 | Y15: 1 | Z15: 1 | AA15: =IF(OR(EXACT($Y$10,Y15)*(EXACT($Z$10,Z15)))=TRUE,$AK$7,IF(($Z$10-$Y$10=Z15-Y15),$AK$4,IF(OR(EXACT($Y$10>$Z$10,Y15>Z15)*EXACT($Y$10=$Z$10,Y15=Z15)*EXACT($Y$10<$Z$10,Y15<Z15)),$AK$2,0))) -> 5 | AB15: 2 | AC15: 0 | AD15: =IF(OR(EXACT($AB$10,AB15)*(EXACT($AC$10,AC15)))=TRUE,$AK$7,IF(($AC$10-$AB$10=AC15-AB15),$AK$4,IF(OR(EXACT($AB$10>$AC$10,AB15>AC15)*EXACT($AB$10=$AC$10,AB15=AC15)*EXACT($AB$10<$AC$10,AB15<AC15)),$AK$2,0)))*2*2 -> 0 | AH15: =AD15+I15+X15+R15+AA15+L15+O15+F15+U15+AG15 -> 15 | AI15: ='1.Spieltag'!AJ29 -> 5 | AJ15: ='1.Spieltag'!AK29 -> 19 | AK15: =AH15+AI15 -> 20 | AL15: =RANK(AK15,$AK$11:$AK$33) -> 5
A16: =AL16 -> 5 | B16: =AL16 -> 5 | C16: ='1.Spieltag'!B17 -> schalke-willi | D16: 1 | E16: 3 | F16: =IF(OR(EXACT($D$10,D16)*(EXACT($E$10,E16)))=TRUE,$AK$7,IF(($E$10-$D$10=E16-D16),$AK$4,IF(OR(EXACT($D$10>$E$10,D16>E16)*EXACT($D$10=$E$10,D16=E16)*EXACT($D$10<$E$10,D16<E16)),$AK$2,0))) -> 0 | G16: 2 | H16: 0 | I16: =IF(OR(EXACT($G$10,G16)*(EXACT($H$10,H16)))=TRUE,$AK$7,IF(($H$10-$G$10=H16-G16),$AK$4,IF(OR(EXACT($G$10>$H$10,G16>H16)*EXACT($G$10=$H$10,G16=H16)*EXACT($G$10<$H$10,G16<H16)),$AK$2,0))) -> 0 | J16: 3 | K16: 1 | L16: =IF(OR(EXACT($J$10,J16)*(EXACT($K$10,K16)))=TRUE,$AK$7,IF(($K$10-$J$10=K16-J16),$AK$4,IF(OR(EXACT($J$10>$K$10,J16>K16)*EXACT($J$10=$K$10,J16=K16)*EXACT($J$10<$K$10,J16<K16)),$AK$2,0))) -> 5 | M16: 2 | N16: 1 | O16: =IF(OR(EXACT($M$10,M16)*(EXACT($N$10,N16)))=TRUE,$AK$7,IF(($N$10-$M$10=N16-M16),$AK$4,IF(OR(EXACT($M$10>$N$10,M16>N16)*EXACT($M$10=$N$10,M16=N16)*EXACT($M$10<$N$10,M16<N16)),$AK$2,0))) -> 0 | P16: 1 | Q16: 1 | R16: =IF(OR(EXACT($P$10,P16)*(EXACT($Q$10,Q16)))=TRUE,$AK$7,IF(($Q$10-$P$10=Q16-P16),$AK$4,IF(OR(EXACT($P$10>$Q$10,P16>Q16)*EXACT($P$10=$Q$10,P16=Q16)*EXACT($P$10<$Q$10,P16<Q16)),$AK$2,0))) -> 0 | S16: 1 | T16: 1 | U16: =IF(OR(EXACT($S$10,S16)*(EXACT($T$10,T16)))=TRUE,$AK$7,IF(($T$10-$S$10=T16-S16),$AK$4,IF(OR(EXACT($S$10>$T$10,S16>T16)*EXACT($S$10=$T$10,S16=T16)*EXACT($S$10<$T$10,S16<T16)),$AK$2,0))) -> 5 | V16: 2 | W16: 2 | X16: =IF(OR(EXACT($V$10,V16)*(EXACT($W$10,W16)))=TRUE,$AK$7,IF(($W$10-$V$10=W16-V16),$AK$4,IF(OR(EXACT($V$10>$W$10,V16>W16)*EXACT($V$10=$W$10,V16=W16)*EXACT($V$10<$W$10,V16<W16)),$AK$2,0))) -> 0 | Y16: 4 | Z16: 0 | AA16: =IF(OR(EXACT($Y$10,Y16)*(EXACT($Z$10,Z16)))=TRUE,$AK$7,IF(($Z$10-$Y$10=Z16-Y16),$AK$4,IF(OR(EXACT($Y$10>$Z$10,Y16>Z16)*EXACT($Y$10=$Z$10,Y16=Z16)*EXACT($Y$10<$Z$10,Y16<Z16)),$AK$2,0))) -> 0 | AB16: 4 | AC16: 1 | AD16: =IF(OR(EXACT($AB$10,AB16)*(EXACT($AC$10,AC16)))=TRUE,$AK$7,IF(($AC$10-$AB$10=AC16-AB16),$AK$4,IF(OR(EXACT($AB$10>$AC$10,AB16>AC16)*EXACT($AB$10=$AC$10,AB16=AC16)*EXACT($AB$10<$AC$10,AB16<AC16)),$AK$2,0)))*2*2 -> 0 | AH16: =AD16+L16+I16+AA16+X16+R16+O16+F16+U16+AG16 -> 10 | AI16: ='1.Spieltag'!AJ17 -> 10 | AJ16: ='1.Spieltag'!AK17 -> 7 | AK16: =AH16+AI16 -> 20 | AL16: =RANK(AK16,$AK$11:$AK$33) -> 5
A17: =AL17 -> 7 | B17: =AL17 -> 7 | C17: ='1.Spieltag'!B31 -> Hans 04 | D17: 1 | E17: 3 | F17: =IF(OR(EXACT($D$10,D17)*(EXACT($E$10,E17)))=TRUE,$AK$7,IF(($E$10-$D$10=E17-D17),$AK$4,IF(OR(EXACT($D$10>$E$10,D17>E17)*EXACT($D$10=$E$10,D17=E17)*EXACT($D$10<$E$10,D17<E17)),$AK$2,0))) -> 0 | G17: 2 | H17: 1 | I17: =IF(OR(EXACT($G$10,G17)*(EXACT($H$10,H17)))=TRUE,$AK$7,IF(($H$10-$G$10=H17-G17),$AK$4,IF(OR(EXACT($G$10>$H$10,G17>H17)*EXACT($G$10=$H$10,G17=H17)*EXACT($G$10<$H$10,G17<H17)),$AK$2,0))) -> 0 | J17: 3 | K17: 1 | L17: =IF(OR(EXACT($J$10,J17)*(EXACT($K$10,K17)))=TRUE,$AK$7,IF(($K$10-$J$10=K17-J17),$AK$4,IF(OR(EXACT($J$10>$K$10,J17>K17)*EXACT($J$10=$K$10,J17=K17)*EXACT($J$10<$K$10,J17<K17)),$AK$2,0))) -> 5 | M17: 1 | N17: 2 | O17: =IF(OR(EXACT($M$10,M17)*(EXACT($N$10,N17)))=TRUE,$AK$7,IF(($N$10-$M$10=N17-M17),$AK$4,IF(OR(EXACT($M$10>$N$10,M17>N17)*EXACT($M$10=$N$10,M17=N17)*EXACT($M$10<$N$10,M17<N17)),$AK$2,0))) -> 0 | P17: 2 | Q17: 2 | R17: =IF(OR(EXACT($P$10,P17)*(EXACT($Q$10,Q17)))=TRUE,$AK$7,IF(($Q$10-$P$10=Q17-P17),$AK$4,IF(OR(EXACT($P$10>$Q$10,P17>Q17)*EXACT($P$10=$Q$10,P17=Q17)*EXACT($P$10<$Q$10,P17<Q17)),$AK$2,0))) -> 0 | S17: 1 | T17: 1 | U17: =IF(OR(EXACT($S$10,S17)*(EXACT($T$10,T17)))=TRUE,$AK$7,IF(($T$10-$S$10=T17-S17),$AK$4,IF(OR(EXACT($S$10>$T$10,S17>T17)*EXACT($S$10=$T$10,S17=T17)*EXACT($S$10<$T$10,S17<T17)),$AK$2,0))) -> 5 | V17: 0 | W17: 3 | X17: =IF(OR(EXACT($V$10,V17)*(EXACT($W$10,W17)))=TRUE,$AK$7,IF(($W$10-$V$10=W17-V17),$AK$4,IF(OR(EXACT($V$10>$W$10,V17>W17)*EXACT($V$10=$W$10,V17=W17)*EXACT($V$10<$W$10,V17<W17)),$AK$2,0))) -> 5 | Y17: 2 | Z17: 0 | AA17: =IF(OR(EXACT($Y$10,Y17)*(EXACT($Z$10,Z17)))=TRUE,$AK$7,IF(($Z$10-$Y$10=Z17-Y17),$AK$4,IF(OR(EXACT($Y$10>$Z$10,Y17>Z17)*EXACT($Y$10=$Z$10,Y17=Z17)*EXACT($Y$10<$Z$10,Y17<Z17)),$AK$2,0))) -> 0 | AB17: 3 | AC17: 1 | AD17: =IF(OR(EXACT($AB$10,AB17)*(EXACT($AC$10,AC17)))=TRUE,$AK$7,IF(($AC$10-$AB$10=AC17-AB17),$AK$4,IF(OR(EXACT($AB$10>$AC$10,AB17>AC17)*EXACT($AB$10=$AC$10,AB17=AC17)*EXACT($AB$10<$AC$10,AB17<AC17)),$AK$2,0)))*2*2 -> 0 | AH17: =AD17+I17+X17+R17+AA17+L17+O17+F17+U17+AG17 -> 15 | AI17: ='1.Spieltag'!AJ31 -> 4 | AJ17: ='1.Spieltag'!AK31 -> 21 | AK17: =AH17+AI17 -> 19 | AL17: =RANK(AK17,$AK$11:$AK$33) -> 7
A18: =AL18 -> 7 | B18: =AL18 -> 7 | C18: ='1.Spieltag'!B23 -> Lola04 | D18: 1 | E18: 2 | F18: =IF(OR(EXACT($D$10,D18)*(EXACT($E$10,E18)))=TRUE,$AK$7,IF(($E$10-$D$10=E18-D18),$AK$4,IF(OR(EXACT($D$10>$E$10,D18>E18)*EXACT($D$10=$E$10,D18=E18)*EXACT($D$10<$E$10,D18<E18)),$AK$2,0))) -> 0 | G18: 2 | H18: 0 | I18: =IF(OR(EXACT($G$10,G18)*(EXACT($H$10,H18)))=TRUE,$AK$7,IF(($H$10-$G$10=H18-G18),$AK$4,IF(OR(EXACT($G$10>$H$10,G18>H18)*EXACT($G$10=$H$10,G18=H18)*EXACT($G$10<$H$10,G18<H18)),$AK$2,0))) -> 0 | J18: 3 | K18: 1 | L18: =IF(OR(EXACT($J$10,J18)*(EXACT($K$10,K18)))=TRUE,$AK$7,IF(($K$10-$J$10=K18-J18),$AK$4,IF(OR(EXACT($J$10>$K$10,J18>K18)*EXACT($J$10=$K$10,J18=K18)*EXACT($J$10<$K$10,J18<K18)),$AK$2,0))) -> 5 | M18: 1 | N18: 1 | O18: =IF(OR(EXACT($M$10,M18)*(EXACT($N$10,N18)))=TRUE,$AK$7,IF(($N$10-$M$10=N18-M18),$AK$4,IF(OR(EXACT($M$10>$N$10,M18>N18)*EXACT($M$10=$N$10,M18=N18)*EXACT($M$10<$N$10,M18<N18)),$AK$2,0))) -> 5 | P18: 2 | Q18: 1 | R18: =IF(OR(EXACT($P$10,P18)*(EXACT($Q$10,Q18)))=TRUE,$AK$7,IF(($Q$10-$P$10=Q18-P18),$AK$4,IF(OR(EXACT($P$10>$Q$10,P18>Q18)*EXACT($P$10=$Q$10,P18=Q18)*EXACT($P$10<$Q$10,P18<Q18)),$AK$2,0))) -> 0 | S18: 1 | T18: 0 | U18: =IF(OR(EXACT($S$10,S18)*(EXACT($T$10,T18)))=TRUE,$AK$7,IF(($T$10-$S$10=T18-S18),$AK$4,IF(OR(EXACT($S$10>$T$10,S18>T18)*EXACT($S$10=$T$10,S18=T18)*EXACT($S$10<$T$10,S18<T18)),$AK$2,0))) -> 0 | V18: 1 | W18: 3 | X18: =IF(OR(EXACT($V$10,V18)*(EXACT($W$10,W18)))=TRUE,$AK$7,IF(($W$10-$V$10=W18-V18),$AK$4,IF(OR(EXACT($V$10>$W$10,V18>W18)*EXACT($V$10=$W$10,V18=W18)*EXACT($V$10<$W$10,V18<W18)),$AK$2,0))) -> 2 | Y18: 3 | Z18: 0 | AA18: =IF(OR(EXACT($Y$10,Y18)*(EXACT($Z$10,Z18)))=TRUE,$AK$7,IF(($Z$10-$Y$10=Z18-Y18),$AK$4,IF(OR(EXACT($Y$10>$Z$10,Y18>Z18)*EXACT($Y$10=$Z$10,Y18=Z18)*EXACT($Y$10<$Z$10,Y18<Z18)),$AK$2,0))) -> 0 | AB18: 2 | AC18: 0 | AD18: =IF(OR(EXACT($AB$10,AB18)*(EXACT($AC$10,AC18)))=TRUE,$AK$7,IF(($AC$10-$AB$10=AC18-AB18),$AK$4,IF(OR(EXACT($AB$10>$AC$10,AB18>AC18)*EXACT($AB$10=$AC$10,AB18=AC18)*EXACT($AB$10<$AC$10,AB18<AC18)),$AK$2,0)))*2*2 -> 0 | AH18: =AD18+L18+I18+AA18+X18+R18+O18+F18+U18+AG18 -> 12 | AI18: ='1.Spieltag'!AJ23 -> 7 | AJ18: ='1.Spieltag'!AK23 -> 13 | AK18: =AH18+AI18 -> 19 | AL18: =RANK(AK18,$AK$11:$AK$33) -> 7
A19: =AL19 -> 7 | B19: =AL19 -> 7 | C19: ='1.Spieltag'!B16 -> Silfa04 | D19: 1 | E19: 4 | F19: =IF(OR(EXACT($D$10,D19)*(EXACT($E$10,E19)))=TRUE,$AK$7,IF(($E$10-$D$10=E19-D19),$AK$4,IF(OR(EXACT($D$10>$E$10,D19>E19)*EXACT($D$10=$E$10,D19=E19)*EXACT($D$10<$E$10,D19<E19)),$AK$2,0))) -> 0 | G19: 2 | H19: 2 | I19: =IF(OR(EXACT($G$10,G19)*(EXACT($H$10,H19)))=TRUE,$AK$7,IF(($H$10-$G$10=H19-G19),$AK$4,IF(OR(EXACT($G$10>$H$10,G19>H19)*EXACT($G$10=$H$10,G19=H19)*EXACT($G$10<$H$10,G19<H19)),$AK$2,0))) -> 0 | J19: 2 | K19: 0 | L19: =IF(OR(EXACT($J$10,J19)*(EXACT($K$10,K19)))=TRUE,$AK$7,IF(($K$10-$J$10=K19-J19),$AK$4,IF(OR(EXACT($J$10>$K$10,J19>K19)*EXACT($J$10=$K$10,J19=K19)*EXACT($J$10<$K$10,J19<K19)),$AK$2,0))) -> 3 | M19: 0 | N19: 3 | O19: =IF(OR(EXACT($M$10,M19)*(EXACT($N$10,N19)))=TRUE,$AK$7,IF(($N$10-$M$10=N19-M19),$AK$4,IF(OR(EXACT($M$10>$N$10,M19>N19)*EXACT($M$10=$N$10,M19=N19)*EXACT($M$10<$N$10,M19<N19)),$AK$2,0))) -> 0 | P19: 1 | Q19: 1 | R19: =IF(OR(EXACT($P$10,P19)*(EXACT($Q$10,Q19)))=TRUE,$AK$7,IF(($Q$10-$P$10=Q19-P19),$AK$4,IF(OR(EXACT($P$10>$Q$10,P19>Q19)*EXACT($P$10=$Q$10,P19=Q19)*EXACT($P$10<$Q$10,P19<Q19)),$AK$2,0))) -> 0 | S19: 0 | T19: 0 | U19: =IF(OR(EXACT($S$10,S19)*(EXACT($T$10,T19)))=TRUE,$AK$7,IF(($T$10-$S$10=T19-S19),$AK$4,IF(OR(EXACT($S$10>$T$10,S19>T19)*EXACT($S$10=$T$10,S19=T19)*EXACT($S$10<$T$10,S19<T19)),$AK$2,0))) -> 3 | V19: 1 | W19: 5 | X19: =IF(OR(EXACT($V$10,V19)*(EXACT($W$10,W19)))=TRUE,$AK$7,IF(($W$10-$V$10=W19-V19),$AK$4,IF(OR(EXACT($V$10>$W$10,V19>W19)*EXACT($V$10=$W$10,V19=W19)*EXACT($V$10<$W$10,V19<W19)),$AK$2,0))) -> 2 | Y19: 4 | Z19: 0 | AA19: =IF(OR(EXACT($Y$10,Y19)*(EXACT($Z$10,Z19)))=TRUE,$AK$7,IF(($Z$10-$Y$10=Z19-Y19),$AK$4,IF(OR(EXACT($Y$10>$Z$10,Y19>Z19)*EXACT($Y$10=$Z$10,Y19=Z19)*EXACT($Y$10<$Z$10,Y19<Z19)),$AK$2,0))) -> 0 | AB19: 3 | AC19: 1 | AD19: =IF(OR(EXACT($AB$10,AB19)*(EXACT($AC$10,AC19)))=TRUE,$AK$7,IF(($AC$10-$AB$10=AC19-AB19),$AK$4,IF(OR(EXACT($AB$10>$AC$10,AB19>AC19)*EXACT($AB$10=$AC$10,AB19=AC19)*EXACT($AB$10<$AC$10,AB19<AC19)),$AK$2,0)))*2*2 -> 0 | AH19: =AD19+L19+I19+AA19+X19+R19+O19+F19+U19+AG19 -> 8 | AI19: ='1.Spieltag'!AJ16 -> 11 | AJ19: ='1.Spieltag'!AK16 -> 6 | AK19: =AH19+AI19 -> 19 | AL19: =RANK(AK19,$AK$11:$AK$33) -> 7
A20: =AL20 -> 7 | B20: =AL20 -> 7 | C20: ='1.Spieltag'!B12 -> Silja04 | D20: 1 | E20: 2 | F20: =IF(OR(EXACT($D$10,D20)*(EXACT($E$10,E20)))=TRUE,$AK$7,IF(($E$10-$D$10=E20-D20),$AK$4,IF(OR(EXACT($D$10>$E$10,D20>E20)*EXACT($D$10=$E$10,D20=E20)*EXACT($D$10<$E$10,D20<E20)),$AK$2,0))) -> 0 | G20: 2 | H20: 1 | I20: =IF(OR(EXACT($G$10,G20)*(EXACT($H$10,H20)))=TRUE,$AK$7,IF(($H$10-$G$10=H20-G20),$AK$4,IF(OR(EXACT($G$10>$H$10,G20>H20)*EXACT($G$10=$H$10,G20=H20)*EXACT($G$10<$H$10,G20<H20)),$AK$2,0))) -> 0 | J20: 2 | K20: 1 | L20: =IF(OR(EXACT($J$10,J20)*(EXACT($K$10,K20)))=TRUE,$AK$7,IF(($K$10-$J$10=K20-J20),$AK$4,IF(OR(EXACT($J$10>$K$10,J20>K20)*EXACT($J$10=$K$10,J20=K20)*EXACT($J$10<$K$10,J20<K20)),$AK$2,0))) -> 2 | M20: 1 | N20: 2 | O20: =IF(OR(EXACT($M$10,M20)*(EXACT($N$10,N20)))=TRUE,$AK$7,IF(($N$10-$M$10=N20-M20),$AK$4,IF(OR(EXACT($M$10>$N$10,M20>N20)*EXACT($M$10=$N$10,M20=N20)*EXACT($M$10<$N$10,M20<N20)),$AK$2,0))) -> 0 | P20: 2 | Q20: 1 | R20: =IF(OR(EXACT($P$10,P20)*(EXACT($Q$10,Q20)))=TRUE,$AK$7,IF(($Q$10-$P$10=Q20-P20),$AK$4,IF(OR(EXACT($P$10>$Q$10,P20>Q20)*EXACT($P$10=$Q$10,P20=Q20)*EXACT($P$10<$Q$10,P20<Q20)),$AK$2,0))) -> 0 | S20: 2 | T20: 0 | U20: =IF(OR(EXACT($S$10,S20)*(EXACT($T$10,T20)))=TRUE,$AK$7,IF(($T$10-$S$10=T20-S20),$AK$4,IF(OR(EXACT($S$10>$T$10,S20>T20)*EXACT($S$10=$T$10,S20=T20)*EXACT($S$10<$T$10,S20<T20)),$AK$2,0))) -> 0 | V20: 1 | W20: 3 | X20: =IF(OR(EXACT($V$10,V20)*(EXACT($W$10,W20)))=TRUE,$AK$7,IF(($W$10-$V$10=W20-V20),$AK$4,IF(OR(EXACT($V$10>$W$10,V20>W20)*EXACT($V$10=$W$10,V20=W20)*EXACT($V$10<$W$10,V20<W20)),$AK$2,0))) -> 2 | Y20: 3 | Z20: 0 | AA20: =IF(OR(EXACT($Y$10,Y20)*(EXACT($Z$10,Z20)))=TRUE,$AK$7,IF(($Z$10-$Y$10=Z20-Y20),$AK$4,IF(OR(EXACT($Y$10>$Z$10,Y20>Z20)*EXACT($Y$10=$Z$10,Y20=Z20)*EXACT($Y$10<$Z$10,Y20<Z20)),$AK$2,0))) -> 0 | AB20: 2 | AC20: 1 | AD20: =IF(OR(EXACT($AB$10,AB20)*(EXACT($AC$10,AC20)))=TRUE,$AK$7,IF(($AC$10-$AB$10=AC20-AB20),$AK$4,IF(OR(EXACT($AB$10>$AC$10,AB20>AC20)*EXACT($AB$10=$AC$10,AB20=AC20)*EXACT($AB$10<$AC$10,AB20<AC20)),$AK$2,0)))*2*2 -> 0 | AH20: =AD20+L20+I20+AA20+X20+R20+O20+F20+U20+AG20 -> 4 | AI20: ='1.Spieltag'!AJ12 -> 15 | AJ20: ='1.Spieltag'!AK13 -> 2 | AK20: =AH20+AI20 -> 19 | AL20: =RANK(AK20,$AK$11:$AK$33) -> 7
A21: =AL21 -> 11 | B21: =AL21 -> 11 | C21: ='1.Spieltag'!B20 -> cilli37 | D21: 1 | E21: 3 | F21: =IF(OR(EXACT($D$10,D21)*(EXACT($E$10,E21)))=TRUE,$AK$7,IF(($E$10-$D$10=E21-D21),$AK$4,IF(OR(EXACT($D$10>$E$10,D21>E21)*EXACT($D$10=$E$10,D21=E21)*EXACT($D$10<$E$10,D21<E21)),$AK$2,0))) -> 0 | G21: 3 | H21: 2 | I21: =IF(OR(EXACT($G$10,G21)*(EXACT($H$10,H21)))=TRUE,$AK$7,IF(($H$10-$G$10=H21-G21),$AK$4,IF(OR(EXACT($G$10>$H$10,G21>H21)*EXACT($G$10=$H$10,G21=H21)*EXACT($G$10<$H$10,G21<H21)),$AK$2,0))) -> 0 | J21: 3 | K21: 1 | L21: =IF(OR(EXACT($J$10,J21)*(EXACT($K$10,K21)))=TRUE,$AK$7,IF(($K$10-$J$10=K21-J21),$AK$4,IF(OR(EXACT($J$10>$K$10,J21>K21)*EXACT($J$10=$K$10,J21=K21)*EXACT($J$10<$K$10,J21<K21)),$AK$2,0))) -> 5 | M21: 1 | N21: 2 | O21: =IF(OR(EXACT($M$10,M21)*(EXACT($N$10,N21)))=TRUE,$AK$7,IF(($N$10-$M$10=N21-M21),$AK$4,IF(OR(EXACT($M$10>$N$10,M21>N21)*EXACT($M$10=$N$10,M21=N21)*EXACT($M$10<$N$10,M21<N21)),$AK$2,0))) -> 0 | P21: 1 | Q21: 1 | R21: =IF(OR(EXACT($P$10,P21)*(EXACT($Q$10,Q21)))=TRUE,$AK$7,IF(($Q$10-$P$10=Q21-P21),$AK$4,IF(OR(EXACT($P$10>$Q$10,P21>Q21)*EXACT($P$10=$Q$10,P21=Q21)*EXACT($P$10<$Q$10,P21<Q21)),$AK$2,0))) -> 0 | S21: 2 | T21: 2 | U21: =IF(OR(EXACT($S$10,S21)*(EXACT($T$10,T21)))=TRUE,$AK$7,IF(($T$10-$S$10=T21-S21),$AK$4,IF(OR(EXACT($S$10>$T$10,S21>T21)*EXACT($S$10=$T$10,S21=T21)*EXACT($S$10<$T$10,S21<T21)),$AK$2,0))) -> 3 | V21: 1 | W21: 3 | X21: =IF(OR(EXACT($V$10,V21)*(EXACT($W$10,W21)))=TRUE,$AK$7,IF(($W$10-$V$10=W21-V21),$AK$4,IF(OR(EXACT($V$10>$W$10,V21>W21)*EXACT($V$10=$W$10,V21=W21)*EXACT($V$10<$W$10,V21<W21)),$AK$2,0))) -> 2 | Y21: 5 | Z21: 1 | AA21: =IF(OR(EXACT($Y$10,Y21)*(EXACT($Z$10,Z21)))=TRUE,$AK$7,IF(($Z$10-$Y$10=Z21-Y21),$AK$4,IF(OR(EXACT($Y$10>$Z$10,Y21>Z21)*EXACT($Y$10=$Z$10,Y21=Z21)*EXACT($Y$10<$Z$10,Y21<Z21)),$AK$2,0))) -> 0 | AB21: 3 | AC21: 0 | AD21: =IF(OR(EXACT($AB$10,AB21)*(EXACT($AC$10,AC21)))=TRUE,$AK$7,IF(($AC$10-$AB$10=AC21-AB21),$AK$4,IF(OR(EXACT($AB$10>$AC$10,AB21>AC21)*EXACT($AB$10=$AC$10,AB21=AC21)*EXACT($AB$10<$AC$10,AB21<AC21)),$AK$2,0)))*2*2 -> 0 | AH21: =AD21+L21+I21+AA21+X21+R21+O21+F21+U21+AG21 -> 10 | AI21: ='1.Spieltag'!AJ20 -> 8 | AJ21: ='1.Spieltag'!AK21 -> 10 | AK21: =AH21+AI21 -> 18 | AL21: =RANK(AK21,$AK$11:$AK$33) -> 11
A22: =AL22 -> 11 | B22: =AL22 -> 11 | C22: ='1.Spieltag'!B15 -> Franzi 04 | D22: 1 | E22: 3 | F22: =IF(OR(EXACT($D$10,D22)*(EXACT($E$10,E22)))=TRUE,$AK$7,IF(($E$10-$D$10=E22-D22),$AK$4,IF(OR(EXACT($D$10>$E$10,D22>E22)*EXACT($D$10=$E$10,D22=E22)*EXACT($D$10<$E$10,D22<E22)),$AK$2,0))) -> 0 | G22: 2 | H22: 1 | I22: =IF(OR(EXACT($G$10,G22)*(EXACT($H$10,H22)))=TRUE,$AK$7,IF(($H$10-$G$10=H22-G22),$AK$4,IF(OR(EXACT($G$10>$H$10,G22>H22)*EXACT($G$10=$H$10,G22=H22)*EXACT($G$10<$H$10,G22<H22)),$AK$2,0))) -> 0 | J22: 2 | K22: 0 | L22: =IF(OR(EXACT($J$10,J22)*(EXACT($K$10,K22)))=TRUE,$AK$7,IF(($K$10-$J$10=K22-J22),$AK$4,IF(OR(EXACT($J$10>$K$10,J22>K22)*EXACT($J$10=$K$10,J22=K22)*EXACT($J$10<$K$10,J22<K22)),$AK$2,0))) -> 3 | M22: 1 | N22: 2 | O22: =IF(OR(EXACT($M$10,M22)*(EXACT($N$10,N22)))=TRUE,$AK$7,IF(($N$10-$M$10=N22-M22),$AK$4,IF(OR(EXACT($M$10>$N$10,M22>N22)*EXACT($M$10=$N$10,M22=N22)*EXACT($M$10<$N$10,M22<N22)),$AK$2,0))) -> 0 | P22: 2 | Q22: 1 | R22: =IF(OR(EXACT($P$10,P22)*(EXACT($Q$10,Q22)))=TRUE,$AK$7,IF(($Q$10-$P$10=Q22-P22),$AK$4,IF(OR(EXACT($P$10>$Q$10,P22>Q22)*EXACT($P$10=$Q$10,P22=Q22)*EXACT($P$10<$Q$10,P22<Q22)),$AK$2,0))) -> 0 | S22: 1 | T22: 2 | U22: =IF(OR(EXACT($S$10,S22)*(EXACT($T$10,T22)))=TRUE,$AK$7,IF(($T$10-$S$10=T22-S22),$AK$4,IF(OR(EXACT($S$10>$T$10,S22>T22)*EXACT($S$10=$T$10,S22=T22)*EXACT($S$10<$T$10,S22<T22)),$AK$2,0))) -> 0 | V22: 0 | W22: 4 | X22: =IF(OR(EXACT($V$10,V22)*(EXACT($W$10,W22)))=TRUE,$AK$7,IF(($W$10-$V$10=W22-V22),$AK$4,IF(OR(EXACT($V$10>$W$10,V22>W22)*EXACT($V$10=$W$10,V22=W22)*EXACT($V$10<$W$10,V22<W22)),$AK$2,0))) -> 2 | Y22: 2 | Z22: 0 | AA22: =IF(OR(EXACT($Y$10,Y22)*(EXACT($Z$10,Z22)))=TRUE,$AK$7,IF(($Z$10-$Y$10=Z22-Y22),$AK$4,IF(OR(EXACT($Y$10>$Z$10,Y22>Z22)*EXACT($Y$10=$Z$10,Y22=Z22)*EXACT($Y$10<$Z$10,Y22<Z22)),$AK$2,0))) -> 0 | AB22: 2 | AC22: 1 | AD22: =IF(OR(EXACT($AB$10,AB22)*(EXACT($AC$10,AC22)))=TRUE,$AK$7,IF(($AC$10-$AB$10=AC22-AB22),$AK$4,IF(OR(EXACT($AB$10>$AC$10,AB22>AC22)*EXACT($AB$10=$AC$10,AB22=AC22)*EXACT($AB$10<$AC$10,AB22<AC22)),$AK$2,0)))*2*2 -> 0 | AH22: =AD22+L22+I22+AA22+X22+R22+O22+F22+U22+AG22 -> 5 | AI22: ='1.Spieltag'!AJ15 -> 13 | AJ22: ='1.Spieltag'!AK15 -> 5 | AK22: =AH22+AI22 -> 18 | AL22: =RANK(AK22,$AK$11:$AK$33) -> 11
A23: =AL23 -> 11 | B23: =AL23 -> 11 | C23: ='1.Spieltag'!B28 -> ralle04 | D23: 1 | E23: 2 | F23: =IF(OR(EXACT($D$10,D23)*(EXACT($E$10,E23)))=TRUE,$AK$7,IF(($E$10-$D$10=E23-D23),$AK$4,IF(OR(EXACT($D$10>$E$10,D23>E23)*EXACT($D$10=$E$10,D23=E23)*EXACT($D$10<$E$10,D23<E23)),$AK$2,0))) -> 0 | G23: 3 | H23: 2 | I23: =IF(OR(EXACT($G$10,G23)*(EXACT($H$10,H23)))=TRUE,$AK$7,IF(($H$10-$G$10=H23-G23),$AK$4,IF(OR(EXACT($G$10>$H$10,G23>H23)*EXACT($G$10=$H$10,G23=H23)*EXACT($G$10<$H$10,G23<H23)),$AK$2,0))) -> 0 | J23: 2 | K23: 1 | L23: =IF(OR(EXACT($J$10,J23)*(EXACT($K$10,K23)))=TRUE,$AK$7,IF(($K$10-$J$10=K23-J23),$AK$4,IF(OR(EXACT($J$10>$K$10,J23>K23)*EXACT($J$10=$K$10,J23=K23)*EXACT($J$10<$K$10,J23<K23)),$AK$2,0))) -> 2 | M23: 1 | N23: 1 | O23: =IF(OR(EXACT($M$10,M23)*(EXACT($N$10,N23)))=TRUE,$AK$7,IF(($N$10-$M$10=N23-M23),$AK$4,IF(OR(EXACT($M$10>$N$10,M23>N23)*EXACT($M$10=$N$10,M23=N23)*EXACT($M$10<$N$10,M23<N23)),$AK$2,0))) -> 5 | P23: 2 | Q23: 0 | R23: =IF(OR(EXACT($P$10,P23)*(EXACT($Q$10,Q23)))=TRUE,$AK$7,IF(($Q$10-$P$10=Q23-P23),$AK$4,IF(OR(EXACT($P$10>$Q$10,P23>Q23)*EXACT($P$10=$Q$10,P23=Q23)*EXACT($P$10<$Q$10,P23<Q23)),$AK$2,0))) -> 0 | S23: 0 | T23: 0 | U23: =IF(OR(EXACT($S$10,S23)*(EXACT($T$10,T23)))=TRUE,$AK$7,IF(($T$10-$S$10=T23-S23),$AK$4,IF(OR(EXACT($S$10>$T$10,S23>T23)*EXACT($S$10=$T$10,S23=T23)*EXACT($S$10<$T$10,S23<T23)),$AK$2,0))) -> 3 | V23: 1 | W23: 3 | X23: =IF(OR(EXACT($V$10,V23)*(EXACT($W$10,W23)))=TRUE,$AK$7,IF(($W$10-$V$10=W23-V23),$AK$4,IF(OR(EXACT($V$10>$W$10,V23>W23)*EXACT($V$10=$W$10,V23=W23)*EXACT($V$10<$W$10,V23<W23)),$AK$2,0))) -> 2 | Y23: 3 | Z23: 1 | AA23: =IF(OR(EXACT($Y$10,Y23)*(EXACT($Z$10,Z23)))=TRUE,$AK$7,IF(($Z$10-$Y$10=Z23-Y23),$AK$4,IF(OR(EXACT($Y$10>$Z$10,Y23>Z23)*EXACT($Y$10=$Z$10,Y23=Z23)*EXACT($Y$10<$Z$10,Y23<Z23)),$AK$2,0))) -> 0 | AB23: 3 | AC23: 1 | AD23: =IF(OR(EXACT($AB$10,AB23)*(EXACT($AC$10,AC23)))=TRUE,$AK$7,IF(($AC$10-$AB$10=AC23-AB23),$AK$4,IF(OR(EXACT($AB$10>$AC$10,AB23>AC23)*EXACT($AB$10=$AC$10,AB23=AC23)*EXACT($AB$10<$AC$10,AB23<AC23)),$AK$2,0)))*2*2 -> 0 | AH23: =AD23+L23+I23+AA23+X23+R23+O23+F23+U23+AG23 -> 12 | AI23: ='1.Spieltag'!AJ28 -> 6 | AJ23: ='1.Spieltag'!AK28 -> 15 | AK23: =AH23+AI23 -> 18 | AL23: =RANK(AK23,$AK$11:$AK$33) -> 11
A24: =AL24 -> 14 | B24: =AL24 -> 14 | C24: ='1.Spieltag'!B13 -> SkillFailer | D24: 0 | E24: 2 | F24: =IF(OR(EXACT($D$10,D24)*(EXACT($E$10,E24)))=TRUE,$AK$7,IF(($E$10-$D$10=E24-D24),$AK$4,IF(OR(EXACT($D$10>$E$10,D24>E24)*EXACT($D$10=$E$10,D24=E24)*EXACT($D$10<$E$10,D24<E24)),$AK$2,0))) -> 0 | G24: 3 | H24: 1 | I24: =IF(OR(EXACT($G$10,G24)*(EXACT($H$10,H24)))=TRUE,$AK$7,IF(($H$10-$G$10=H24-G24),$AK$4,IF(OR(EXACT($G$10>$H$10,G24>H24)*EXACT($G$10=$H$10,G24=H24)*EXACT($G$10<$H$10,G24<H24)),$AK$2,0))) -> 0 | J24: 2 | K24: 2 | L24: =IF(OR(EXACT($J$10,J24)*(EXACT($K$10,K24)))=TRUE,$AK$7,IF(($K$10-$J$10=K24-J24),$AK$4,IF(OR(EXACT($J$10>$K$10,J24>K24)*EXACT($J$10=$K$10,J24=K24)*EXACT($J$10<$K$10,J24<K24)),$AK$2,0))) -> 0 | M24: 0 | N24: 2 | O24: =IF(OR(EXACT($M$10,M24)*(EXACT($N$10,N24)))=TRUE,$AK$7,IF(($N$10-$M$10=N24-M24),$AK$4,IF(OR(EXACT($M$10>$N$10,M24>N24)*EXACT($M$10=$N$10,M24=N24)*EXACT($M$10<$N$10,M24<N24)),$AK$2,0))) -> 0 | P24: 1 | Q24: 1 | R24: =IF(OR(EXACT($P$10,P24)*(EXACT($Q$10,Q24)))=TRUE,$AK$7,IF(($Q$10-$P$10=Q24-P24),$AK$4,IF(OR(EXACT($P$10>$Q$10,P24>Q24)*EXACT($P$10=$Q$10,P24=Q24)*EXACT($P$10<$Q$10,P24<Q24)),$AK$2,0))) -> 0 | S24: 2 | T24: 1 | U24: =IF(OR(EXACT($S$10,S24)*(EXACT($T$10,T24)))=TRUE,$AK$7,IF(($T$10-$S$10=T24-S24),$AK$4,IF(OR(EXACT($S$10>$T$10,S24>T24)*EXACT($S$10=$T$10,S24=T24)*EXACT($S$10<$T$10,S24<T24)),$AK$2,0))) -> 0 | V24: 0 | W24: 4 | X24: =IF(OR(EXACT($V$10,V24)*(EXACT($W$10,W24)))=TRUE,$AK$7,IF(($W$10-$V$10=W24-V24),$AK$4,IF(OR(EXACT($V$10>$W$10,V24>W24)*EXACT($V$10=$W$10,V24=W24)*EXACT($V$10<$W$10,V24<W24)),$AK$2,0))) -> 2 | Y24: 3 | Z24: 1 | AA24: =IF(OR(EXACT($Y$10,Y24)*(EXACT($Z$10,Z24)))=TRUE,$AK$7,IF(($Z$10-$Y$10=Z24-Y24),$AK$4,IF(OR(EXACT($Y$10>$Z$10,Y24>Z24)*EXACT($Y$10=$Z$10,Y24=Z24)*EXACT($Y$10<$Z$10,Y24<Z24)),$AK$2,0))) -> 0 | AB24: 1 | AC24: 0 | AD24: =IF(OR(EXACT($AB$10,AB24)*(EXACT($AC$10,AC24)))=TRUE,$AK$7,IF(($AC$10-$AB$10=AC24-AB24),$AK$4,IF(OR(EXACT($AB$10>$AC$10,AB24>AC24)*EXACT($AB$10=$AC$10,AB24=AC24)*EXACT($AB$10<$AC$10,AB24<AC24)),$AK$2,0)))*2*2 -> 0 | AH24: =AD24+L24+I24+AA24+X24+R24+O24+F24+U24+AG24 -> 2 | AI24: ='1.Spieltag'!AJ13 -> 15 | AJ24: ='1.Spieltag'!AK12 -> 2 | AK24: =AH24+AI24 -> 17 | AL24: =RANK(AK24,$AK$11:$AK$33) -> 14
A25: =AL25 -> 15 | B25: =AL25 -> 15 | C25: ='1.Spieltag'!B25 -> gaby04 | D25: 0 | E25: 2 | F25: =IF(OR(EXACT($D$10,D25)*(EXACT($E$10,E25)))=TRUE,$AK$7,IF(($E$10-$D$10=E25-D25),$AK$4,IF(OR(EXACT($D$10>$E$10,D25>E25)*EXACT($D$10=$E$10,D25=E25)*EXACT($D$10<$E$10,D25<E25)),$AK$2,0))) -> 0 | G25: 2 | H25: 1 | I25: =IF(OR(EXACT($G$10,G25)*(EXACT($H$10,H25)))=TRUE,$AK$7,IF(($H$10-$G$10=H25-G25),$AK$4,IF(OR(EXACT($G$10>$H$10,G25>H25)*EXACT($G$10=$H$10,G25=H25)*EXACT($G$10<$H$10,G25<H25)),$AK$2,0))) -> 0 | J25: 2 | K25: 0 | L25: =IF(OR(EXACT($J$10,J25)*(EXACT($K$10,K25)))=TRUE,$AK$7,IF(($K$10-$J$10=K25-J25),$AK$4,IF(OR(EXACT($J$10>$K$10,J25>K25)*EXACT($J$10=$K$10,J25=K25)*EXACT($J$10<$K$10,J25<K25)),$AK$2,0))) -> 3 | M25: 1 | N25: 1 | O25: =IF(OR(EXACT($M$10,M25)*(EXACT($N$10,N25)))=TRUE,$AK$7,IF(($N$10-$M$10=N25-M25),$AK$4,IF(OR(EXACT($M$10>$N$10,M25>N25)*EXACT($M$10=$N$10,M25=N25)*EXACT($M$10<$N$10,M25<N25)),$AK$2,0))) -> 5 | P25: 2 | Q25: 1 | R25: =IF(OR(EXACT($P$10,P25)*(EXACT($Q$10,Q25)))=TRUE,$AK$7,IF(($Q$10-$P$10=Q25-P25),$AK$4,IF(OR(EXACT($P$10>$Q$10,P25>Q25)*EXACT($P$10=$Q$10,P25=Q25)*EXACT($P$10<$Q$10,P25<Q25)),$AK$2,0))) -> 0 | S25: 2 | T25: 0 | U25: =IF(OR(EXACT($S$10,S25)*(EXACT($T$10,T25)))=TRUE,$AK$7,IF(($T$10-$S$10=T25-S25),$AK$4,IF(OR(EXACT($S$10>$T$10,S25>T25)*EXACT($S$10=$T$10,S25=T25)*EXACT($S$10<$T$10,S25<T25)),$AK$2,0))) -> 0 | V25: 0 | W25: 2 | X25: =IF(OR(EXACT($V$10,V25)*(EXACT($W$10,W25)))=TRUE,$AK$7,IF(($W$10-$V$10=W25-V25),$AK$4,IF(OR(EXACT($V$10>$W$10,V25>W25)*EXACT($V$10=$W$10,V25=W25)*EXACT($V$10<$W$10,V25<W25)),$AK$2,0))) -> 2 | Y25: 2 | Z25: 0 | AA25: =IF(OR(EXACT($Y$10,Y25)*(EXACT($Z$10,Z25)))=TRUE,$AK$7,IF(($Z$10-$Y$10=Z25-Y25),$AK$4,IF(OR(EXACT($Y$10>$Z$10,Y25>Z25)*EXACT($Y$10=$Z$10,Y25=Z25)*EXACT($Y$10<$Z$10,Y25<Z25)),$AK$2,0))) -> 0 | AB25: 2 | AC25: 0 | AD25: =IF(OR(EXACT($AB$10,AB25)*(EXACT($AC$10,AC25)))=TRUE,$AK$7,IF(($AC$10-$AB$10=AC25-AB25),$AK$4,IF(OR(EXACT($AB$10>$AC$10,AB25>AC25)*EXACT($AB$10=$AC$10,AB25=AC25)*EXACT($AB$10<$AC$10,AB25<AC25)),$AK$2,0)))*2*2 -> 0 | AH25: =AD25+L25+I25+AA25+X25+R25+O25+F25+U25+AG25 -> 10 | AI25: ='1.Spieltag'!AJ25 -> 6 | AJ25: ='1.Spieltag'!AK26 -> 15 | AK25: =AH25+AI25 -> 16 | AL25: =RANK(AK25,$AK$11:$AK$33) -> 15
A26: =AL26 -> 15 | B26: =AL26 -> 15 | C26: ='1.Spieltag'!B30 -> Schalkekalle | D26: 2 | E26: 2 | F26: =IF(OR(EXACT($D$10,D26)*(EXACT($E$10,E26)))=TRUE,$AK$7,IF(($E$10-$D$10=E26-D26),$AK$4,IF(OR(EXACT($D$10>$E$10,D26>E26)*EXACT($D$10=$E$10,D26=E26)*EXACT($D$10<$E$10,D26<E26)),$AK$2,0))) -> 3 | G26: 3 | H26: 1 | I26: =IF(OR(EXACT($G$10,G26)*(EXACT($H$10,H26)))=TRUE,$AK$7,IF(($H$10-$G$10=H26-G26),$AK$4,IF(OR(EXACT($G$10>$H$10,G26>H26)*EXACT($G$10=$H$10,G26=H26)*EXACT($G$10<$H$10,G26<H26)),$AK$2,0))) -> 0 | J26: 2 | K26: 0 | L26: =IF(OR(EXACT($J$10,J26)*(EXACT($K$10,K26)))=TRUE,$AK$7,IF(($K$10-$J$10=K26-J26),$AK$4,IF(OR(EXACT($J$10>$K$10,J26>K26)*EXACT($J$10=$K$10,J26=K26)*EXACT($J$10<$K$10,J26<K26)),$AK$2,0))) -> 3 | M26: 1 | N26: 1 | O26: =IF(OR(EXACT($M$10,M26)*(EXACT($N$10,N26)))=TRUE,$AK$7,IF(($N$10-$M$10=N26-M26),$AK$4,IF(OR(EXACT($M$10>$N$10,M26>N26)*EXACT($M$10=$N$10,M26=N26)*EXACT($M$10<$N$10,M26<N26)),$AK$2,0))) -> 5 | P26: 1 | Q26: 1 | R26: =IF(OR(EXACT($P$10,P26)*(EXACT($Q$10,Q26)))=TRUE,$AK$7,IF(($Q$10-$P$10=Q26-P26),$AK$4,IF(OR(EXACT($P$10>$Q$10,P26>Q26)*EXACT($P$10=$Q$10,P26=Q26)*EXACT($P$10<$Q$10,P26<Q26)),$AK$2,0))) -> 0 | S26: 1 | T26: 0 | U26: =IF(OR(EXACT($S$10,S26)*(EXACT($T$10,T26)))=TRUE,$AK$7,IF(($T$10-$S$10=T26-S26),$AK$4,IF(OR(EXACT($S$10>$T$10,S26>T26)*EXACT($S$10=$T$10,S26=T26)*EXACT($S$10<$T$10,S26<T26)),$AK$2,0))) -> 0 | V26: 1 | W26: 1 | X26: =IF(OR(EXACT($V$10,V26)*(EXACT($W$10,W26)))=TRUE,$AK$7,IF(($W$10-$V$10=W26-V26),$AK$4,IF(OR(EXACT($V$10>$W$10,V26>W26)*EXACT($V$10=$W$10,V26=W26)*EXACT($V$10<$W$10,V26<W26)),$AK$2,0))) -> 0 | Y26: 2 | Z26: 0 | AA26: =IF(OR(EXACT($Y$10,Y26)*(EXACT($Z$10,Z26)))=TRUE,$AK$7,IF(($Z$10-$Y$10=Z26-Y26),$AK$4,IF(OR(EXACT($Y$10>$Z$10,Y26>Z26)*EXACT($Y$10=$Z$10,Y26=Z26)*EXACT($Y$10<$Z$10,Y26<Z26)),$AK$2,0))) -> 0 | AB26: 4 | AC26: 0 | AD26: =IF(OR(EXACT($AB$10,AB26)*(EXACT($AC$10,AC26)))=TRUE,$AK$7,IF(($AC$10-$AB$10=AC26-AB26),$AK$4,IF(OR(EXACT($AB$10>$AC$10,AB26>AC26)*EXACT($AB$10=$AC$10,AB26=AC26)*EXACT($AB$10<$AC$10,AB26<AC26)),$AK$2,0)))*2*2 -> 0 | AH26: =AD26+I26+X26+R26+AA26+L26+O26+F26+U26+AG26 -> 11 | AI26: ='1.Spieltag'!AJ30 -> 5 | AJ26: ='1.Spieltag'!AK30 -> 19 | AK26: =AH26+AI26 -> 16 | AL26: =RANK(AK26,$AK$11:$AK$33) -> 15
A27: =AL27 -> 17 | B27: =AL27 -> 17 | C27: ='1.Spieltag'!B32 -> archie04 | D27: 0 | E27: 3 | F27: =IF(OR(EXACT($D$10,D27)*(EXACT($E$10,E27)))=TRUE,$AK$7,IF(($E$10-$D$10=E27-D27),$AK$4,IF(OR(EXACT($D$10>$E$10,D27>E27)*EXACT($D$10=$E$10,D27=E27)*EXACT($D$10<$E$10,D27<E27)),$AK$2,0))) -> 0 | G27: 2 | H27: 1 | I27: =IF(OR(EXACT($G$10,G27)*(EXACT($H$10,H27)))=TRUE,$AK$7,IF(($H$10-$G$10=H27-G27),$AK$4,IF(OR(EXACT($G$10>$H$10,G27>H27)*EXACT($G$10=$H$10,G27=H27)*EXACT($G$10<$H$10,G27<H27)),$AK$2,0))) -> 0 | J27: 2 | K27: 2 | L27: =IF(OR(EXACT($J$10,J27)*(EXACT($K$10,K27)))=TRUE,$AK$7,IF(($K$10-$J$10=K27-J27),$AK$4,IF(OR(EXACT($J$10>$K$10,J27>K27)*EXACT($J$10=$K$10,J27=K27)*EXACT($J$10<$K$10,J27<K27)),$AK$2,0))) -> 0 | M27: 2 | N27: 2 | O27: =IF(OR(EXACT($M$10,M27)*(EXACT($N$10,N27)))=TRUE,$AK$7,IF(($N$10-$M$10=N27-M27),$AK$4,IF(OR(EXACT($M$10>$N$10,M27>N27)*EXACT($M$10=$N$10,M27=N27)*EXACT($M$10<$N$10,M27<N27)),$AK$2,0))) -> 3 | P27: 1 | Q27: 2 | R27: =IF(OR(EXACT($P$10,P27)*(EXACT($Q$10,Q27)))=TRUE,$AK$7,IF(($Q$10-$P$10=Q27-P27),$AK$4,IF(OR(EXACT($P$10>$Q$10,P27>Q27)*EXACT($P$10=$Q$10,P27=Q27)*EXACT($P$10<$Q$10,P27<Q27)),$AK$2,0))) -> 5 | S27: 2 | T27: 1 | U27: =IF(OR(EXACT($S$10,S27)*(EXACT($T$10,T27)))=TRUE,$AK$7,IF(($T$10-$S$10=T27-S27),$AK$4,IF(OR(EXACT($S$10>$T$10,S27>T27)*EXACT($S$10=$T$10,S27=T27)*EXACT($S$10<$T$10,S27<T27)),$AK$2,0))) -> 0 | V27: 1 | W27: 1 | X27: =IF(OR(EXACT($V$10,V27)*(EXACT($W$10,W27)))=TRUE,$AK$7,IF(($W$10-$V$10=W27-V27),$AK$4,IF(OR(EXACT($V$10>$W$10,V27>W27)*EXACT($V$10=$W$10,V27=W27)*EXACT($V$10<$W$10,V27<W27)),$AK$2,0))) -> 0 | Y27: 1 | Z27: 1 | AA27: =IF(OR(EXACT($Y$10,Y27)*(EXACT($Z$10,Z27)))=TRUE,$AK$7,IF(($Z$10-$Y$10=Z27-Y27),$AK$4,IF(OR(EXACT($Y$10>$Z$10,Y27>Z27)*EXACT($Y$10=$Z$10,Y27=Z27)*EXACT($Y$10<$Z$10,Y27<Z27)),$AK$2,0))) -> 5 | AB27: 4 | AC27: 0 | AD27: =IF(OR(EXACT($AB$10,AB27)*(EXACT($AC$10,AC27)))=TRUE,$AK$7,IF(($AC$10-$AB$10=AC27-AB27),$AK$4,IF(OR(EXACT($AB$10>$AC$10,AB27>AC27)*EXACT($AB$10=$AC$10,AB27=AC27)*EXACT($AB$10<$AC$10,AB27<AC27)),$AK$2,0)))*2*2 -> 0 | AH27: =AD27+I27+X27+R27+AA27+L27+O27+F27+U27+AG27 -> 13 | AI27: ='1.Spieltag'!AJ32 -> 2 | AJ27: ='1.Spieltag'!AK32 -> 22 | AK27: =AH27+AI27 -> 15 | AL27: =RANK(AK27,$AK$11:$AK$33) -> 17
A28: =AL28 -> 17 | B28: =AL28 -> 17 | C28: ='1.Spieltag'!B27 -> Mike04 | D28: 0 | E28: 1 | F28: =IF(OR(EXACT($D$10,D28)*(EXACT($E$10,E28)))=TRUE,$AK$7,IF(($E$10-$D$10=E28-D28),$AK$4,IF(OR(EXACT($D$10>$E$10,D28>E28)*EXACT($D$10=$E$10,D28=E28)*EXACT($D$10<$E$10,D28<E28)),$AK$2,0))) -> 0 | G28: 2 | H28: 1 | I28: =IF(OR(EXACT($G$10,G28)*(EXACT($H$10,H28)))=TRUE,$AK$7,IF(($H$10-$G$10=H28-G28),$AK$4,IF(OR(EXACT($G$10>$H$10,G28>H28)*EXACT($G$10=$H$10,G28=H28)*EXACT($G$10<$H$10,G28<H28)),$AK$2,0))) -> 0 | J28: 3 | K28: 0 | L28: =IF(OR(EXACT($J$10,J28)*(EXACT($K$10,K28)))=TRUE,$AK$7,IF(($K$10-$J$10=K28-J28),$AK$4,IF(OR(EXACT($J$10>$K$10,J28>K28)*EXACT($J$10=$K$10,J28=K28)*EXACT($J$10<$K$10,J28<K28)),$AK$2,0))) -> 2 | M28: 1 | N28: 2 | O28: =IF(OR(EXACT($M$10,M28)*(EXACT($N$10,N28)))=TRUE,$AK$7,IF(($N$10-$M$10=N28-M28),$AK$4,IF(OR(EXACT($M$10>$N$10,M28>N28)*EXACT($M$10=$N$10,M28=N28)*EXACT($M$10<$N$10,M28<N28)),$AK$2,0))) -> 0 | P28: 2 | Q28: 2 | R28: =IF(OR(EXACT($P$10,P28)*(EXACT($Q$10,Q28)))=TRUE,$AK$7,IF(($Q$10-$P$10=Q28-P28),$AK$4,IF(OR(EXACT($P$10>$Q$10,P28>Q28)*EXACT($P$10=$Q$10,P28=Q28)*EXACT($P$10<$Q$10,P28<Q28)),$AK$2,0))) -> 0 | S28: 1 | T28: 1 | U28: =IF(OR(EXACT($S$10,S28)*(EXACT($T$10,T28)))=TRUE,$AK$7,IF(($T$10-$S$10=T28-S28),$AK$4,IF(OR(EXACT($S$10>$T$10,S28>T28)*EXACT($S$10=$T$10,S28=T28)*EXACT($S$10<$T$10,S28<T28)),$AK$2,0))) -> 5 | V28: 1 | W28: 3 | X28: =IF(OR(EXACT($V$10,V28)*(EXACT($W$10,W28)))=TRUE,$AK$7,IF(($W$10-$V$10=W28-V28),$AK$4,IF(OR(EXACT($V$10>$W$10,V28>W28)*EXACT($V$10=$W$10,V28=W28)*EXACT($V$10<$W$10,V28<W28)),$AK$2,0))) -> 2 | Y28: 2 | Z28: 1 | AA28: =IF(OR(EXACT($Y$10,Y28)*(EXACT($Z$10,Z28)))=TRUE,$AK$7,IF(($Z$10-$Y$10=Z28-Y28),$AK$4,IF(OR(EXACT($Y$10>$Z$10,Y28>Z28)*EXACT($Y$10=$Z$10,Y28=Z28)*EXACT($Y$10<$Z$10,Y28<Z28)),$AK$2,0))) -> 0 | AB28: 2 | AC28: 0 | AD28: =IF(OR(EXACT($AB$10,AB28)*(EXACT($AC$10,AC28)))=TRUE,$AK$7,IF(($AC$10-$AB$10=AC28-AB28),$AK$4,IF(OR(EXACT($AB$10>$AC$10,AB28>AC28)*EXACT($AB$10=$AC$10,AB28=AC28)*EXACT($AB$10<$AC$10,AB28<AC28)),$AK$2,0)))*2*2 -> 0 | AH28: =AD28+L28+I28+AA28+X28+R28+O28+F28+U28+AG28 -> 9 | AI28: ='1.Spieltag'!AJ27 -> 6 | AJ28: ='1.Spieltag'!AK27 -> 15 | AK28: =AH28+AI28 -> 15 | AL28: =RANK(AK28,$AK$11:$AK$33) -> 17
A29: =AL29 -> 19 | B29: =AL29 -> 19 | C29: ='1.Spieltag'!B22 -> Master1 | D29: 1 | E29: 2 | F29: =IF(OR(EXACT($D$10,D29)*(EXACT($E$10,E29)))=TRUE,$AK$7,IF(($E$10-$D$10=E29-D29),$AK$4,IF(OR(EXACT($D$10>$E$10,D29>E29)*EXACT($D$10=$E$10,D29=E29)*EXACT($D$10<$E$10,D29<E29)),$AK$2,0))) -> 0 | G29: 3 | H29: 1 | I29: =IF(OR(EXACT($G$10,G29)*(EXACT($H$10,H29)))=TRUE,$AK$7,IF(($H$10-$G$10=H29-G29),$AK$4,IF(OR(EXACT($G$10>$H$10,G29>H29)*EXACT($G$10=$H$10,G29=H29)*EXACT($G$10<$H$10,G29<H29)),$AK$2,0))) -> 0 | J29: 2 | K29: 0 | L29: =IF(OR(EXACT($J$10,J29)*(EXACT($K$10,K29)))=TRUE,$AK$7,IF(($K$10-$J$10=K29-J29),$AK$4,IF(OR(EXACT($J$10>$K$10,J29>K29)*EXACT($J$10=$K$10,J29=K29)*EXACT($J$10<$K$10,J29<K29)),$AK$2,0))) -> 3 | M29: 1 | N29: 2 | O29: =IF(OR(EXACT($M$10,M29)*(EXACT($N$10,N29)))=TRUE,$AK$7,IF(($N$10-$M$10=N29-M29),$AK$4,IF(OR(EXACT($M$10>$N$10,M29>N29)*EXACT($M$10=$N$10,M29=N29)*EXACT($M$10<$N$10,M29<N29)),$AK$2,0))) -> 0 | P29: 2 | Q29: 2 | R29: =IF(OR(EXACT($P$10,P29)*(EXACT($Q$10,Q29)))=TRUE,$AK$7,IF(($Q$10-$P$10=Q29-P29),$AK$4,IF(OR(EXACT($P$10>$Q$10,P29>Q29)*EXACT($P$10=$Q$10,P29=Q29)*EXACT($P$10<$Q$10,P29<Q29)),$AK$2,0))) -> 0 | S29: 2 | T29: 1 | U29: =IF(OR(EXACT($S$10,S29)*(EXACT($T$10,T29)))=TRUE,$AK$7,IF(($T$10-$S$10=T29-S29),$AK$4,IF(OR(EXACT($S$10>$T$10,S29>T29)*EXACT($S$10=$T$10,S29=T29)*EXACT($S$10<$T$10,S29<T29)),$AK$2,0))) -> 0 | V29: 1 | W29: 3 | X29: =IF(OR(EXACT($V$10,V29)*(EXACT($W$10,W29)))=TRUE,$AK$7,IF(($W$10-$V$10=W29-V29),$AK$4,IF(OR(EXACT($V$10>$W$10,V29>W29)*EXACT($V$10=$W$10,V29=W29)*EXACT($V$10<$W$10,V29<W29)),$AK$2,0))) -> 2 | Y29: 2 | Z29: 0 | AA29: =IF(OR(EXACT($Y$10,Y29)*(EXACT($Z$10,Z29)))=TRUE,$AK$7,IF(($Z$10-$Y$10=Z29-Y29),$AK$4,IF(OR(EXACT($Y$10>$Z$10,Y29>Z29)*EXACT($Y$10=$Z$10,Y29=Z29)*EXACT($Y$10<$Z$10,Y29<Z29)),$AK$2,0))) -> 0 | AB29: 3 | AC29: 1 | AD29: =IF(OR(EXACT($AB$10,AB29)*(EXACT($AC$10,AC29)))=TRUE,$AK$7,IF(($AC$10-$AB$10=AC29-AB29),$AK$4,IF(OR(EXACT($AB$10>$AC$10,AB29>AC29)*EXACT($AB$10=$AC$10,AB29=AC29)*EXACT($AB$10<$AC$10,AB29<AC29)),$AK$2,0)))*2*2 -> 0 | AH29: =AD29+L29+I29+AA29+X29+R29+O29+F29+U29+AG29 -> 5 | AI29: ='1.Spieltag'!AJ22 -> 8 | AJ29: ='1.Spieltag'!AK20 -> 10 | AK29: =AH29+AI29 -> 13 | AL29: =RANK(AK29,$AK$11:$AK$33) -> 19
A30: =AL30 -> 19 | B30: =AL30 -> 19 | C30: ='1.Spieltag'!B18 -> Tanja 04 | D30: 1 | E30: 2 | F30: =IF(OR(EXACT($D$10,D30)*(EXACT($E$10,E30)))=TRUE,$AK$7,IF(($E$10-$D$10=E30-D30),$AK$4,IF(OR(EXACT($D$10>$E$10,D30>E30)*EXACT($D$10=$E$10,D30=E30)*EXACT($D$10<$E$10,D30<E30)),$AK$2,0))) -> 0 | G30: 2 | H30: 1 | I30: =IF(OR(EXACT($G$10,G30)*(EXACT($H$10,H30)))=TRUE,$AK$7,IF(($H$10-$G$10=H30-G30),$AK$4,IF(OR(EXACT($G$10>$H$10,G30>H30)*EXACT($G$10=$H$10,G30=H30)*EXACT($G$10<$H$10,G30<H30)),$AK$2,0))) -> 0 | J30: 3 | K30: 0 | L30: =IF(OR(EXACT($J$10,J30)*(EXACT($K$10,K30)))=TRUE,$AK$7,IF(($K$10-$J$10=K30-J30),$AK$4,IF(OR(EXACT($J$10>$K$10,J30>K30)*EXACT($J$10=$K$10,J30=K30)*EXACT($J$10<$K$10,J30<K30)),$AK$2,0))) -> 2 | M30: 0 | N30: 1 | O30: =IF(OR(EXACT($M$10,M30)*(EXACT($N$10,N30)))=TRUE,$AK$7,IF(($N$10-$M$10=N30-M30),$AK$4,IF(OR(EXACT($M$10>$N$10,M30>N30)*EXACT($M$10=$N$10,M30=N30)*EXACT($M$10<$N$10,M30<N30)),$AK$2,0))) -> 0 | P30: 2 | Q30: 1 | R30: =IF(OR(EXACT($P$10,P30)*(EXACT($Q$10,Q30)))=TRUE,$AK$7,IF(($Q$10-$P$10=Q30-P30),$AK$4,IF(OR(EXACT($P$10>$Q$10,P30>Q30)*EXACT($P$10=$Q$10,P30=Q30)*EXACT($P$10<$Q$10,P30<Q30)),$AK$2,0))) -> 0 | S30: 1 | T30: 0 | U30: =IF(OR(EXACT($S$10,S30)*(EXACT($T$10,T30)))=TRUE,$AK$7,IF(($T$10-$S$10=T30-S30),$AK$4,IF(OR(EXACT($S$10>$T$10,S30>T30)*EXACT($S$10=$T$10,S30=T30)*EXACT($S$10<$T$10,S30<T30)),$AK$2,0))) -> 0 | V30: 1 | W30: 3 | X30: =IF(OR(EXACT($V$10,V30)*(EXACT($W$10,W30)))=TRUE,$AK$7,IF(($W$10-$V$10=W30-V30),$AK$4,IF(OR(EXACT($V$10>$W$10,V30>W30)*EXACT($V$10=$W$10,V30=W30)*EXACT($V$10<$W$10,V30<W30)),$AK$2,0))) -> 2 | Y30: 2 | Z30: 0 | AA30: =IF(OR(EXACT($Y$10,Y30)*(EXACT($Z$10,Z30)))=TRUE,$AK$7,IF(($Z$10-$Y$10=Z30-Y30),$AK$4,IF(OR(EXACT($Y$10>$Z$10,Y30>Z30)*EXACT($Y$10=$Z$10,Y30=Z30)*EXACT($Y$10<$Z$10,Y30<Z30)),$AK$2,0))) -> 0 | AB30: 2 | AC30: 0 | AD30: =IF(OR(EXACT($AB$10,AB30)*(EXACT($AC$10,AC30)))=TRUE,$AK$7,IF(($AC$10-$AB$10=AC30-AB30),$AK$4,IF(OR(EXACT($AB$10>$AC$10,AB30>AC30)*EXACT($AB$10=$AC$10,AB30=AC30)*EXACT($AB$10<$AC$10,AB30<AC30)),$AK$2,0)))*2*2 -> 0 | AH30: =AD30+L30+I30+AA30+X30+R30+O30+F30+U30+AG30 -> 4 | AI30: ='1.Spieltag'!AJ18 -> 9 | AJ30: ='1.Spieltag'!AK19 -> 8 | AK30: =AH30+AI30 -> 13 | AL30: =RANK(AK30,$AK$11:$AK$33) -> 19
A31: =AL31 -> 21 | B31: =AL31 -> 21 | C31: ='1.Spieltag'!B24 -> Reinhold | D31: 1 | E31: 2 | F31: =IF(OR(EXACT($D$10,D31)*(EXACT($E$10,E31)))=TRUE,$AK$7,IF(($E$10-$D$10=E31-D31),$AK$4,IF(OR(EXACT($D$10>$E$10,D31>E31)*EXACT($D$10=$E$10,D31=E31)*EXACT($D$10<$E$10,D31<E31)),$AK$2,0))) -> 0 | G31: 3 | H31: 1 | I31: =IF(OR(EXACT($G$10,G31)*(EXACT($H$10,H31)))=TRUE,$AK$7,IF(($H$10-$G$10=H31-G31),$AK$4,IF(OR(EXACT($G$10>$H$10,G31>H31)*EXACT($G$10=$H$10,G31=H31)*EXACT($G$10<$H$10,G31<H31)),$AK$2,0))) -> 0 | J31: 3 | K31: 1 | L31: =IF(OR(EXACT($J$10,J31)*(EXACT($K$10,K31)))=TRUE,$AK$7,IF(($K$10-$J$10=K31-J31),$AK$4,IF(OR(EXACT($J$10>$K$10,J31>K31)*EXACT($J$10=$K$10,J31=K31)*EXACT($J$10<$K$10,J31<K31)),$AK$2,0))) -> 5 | M31: 2 | N31: 1 | O31: =IF(OR(EXACT($M$10,M31)*(EXACT($N$10,N31)))=TRUE,$AK$7,IF(($N$10-$M$10=N31-M31),$AK$4,IF(OR(EXACT($M$10>$N$10,M31>N31)*EXACT($M$10=$N$10,M31=N31)*EXACT($M$10<$N$10,M31<N31)),$AK$2,0))) -> 0 | P31: 1 | Q31: 1 | R31: =IF(OR(EXACT($P$10,P31)*(EXACT($Q$10,Q31)))=TRUE,$AK$7,IF(($Q$10-$P$10=Q31-P31),$AK$4,IF(OR(EXACT($P$10>$Q$10,P31>Q31)*EXACT($P$10=$Q$10,P31=Q31)*EXACT($P$10<$Q$10,P31<Q31)),$AK$2,0))) -> 0 | S31: 2 | T31: 1 | U31: =IF(OR(EXACT($S$10,S31)*(EXACT($T$10,T31)))=TRUE,$AK$7,IF(($T$10-$S$10=T31-S31),$AK$4,IF(OR(EXACT($S$10>$T$10,S31>T31)*EXACT($S$10=$T$10,S31=T31)*EXACT($S$10<$T$10,S31<T31)),$AK$2,0))) -> 0 | V31: 2 | W31: 0 | X31: =IF(OR(EXACT($V$10,V31)*(EXACT($W$10,W31)))=TRUE,$AK$7,IF(($W$10-$V$10=W31-V31),$AK$4,IF(OR(EXACT($V$10>$W$10,V31>W31)*EXACT($V$10=$W$10,V31=W31)*EXACT($V$10<$W$10,V31<W31)),$AK$2,0))) -> 0 | Y31: 3 | Z31: 1 | AA31: =IF(OR(EXACT($Y$10,Y31)*(EXACT($Z$10,Z31)))=TRUE,$AK$7,IF(($Z$10-$Y$10=Z31-Y31),$AK$4,IF(OR(EXACT($Y$10>$Z$10,Y31>Z31)*EXACT($Y$10=$Z$10,Y31=Z31)*EXACT($Y$10<$Z$10,Y31<Z31)),$AK$2,0))) -> 0 | AB31: 3 | AC31: 1 | AD31: =IF(OR(EXACT($AB$10,AB31)*(EXACT($AC$10,AC31)))=TRUE,$AK$7,IF(($AC$10-$AB$10=AC31-AB31),$AK$4,IF(OR(EXACT($AB$10>$AC$10,AB31>AC31)*EXACT($AB$10=$AC$10,AB31=AC31)*EXACT($AB$10<$AC$10,AB31<AC31)),$AK$2,0)))*2*2 -> 0 | AH31: =AD31+L31+I31+AA31+X31+R31+O31+F31+U31+AG31 -> 5 | AI31: ='1.Spieltag'!AJ24 -> 7 | AJ31: ='1.Spieltag'!AK24 -> 13 | AK31: =AH31+AI31 -> 12 | AL31: =RANK(AK31,$AK$11:$AK$33) -> 21
A32: =AL32 -> 21 | B32: =AL32 -> 21 | C32: ='1.Spieltag'!B33 -> schalt04 | D32: 1 | E32: 2 | F32: =IF(OR(EXACT($D$10,D32)*(EXACT($E$10,E32)))=TRUE,$AK$7,IF(($E$10-$D$10=E32-D32),$AK$4,IF(OR(EXACT($D$10>$E$10,D32>E32)*EXACT($D$10=$E$10,D32=E32)*EXACT($D$10<$E$10,D32<E32)),$AK$2,0))) -> 0 | G32: 3 | H32: 1 | I32: =IF(OR(EXACT($G$10,G32)*(EXACT($H$10,H32)))=TRUE,$AK$7,IF(($H$10-$G$10=H32-G32),$AK$4,IF(OR(EXACT($G$10>$H$10,G32>H32)*EXACT($G$10=$H$10,G32=H32)*EXACT($G$10<$H$10,G32<H32)),$AK$2,0))) -> 0 | J32: 3 | K32: 1 | L32: =IF(OR(EXACT($J$10,J32)*(EXACT($K$10,K32)))=TRUE,$AK$7,IF(($K$10-$J$10=K32-J32),$AK$4,IF(OR(EXACT($J$10>$K$10,J32>K32)*EXACT($J$10=$K$10,J32=K32)*EXACT($J$10<$K$10,J32<K32)),$AK$2,0))) -> 5 | M32: 1 | N32: 3 | O32: =IF(OR(EXACT($M$10,M32)*(EXACT($N$10,N32)))=TRUE,$AK$7,IF(($N$10-$M$10=N32-M32),$AK$4,IF(OR(EXACT($M$10>$N$10,M32>N32)*EXACT($M$10=$N$10,M32=N32)*EXACT($M$10<$N$10,M32<N32)),$AK$2,0))) -> 0 | P32: 1 | Q32: 1 | R32: =IF(OR(EXACT($P$10,P32)*(EXACT($Q$10,Q32)))=TRUE,$AK$7,IF(($Q$10-$P$10=Q32-P32),$AK$4,IF(OR(EXACT($P$10>$Q$10,P32>Q32)*EXACT($P$10=$Q$10,P32=Q32)*EXACT($P$10<$Q$10,P32<Q32)),$AK$2,0))) -> 0 | S32: 1 | T32: 1 | U32: =IF(OR(EXACT($S$10,S32)*(EXACT($T$10,T32)))=TRUE,$AK$7,IF(($T$10-$S$10=T32-S32),$AK$4,IF(OR(EXACT($S$10>$T$10,S32>T32)*EXACT($S$10=$T$10,S32=T32)*EXACT($S$10<$T$10,S32<T32)),$AK$2,0))) -> 5 | V32: 1 | W32: 3 | X32: =IF(OR(EXACT($V$10,V32)*(EXACT($W$10,W32)))=TRUE,$AK$7,IF(($W$10-$V$10=W32-V32),$AK$4,IF(OR(EXACT($V$10>$W$10,V32>W32)*EXACT($V$10=$W$10,V32=W32)*EXACT($V$10<$W$10,V32<W32)),$AK$2,0))) -> 2 | Y32: 2 | Z32: 0 | AA32: =IF(OR(EXACT($Y$10,Y32)*(EXACT($Z$10,Z32)))=TRUE,$AK$7,IF(($Z$10-$Y$10=Z32-Y32),$AK$4,IF(OR(EXACT($Y$10>$Z$10,Y32>Z32)*EXACT($Y$10=$Z$10,Y32=Z32)*EXACT($Y$10<$Z$10,Y32<Z32)),$AK$2,0))) -> 0 | AB32: 3 | AC32: 1 | AD32: =IF(OR(EXACT($AB$10,AB32)*(EXACT($AC$10,AC32)))=TRUE,$AK$7,IF(($AC$10-$AB$10=AC32-AB32),$AK$4,IF(OR(EXACT($AB$10>$AC$10,AB32>AC32)*EXACT($AB$10=$AC$10,AB32=AC32)*EXACT($AB$10<$AC$10,AB32<AC32)),$AK$2,0)))*2*2 -> 0 | AH32: =AD32+I32+X32+R32+AA32+L32+O32+F32+U32+AG32 -> 12 | AI32: ='1.Spieltag'!AJ33 -> 0 | AJ32: ='1.Spieltag'!AK33 -> 0 | AK32: =AH32+AI32 -> 12 | AL32: =RANK(AK32,$AK$11:$AK$33) -> 21
A33: =AL33 -> 23 | B33: =AL33 -> 23 | C33: ='1.Spieltag'!B26 -> Gudrun | D33: 1 | E33: 3 | F33: =IF(OR(EXACT($D$10,D33)*(EXACT($E$10,E33)))=TRUE,$AK$7,IF(($E$10-$D$10=E33-D33),$AK$4,IF(OR(EXACT($D$10>$E$10,D33>E33)*EXACT($D$10=$E$10,D33=E33)*EXACT($D$10<$E$10,D33<E33)),$AK$2,0))) -> 0 | G33: 2 | H33: 1 | I33: =IF(OR(EXACT($G$10,G33)*(EXACT($H$10,H33)))=TRUE,$AK$7,IF(($H$10-$G$10=H33-G33),$AK$4,IF(OR(EXACT($G$10>$H$10,G33>H33)*EXACT($G$10=$H$10,G33=H33)*EXACT($G$10<$H$10,G33<H33)),$AK$2,0))) -> 0 | J33: 3 | K33: 0 | L33: =IF(OR(EXACT($J$10,J33)*(EXACT($K$10,K33)))=TRUE,$AK$7,IF(($K$10-$J$10=K33-J33),$AK$4,IF(OR(EXACT($J$10>$K$10,J33>K33)*EXACT($J$10=$K$10,J33=K33)*EXACT($J$10<$K$10,J33<K33)),$AK$2,0))) -> 2 | M33: 1 | N33: 2 | O33: =IF(OR(EXACT($M$10,M33)*(EXACT($N$10,N33)))=TRUE,$AK$7,IF(($N$10-$M$10=N33-M33),$AK$4,IF(OR(EXACT($M$10>$N$10,M33>N33)*EXACT($M$10=$N$10,M33=N33)*EXACT($M$10<$N$10,M33<N33)),$AK$2,0))) -> 0 | P33: 2 | Q33: 2 | R33: =IF(OR(EXACT($P$10,P33)*(EXACT($Q$10,Q33)))=TRUE,$AK$7,IF(($Q$10-$P$10=Q33-P33),$AK$4,IF(OR(EXACT($P$10>$Q$10,P33>Q33)*EXACT($P$10=$Q$10,P33=Q33)*EXACT($P$10<$Q$10,P33<Q33)),$AK$2,0))) -> 0 | S33: 1 | T33: 2 | U33: =IF(OR(EXACT($S$10,S33)*(EXACT($T$10,T33)))=TRUE,$AK$7,IF(($T$10-$S$10=T33-S33),$AK$4,IF(OR(EXACT($S$10>$T$10,S33>T33)*EXACT($S$10=$T$10,S33=T33)*EXACT($S$10<$T$10,S33<T33)),$AK$2,0))) -> 0 | V33: 1 | W33: 3 | X33: =IF(OR(EXACT($V$10,V33)*(EXACT($W$10,W33)))=TRUE,$AK$7,IF(($W$10-$V$10=W33-V33),$AK$4,IF(OR(EXACT($V$10>$W$10,V33>W33)*EXACT($V$10=$W$10,V33=W33)*EXACT($V$10<$W$10,V33<W33)),$AK$2,0))) -> 2 | Y33: 2 | Z33: 1 | AA33: =IF(OR(EXACT($Y$10,Y33)*(EXACT($Z$10,Z33)))=TRUE,$AK$7,IF(($Z$10-$Y$10=Z33-Y33),$AK$4,IF(OR(EXACT($Y$10>$Z$10,Y33>Z33)*EXACT($Y$10=$Z$10,Y33=Z33)*EXACT($Y$10<$Z$10,Y33<Z33)),$AK$2,0))) -> 0 | AB33: 2 | AC33: 1 | AD33: =IF(OR(EXACT($AB$10,AB33)*(EXACT($AC$10,AC33)))=TRUE,$AK$7,IF(($AC$10-$AB$10=AC33-AB33),$AK$4,IF(OR(EXACT($AB$10>$AC$10,AB33>AC33)*EXACT($AB$10=$AC$10,AB33=AC33)*EXACT($AB$10<$AC$10,AB33<AC33)),$AK$2,0)))*2*2 -> 0 | AH33: =AD33+L33+I33+AA33+X33+R33+O33+F33+U33+AG33 -> 4 | AI33: ='1.Spieltag'!AJ26 -> 6 | AJ33: ='1.Spieltag'!AK25 -> 15 | AK33: =AH33+AI33 -> 10 | AL33: =RANK(AK33,$AK$11:$AK$33) -> 23
A34: =AK34 -> 0 | B34: =AL34 -> 0 | C34: ='1.Spieltag'!B34 -> Ricardo04

Sheet 3.Spieltag
B1: 3. Spieltag | AG1: PUNKTEVERTEILUNG
AG2: richtige Tendenz | AJ2: 2
C4: Dortmund | F4: München | I4: Düsseldorf | L4: Wolfsburg | O4: Leipzig | R4: Mainz | U4: Gladbach | X4: Bremen | AA4: Freiburg | AG4: richtige Tendenz + | AJ4: 3
AG5: korrekter Torab
C6: Frankfurt | F6: Leverkusen | I6: Hoffenheim | L6: Berlin | O6: Hannover | R6: Augsburg | U6: Schalke 04 | X6: Nürnberg | AA6: Stuttgart
AG7: richtiges Ergebnis | AJ7: 5
AG8: G E S A M T W E R T U N G
AG9: Punkte | AH9: Punkte | AI9: Platz | AJ9: Gesamt | AK9: Platz
A10: PLATZ | B10: ERGEBNISSE=> | C10: 3 | D10: 1 | E10: Pkt. | F10: 3 | G10: 1 | H10: Pkt. | I10: 2 | J10: 1 | K10: Pkt. | L10: 2 | M10: 2 | N10: Pkt. | O10: 3 | P10: 2 | Q10: Pkt. | R10: 2 | S10: 1 | T10: Pkt. | U10: 2 | V10: 1 | W10: Pkt. | X10: 1 | Y10: 1 | Z10: Pkt. | AA10: 3 | AB10: 3 | AC10: Pkt. | AG10: Spieltag | AH10: bisher | AI10: bisher | AJ10: Punkte
A11: =AK11 -> 1 | B11: ='2.Spieltag'!C11 -> shiny | C11: 2 | D11: 1 | E11: =IF(OR(EXACT($C$10,C11)*(EXACT($D$10,D11)))=TRUE,$AJ$7,IF(($D$10-$C$10=D11-C11),$AJ$4,IF(OR(EXACT($C$10>$D$10,C11>D11)*EXACT($C$10=$D$10,C11=D11)*EXACT($C$10<$D$10,C11<D11)),$AJ$2,0))) -> 2 | F11: 3 | G11: 0 | H11: =IF(OR(EXACT($F$10,F11)*(EXACT($G$10,G11)))=TRUE,$AJ$7,IF(($G$10-$F$10=G11-F11),$AJ$4,IF(OR(EXACT($F$10>$G$10,F11>G11)*EXACT($F$10=$G$10,F11=G11)*EXACT($F$10<$G$10,F11<G11)),$AJ$2,0))) -> 2 | I11: 1 | J11: 2 | K11: =IF(OR(EXACT($I$10,I11)*(EXACT($J$10,J11)))=TRUE,$AJ$7,IF(($J$10-$I$10=J11-I11),$AJ$4,IF(OR(EXACT($I$10>$J$10,I11>J11)*EXACT($I$10=$J$10,I11=J11)*EXACT($I$10<$J$10,I11<J11)),$AJ$2,0))) -> 0 | L11: 1 | M11: 1 | N11: =IF(OR(EXACT($L$10,L11)*(EXACT($M$10,M11)))=TRUE,$AJ$7,IF(($M$10-$L$10=M11-L11),$AJ$4,IF(OR(EXACT($L$10>$M$10,L11>M11)*EXACT($L$10=$M$10,L11=M11)*EXACT($L$10<$M$10,L11<M11)),$AJ$2,0))) -> 3 | O11: 2 | P11: 1 | Q11: =IF(OR(EXACT($O$10,O11)*(EXACT($P$10,P11)))=TRUE,$AJ$7,IF(($P$10-$O$10=P11-O11),$AJ$4,IF(OR(EXACT($O$10>$P$10,O11>P11)*EXACT($O$10=$P$10,O11=P11)*EXACT($O$10<$P$10,O11<P11)),$AJ$2,0))) -> 3 | R11: 2 | S11: 1 | T11: =IF(OR(EXACT($R$10,R11)*(EXACT($S$10,S11)))=TRUE,$AJ$7,IF(($S$10-$R$10=S11-R11),$AJ$4,IF(OR(EXACT($R$10>$S$10,R11>S11)*EXACT($R$10=$S$10,R11=S11)*EXACT($R$10<$S$10,R11<S11)),$AJ$2,0))) -> 5 | U11: 1 | V11: 2 | W11: =IF(OR(EXACT($U$10,U11)*(EXACT($V$10,V11)))=TRUE,$AJ$7,IF(($V$10-$U$10=V11-U11),$AJ$4,IF(OR(EXACT($U$10>$V$10,U11>V11)*EXACT($U$10=$V$10,U11=V11)*EXACT($U$10<$V$10,U11<V11)),$AJ$2,0)))*2*2 -> 0 | X11: 2 | Y11: 1 | Z11: =IF(OR(EXACT($X$10,X11)*(EXACT($Y$10,Y11)))=TRUE,$AJ$7,IF(($Y$10-$X$10=Y11-X11),$AJ$4,IF(OR(EXACT($X$10>$Y$10,X11>Y11)*EXACT($X$10=$Y$10,X11=Y11)*EXACT($X$10<$Y$10,X11<Y11)),$AJ$2,0))) -> 0 | AA11: 1 | AB11: 1 | AC11: =IF(OR(EXACT($AA$10,AA11)*(EXACT($AB$10,AB11)))=TRUE,$AJ$7,IF(($AB$10-$AA$10=AB11-AA11),$AJ$4,IF(OR(EXACT($AA$10>$AB$10,AA11>AB11)*EXACT($AA$10=$AB$10,AA11=AB11)*EXACT($AA$10<$AB$10,AA11<AB11)),$AJ$2,0))) -> 3 | AG11: =E11+H11+K11+N11+Q11+T11+W11+Z11+AC11+AF11 -> 18 | AH11: ='2.Spieltag'!AK11 -> 29 | AI11: ='2.Spieltag'!AL11 -> 1 | AJ11: =AG11+AH11 -> 47 | AK11: =RANK(AJ11,$AJ$11:$AJ$34) -> 1
A12: =AK12 -> 2 | B12: ='2.Spieltag'!C13 -> atschi91 | C12: 2 | D12: 1 | E12: =IF(OR(EXACT($C$10,C12)*(EXACT($D$10,D12)))=TRUE,$AJ$7,IF(($D$10-$C$10=D12-C12),$AJ$4,IF(OR(EXACT($C$10>$D$10,C12>D12)*EXACT($C$10=$D$10,C12=D12)*EXACT($C$10<$D$10,C12<D12)),$AJ$2,0))) -> 2 | F12: 2 | G12: 1 | H12: =IF(OR(EXACT($F$10,F12)*(EXACT($G$10,G12)))=TRUE,$AJ$7,IF(($G$10-$F$10=G12-F12),$AJ$4,IF(OR(EXACT($F$10>$G$10,F12>G12)*EXACT($F$10=$G$10,F12=G12)*EXACT($F$10<$G$10,F12<G12)),$AJ$2,0))) -> 2 | I12: 1 | J12: 3 | K12: =IF(OR(EXACT($I$10,I12)*(EXACT($J$10,J12)))=TRUE,$AJ$7,IF(($J$10-$I$10=J12-I12),$AJ$4,IF(OR(EXACT($I$10>$J$10,I12>J12)*EXACT($I$10=$J$10,I12=J12)*EXACT($I$10<$J$10,I12<J12)),$AJ$2,0))) -> 0 | L12: 2 | M12: 1 | N12: =IF(OR(EXACT($L$10,L12)*(EXACT($M$10,M12)))=TRUE,$AJ$7,IF(($M$10-$L$10=M12-L12),$AJ$4,IF(OR(EXACT($L$10>$M$10,L12>M12)*EXACT($L$10=$M$10,L12=M12)*EXACT($L$10<$M$10,L12<M12)),$AJ$2,0))) -> 0 | O12: 2 | P12: 0 | Q12: =IF(OR(EXACT($O$10,O12)*(EXACT($P$10,P12)))=TRUE,$AJ$7,IF(($P$10-$O$10=P12-O12),$AJ$4,IF(OR(EXACT($O$10>$P$10,O12>P12)*EXACT($O$10=$P$10,O12=P12)*EXACT($O$10<$P$10,O12<P12)),$AJ$2,0))) -> 2 | R12: 2 | S12: 1 | T12: =IF(OR(EXACT($R$10,R12)*(EXACT($S$10,S12)))=TRUE,$AJ$7,IF(($S$10-$R$10=S12-R12),$AJ$4,IF(OR(EXACT($R$10>$S$10,R12>S12)*EXACT($R$10=$S$10,R12=S12)*EXACT($R$10<$S$10,R12<S12)),$AJ$2,0))) -> 5 | U12: 2 | V12: 3 | W12: =IF(OR(EXACT($U$10,U12)*(EXACT($V$10,V12)))=TRUE,$AJ$7,IF(($V$10-$U$10=V12-U12),$AJ$4,IF(OR(EXACT($U$10>$V$10,U12>V12)*EXACT($U$10=$V$10,U12=V12)*EXACT($U$10<$V$10,U12<V12)),$AJ$2,0)))*2*2 -> 0 | X12: 1 | Y12: 1 | Z12: =IF(OR(EXACT($X$10,X12)*(EXACT($Y$10,Y12)))=TRUE,$AJ$7,IF(($Y$10-$X$10=Y12-X12),$AJ$4,IF(OR(EXACT($X$10>$Y$10,X12>Y12)*EXACT($X$10=$Y$10,X12=Y12)*EXACT($X$10<$Y$10,X12<Y12)),$AJ$2,0))) -> 5 | AA12: 2 | AB12: 1 | AC12: =IF(OR(EXACT($AA$10,AA12)*(EXACT($AB$10,AB12)))=TRUE,$AJ$7,IF(($AB$10-$AA$10=AB12-AA12),$AJ$4,IF(OR(EXACT($AA$10>$AB$10,AA12>AB12)*EXACT($AA$10=$AB$10,AA12=AB12)*EXACT($AA$10<$AB$10,AA12<AB12)),$AJ$2,0))) -> 0 | AG12: =E12+H12+K12+N12+Q12+T12+W12+Z12+AC12+AF12 -> 16 | AH12: ='2.Spieltag'!AK13 -> 24 | AI12: ='2.Spieltag'!AL13 -> 3 | AJ12: =AG12+AH12 -> 40 | AK12: =RANK(AJ12,$AJ$11:$AJ$34) -> 2
A13: =AK13 -> 3 | B13: ='2.Spieltag'!C12 -> UltraGE | C13: 2 | D13: 1 | E13: =IF(OR(EXACT($C$10,C13)*(EXACT($D$10,D13)))=TRUE,$AJ$7,IF(($D$10-$C$10=D13-C13),$AJ$4,IF(OR(EXACT($C$10>$D$10,C13>D13)*EXACT($C$10=$D$10,C13=D13)*EXACT($C$10<$D$10,C13<D13)),$AJ$2,0))) -> 2 | F13: 3 | G13: 1 | H13: =IF(OR(EXACT($F$10,F13)*(EXACT($G$10,G13)))=TRUE,$AJ$7,IF(($G$10-$F$10=G13-F13),$AJ$4,IF(OR(EXACT($F$10>$G$10,F13>G13)*EXACT($F$10=$G$10,F13=G13)*EXACT($F$10<$G$10,F13<G13)),$AJ$2,0))) -> 5 | I13: 1 | J13: 2 | K13: =IF(OR(EXACT($I$10,I13)*(EXACT($J$10,J13)))=TRUE,$AJ$7,IF(($J$10-$I$10=J13-I13),$AJ$4,IF(OR(EXACT($I$10>$J$10,I13>J13)*EXACT($I$10=$J$10,I13=J13)*EXACT($I$10<$J$10,I13<J13)),$AJ$2,0))) -> 0 | L13: 2 | M13: 0 | N13: =IF(OR(EXACT($L$10,L13)*(EXACT($M$10,M13)))=TRUE,$AJ$7,IF(($M$10-$L$10=M13-L13),$AJ$4,IF(OR(EXACT($L$10>$M$10,L13>M13)*EXACT($L$10=$M$10,L13=M13)*EXACT($L$10<$M$10,L13<M13)),$AJ$2,0))) -> 0 | O13: 3 | P13: 1 | Q13: =IF(OR(EXACT($O$10,O13)*(EXACT($P$10,P13)))=TRUE,$AJ$7,IF(($P$10-$O$10=P13-O13),$AJ$4,IF(OR(EXACT($O$10>$P$10,O13>P13)*EXACT($O$10=$P$10,O13=P13)*EXACT($O$10<$P$10,O13<P13)),$AJ$2,0))) -> 2 | R13: 2 | S13: 1 | T13: =IF(OR(EXACT($R$10,R13)*(EXACT($S$10,S13)))=TRUE,$AJ$7,IF(($S$10-$R$10=S13-R13),$AJ$4,IF(OR(EXACT($R$10>$S$10,R13>S13)*EXACT($R$10=$S$10,R13=S13)*EXACT($R$10<$S$10,R13<S13)),$AJ$2,0))) -> 5 | U13: 0 | V13: 1 | W13: =IF(OR(EXACT($U$10,U13)*(EXACT($V$10,V13)))=TRUE,$AJ$7,IF(($V$10-$U$10=V13-U13),$AJ$4,IF(OR(EXACT($U$10>$V$10,U13>V13)*EXACT($U$10=$V$10,U13=V13)*EXACT($U$10<$V$10,U13<V13)),$AJ$2,0)))*2*2 -> 0 | X13: 1 | Y13: 2 | Z13: =IF(OR(EXACT($X$10,X13)*(EXACT($Y$10,Y13)))=TRUE,$AJ$7,IF(($Y$10-$X$10=Y13-X13),$AJ$4,IF(OR(EXACT($X$10>$Y$10,X13>Y13)*EXACT($X$10=$Y$10,X13=Y13)*EXACT($X$10<$Y$10,X13<Y13)),$AJ$2,0))) -> 0 | AA13: 2 | AB13: 1 | AC13: =IF(OR(EXACT($AA$10,AA13)*(EXACT($AB$10,AB13)))=TRUE,$AJ$7,IF(($AB$10-$AA$10=AB13-AA13),$AJ$4,IF(OR(EXACT($AA$10>$AB$10,AA13>AB13)*EXACT($AA$10=$AB$10,AA13=AB13)*EXACT($AA$10<$AB$10,AA13<AB13)),$AJ$2,0))) -> 0 | AG13: =E13+H13+K13+N13+Q13+T13+W13+Z13+AC13+AF13 -> 14 | AH13: ='2.Spieltag'!AK12 -> 25 | AI13: ='2.Spieltag'!AL12 -> 2 | AJ13: =AG13+AH13 -> 39 | AK13: =RANK(AJ13,$AJ$11:$AJ$34) -> 3
A14: =AK14 -> 4 | B14: ='2.Spieltag'!C20 -> Silja04 | C14: 3 | D14: 1 | E14: =IF(OR(EXACT($C$10,C14)*(EXACT($D$10,D14)))=TRUE,$AJ$7,IF(($D$10-$C$10=D14-C14),$AJ$4,IF(OR(EXACT($C$10>$D$10,C14>D14)*EXACT($C$10=$D$10,C14=D14)*EXACT($C$10<$D$10,C14<D14)),$AJ$2,0))) -> 5 | F14: 3 | G14: 0 | H14: =IF(OR(EXACT($F$10,F14)*(EXACT($G$10,G14)))=TRUE,$AJ$7,IF(($G$10-$F$10=G14-F14),$AJ$4,IF(OR(EXACT($F$10>$G$10,F14>G14)*EXACT($F$10=$G$10,F14=G14)*EXACT($F$10<$G$10,F14<G14)),$AJ$2,0))) -> 2 | I14: 1 | J14: 1 | K14: =IF(OR(EXACT($I$10,I14)*(EXACT($J$10,J14)))=TRUE,$AJ$7,IF(($J$10-$I$10=J14-I14),$AJ$4,IF(OR(EXACT($I$10>$J$10,I14>J14)*EXACT($I$10=$J$10,I14=J14)*EXACT($I$10<$J$10,I14<J14)),$AJ$2,0))) -> 0 | L14: 2 | M14: 2 | N14: =IF(OR(EXACT($L$10,L14)*(EXACT($M$10,M14)))=TRUE,$AJ$7,IF(($M$10-$L$10=M14-L14),$AJ$4,IF(OR(EXACT($L$10>$M$10,L14>M14)*EXACT($L$10=$M$10,L14=M14)*EXACT($L$10<$M$10,L14<M14)),$AJ$2,0))) -> 5 | O14: 2 | P14: 1 | Q14: =IF(OR(EXACT($O$10,O14)*(EXACT($P$10,P14)))=TRUE,$AJ$7,IF(($P$10-$O$10=P14-O14),$AJ$4,IF(OR(EXACT($O$10>$P$10,O14>P14)*EXACT($O$10=$P$10,O14=P14)*EXACT($O$10<$P$10,O14<P14)),$AJ$2,0))) -> 3 | R14: 2 | S14: 2 | T14: =IF(OR(EXACT($R$10,R14)*(EXACT($S$10,S14)))=TRUE,$AJ$7,IF(($S$10-$R$10=S14-R14),$AJ$4,IF(OR(EXACT($R$10>$S$10,R14>S14)*EXACT($R$10=$S$10,R14=S14)*EXACT($R$10<$S$10,R14<S14)),$AJ$2,0))) -> 0 | U14: 1 | V14: 1 | W14: =IF(OR(EXACT($U$10,U14)*(EXACT($V$10,V14)))=TRUE,$AJ$7,IF(($V$10-$U$10=V14-U14),$AJ$4,IF(OR(EXACT($U$10>$V$10,U14>V14)*EXACT($U$10=$V$10,U14=V14)*EXACT($U$10<$V$10,U14<V14)),$AJ$2,0)))*2*2 -> 0 | X14: 2 | Y14: 1 | Z14: =IF(OR(EXACT($X$10,X14)*(EXACT($Y$10,Y14)))=TRUE,$AJ$7,IF(($Y$10-$X$10=Y14-X14),$AJ$4,IF(OR(EXACT($X$10>$Y$10,X14>Y14)*EXACT($X$10=$Y$10,X14=Y14)*EXACT($X$10<$Y$10,X14<Y14)),$AJ$2,0))) -> 0 | AA14: 1 | AB14: 1 | AC14: =IF(OR(EXACT($AA$10,AA14)*(EXACT($AB$10,AB14)))=TRUE,$AJ$7,IF(($AB$10-$AA$10=AB14-AA14),$AJ$4,IF(OR(EXACT($AA$10>$AB$10,AA14>AB14)*EXACT($AA$10=$AB$10,AA14=AB14)*EXACT($AA$10<$AB$10,AA14<AB14)),$AJ$2,0))) -> 3 | AG14: =E14+H14+K14+N14+Q14+T14+W14+Z14+AC14+AF14 -> 18 | AH14: ='2.Spieltag'!AK20 -> 19 | AI14: ='2.Spieltag'!AL20 -> 7 | AJ14: =AG14+AH14 -> 37 | AK14: =RANK(AJ14,$AJ$11:$AJ$34) -> 4
A15: =AK15 -> 5 | B15: ='2.Spieltag'!C18 -> Lola04 | C15: 2 | D15: 1 | E15: =IF(OR(EXACT($C$10,C15)*(EXACT($D$10,D15)))=TRUE,$AJ$7,IF(($D$10-$C$10=D15-C15),$AJ$4,IF(OR(EXACT($C$10>$D$10,C15>D15)*EXACT($C$10=$D$10,C15=D15)*EXACT($C$10<$D$10,C15<D15)),$AJ$2,0))) -> 2 | F15: 3 | G15: 1 | H15: =IF(OR(EXACT($F$10,F15)*(EXACT($G$10,G15)))=TRUE,$AJ$7,IF(($G$10-$F$10=G15-F15),$AJ$4,IF(OR(EXACT($F$10>$G$10,F15>G15)*EXACT($F$10=$G$10,F15=G15)*EXACT($F$10<$G$10,F15<G15)),$AJ$2,0))) -> 5 | I15: 1 | J15: 1 | K15: =IF(OR(EXACT($I$10,I15)*(EXACT($J$10,J15)))=TRUE,$AJ$7,IF(($J$10-$I$10=J15-I15),$AJ$4,IF(OR(EXACT($I$10>$J$10,I15>J15)*EXACT($I$10=$J$10,I15=J15)*EXACT($I$10<$J$10,I15<J15)),$AJ$2,0))) -> 0 | L15: 2 | M15: 2 | N15: =IF(OR(EXACT($L$10,L15)*(EXACT($M$10,M15)))=TRUE,$AJ$7,IF(($M$10-$L$10=M15-L15),$AJ$4,IF(OR(EXACT($L$10>$M$10,L15>M15)*EXACT($L$10=$M$10,L15=M15)*EXACT($L$10<$M$10,L15<M15)),$AJ$2,0))) -> 5 | O15: 1 | P15: 1 | Q15: =IF(OR(EXACT($O$10,O15)*(EXACT($P$10,P15)))=TRUE,$AJ$7,IF(($P$10-$O$10=P15-O15),$AJ$4,IF(OR(EXACT($O$10>$P$10,O15>P15)*EXACT($O$10=$P$10,O15=P15)*EXACT($O$10<$P$10,O15<P15)),$AJ$2,0))) -> 0 | R15: 2 | S15: 1 | T15: =IF(OR(EXACT($R$10,R15)*(EXACT($S$10,S15)))=TRUE,$AJ$7,IF(($S$10-$R$10=S15-R15),$AJ$4,IF(OR(EXACT($R$10>$S$10,R15>S15)*EXACT($R$10=$S$10,R15=S15)*EXACT($R$10<$S$10,R15<S15)),$AJ$2,0))) -> 5 | U15: 0 | V15: 1 | W15: =IF(OR(EXACT($U$10,U15)*(EXACT($V$10,V15)))=TRUE,$AJ$7,IF(($V$10-$U$10=V15-U15),$AJ$4,IF(OR(EXACT($U$10>$V$10,U15>V15)*EXACT($U$10=$V$10,U15=V15)*EXACT($U$10<$V$10,U15<V15)),$AJ$2,0)))*2*2 -> 0 | X15: 3 | Y15: 1 | Z15: =IF(OR(EXACT($X$10,X15)*(EXACT($Y$10,Y15)))=TRUE,$AJ$7,IF(($Y$10-$X$10=Y15-X15),$AJ$4,IF(OR(EXACT($X$10>$Y$10,X15>Y15)*EXACT($X$10=$Y$10,X15=Y15)*EXACT($X$10<$Y$10,X15<Y15)),$AJ$2,0))) -> 0 | AA15: 2 | AB15: 1 | AC15: =IF(OR(EXACT($AA$10,AA15)*(EXACT($AB$10,AB15)))=TRUE,$AJ$7,IF(($AB$10-$AA$10=AB15-AA15),$AJ$4,IF(OR(EXACT($AA$10>$AB$10,AA15>AB15)*EXACT($AA$10=$AB$10,AA15=AB15)*EXACT($AA$10<$AB$10,AA15<AB15)),$AJ$2,0))) -> 0 | AG15: =E15+H15+K15+N15+Q15+T15+W15+Z15+AC15+AF15 -> 17 | AH15: ='2.Spieltag'!AK18 -> 19 | AI15: ='2.Spieltag'!AL18 -> 7 | AJ15: =AG15+AH15 -> 36 | AK15: =RANK(AJ15,$AJ$11:$AJ$34) -> 5
A16: =AK16 -> 5 | B16: ='2.Spieltag'!C16 -> schalke-willi | C16: 3 | D16: 1 | E16: =IF(OR(EXACT($C$10,C16)*(EXACT($D$10,D16)))=TRUE,$AJ$7,IF(($D$10-$C$10=D16-C16),$AJ$4,IF(OR(EXACT($C$10>$D$10,C16>D16)*EXACT($C$10=$D$10,C16=D16)*EXACT($C$10<$D$10,C16<D16)),$AJ$2,0))) -> 5 | F16: 3 | G16: 1 | H16: =IF(OR(EXACT($F$10,F16)*(EXACT($G$10,G16)))=TRUE,$AJ$7,IF(($G$10-$F$10=G16-F16),$AJ$4,IF(OR(EXACT($F$10>$G$10,F16>G16)*EXACT($F$10=$G$10,F16=G16)*EXACT($F$10<$G$10,F16<G16)),$AJ$2,0))) -> 5 | I16: 1 | J16: 3 | K16: =IF(OR(EXACT($I$10,I16)*(EXACT($J$10,J16)))=TRUE,$AJ$7,IF(($J$10-$I$10=J16-I16),$AJ$4,IF(OR(EXACT($I$10>$J$10,I16>J16)*EXACT($I$10=$J$10,I16=J16)*EXACT($I$10<$J$10,I16<J16)),$AJ$2,0))) -> 0 | L16: 1 | M16: 1 | N16: =IF(OR(EXACT($L$10,L16)*(EXACT($M$10,M16)))=TRUE,$AJ$7,IF(($M$10-$L$10=M16-L16),$AJ$4,IF(OR(EXACT($L$10>$M$10,L16>M16)*EXACT($L$10=$M$10,L16=M16)*EXACT($L$10<$M$10,L16<M16)),$AJ$2,0))) -> 3 | O16: 2 | P16: 1 | Q16: =IF(OR(EXACT($O$10,O16)*(EXACT($P$10,P16)))=TRUE,$AJ$7,IF(($P$10-$O$10=P16-O16),$AJ$4,IF(OR(EXACT($O$10>$P$10,O16>P16)*EXACT($O$10=$P$10,O16=P16)*EXACT($O$10<$P$10,O16<P16)),$AJ$2,0))) -> 3 | R16: 1 | S16: 1 | T16: =IF(OR(EXACT($R$10,R16)*(EXACT($S$10,S16)))=TRUE,$AJ$7,IF(($S$10-$R$10=S16-R16),$AJ$4,IF(OR(EXACT($R$10>$S$10,R16>S16)*EXACT($R$10=$S$10,R16=S16)*EXACT($R$10<$S$10,R16<S16)),$AJ$2,0))) -> 0 | U16: 1 | V16: 2 | W16: =IF(OR(EXACT($U$10,U16)*(EXACT($V$10,V16)))=TRUE,$AJ$7,IF(($V$10-$U$10=V16-U16),$AJ$4,IF(OR(EXACT($U$10>$V$10,U16>V16)*EXACT($U$10=$V$10,U16=V16)*EXACT($U$10<$V$10,U16<V16)),$AJ$2,0)))*2*2 -> 0 | X16: 2 | Y16: 0 | Z16: =IF(OR(EXACT($X$10,X16)*(EXACT($Y$10,Y16)))=TRUE,$AJ$7,IF(($Y$10-$X$10=Y16-X16),$AJ$4,IF(OR(EXACT($X$10>$Y$10,X16>Y16)*EXACT($X$10=$Y$10,X16=Y16)*EXACT($X$10<$Y$10,X16<Y16)),$AJ$2,0))) -> 0 | AA16: 1 | AB16: 0 | AC16: =IF(OR(EXACT($AA$10,AA16)*(EXACT($AB$10,AB16)))=TRUE,$AJ$7,IF(($AB$10-$AA$10=AB16-AA16),$AJ$4,IF(OR(EXACT($AA$10>$AB$10,AA16>AB16)*EXACT($AA$10=$AB$10,AA16=AB16)*EXACT($AA$10<$AB$10,AA16<AB16)),$AJ$2,0))) -> 0 | AG16: =E16+H16+K16+N16+Q16+T16+W16+Z16+AC16+AF16 -> 16 | AH16: ='2.Spieltag'!AK16 -> 20 | AI16: ='2.Spieltag'!AL16 -> 5 | AJ16: =AG16+AH16 -> 36 | AK16: =RANK(AJ16,$AJ$11:$AJ$34) -> 5
A17: =AK17 -> 7 | B17: ='2.Spieltag'!C15 -> Fabian1904 | C17: 3 | D17: 1 | E17: =IF(OR(EXACT($C$10,C17)*(EXACT($D$10,D17)))=TRUE,$AJ$7,IF(($D$10-$C$10=D17-C17),$AJ$4,IF(OR(EXACT($C$10>$D$10,C17>D17)*EXACT($C$10=$D$10,C17=D17)*EXACT($C$10<$D$10,C17<D17)),$AJ$2,0))) -> 5 | F17: 2 | G17: 0 | H17: =IF(OR(EXACT($F$10,F17)*(EXACT($G$10,G17)))=TRUE,$AJ$7,IF(($G$10-$F$10=G17-F17),$AJ$4,IF(OR(EXACT($F$10>$G$10,F17>G17)*EXACT($F$10=$G$10,F17=G17)*EXACT($F$10<$G$10,F17<G17)),$AJ$2,0))) -> 3 | I17: 0 | J17: 2 | K17: =IF(OR(EXACT($I$10,I17)*(EXACT($J$10,J17)))=TRUE,$AJ$7,IF(($J$10-$I$10=J17-I17),$AJ$4,IF(OR(EXACT($I$10>$J$10,I17>J17)*EXACT($I$10=$J$10,I17=J17)*EXACT($I$10<$J$10,I17<J17)),$AJ$2,0))) -> 0 | L17: 1 | M17: 2 | N17: =IF(OR(EXACT($L$10,L17)*(EXACT($M$10,M17)))=TRUE,$AJ$7,IF(($M$10-$L$10=M17-L17),$AJ$4,IF(OR(EXACT($L$10>$M$10,L17>M17)*EXACT($L$10=$M$10,L17=M17)*EXACT($L$10<$M$10,L17<M17)),$AJ$2,0))) -> 0 | O17: 2 | P17: 1 | Q17: =IF(OR(EXACT($O$10,O17)*(EXACT($P$10,P17)))=TRUE,$AJ$7,IF(($P$10-$O$10=P17-O17),$AJ$4,IF(OR(EXACT($O$10>$P$10,O17>P17)*EXACT($O$10=$P$10,O17=P17)*EXACT($O$10<$P$10,O17<P17)),$AJ$2,0))) -> 3 | R17: 0 | S17: 1 | T17: =IF(OR(EXACT($R$10,R17)*(EXACT($S$10,S17)))=TRUE,$AJ$7,IF(($S$10-$R$10=S17-R17),$AJ$4,IF(OR(EXACT($R$10>$S$10,R17>S17)*EXACT($R$10=$S$10,R17=S17)*EXACT($R$10<$S$10,R17<S17)),$AJ$2,0))) -> 0 | U17: 1 | V17: 2 | W17: =IF(OR(EXACT($U$10,U17)*(EXACT($V$10,V17)))=TRUE,$AJ$7,IF(($V$10-$U$10=V17-U17),$AJ$4,IF(OR(EXACT($U$10>$V$10,U17>V17)*EXACT($U$10=$V$10,U17=V17)*EXACT($U$10<$V$10,U17<V17)),$AJ$2,0)))*2*2 -> 0 | X17: 3 | Y17: 1 | Z17: =IF(OR(EXACT($X$10,X17)*(EXACT($Y$10,Y17)))=TRUE,$AJ$7,IF(($Y$10-$X$10=Y17-X17),$AJ$4,IF(OR(EXACT($X$10>$Y$10,X17>Y17)*EXACT($X$10=$Y$10,X17=Y17)*EXACT($X$10<$Y$10,X17<Y17)),$AJ$2,0))) -> 0 | AA17: 1 | AB17: 1 | AC17: =IF(OR(EXACT($AA$10,AA17)*(EXACT($AB$10,AB17)))=TRUE,$AJ$7,IF(($AB$10-$AA$10=AB17-AA17),$AJ$4,IF(OR(EXACT($AA$10>$AB$10,AA17>AB17)*EXACT($AA$10=$AB$10,AA17=AB17)*EXACT($AA$10<$AB$10,AA17<AB17)),$AJ$2,0))) -> 3 | AG17: =E17+H17+K17+N17+Q17+T17+W17+Z17+AC17+AF17 -> 14 | AH17: ='2.Spieltag'!AK15 -> 20 | AI17: ='2.Spieltag'!AL15 -> 5 | AJ17: =AG17+AH17 -> 34 | AK17: =RANK(AJ17,$AJ$11:$AJ$34) -> 7
A18: =AK18 -> 7 | B18: ='2.Spieltag'!C25 -> gaby04 | C18: 2 | D18: 1 | E18: =IF(OR(EXACT($C$10,C18)*(EXACT($D$10,D18)))=TRUE,$AJ$7,IF(($D$10-$C$10=D18-C18),$AJ$4,IF(OR(EXACT($C$10>$D$10,C18>D18)*EXACT($C$10=$D$10,C18=D18)*EXACT($C$10<$D$10,C18<D18)),$AJ$2,0))) -> 2 | F18: 3 | G18: 1 | H18: =IF(OR(EXACT($F$10,F18)*(EXACT($G$10,G18)))=TRUE,$AJ$7,IF(($G$10-$F$10=G18-F18),$AJ$4,IF(OR(EXACT($F$10>$G$10,F18>G18)*EXACT($F$10=$G$10,F18=G18)*EXACT($F$10<$G$10,F18<G18)),$AJ$2,0))) -> 5 | I18: 0 | J18: 2 | K18: =IF(OR(EXACT($I$10,I18)*(EXACT($J$10,J18)))=TRUE,$AJ$7,IF(($J$10-$I$10=J18-I18),$AJ$4,IF(OR(EXACT($I$10>$J$10,I18>J18)*EXACT($I$10=$J$10,I18=J18)*EXACT($I$10<$J$10,I18<J18)),$AJ$2,0))) -> 0 | L18: 2 | M18: 1 | N18: =IF(OR(EXACT($L$10,L18)*(EXACT($M$10,M18)))=TRUE,$AJ$7,IF(($M$10-$L$10=M18-L18),$AJ$4,IF(OR(EXACT($L$10>$M$10,L18>M18)*EXACT($L$10=$M$10,L18=M18)*EXACT($L$10<$M$10,L18<M18)),$AJ$2,0))) -> 0 | O18: 2 | P18: 1 | Q18: =IF(OR(EXACT($O$10,O18)*(EXACT($P$10,P18)))=TRUE,$AJ$7,IF(($P$10-$O$10=P18-O18),$AJ$4,IF(OR(EXACT($O$10>$P$10,O18>P18)*EXACT($O$10=$P$10,O18=P18)*EXACT($O$10<$P$10,O18<P18)),$AJ$2,0))) -> 3 | R18: 2 | S18: 1 | T18: =IF(OR(EXACT($R$10,R18)*(EXACT($S$10,S18)))=TRUE,$AJ$7,IF(($S$10-$R$10=S18-R18),$AJ$4,IF(OR(EXACT($R$10>$S$10,R18>S18)*EXACT($R$10=$S$10,R18=S18)*EXACT($R$10<$S$10,R18<S18)),$AJ$2,0))) -> 5 | U18: 1 | V18: 2 | W18: =IF(OR(EXACT($U$10,U18)*(EXACT($V$10,V18)))=TRUE,$AJ$7,IF(($V$10-$U$10=V18-U18),$AJ$4,IF(OR(EXACT($U$10>$V$10,U18>V18)*EXACT($U$10=$V$10,U18=V18)*EXACT($U$10<$V$10,U18<V18)),$AJ$2,0)))*2*2 -> 0 | X18: 2 | Y18: 1 | Z18: =IF(OR(EXACT($X$10,X18)*(EXACT($Y$10,Y18)))=TRUE,$AJ$7,IF(($Y$10-$X$10=Y18-X18),$AJ$4,IF(OR(EXACT($X$10>$Y$10,X18>Y18)*EXACT($X$10=$Y$10,X18=Y18)*EXACT($X$10<$Y$10,X18<Y18)),$AJ$2,0))) -> 0 | AA18: 1 | AB18: 1 | AC18: =IF(OR(EXACT($AA$10,AA18)*(EXACT($AB$10,AB18)))=TRUE,$AJ$7,IF(($AB$10-$AA$10=AB18-AA18),$AJ$4,IF(OR(EXACT($AA$10>$AB$10,AA18>AB18)*EXACT($AA$10=$AB$10,AA18=AB18)*EXACT($AA$10<$AB$10,AA18<AB18)),$AJ$2,0))) -> 3 | AG18: =E18+H18+K18+N18+Q18+T18+W18+Z18+AC18+AF18 -> 18 | AH18: ='2.Spieltag'!AK25 -> 16 | AI18: ='2.Spieltag'!AL25 -> 15 | AJ18: =AG18+AH18 -> 34 | AK18: =RANK(AJ18,$AJ$11:$AJ$34) -> 7
A19: =AK19 -> 7 | B19: ='2.Spieltag'!C17 -> Hans 04 | C19: 3 | D19: 1 | E19: =IF(OR(EXACT($C$10,C19)*(EXACT($D$10,D19)))=TRUE,$AJ$7,IF(($D$10-$C$10=D19-C19),$AJ$4,IF(OR(EXACT($C$10>$D$10,C19>D19)*EXACT($C$10=$D$10,C19=D19)*EXACT($C$10<$D$10,C19<D19)),$AJ$2,0))) -> 5 | F19: 3 | G19: 0 | H19: =IF(OR(EXACT($F$10,F19)*(EXACT($G$10,G19)))=TRUE,$AJ$7,IF(($G$10-$F$10=G19-F19),$AJ$4,IF(OR(EXACT($F$10>$G$10,F19>G19)*EXACT($F$10=$G$10,F19=G19)*EXACT($F$10<$G$10,F19<G19)),$AJ$2,0))) -> 2 | I19: 1 | J19: 3 | K19: =IF(OR(EXACT($I$10,I19)*(EXACT($J$10,J19)))=TRUE,$AJ$7,IF(($J$10-$I$10=J19-I19),$AJ$4,IF(OR(EXACT($I$10>$J$10,I19>J19)*EXACT($I$10=$J$10,I19=J19)*EXACT($I$10<$J$10,I19<J19)),$AJ$2,0))) -> 0 | L19: 2 | M19: 2 | N19: =IF(OR(EXACT($L$10,L19)*(EXACT($M$10,M19)))=TRUE,$AJ$7,IF(($M$10-$L$10=M19-L19),$AJ$4,IF(OR(EXACT($L$10>$M$10,L19>M19)*EXACT($L$10=$M$10,L19=M19)*EXACT($L$10<$M$10,L19<M19)),$AJ$2,0))) -> 5 | O19: 2 | P19: 1 | Q19: =IF(OR(EXACT($O$10,O19)*(EXACT($P$10,P19)))=TRUE,$AJ$7,IF(($P$10-$O$10=P19-O19),$AJ$4,IF(OR(EXACT($O$10>$P$10,O19>P19)*EXACT($O$10=$P$10,O19=P19)*EXACT($O$10<$P$10,O19<P19)),$AJ$2,0))) -> 3 | R19: 1 | S19: 1 | T19: =IF(OR(EXACT($R$10,R19)*(EXACT($S$10,S19)))=TRUE,$AJ$7,IF(($S$10-$R$10=S19-R19),$AJ$4,IF(OR(EXACT($R$10>$S$10,R19>S19)*EXACT($R$10=$S$10,R19=S19)*EXACT($R$10<$S$10,R19<S19)),$AJ$2,0))) -> 0 | U19: 1 | V19: 2 | W19: =IF(OR(EXACT($U$10,U19)*(EXACT($V$10,V19)))=TRUE,$AJ$7,IF(($V$10-$U$10=V19-U19),$AJ$4,IF(OR(EXACT($U$10>$V$10,U19>V19)*EXACT($U$10=$V$10,U19=V19)*EXACT($U$10<$V$10,U19<V19)),$AJ$2,0)))*2*2 -> 0 | X19: 2 | Y19: 0 | Z19: =IF(OR(EXACT($X$10,X19)*(EXACT($Y$10,Y19)))=TRUE,$AJ$7,IF(($Y$10-$X$10=Y19-X19),$AJ$4,IF(OR(EXACT($X$10>$Y$10,X19>Y19)*EXACT($X$10=$Y$10,X19=Y19)*EXACT($X$10<$Y$10,X19<Y19)),$AJ$2,0))) -> 0 | AA19: 2 | AB19: 1 | AC19: =IF(OR(EXACT($AA$10,AA19)*(EXACT($AB$10,AB19)))=TRUE,$AJ$7,IF(($AB$10-$AA$10=AB19-AA19),$AJ$4,IF(OR(EXACT($AA$10>$AB$10,AA19>AB19)*EXACT($AA$10=$AB$10,AA19=AB19)*EXACT($AA$10<$AB$10,AA19<AB19)),$AJ$2,0))) -> 0 | AG19: =E19+H19+K19+N19+Q19+T19+W19+Z19+AC19+AF19 -> 15 | AH19: ='2.Spieltag'!AK17 -> 19 | AI19: ='2.Spieltag'!AL17 -> 7 | AJ19: =AG19+AH19 -> 34 | AK19: =RANK(AJ19,$AJ$11:$AJ$34) -> 7
A20: =AK20 -> 10 | B20: ='2.Spieltag'!C14 -> Jubby | C20: 3 | D20: 1 | E20: =IF(OR(EXACT($C$10,C20)*(EXACT($D$10,D20)))=TRUE,$AJ$7,IF(($D$10-$C$10=D20-C20),$AJ$4,IF(OR(EXACT($C$10>$D$10,C20>D20)*EXACT($C$10=$D$10,C20=D20)*EXACT($C$10<$D$10,C20<D20)),$AJ$2,0))) -> 5 | F20: 3 | G20: 0 | H20: =IF(OR(EXACT($F$10,F20)*(EXACT($G$10,G20)))=TRUE,$AJ$7,IF(($G$10-$F$10=G20-F20),$AJ$4,IF(OR(EXACT($F$10>$G$10,F20>G20)*EXACT($F$10=$G$10,F20=G20)*EXACT($F$10<$G$10,F20<G20)),$AJ$2,0))) -> 2 | I20: 1 | J20: 3 | K20: =IF(OR(EXACT($I$10,I20)*(EXACT($J$10,J20)))=TRUE,$AJ$7,IF(($J$10-$I$10=J20-I20),$AJ$4,IF(OR(EXACT($I$10>$J$10,I20>J20)*EXACT($I$10=$J$10,I20=J20)*EXACT($I$10<$J$10,I20<J20)),$AJ$2,0))) -> 0 | L20: 2 | M20: 1 | N20: =IF(OR(EXACT($L$10,L20)*(EXACT($M$10,M20)))=TRUE,$AJ$7,IF(($M$10-$L$10=M20-L20),$AJ$4,IF(OR(EXACT($L$10>$M$10,L20>M20)*EXACT($L$10=$M$10,L20=M20)*EXACT($L$10<$M$10,L20<M20)),$AJ$2,0))) -> 0 | O20: 2 | P20: 2 | Q20: =IF(OR(EXACT($O$10,O20)*(EXACT($P$10,P20)))=TRUE,$AJ$7,IF(($P$10-$O$10=P20-O20),$AJ$4,IF(OR(EXACT($O$10>$P$10,O20>P20)*EXACT($O$10=$P$10,O20=P20)*EXACT($O$10<$P$10,O20<P20)),$AJ$2,0))) -> 0 | R20: 1 | S20: 1 | T20: =IF(OR(EXACT($R$10,R20)*(EXACT($S$10,S20)))=TRUE,$AJ$7,IF(($S$10-$R$10=S20-R20),$AJ$4,IF(OR(EXACT($R$10>$S$10,R20>S20)*EXACT($R$10=$S$10,R20=S20)*EXACT($R$10<$S$10,R20<S20)),$AJ$2,0))) -> 0 | U20: 2 | V20: 3 | W20: =IF(OR(EXACT($U$10,U20)*(EXACT($V$10,V20)))=TRUE,$AJ$7,IF(($V$10-$U$10=V20-U20),$AJ$4,IF(OR(EXACT($U$10>$V$10,U20>V20)*EXACT($U$10=$V$10,U20=V20)*EXACT($U$10<$V$10,U20<V20)),$AJ$2,0)))*2*2 -> 0 | X20: 2 | Y20: 2 | Z20: =IF(OR(EXACT($X$10,X20)*(EXACT($Y$10,Y20)))=TRUE,$AJ$7,IF(($Y$10-$X$10=Y20-X20),$AJ$4,IF(OR(EXACT($X$10>$Y$10,X20>Y20)*EXACT($X$10=$Y$10,X20=Y20)*EXACT($X$10<$Y$10,X20<Y20)),$AJ$2,0))) -> 3 | AA20: 2 | AB20: 1 | AC20: =IF(OR(EXACT($AA$10,AA20)*(EXACT($AB$10,AB20)))=TRUE,$AJ$7,IF(($AB$10-$AA$10=AB20-AA20),$AJ$4,IF(OR(EXACT($AA$10>$AB$10,AA20>AB20)*EXACT($AA$10=$AB$10,AA20=AB20)*EXACT($AA$10<$AB$10,AA20<AB20)),$AJ$2,0))) -> 0 | AG20: =E20+H20+K20+N20+Q20+T20+W20+Z20+AC20+AF20 -> 10 | AH20: ='2.Spieltag'!AK14 -> 23 | AI20: ='2.Spieltag'!AL14 -> 4 | AJ20: =AG20+AH20 -> 33 | AK20: =RANK(AJ20,$AJ$11:$AJ$34) -> 10
A21: =AK21 -> 11 | B21: ='2.Spieltag'!C22 -> Franzi 04 | C21: 2 | D21: 0 | E21: =IF(OR(EXACT($C$10,C21)*(EXACT($D$10,D21)))=TRUE,$AJ$7,IF(($D$10-$C$10=D21-C21),$AJ$4,IF(OR(EXACT($C$10>$D$10,C21>D21)*EXACT($C$10=$D$10,C21=D21)*EXACT($C$10<$D$10,C21<D21)),$AJ$2,0))) -> 3 | F21: 3 | G21: 1 | H21: =IF(OR(EXACT($F$10,F21)*(EXACT($G$10,G21)))=TRUE,$AJ$7,IF(($G$10-$F$10=G21-F21),$AJ$4,IF(OR(EXACT($F$10>$G$10,F21>G21)*EXACT($F$10=$G$10,F21=G21)*EXACT($F$10<$G$10,F21<G21)),$AJ$2,0))) -> 5 | I21: 1 | J21: 2 | K21: =IF(OR(EXACT($I$10,I21)*(EXACT($J$10,J21)))=TRUE,$AJ$7,IF(($J$10-$I$10=J21-I21),$AJ$4,IF(OR(EXACT($I$10>$J$10,I21>J21)*EXACT($I$10=$J$10,I21=J21)*EXACT($I$10<$J$10,I21<J21)),$AJ$2,0))) -> 0 | L21: 2 | M21: 1 | N21: =IF(OR(EXACT($L$10,L21)*(EXACT($M$10,M21)))=TRUE,$AJ$7,IF(($M$10-$L$10=M21-L21),$AJ$4,IF(OR(EXACT($L$10>$M$10,L21>M21)*EXACT($L$10=$M$10,L21=M21)*EXACT($L$10<$M$10,L21<M21)),$AJ$2,0))) -> 0 | O21: 2 | P21: 1 | Q21: =IF(OR(EXACT($O$10,O21)*(EXACT($P$10,P21)))=TRUE,$AJ$7,IF(($P$10-$O$10=P21-O21),$AJ$4,IF(OR(EXACT($O$10>$P$10,O21>P21)*EXACT($O$10=$P$10,O21=P21)*EXACT($O$10<$P$10,O21<P21)),$AJ$2,0))) -> 3 | R21: 2 | S21: 2 | T21: =IF(OR(EXACT($R$10,R21)*(EXACT($S$10,S21)))=TRUE,$AJ$7,IF(($S$10-$R$10=S21-R21),$AJ$4,IF(OR(EXACT($R$10>$S$10,R21>S21)*EXACT($R$10=$S$10,R21=S21)*EXACT($R$10<$S$10,R21<S21)),$AJ$2,0))) -> 0 | U21: 1 | V21: 2 | W21: =IF(OR(EXACT($U$10,U21)*(EXACT($V$10,V21)))=TRUE,$AJ$7,IF(($V$10-$U$10=V21-U21),$AJ$4,IF(OR(EXACT($U$10>$V$10,U21>V21)*EXACT($U$10=$V$10,U21=V21)*EXACT($U$10<$V$10,U21<V21)),$AJ$2,0)))*2*2 -> 0 | X21: 2 | Y21: 1 | Z21: =IF(OR(EXACT($X$10,X21)*(EXACT($Y$10,Y21)))=TRUE,$AJ$7,IF(($Y$10-$X$10=Y21-X21),$AJ$4,IF(OR(EXACT($X$10>$Y$10,X21>Y21)*EXACT($X$10=$Y$10,X21=Y21)*EXACT($X$10<$Y$10,X21<Y21)),$AJ$2,0))) -> 0 | AA21: 1 | AB21: 1 | AC21: =IF(OR(EXACT($AA$10,AA21)*(EXACT($AB$10,AB21)))=TRUE,$AJ$7,IF(($AB$10-$AA$10=AB21-AA21),$AJ$4,IF(OR(EXACT($AA$10>$AB$10,AA21>AB21)*EXACT($AA$10=$AB$10,AA21=AB21)*EXACT($AA$10<$AB$10,AA21<AB21)),$AJ$2,0))) -> 3 | AG21: =E21+H21+K21+N21+Q21+T21+W21+Z21+AC21+AF21 -> 14 | AH21: ='2.Spieltag'!AK22 -> 18 | AI21: ='2.Spieltag'!AL22 -> 11 | AJ21: =AG21+AH21 -> 32 | AK21: =RANK(AJ21,$AJ$11:$AJ$34) -> 11
A22: =AK22 -> 11 | B22: ='2.Spieltag'!C24 -> SkillFailer | C22: 2 | D22: 1 | E22: =IF(OR(EXACT($C$10,C22)*(EXACT($D$10,D22)))=TRUE,$AJ$7,IF(($D$10-$C$10=D22-C22),$AJ$4,IF(OR(EXACT($C$10>$D$10,C22>D22)*EXACT($C$10=$D$10,C22=D22)*EXACT($C$10<$D$10,C22<D22)),$AJ$2,0))) -> 2 | F22: 3 | G22: 1 | H22: =IF(OR(EXACT($F$10,F22)*(EXACT($G$10,G22)))=TRUE,$AJ$7,IF(($G$10-$F$10=G22-F22),$AJ$4,IF(OR(EXACT($F$10>$G$10,F22>G22)*EXACT($F$10=$G$10,F22=G22)*EXACT($F$10<$G$10,F22<G22)),$AJ$2,0))) -> 5 | I22: 1 | J22: 2 | K22: =IF(OR(EXACT($I$10,I22)*(EXACT($J$10,J22)))=TRUE,$AJ$7,IF(($J$10-$I$10=J22-I22),$AJ$4,IF(OR(EXACT($I$10>$J$10,I22>J22)*EXACT($I$10=$J$10,I22=J22)*EXACT($I$10<$J$10,I22<J22)),$AJ$2,0))) -> 0 | L22: 2 | M22: 1 | N22: =IF(OR(EXACT($L$10,L22)*(EXACT($M$10,M22)))=TRUE,$AJ$7,IF(($M$10-$L$10=M22-L22),$AJ$4,IF(OR(EXACT($L$10>$M$10,L22>M22)*EXACT($L$10=$M$10,L22=M22)*EXACT($L$10<$M$10,L22<M22)),$AJ$2,0))) -> 0 | O22: 2 | P22: 1 | Q22: =IF(OR(EXACT($O$10,O22)*(EXACT($P$10,P22)))=TRUE,$AJ$7,IF(($P$10-$O$10=P22-O22),$AJ$4,IF(OR(EXACT($O$10>$P$10,O22>P22)*EXACT($O$10=$P$10,O22=P22)*EXACT($O$10<$P$10,O22<P22)),$AJ$2,0))) -> 3 | R22: 2 | S22: 1 | T22: =IF(OR(EXACT($R$10,R22)*(EXACT($S$10,S22)))=TRUE,$AJ$7,IF(($S$10-$R$10=S22-R22),$AJ$4,IF(OR(EXACT($R$10>$S$10,R22>S22)*EXACT($R$10=$S$10,R22=S22)*EXACT($R$10<$S$10,R22<S22)),$AJ$2,0))) -> 5 | U22: 1 | V22: 2 | W22: =IF(OR(EXACT($U$10,U22)*(EXACT($V$10,V22)))=TRUE,$AJ$7,IF(($V$10-$U$10=V22-U22),$AJ$4,IF(OR(EXACT($U$10>$V$10,U22>V22)*EXACT($U$10=$V$10,U22=V22)*EXACT($U$10<$V$10,U22<V22)),$AJ$2,0)))*2*2 -> 0 | X22: 1 | Y22: 2 | Z22: =IF(OR(EXACT($X$10,X22)*(EXACT($Y$10,Y22)))=TRUE,$AJ$7,IF(($Y$10-$X$10=Y22-X22),$AJ$4,IF(OR(EXACT($X$10>$Y$10,X22>Y22)*EXACT($X$10=$Y$10,X22=Y22)*EXACT($X$10<$Y$10,X22<Y22)),$AJ$2,0))) -> 0 | AA22: 1 | AB22: 2 | AC22: =IF(OR(EXACT($AA$10,AA22)*(EXACT($AB$10,AB22)))=TRUE,$AJ$7,IF(($AB$10-$AA$10=AB22-AA22),$AJ$4,IF(OR(EXACT($AA$10>$AB$10,AA22>AB22)*EXACT($AA$10=$AB$10,AA22=AB22)*EXACT($AA$10<$AB$10,AA22<AB22)),$AJ$2,0))) -> 0 | AG22: =E22+H22+K22+N22+Q22+T22+W22+Z22+AC22+AF22 -> 15 | AH22: ='2.Spieltag'!AK24 -> 17 | AI22: ='2.Spieltag'!AL24 -> 14 | AJ22: =AG22+AH22 -> 32 | AK22: =RANK(AJ22,$AJ$11:$AJ$34) -> 11
A23: =AK23 -> 13 | B23: ='2.Spieltag'!C21 -> cilli37 | C23: 3 | D23: 1 | E23: =IF(OR(EXACT($C$10,C23)*(EXACT($D$10,D23)))=TRUE,$AJ$7,IF(($D$10-$C$10=D23-C23),$AJ$4,IF(OR(EXACT($C$10>$D$10,C23>D23)*EXACT($C$10=$D$10,C23=D23)*EXACT($C$10<$D$10,C23<D23)),$AJ$2,0))) -> 5 | F23: 3 | G23: 2 | H23: =IF(OR(EXACT($F$10,F23)*(EXACT($G$10,G23)))=TRUE,$AJ$7,IF(($G$10-$F$10=G23-F23),$AJ$4,IF(OR(EXACT($F$10>$G$10,F23>G23)*EXACT($F$10=$G$10,F23=G23)*EXACT($F$10<$G$10,F23<G23)),$AJ$2,0))) -> 2 | I23: 1 | J23: 3 | K23: =IF(OR(EXACT($I$10,I23)*(EXACT($J$10,J23)))=TRUE,$AJ$7,IF(($J$10-$I$10=J23-I23),$AJ$4,IF(OR(EXACT($I$10>$J$10,I23>J23)*EXACT($I$10=$J$10,I23=J23)*EXACT($I$10<$J$10,I23<J23)),$AJ$2,0))) -> 0 | L23: 2 | M23: 1 | N23: =IF(OR(EXACT($L$10,L23)*(EXACT($M$10,M23)))=TRUE,$AJ$7,IF(($M$10-$L$10=M23-L23),$AJ$4,IF(OR(EXACT($L$10>$M$10,L23>M23)*EXACT($L$10=$M$10,L23=M23)*EXACT($L$10<$M$10,L23<M23)),$AJ$2,0))) -> 0 | O23: 2 | P23: 2 | Q23: =IF(OR(EXACT($O$10,O23)*(EXACT($P$10,P23)))=TRUE,$AJ$7,IF(($P$10-$O$10=P23-O23),$AJ$4,IF(OR(EXACT($O$10>$P$10,O23>P23)*EXACT($O$10=$P$10,O23=P23)*EXACT($O$10<$P$10,O23<P23)),$AJ$2,0))) -> 0 | R23: 1 | S23: 2 | T23: =IF(OR(EXACT($R$10,R23)*(EXACT($S$10,S23)))=TRUE,$AJ$7,IF(($S$10-$R$10=S23-R23),$AJ$4,IF(OR(EXACT($R$10>$S$10,R23>S23)*EXACT($R$10=$S$10,R23=S23)*EXACT($R$10<$S$10,R23<S23)),$AJ$2,0))) -> 0 | U23: 1 | V23: 2 | W23: =IF(OR(EXACT($U$10,U23)*(EXACT($V$10,V23)))=TRUE,$AJ$7,IF(($V$10-$U$10=V23-U23),$AJ$4,IF(OR(EXACT($U$10>$V$10,U23>V23)*EXACT($U$10=$V$10,U23=V23)*EXACT($U$10<$V$10,U23<V23)),$AJ$2,0)))*2*2 -> 0 | X23: 2 | Y23: 1 | Z23: =IF(OR(EXACT($X$10,X23)*(EXACT($Y$10,Y23)))=TRUE,$AJ$7,IF(($Y$10-$X$10=Y23-X23),$AJ$4,IF(OR(EXACT($X$10>$Y$10,X23>Y23)*EXACT($X$10=$Y$10,X23=Y23)*EXACT($X$10<$Y$10,X23<Y23)),$AJ$2,0))) -> 0 | AA23: 2 | AB23: 2 | AC23: =IF(OR(EXACT($AA$10,AA23)*(EXACT($AB$10,AB23)))=TRUE,$AJ$7,IF(($AB$10-$AA$10=AB23-AA23),$AJ$4,IF(OR(EXACT($AA$10>$AB$10,AA23>AB23)*EXACT($AA$10=$AB$10,AA23=AB23)*EXACT($AA$10<$AB$10,AA23<AB23)),$AJ$2,0))) -> 3 | AG23: =E23+H23+K23+N23+Q23+T23+W23+Z23+AC23+AF23 -> 10 | AH23: ='2.Spieltag'!AK21 -> 18 | AI23: ='2.Spieltag'!AL21 -> 11 | AJ23: =AG23+AH23 -> 28 | AK23: =RANK(AJ23,$AJ$11:$AJ$34) -> 13
A24: =AK24 -> 13 | B24: ='2.Spieltag'!C23 -> ralle04 | C24: 3 | D24: 1 | E24: =IF(OR(EXACT($C$10,C24)*(EXACT($D$10,D24)))=TRUE,$AJ$7,IF(($D$10-$C$10=D24-C24),$AJ$4,IF(OR(EXACT($C$10>$D$10,C24>D24)*EXACT($C$10=$D$10,C24=D24)*EXACT($C$10<$D$10,C24<D24)),$AJ$2,0))) -> 5 | F24: 3 | G24: 0 | H24: =IF(OR(EXACT($F$10,F24)*(EXACT($G$10,G24)))=TRUE,$AJ$7,IF(($G$10-$F$10=G24-F24),$AJ$4,IF(OR(EXACT($F$10>$G$10,F24>G24)*EXACT($F$10=$G$10,F24=G24)*EXACT($F$10<$G$10,F24<G24)),$AJ$2,0))) -> 2 | I24: 1 | J24: 3 | K24: =IF(OR(EXACT($I$10,I24)*(EXACT($J$10,J24)))=TRUE,$AJ$7,IF(($J$10-$I$10=J24-I24),$AJ$4,IF(OR(EXACT($I$10>$J$10,I24>J24)*EXACT($I$10=$J$10,I24=J24)*EXACT($I$10<$J$10,I24<J24)),$AJ$2,0))) -> 0 | L24: 2 | M24: 1 | N24: =IF(OR(EXACT($L$10,L24)*(EXACT($M$10,M24)))=TRUE,$AJ$7,IF(($M$10-$L$10=M24-L24),$AJ$4,IF(OR(EXACT($L$10>$M$10,L24>M24)*EXACT($L$10=$M$10,L24=M24)*EXACT($L$10<$M$10,L24<M24)),$AJ$2,0))) -> 0 | O24: 2 | P24: 1 | Q24: =IF(OR(EXACT($O$10,O24)*(EXACT($P$10,P24)))=TRUE,$AJ$7,IF(($P$10-$O$10=P24-O24),$AJ$4,IF(OR(EXACT($O$10>$P$10,O24>P24)*EXACT($O$10=$P$10,O24=P24)*EXACT($O$10<$P$10,O24<P24)),$AJ$2,0))) -> 3 | R24: 1 | S24: 1 | T24: =IF(OR(EXACT($R$10,R24)*(EXACT($S$10,S24)))=TRUE,$AJ$7,IF(($S$10-$R$10=S24-R24),$AJ$4,IF(OR(EXACT($R$10>$S$10,R24>S24)*EXACT($R$10=$S$10,R24=S24)*EXACT($R$10<$S$10,R24<S24)),$AJ$2,0))) -> 0 | U24: 2 | V24: 2 | W24: =IF(OR(EXACT($U$10,U24)*(EXACT($V$10,V24)))=TRUE,$AJ$7,IF(($V$10-$U$10=V24-U24),$AJ$4,IF(OR(EXACT($U$10>$V$10,U24>V24)*EXACT($U$10=$V$10,U24=V24)*EXACT($U$10<$V$10,U24<V24)),$AJ$2,0)))*2*2 -> 0 | X24: 2 | Y24: 0 | Z24: =IF(OR(EXACT($X$10,X24)*(EXACT($Y$10,Y24)))=TRUE,$AJ$7,IF(($Y$10-$X$10=Y24-X24),$AJ$4,IF(OR(EXACT($X$10>$Y$10,X24>Y24)*EXACT($X$10=$Y$10,X24=Y24)*EXACT($X$10<$Y$10,X24<Y24)),$AJ$2,0))) -> 0 | AA24: 1 | AB24: 0 | AC24: =IF(OR(EXACT($AA$10,AA24)*(EXACT($AB$10,AB24)))=TRUE,$AJ$7,IF(($AB$10-$AA$10=AB24-AA24),$AJ$4,IF(OR(EXACT($AA$10>$AB$10,AA24>AB24)*EXACT($AA$10=$AB$10,AA24=AB24)*EXACT($AA$10<$AB$10,AA24<AB24)),$AJ$2,0))) -> 0 | AG24: =E24+H24+K24+N24+Q24+T24+W24+Z24+AC24+AF24 -> 10 | AH24: ='2.Spieltag'!AK23 -> 18 | AI24: ='2.Spieltag'!AL23 -> 11 | AJ24: =AG24+AH24 -> 28 | AK24: =RANK(AJ24,$AJ$11:$AJ$34) -> 13
A25: =AK25 -> 15 | B25: ='2.Spieltag'!C31 -> Reinhold | C25: 2 | D25: 0 | E25: =IF(OR(EXACT($C$10,C25)*(EXACT($D$10,D25)))=TRUE,$AJ$7,IF(($D$10-$C$10=D25-C25),$AJ$4,IF(OR(EXACT($C$10>$D$10,C25>D25)*EXACT($C$10=$D$10,C25=D25)*EXACT($C$10<$D$10,C25<D25)),$AJ$2,0))) -> 3 | F25: 2 | G25: 1 | H25: =IF(OR(EXACT($F$10,F25)*(EXACT($G$10,G25)))=TRUE,$AJ$7,IF(($G$10-$F$10=G25-F25),$AJ$4,IF(OR(EXACT($F$10>$G$10,F25>G25)*EXACT($F$10=$G$10,F25=G25)*EXACT($F$10<$G$10,F25<G25)),$AJ$2,0))) -> 2 | I25: 2 | J25: 1 | K25: =IF(OR(EXACT($I$10,I25)*(EXACT($J$10,J25)))=TRUE,$AJ$7,IF(($J$10-$I$10=J25-I25),$AJ$4,IF(OR(EXACT($I$10>$J$10,I25>J25)*EXACT($I$10=$J$10,I25=J25)*EXACT($I$10<$J$10,I25<J25)),$AJ$2,0))) -> 5 | L25: 2 | M25: 1 | N25: =IF(OR(EXACT($L$10,L25)*(EXACT($M$10,M25)))=TRUE,$AJ$7,IF(($M$10-$L$10=M25-L25),$AJ$4,IF(OR(EXACT($L$10>$M$10,L25>M25)*EXACT($L$10=$M$10,L25=M25)*EXACT($L$10<$M$10,L25<M25)),$AJ$2,0))) -> 0 | O25: 3 | P25: 2 | Q25: =IF(OR(EXACT($O$10,O25)*(EXACT($P$10,P25)))=TRUE,$AJ$7,IF(($P$10-$O$10=P25-O25),$AJ$4,IF(OR(EXACT($O$10>$P$10,O25>P25)*EXACT($O$10=$P$10,O25=P25)*EXACT($O$10<$P$10,O25<P25)),$AJ$2,0))) -> 5 | R25: 1 | S25: 1 | T25: =IF(OR(EXACT($R$10,R25)*(EXACT($S$10,S25)))=TRUE,$AJ$7,IF(($S$10-$R$10=S25-R25),$AJ$4,IF(OR(EXACT($R$10>$S$10,R25>S25)*EXACT($R$10=$S$10,R25=S25)*EXACT($R$10<$S$10,R25<S25)),$AJ$2,0))) -> 0 | U25: 1 | V25: 2 | W25: =IF(OR(EXACT($U$10,U25)*(EXACT($V$10,V25)))=TRUE,$AJ$7,IF(($V$10-$U$10=V25-U25),$AJ$4,IF(OR(EXACT($U$10>$V$10,U25>V25)*EXACT($U$10=$V$10,U25=V25)*EXACT($U$10<$V$10,U25<V25)),$AJ$2,0)))*2*2 -> 0 | X25: 3 | Y25: 1 | Z25: =IF(OR(EXACT($X$10,X25)*(EXACT($Y$10,Y25)))=TRUE,$AJ$7,IF(($Y$10-$X$10=Y25-X25),$AJ$4,IF(OR(EXACT($X$10>$Y$10,X25>Y25)*EXACT($X$10=$Y$10,X25=Y25)*EXACT($X$10<$Y$10,X25<Y25)),$AJ$2,0))) -> 0 | AA25: 2 | AB25: 1 | AC25: =IF(OR(EXACT($AA$10,AA25)*(EXACT($AB$10,AB25)))=TRUE,$AJ$7,IF(($AB$10-$AA$10=AB25-AA25),$AJ$4,IF(OR(EXACT($AA$10>$AB$10,AA25>AB25)*EXACT($AA$10=$AB$10,AA25=AB25)*EXACT($AA$10<$AB$10,AA25<AB25)),$AJ$2,0))) -> 0 | AG25: =E25+K25+Q25+T25+N25+H25+W25+Z25+AC25+AF25 -> 15 | AH25: ='2.Spieltag'!AK31 -> 12 | AI25: ='2.Spieltag'!AL31 -> 21 | AJ25: =AG25+AH25 -> 27 | AK25: =RANK(AJ25,$AJ$11:$AJ$34) -> 15
A26: =AK26 -> 16 | B26: ='2.Spieltag'!C19 -> Silfa04 | C26: 3 | D26: 0 | E26: =IF(OR(EXACT($C$10,C26)*(EXACT($D$10,D26)))=TRUE,$AJ$7,IF(($D$10-$C$10=D26-C26),$AJ$4,IF(OR(EXACT($C$10>$D$10,C26>D26)*EXACT($C$10=$D$10,C26=D26)*EXACT($C$10<$D$10,C26<D26)),$AJ$2,0))) -> 2 | F26: 2 | G26: 2 | H26: =IF(OR(EXACT($F$10,F26)*(EXACT($G$10,G26)))=TRUE,$AJ$7,IF(($G$10-$F$10=G26-F26),$AJ$4,IF(OR(EXACT($F$10>$G$10,F26>G26)*EXACT($F$10=$G$10,F26=G26)*EXACT($F$10<$G$10,F26<G26)),$AJ$2,0))) -> 0 | I26: 0 | J26: 2 | K26: =IF(OR(EXACT($I$10,I26)*(EXACT($J$10,J26)))=TRUE,$AJ$7,IF(($J$10-$I$10=J26-I26),$AJ$4,IF(OR(EXACT($I$10>$J$10,I26>J26)*EXACT($I$10=$J$10,I26=J26)*EXACT($I$10<$J$10,I26<J26)),$AJ$2,0))) -> 0 | L26: 1 | M26: 1 | N26: =IF(OR(EXACT($L$10,L26)*(EXACT($M$10,M26)))=TRUE,$AJ$7,IF(($M$10-$L$10=M26-L26),$AJ$4,IF(OR(EXACT($L$10>$M$10,L26>M26)*EXACT($L$10=$M$10,L26=M26)*EXACT($L$10<$M$10,L26<M26)),$AJ$2,0))) -> 3 | O26: 4 | P26: 1 | Q26: =IF(OR(EXACT($O$10,O26)*(EXACT($P$10,P26)))=TRUE,$AJ$7,IF(($P$10-$O$10=P26-O26),$AJ$4,IF(OR(EXACT($O$10>$P$10,O26>P26)*EXACT($O$10=$P$10,O26=P26)*EXACT($O$10<$P$10,O26<P26)),$AJ$2,0))) -> 2 | R26: 0 | S26: 0 | T26: =IF(OR(EXACT($R$10,R26)*(EXACT($S$10,S26)))=TRUE,$AJ$7,IF(($S$10-$R$10=S26-R26),$AJ$4,IF(OR(EXACT($R$10>$S$10,R26>S26)*EXACT($R$10=$S$10,R26=S26)*EXACT($R$10<$S$10,R26<S26)),$AJ$2,0))) -> 0 | U26: 1 | V26: 2 | W26: =IF(OR(EXACT($U$10,U26)*(EXACT($V$10,V26)))=TRUE,$AJ$7,IF(($V$10-$U$10=V26-U26),$AJ$4,IF(OR(EXACT($U$10>$V$10,U26>V26)*EXACT($U$10=$V$10,U26=V26)*EXACT($U$10<$V$10,U26<V26)),$AJ$2,0)))*2*2 -> 0 | X26: 3 | Y26: 2 | Z26: =IF(OR(EXACT($X$10,X26)*(EXACT($Y$10,Y26)))=TRUE,$AJ$7,IF(($Y$10-$X$10=Y26-X26),$AJ$4,IF(OR(EXACT($X$10>$Y$10,X26>Y26)*EXACT($X$10=$Y$10,X26=Y26)*EXACT($X$10<$Y$10,X26<Y26)),$AJ$2,0))) -> 0 | AA26: 0 | AB26: 1 | AC26: =IF(OR(EXACT($AA$10,AA26)*(EXACT($AB$10,AB26)))=TRUE,$AJ$7,IF(($AB$10-$AA$10=AB26-AA26),$AJ$4,IF(OR(EXACT($AA$10>$AB$10,AA26>AB26)*EXACT($AA$10=$AB$10,AA26=AB26)*EXACT($AA$10<$AB$10,AA26<AB26)),$AJ$2,0))) -> 0 | AG26: =E26+H26+K26+N26+Q26+T26+W26+Z26+AC26+AF26 -> 7 | AH26: ='2.Spieltag'!AK19 -> 19 | AI26: ='2.Spieltag'!AL19 -> 7 | AJ26: =AG26+AH26 -> 26 | AK26: =RANK(AJ26,$AJ$11:$AJ$34) -> 16
A27: =AK27 -> 17 | B27: ='2.Spieltag'!C27 -> archie04 | C27: 2 | D27: 1 | E27: =IF(OR(EXACT($C$10,C27)*(EXACT($D$10,D27)))=TRUE,$AJ$7,IF(($D$10-$C$10=D27-C27),$AJ$4,IF(OR(EXACT($C$10>$D$10,C27>D27)*EXACT($C$10=$D$10,C27=D27)*EXACT($C$10<$D$10,C27<D27)),$AJ$2,0))) -> 2 | F27: 3 | G27: 0 | H27: =IF(OR(EXACT($F$10,F27)*(EXACT($G$10,G27)))=TRUE,$AJ$7,IF(($G$10-$F$10=G27-F27),$AJ$4,IF(OR(EXACT($F$10>$G$10,F27>G27)*EXACT($F$10=$G$10,F27=G27)*EXACT($F$10<$G$10,F27<G27)),$AJ$2,0))) -> 2 | I27: 1 | J27: 2 | K27: =IF(OR(EXACT($I$10,I27)*(EXACT($J$10,J27)))=TRUE,$AJ$7,IF(($J$10-$I$10=J27-I27),$AJ$4,IF(OR(EXACT($I$10>$J$10,I27>J27)*EXACT($I$10=$J$10,I27=J27)*EXACT($I$10<$J$10,I27<J27)),$AJ$2,0))) -> 0 | L27: 2 | M27: 1 | N27: =IF(OR(EXACT($L$10,L27)*(EXACT($M$10,M27)))=TRUE,$AJ$7,IF(($M$10-$L$10=M27-L27),$AJ$4,IF(OR(EXACT($L$10>$M$10,L27>M27)*EXACT($L$10=$M$10,L27=M27)*EXACT($L$10<$M$10,L27<M27)),$AJ$2,0))) -> 0 | O27: 1 | P27: 1 | Q27: =IF(OR(EXACT($O$10,O27)*(EXACT($P$10,P27)))=TRUE,$AJ$7,IF(($P$10-$O$10=P27-O27),$AJ$4,IF(OR(EXACT($O$10>$P$10,O27>P27)*EXACT($O$10=$P$10,O27=P27)*EXACT($O$10<$P$10,O27<P27)),$AJ$2,0))) -> 0 | R27: 2 | S27: 1 | T27: =IF(OR(EXACT($R$10,R27)*(EXACT($S$10,S27)))=TRUE,$AJ$7,IF(($S$10-$R$10=S27-R27),$AJ$4,IF(OR(EXACT($R$10>$S$10,R27>S27)*EXACT($R$10=$S$10,R27=S27)*EXACT($R$10<$S$10,R27<S27)),$AJ$2,0))) -> 5 | U27: 1 | V27: 1 | W27: =IF(OR(EXACT($U$10,U27)*(EXACT($V$10,V27)))=TRUE,$AJ$7,IF(($V$10-$U$10=V27-U27),$AJ$4,IF(OR(EXACT($U$10>$V$10,U27>V27)*EXACT($U$10=$V$10,U27=V27)*EXACT($U$10<$V$10,U27<V27)),$AJ$2,0)))*2*2 -> 0 | X27: 2 | Y27: 1 | Z27: =IF(OR(EXACT($X$10,X27)*(EXACT($Y$10,Y27)))=TRUE,$AJ$7,IF(($Y$10-$X$10=Y27-X27),$AJ$4,IF(OR(EXACT($X$10>$Y$10,X27>Y27)*EXACT($X$10=$Y$10,X27=Y27)*EXACT($X$10<$Y$10,X27<Y27)),$AJ$2,0))) -> 0 | AA27: 1 | AB27: 2 | AC27: =IF(OR(EXACT($AA$10,AA27)*(EXACT($AB$10,AB27)))=TRUE,$AJ$7,IF(($AB$10-$AA$10=AB27-AA27),$AJ$4,IF(OR(EXACT($AA$10>$AB$10,AA27>AB27)*EXACT($AA$10=$AB$10,AA27=AB27)*EXACT($AA$10<$AB$10,AA27<AB27)),$AJ$2,0))) -> 0 | AG27: =E27+H27+K27+N27+Q27+T27+W27+Z27+AC27+AF27 -> 9 | AH27: ='2.Spieltag'!AK27 -> 15 | AI27: ='2.Spieltag'!AL27 -> 17 | AJ27: =AG27+AH27 -> 24 | AK27: =RANK(AJ27,$AJ$11:$AJ$34) -> 17
A28: =AK28 -> 18 | B28: ='2.Spieltag'!C30 -> Tanja 04 | C28: 2 | D28: 0 | E28: =IF(OR(EXACT($C$10,C28)*(EXACT($D$10,D28)))=TRUE,$AJ$7,IF(($D$10-$C$10=D28-C28),$AJ$4,IF(OR(EXACT($C$10>$D$10,C28>D28)*EXACT($C$10=$D$10,C28=D28)*EXACT($C$10<$D$10,C28<D28)),$AJ$2,0))) -> 3 | F28: 3 | G28: 0 | H28: =IF(OR(EXACT($F$10,F28)*(EXACT($G$10,G28)))=TRUE,$AJ$7,IF(($G$10-$F$10=G28-F28),$AJ$4,IF(OR(EXACT($F$10>$G$10,F28>G28)*EXACT($F$10=$G$10,F28=G28)*EXACT($F$10<$G$10,F28<G28)),$AJ$2,0))) -> 2 | I28: 1 | J28: 2 | K28: =IF(OR(EXACT($I$10,I28)*(EXACT($J$10,J28)))=TRUE,$AJ$7,IF(($J$10-$I$10=J28-I28),$AJ$4,IF(OR(EXACT($I$10>$J$10,I28>J28)*EXACT($I$10=$J$10,I28=J28)*EXACT($I$10<$J$10,I28<J28)),$AJ$2,0))) -> 0 | L28: 1 | M28: 1 | N28: =IF(OR(EXACT($L$10,L28)*(EXACT($M$10,M28)))=TRUE,$AJ$7,IF(($M$10-$L$10=M28-L28),$AJ$4,IF(OR(EXACT($L$10>$M$10,L28>M28)*EXACT($L$10=$M$10,L28=M28)*EXACT($L$10<$M$10,L28<M28)),$AJ$2,0))) -> 3 | O28: 2 | P28: 0 | Q28: =IF(OR(EXACT($O$10,O28)*(EXACT($P$10,P28)))=TRUE,$AJ$7,IF(($P$10-$O$10=P28-O28),$AJ$4,IF(OR(EXACT($O$10>$P$10,O28>P28)*EXACT($O$10=$P$10,O28=P28)*EXACT($O$10<$P$10,O28<P28)),$AJ$2,0))) -> 2 | R28: 1 | S28: 2 | T28: =IF(OR(EXACT($R$10,R28)*(EXACT($S$10,S28)))=TRUE,$AJ$7,IF(($S$10-$R$10=S28-R28),$AJ$4,IF(OR(EXACT($R$10>$S$10,R28>S28)*EXACT($R$10=$S$10,R28=S28)*EXACT($R$10<$S$10,R28<S28)),$AJ$2,0))) -> 0 | U28: 0 | V28: 2 | W28: =IF(OR(EXACT($U$10,U28)*(EXACT($V$10,V28)))=TRUE,$AJ$7,IF(($V$10-$U$10=V28-U28),$AJ$4,IF(OR(EXACT($U$10>$V$10,U28>V28)*EXACT($U$10=$V$10,U28=V28)*EXACT($U$10<$V$10,U28<V28)),$AJ$2,0)))*2*2 -> 0 | X28: 2 | Y28: 1 | Z28: =IF(OR(EXACT($X$10,X28)*(EXACT($Y$10,Y28)))=TRUE,$AJ$7,IF(($Y$10-$X$10=Y28-X28),$AJ$4,IF(OR(EXACT($X$10>$Y$10,X28>Y28)*EXACT($X$10=$Y$10,X28=Y28)*EXACT($X$10<$Y$10,X28<Y28)),$AJ$2,0))) -> 0 | AA28: 2 | AB28: 0 | AC28: =IF(OR(EXACT($AA$10,AA28)*(EXACT($AB$10,AB28)))=TRUE,$AJ$7,IF(($AB$10-$AA$10=AB28-AA28),$AJ$4,IF(OR(EXACT($AA$10>$AB$10,AA28>AB28)*EXACT($AA$10=$AB$10,AA28=AB28)*EXACT($AA$10<$AB$10,AA28<AB28)),$AJ$2,0))) -> 0 | AG28: =E28+K28+Q28+T28+N28+H28+W28+Z28+AC28+AF28 -> 10 | AH28: ='2.Spieltag'!AK30 -> 13 | AI28: ='2.Spieltag'!AL30 -> 19 | AJ28: =AG28+AH28 -> 23 | AK28: =RANK(AJ28,$AJ$11:$AJ$34) -> 18
A29: =AK29 -> 19 | B29: ='2.Spieltag'!C29 -> Master1 | C29: 3 | D29: 1 | E29: =IF(OR(EXACT($C$10,C29)*(EXACT($D$10,D29)))=TRUE,$AJ$7,IF(($D$10-$C$10=D29-C29),$AJ$4,IF(OR(EXACT($C$10>$D$10,C29>D29)*EXACT($C$10=$D$10,C29=D29)*EXACT($C$10<$D$10,C29<D29)),$AJ$2,0))) -> 5 | F29: 3 | G29: 0 | H29: =IF(OR(EXACT($F$10,F29)*(EXACT($G$10,G29)))=TRUE,$AJ$7,IF(($G$10-$F$10=G29-F29),$AJ$4,IF(OR(EXACT($F$10>$G$10,F29>G29)*EXACT($F$10=$G$10,F29=G29)*EXACT($F$10<$G$10,F29<G29)),$AJ$2,0))) -> 2 | I29: 1 | J29: 2 | K29: =IF(OR(EXACT($I$10,I29)*(EXACT($J$10,J29)))=TRUE,$AJ$7,IF(($J$10-$I$10=J29-I29),$AJ$4,IF(OR(EXACT($I$10>$J$10,I29>J29)*EXACT($I$10=$J$10,I29=J29)*EXACT($I$10<$J$10,I29<J29)),$AJ$2,0))) -> 0 | L29: 2 | M29: 1 | N29: =IF(OR(EXACT($L$10,L29)*(EXACT($M$10,M29)))=TRUE,$AJ$7,IF(($M$10-$L$10=M29-L29),$AJ$4,IF(OR(EXACT($L$10>$M$10,L29>M29)*EXACT($L$10=$M$10,L29=M29)*EXACT($L$10<$M$10,L29<M29)),$AJ$2,0))) -> 0 | O29: 3 | P29: 1 | Q29: =IF(OR(EXACT($O$10,O29)*(EXACT($P$10,P29)))=TRUE,$AJ$7,IF(($P$10-$O$10=P29-O29),$AJ$4,IF(OR(EXACT($O$10>$P$10,O29>P29)*EXACT($O$10=$P$10,O29=P29)*EXACT($O$10<$P$10,O29<P29)),$AJ$2,0))) -> 2 | R29: 1 | S29: 1 | T29: =IF(OR(EXACT($R$10,R29)*(EXACT($S$10,S29)))=TRUE,$AJ$7,IF(($S$10-$R$10=S29-R29),$AJ$4,IF(OR(EXACT($R$10>$S$10,R29>S29)*EXACT($R$10=$S$10,R29=S29)*EXACT($R$10<$S$10,R29<S29)),$AJ$2,0))) -> 0 | U29: 2 | V29: 2 | W29: =IF(OR(EXACT($U$10,U29)*(EXACT($V$10,V29)))=TRUE,$AJ$7,IF(($V$10-$U$10=V29-U29),$AJ$4,IF(OR(EXACT($U$10>$V$10,U29>V29)*EXACT($U$10=$V$10,U29=V29)*EXACT($U$10<$V$10,U29<V29)),$AJ$2,0)))*2*2 -> 0 | X29: 2 | Y29: 1 | Z29: =IF(OR(EXACT($X$10,X29)*(EXACT($Y$10,Y29)))=TRUE,$AJ$7,IF(($Y$10-$X$10=Y29-X29),$AJ$4,IF(OR(EXACT($X$10>$Y$10,X29>Y29)*EXACT($X$10=$Y$10,X29=Y29)*EXACT($X$10<$Y$10,X29<Y29)),$AJ$2,0))) -> 0 | AA29: 3 | AB29: 2 | AC29: =IF(OR(EXACT($AA$10,AA29)*(EXACT($AB$10,AB29)))=TRUE,$AJ$7,IF(($AB$10-$AA$10=AB29-AA29),$AJ$4,IF(OR(EXACT($AA$10>$AB$10,AA29>AB29)*EXACT($AA$10=$AB$10,AA29=AB29)*EXACT($AA$10<$AB$10,AA29<AB29)),$AJ$2,0))) -> 0 | AG29: =E29+K29+Q29+T29+N29+H29+W29+Z29+AC29+AF29 -> 9 | AH29: ='2.Spieltag'!AK29 -> 13 | AI29: ='2.Spieltag'!AL29 -> 19 | AJ29: =AG29+AH29 -> 22 | AK29: =RANK(AJ29,$AJ$11:$AJ$34) -> 19
A30: =AK30 -> 19 | B30: ='2.Spieltag'!C28 -> Mike04 | C30: 3 | D30: 0 | E30: =IF(OR(EXACT($C$10,C30)*(EXACT($D$10,D30)))=TRUE,$AJ$7,IF(($D$10-$C$10=D30-C30),$AJ$4,IF(OR(EXACT($C$10>$D$10,C30>D30)*EXACT($C$10=$D$10,C30=D30)*EXACT($C$10<$D$10,C30<D30)),$AJ$2,0))) -> 2 | F30: 2 | G30: 0 | H30: =IF(OR(EXACT($F$10,F30)*(EXACT($G$10,G30)))=TRUE,$AJ$7,IF(($G$10-$F$10=G30-F30),$AJ$4,IF(OR(EXACT($F$10>$G$10,F30>G30)*EXACT($F$10=$G$10,F30=G30)*EXACT($F$10<$G$10,F30<G30)),$AJ$2,0))) -> 3 | I30: 0 | J30: 2 | K30: =IF(OR(EXACT($I$10,I30)*(EXACT($J$10,J30)))=TRUE,$AJ$7,IF(($J$10-$I$10=J30-I30),$AJ$4,IF(OR(EXACT($I$10>$J$10,I30>J30)*EXACT($I$10=$J$10,I30=J30)*EXACT($I$10<$J$10,I30<J30)),$AJ$2,0))) -> 0 | L30: 2 | M30: 1 | N30: =IF(OR(EXACT($L$10,L30)*(EXACT($M$10,M30)))=TRUE,$AJ$7,IF(($M$10-$L$10=M30-L30),$AJ$4,IF(OR(EXACT($L$10>$M$10,L30>M30)*EXACT($L$10=$M$10,L30=M30)*EXACT($L$10<$M$10,L30<M30)),$AJ$2,0))) -> 0 | O30: 2 | P30: 0 | Q30: =IF(OR(EXACT($O$10,O30)*(EXACT($P$10,P30)))=TRUE,$AJ$7,IF(($P$10-$O$10=P30-O30),$AJ$4,IF(OR(EXACT($O$10>$P$10,O30>P30)*EXACT($O$10=$P$10,O30=P30)*EXACT($O$10<$P$10,O30<P30)),$AJ$2,0))) -> 2 | R30: 1 | S30: 1 | T30: =IF(OR(EXACT($R$10,R30)*(EXACT($S$10,S30)))=TRUE,$AJ$7,IF(($S$10-$R$10=S30-R30),$AJ$4,IF(OR(EXACT($R$10>$S$10,R30>S30)*EXACT($R$10=$S$10,R30=S30)*EXACT($R$10<$S$10,R30<S30)),$AJ$2,0))) -> 0 | U30: 1 | V30: 2 | W30: =IF(OR(EXACT($U$10,U30)*(EXACT($V$10,V30)))=TRUE,$AJ$7,IF(($V$10-$U$10=V30-U30),$AJ$4,IF(OR(EXACT($U$10>$V$10,U30>V30)*EXACT($U$10=$V$10,U30=V30)*EXACT($U$10<$V$10,U30<V30)),$AJ$2,0)))*2*2 -> 0 | X30: 2 | Y30: 0 | Z30: =IF(OR(EXACT($X$10,X30)*(EXACT($Y$10,Y30)))=TRUE,$AJ$7,IF(($Y$10-$X$10=Y30-X30),$AJ$4,IF(OR(EXACT($X$10>$Y$10,X30>Y30)*EXACT($X$10=$Y$10,X30=Y30)*EXACT($X$10<$Y$10,X30<Y30)),$AJ$2,0))) -> 0 | AA30: 1 | AB30: 2 | AC30: =IF(OR(EXACT($AA$10,AA30)*(EXACT($AB$10,AB30)))=TRUE,$AJ$7,IF(($AB$10-$AA$10=AB30-AA30),$AJ$4,IF(OR(EXACT($AA$10>$AB$10,AA30>AB30)*EXACT($AA$10=$AB$10,AA30=AB30)*EXACT($AA$10<$AB$10,AA30<AB30)),$AJ$2,0))) -> 0 | AG30: =E30+H30+K30+N30+Q30+T30+W30+Z30+AC30+AF30 -> 7 | AH30: ='2.Spieltag'!AK28 -> 15 | AI30: ='2.Spieltag'!AL28 -> 17 | AJ30: =AG30+AH30 -> 22 | AK30: =RANK(AJ30,$AJ$11:$AJ$34) -> 19
A31: =AK31 -> 19 | B31: ='2.Spieltag'!C26 -> Schalkekalle | C31: 1 | D31: 1 | E31: =IF(OR(EXACT($C$10,C31)*(EXACT($D$10,D31)))=TRUE,$AJ$7,IF(($D$10-$C$10=D31-C31),$AJ$4,IF(OR(EXACT($C$10>$D$10,C31>D31)*EXACT($C$10=$D$10,C31=D31)*EXACT($C$10<$D$10,C31<D31)),$AJ$2,0))) -> 0 | F31: 2 | G31: 2 | H31: =IF(OR(EXACT($F$10,F31)*(EXACT($G$10,G31)))=TRUE,$AJ$7,IF(($G$10-$F$10=G31-F31),$AJ$4,IF(OR(EXACT($F$10>$G$10,F31>G31)*EXACT($F$10=$G$10,F31=G31)*EXACT($F$10<$G$10,F31<G31)),$AJ$2,0))) -> 0 | I31: 1 | J31: 1 | K31: =IF(OR(EXACT($I$10,I31)*(EXACT($J$10,J31)))=TRUE,$AJ$7,IF(($J$10-$I$10=J31-I31),$AJ$4,IF(OR(EXACT($I$10>$J$10,I31>J31)*EXACT($I$10=$J$10,I31=J31)*EXACT($I$10<$J$10,I31<J31)),$AJ$2,0))) -> 0 | L31: 1 | M31: 1 | N31: =IF(OR(EXACT($L$10,L31)*(EXACT($M$10,M31)))=TRUE,$AJ$7,IF(($M$10-$L$10=M31-L31),$AJ$4,IF(OR(EXACT($L$10>$M$10,L31>M31)*EXACT($L$10=$M$10,L31=M31)*EXACT($L$10<$M$10,L31<M31)),$AJ$2,0))) -> 3 | O31: 1 | P31: 2 | Q31: =IF(OR(EXACT($O$10,O31)*(EXACT($P$10,P31)))=TRUE,$AJ$7,IF(($P$10-$O$10=P31-O31),$AJ$4,IF(OR(EXACT($O$10>$P$10,O31>P31)*EXACT($O$10=$P$10,O31=P31)*EXACT($O$10<$P$10,O31<P31)),$AJ$2,0))) -> 0 | R31: 1 | S31: 0 | T31: =IF(OR(EXACT($R$10,R31)*(EXACT($S$10,S31)))=TRUE,$AJ$7,IF(($S$10-$R$10=S31-R31),$AJ$4,IF(OR(EXACT($R$10>$S$10,R31>S31)*EXACT($R$10=$S$10,R31=S31)*EXACT($R$10<$S$10,R31<S31)),$AJ$2,0))) -> 3 | U31: 0 | V31: 2 | W31: =IF(OR(EXACT($U$10,U31)*(EXACT($V$10,V31)))=TRUE,$AJ$7,IF(($V$10-$U$10=V31-U31),$AJ$4,IF(OR(EXACT($U$10>$V$10,U31>V31)*EXACT($U$10=$V$10,U31=V31)*EXACT($U$10<$V$10,U31<V31)),$AJ$2,0)))*2*2 -> 0 | X31: 2 | Y31: 1 | Z31: =IF(OR(EXACT($X$10,X31)*(EXACT($Y$10,Y31)))=TRUE,$AJ$7,IF(($Y$10-$X$10=Y31-X31),$AJ$4,IF(OR(EXACT($X$10>$Y$10,X31>Y31)*EXACT($X$10=$Y$10,X31=Y31)*EXACT($X$10<$Y$10,X31<Y31)),$AJ$2,0))) -> 0 | AA31: 1 | AB31: 0 | AC31: =IF(OR(EXACT($AA$10,AA31)*(EXACT($AB$10,AB31)))=TRUE,$AJ$7,IF(($AB$10-$AA$10=AB31-AA31),$AJ$4,IF(OR(EXACT($AA$10>$AB$10,AA31>AB31)*EXACT($AA$10=$AB$10,AA31=AB31)*EXACT($AA$10<$AB$10,AA31<AB31)),$AJ$2,0))) -> 0 | AG31: =E31+H31+K31+N31+Q31+T31+W31+Z31+AC31+AF31 -> 6 | AH31: ='2.Spieltag'!AK26 -> 16 | AI31: ='2.Spieltag'!AL26 -> 15 | AJ31: =AG31+AH31 -> 22 | AK31: =RANK(AJ31,$AJ$11:$AJ$34) -> 19
A32: =AK32 -> 22 | B32: ='2.Spieltag'!C32 -> schalt04 | C32: 1 | D32: 2 | E32: =IF(OR(EXACT($C$10,C32)*(EXACT($D$10,D32)))=TRUE,$AJ$7,IF(($D$10-$C$10=D32-C32),$AJ$4,IF(OR(EXACT($C$10>$D$10,C32>D32)*EXACT($C$10=$D$10,C32=D32)*EXACT($C$10<$D$10,C32<D32)),$AJ$2,0))) -> 0 | F32: 2 | G32: 1 | H32: =IF(OR(EXACT($F$10,F32)*(EXACT($G$10,G32)))=TRUE,$AJ$7,IF(($G$10-$F$10=G32-F32),$AJ$4,IF(OR(EXACT($F$10>$G$10,F32>G32)*EXACT($F$10=$G$10,F32=G32)*EXACT($F$10<$G$10,F32<G32)),$AJ$2,0))) -> 2 | I32: 1 | J32: 3 | K32: =IF(OR(EXACT($I$10,I32)*(EXACT($J$10,J32)))=TRUE,$AJ$7,IF(($J$10-$I$10=J32-I32),$AJ$4,IF(OR(EXACT($I$10>$J$10,I32>J32)*EXACT($I$10=$J$10,I32=J32)*EXACT($I$10<$J$10,I32<J32)),$AJ$2,0))) -> 0 | L32: 2 | M32: 2 | N32: =IF(OR(EXACT($L$10,L32)*(EXACT($M$10,M32)))=TRUE,$AJ$7,IF(($M$10-$L$10=M32-L32),$AJ$4,IF(OR(EXACT($L$10>$M$10,L32>M32)*EXACT($L$10=$M$10,L32=M32)*EXACT($L$10<$M$10,L32<M32)),$AJ$2,0))) -> 5 | O32: 3 | P32: 1 | Q32: =IF(OR(EXACT($O$10,O32)*(EXACT($P$10,P32)))=TRUE,$AJ$7,IF(($P$10-$O$10=P32-O32),$AJ$4,IF(OR(EXACT($O$10>$P$10,O32>P32)*EXACT($O$10=$P$10,O32=P32)*EXACT($O$10<$P$10,O32<P32)),$AJ$2,0))) -> 2 | R32: 1 | S32: 1 | T32: =IF(OR(EXACT($R$10,R32)*(EXACT($S$10,S32)))=TRUE,$AJ$7,IF(($S$10-$R$10=S32-R32),$AJ$4,IF(OR(EXACT($R$10>$S$10,R32>S32)*EXACT($R$10=$S$10,R32=S32)*EXACT($R$10<$S$10,R32<S32)),$AJ$2,0))) -> 0 | U32: 1 | V32: 4 | W32: =IF(OR(EXACT($U$10,U32)*(EXACT($V$10,V32)))=TRUE,$AJ$7,IF(($V$10-$U$10=V32-U32),$AJ$4,IF(OR(EXACT($U$10>$V$10,U32>V32)*EXACT($U$10=$V$10,U32=V32)*EXACT($U$10<$V$10,U32<V32)),$AJ$2,0)))*2*2 -> 0 | X32: 3 | Y32: 1 | Z32: =IF(OR(EXACT($X$10,X32)*(EXACT($Y$10,Y32)))=TRUE,$AJ$7,IF(($Y$10-$X$10=Y32-X32),$AJ$4,IF(OR(EXACT($X$10>$Y$10,X32>Y32)*EXACT($X$10=$Y$10,X32=Y32)*EXACT($X$10<$Y$10,X32<Y32)),$AJ$2,0))) -> 0 | AA32: 2 | AB32: 1 | AC32: =IF(OR(EXACT($AA$10,AA32)*(EXACT($AB$10,AB32)))=TRUE,$AJ$7,IF(($AB$10-$AA$10=AB32-AA32),$AJ$4,IF(OR(EXACT($AA$10>$AB$10,AA32>AB32)*EXACT($AA$10=$AB$10,AA32=AB32)*EXACT($AA$10<$AB$10,AA32<AB32)),$AJ$2,0))) -> 0 | AG32: =E32+K32+Q32+T32+N32+H32+W32+Z32+AC32+AF32 -> 9 | AH32: ='2.Spieltag'!AK32 -> 12 | AI32: ='2.Spieltag'!AL32 -> 21 | AJ32: =AG32+AH32 -> 21 | AK32: =RANK(AJ32,$AJ$11:$AJ$34) -> 22
A33: =AK33 -> 23 | B33: ='2.Spieltag'!C34 -> Ricardo04 | C33: 2 | D33: 0 | E33: =IF(OR(EXACT($C$10,C33)*(EXACT($D$10,D33)))=TRUE,$AJ$7,IF(($D$10-$C$10=D33-C33),$AJ$4,IF(OR(EXACT($C$10>$D$10,C33>D33)*EXACT($C$10=$D$10,C33=D33)*EXACT($C$10<$D$10,C33<D33)),$AJ$2,0))) -> 3 | F33: 3 | G33: 0 | H33: =IF(OR(EXACT($F$10,F33)*(EXACT($G$10,G33)))=TRUE,$AJ$7,IF(($G$10-$F$10=G33-F33),$AJ$4,IF(OR(EXACT($F$10>$G$10,F33>G33)*EXACT($F$10=$G$10,F33=G33)*EXACT($F$10<$G$10,F33<G33)),$AJ$2,0))) -> 2 | I33: 1 | J33: 1 | K33: =IF(OR(EXACT($I$10,I33)*(EXACT($J$10,J33)))=TRUE,$AJ$7,IF(($J$10-$I$10=J33-I33),$AJ$4,IF(OR(EXACT($I$10>$J$10,I33>J33)*EXACT($I$10=$J$10,I33=J33)*EXACT($I$10<$J$10,I33<J33)),$AJ$2,0))) -> 0 | L33: 1 | M33: 2 | N33: =IF(OR(EXACT($L$10,L33)*(EXACT($M$10,M33)))=TRUE,$AJ$7,IF(($M$10-$L$10=M33-L33),$AJ$4,IF(OR(EXACT($L$10>$M$10,L33>M33)*EXACT($L$10=$M$10,L33=M33)*EXACT($L$10<$M$10,L33<M33)),$AJ$2,0))) -> 0 | O33: 2 | P33: 1 | Q33: =IF(OR(EXACT($O$10,O33)*(EXACT($P$10,P33)))=TRUE,$AJ$7,IF(($P$10-$O$10=P33-O33),$AJ$4,IF(OR(EXACT($O$10>$P$10,O33>P33)*EXACT($O$10=$P$10,O33=P33)*EXACT($O$10<$P$10,O33<P33)),$AJ$2,0))) -> 3 | R33: 2 | S33: 1 | T33: =IF(OR(EXACT($R$10,R33)*(EXACT($S$10,S33)))=TRUE,$AJ$7,IF(($S$10-$R$10=S33-R33),$AJ$4,IF(OR(EXACT($R$10>$S$10,R33>S33)*EXACT($R$10=$S$10,R33=S33)*EXACT($R$10<$S$10,R33<S33)),$AJ$2,0))) -> 5 | U33: 1 | V33: 2 | W33: =IF(OR(EXACT($U$10,U33)*(EXACT($V$10,V33)))=TRUE,$AJ$7,IF(($V$10-$U$10=V33-U33),$AJ$4,IF(OR(EXACT($U$10>$V$10,U33>V33)*EXACT($U$10=$V$10,U33=V33)*EXACT($U$10<$V$10,U33<V33)),$AJ$2,0)))*2*2 -> 0 | X33: 2 | Y33: 2 | Z33: =IF(OR(EXACT($X$10,X33)*(EXACT($Y$10,Y33)))=TRUE,$AJ$7,IF(($Y$10-$X$10=Y33-X33),$AJ$4,IF(OR(EXACT($X$10>$Y$10,X33>Y33)*EXACT($X$10=$Y$10,X33=Y33)*EXACT($X$10<$Y$10,X33<Y33)),$AJ$2,0))) -> 3 | AA33: 2 | AB33: 1 | AC33: =IF(OR(EXACT($AA$10,AA33)*(EXACT($AB$10,AB33)))=TRUE,$AJ$7,IF(($AB$10-$AA$10=AB33-AA33),$AJ$4,IF(OR(EXACT($AA$10>$AB$10,AA33>AB33)*EXACT($AA$10=$AB$10,AA33=AB33)*EXACT($AA$10<$AB$10,AA33<AB33)),$AJ$2,0))) -> 0 | AG33: =E33+K33+Q33+T33+N33+H33+W33+Z33+AC33+AF33 -> 16 | AH33: ='2.Spieltag'!AK34 -> 0 | AI33: ='2.Spieltag'!AL34 -> 0 | AJ33: =AG33+AH33 -> 16 | AK33: =RANK(AJ33,$AJ$11:$AJ$34) -> 23
A34: =AK34 -> 24 | B34: ='2.Spieltag'!C33 -> Gudrun | C34: 1 | D34: 1 | E34: =IF(OR(EXACT($C$10,C34)*(EXACT($D$10,D34)))=TRUE,$AJ$7,IF(($D$10-$C$10=D34-C34),$AJ$4,IF(OR(EXACT($C$10>$D$10,C34>D34)*EXACT($C$10=$D$10,C34=D34)*EXACT($C$10<$D$10,C34<D34)),$AJ$2,0))) -> 0 | F34: 3 | G34: 1 | H34: =IF(OR(EXACT($F$10,F34)*(EXACT($G$10,G34)))=TRUE,$AJ$7,IF(($G$10-$F$10=G34-F34),$AJ$4,IF(OR(EXACT($F$10>$G$10,F34>G34)*EXACT($F$10=$G$10,F34=G34)*EXACT($F$10<$G$10,F34<G34)),$AJ$2,0))) -> 5 | I34: 0 | J34: 2 | K34: =IF(OR(EXACT($I$10,I34)*(EXACT($J$10,J34)))=TRUE,$AJ$7,IF(($J$10-$I$10=J34-I34),$AJ$4,IF(OR(EXACT($I$10>$J$10,I34>J34)*EXACT($I$10=$J$10,I34=J34)*EXACT($I$10<$J$10,I34<J34)),$AJ$2,0))) -> 0 | L34: 1 | M34: 2 | N34: =IF(OR(EXACT($L$10,L34)*(EXACT($M$10,M34)))=TRUE,$AJ$7,IF(($M$10-$L$10=M34-L34),$AJ$4,IF(OR(EXACT($L$10>$M$10,L34>M34)*EXACT($L$10=$M$10,L34=M34)*EXACT($L$10<$M$10,L34<M34)),$AJ$2,0))) -> 0 | O34: 1 | P34: 1 | Q34: =IF(OR(EXACT($O$10,O34)*(EXACT($P$10,P34)))=TRUE,$AJ$7,IF(($P$10-$O$10=P34-O34),$AJ$4,IF(OR(EXACT($O$10>$P$10,O34>P34)*EXACT($O$10=$P$10,O34=P34)*EXACT($O$10<$P$10,O34<P34)),$AJ$2,0))) -> 0 | R34: 0 | S34: 2 | T34: =IF(OR(EXACT($R$10,R34)*(EXACT($S$10,S34)))=TRUE,$AJ$7,IF(($S$10-$R$10=S34-R34),$AJ$4,IF(OR(EXACT($R$10>$S$10,R34>S34)*EXACT($R$10=$S$10,R34=S34)*EXACT($R$10<$S$10,R34<S34)),$AJ$2,0))) -> 0 | U34: 0 | V34: 2 | W34: =IF(OR(EXACT($U$10,U34)*(EXACT($V$10,V34)))=TRUE,$AJ$7,IF(($V$10-$U$10=V34-U34),$AJ$4,IF(OR(EXACT($U$10>$V$10,U34>V34)*EXACT($U$10=$V$10,U34=V34)*EXACT($U$10<$V$10,U34<V34)),$AJ$2,0)))*2*2 -> 0 | X34: 2 | Y34: 1 | Z34: =IF(OR(EXACT($X$10,X34)*(EXACT($Y$10,Y34)))=TRUE,$AJ$7,IF(($Y$10-$X$10=Y34-X34),$AJ$4,IF(OR(EXACT($X$10>$Y$10,X34>Y34)*EXACT($X$10=$Y$10,X34=Y34)*EXACT($X$10<$Y$10,X34<Y34)),$AJ$2,0))) -> 0 | AA34: 2 | AB34: 0 | AC34: =IF(OR(EXACT($AA$10,AA34)*(EXACT($AB$10,AB34)))=TRUE,$AJ$7,IF(($AB$10-$AA$10=AB34-AA34),$AJ$4,IF(OR(EXACT($AA$10>$AB$10,AA34>AB34)*EXACT($AA$10=$AB$10,AA34=AB34)*EXACT($AA$10<$AB$10,AA34<AB34)),$AJ$2,0))) -> 0 | AG34: =E34+K34+Q34+T34+N34+H34+W34+Z34+AC34+AF34 -> 5 | AH34: ='2.Spieltag'!AK33 -> 10 | AI34: ='2.Spieltag'!AL33 -> 23 | AJ34: =AG34+AH34 -> 15 | AK34: =RANK(AJ34,$AJ$11:$AJ$34) -> 24

Sheet 4.Spieltag
B1: 4. Spieltag | AG1: PUNKTEVERTEILUNG
AG2: richtige Tendenz | AJ2: 2
C4: Stuttgart | F4: Hoffenheim | I4: Nürnberg | L4: Augsburg | O4: Wolfsburg | R4: Berlin | U4: Schalke 04 | X4: Leverkusen | AA4: Frankfurt | AG4: richtige Tendenz + | AJ4: 3
AG5: korrekter Torab
C6: Düsseldorf | F6: Dortmund | I6: Hannover | L6: Bremen | O6: Freiburg | R6: Gladbach | U6: München | X6: Mainz | AA6: Leipzig
AG7: richtiges Ergebnis | AJ7: 5
AG8: G E S A M T W E R T U N G
AG9: Punkte | AH9: Punkte | AI9: Platz | AJ9: Gesamt | AK9: Platz
A10: PLATZ | B10: ERGEBNISSE=> | C10: 0 | D10: 0 | E10: Pkt. | F10: 1 | G10: 1 | H10: Pkt. | I10: 2 | J10: 0 | K10: Pkt. | L10: 2 | M10: 3 | N10: Pkt. | O10: 1 | P10: 3 | Q10: Pkt. | R10: 4 | S10: 2 | T10: Pkt. | U10: 0 | V10: 2 | W10: Pkt. | X10: 1 | Y10: 0 | Z10: Pkt. | AA10: 1 | AB10: 1 | AC10: Pkt. | AG10: Spieltag | AH10: bisher | AI10: bisher | AJ10: Punkte
A11: =AK11 -> 1 | B11: ='3.Spieltag'!B11 -> shiny | C11: 2 | D11: 1 | E11: =IF(OR(EXACT($C$10,C11)*(EXACT($D$10,D11)))=TRUE,$AJ$7,IF(($D$10-$C$10=D11-C11),$AJ$4,IF(OR(EXACT($C$10>$D$10,C11>D11)*EXACT($C$10=$D$10,C11=D11)*EXACT($C$10<$D$10,C11<D11)),$AJ$2,0))) -> 0 | F11: 1 | G11: 1 | H11: =IF(OR(EXACT($F$10,F11)*(EXACT($G$10,G11)))=TRUE,$AJ$7,IF(($G$10-$F$10=G11-F11),$AJ$4,IF(OR(EXACT($F$10>$G$10,F11>G11)*EXACT($F$10=$G$10,F11=G11)*EXACT($F$10<$G$10,F11<G11)),$AJ$2,0))) -> 5 | I11: 1 | J11: 1 | K11: =IF(OR(EXACT($I$10,I11)*(EXACT($J$10,J11)))=TRUE,$AJ$7,IF(($J$10-$I$10=J11-I11),$AJ$4,IF(OR(EXACT($I$10>$J$10,I11>J11)*EXACT($I$10=$J$10,I11=J11)*EXACT($I$10<$J$10,I11<J11)),$AJ$2,0))) -> 0 | L11: 2 | M11: 1 | N11: =IF(OR(EXACT($L$10,L11)*(EXACT($M$10,M11)))=TRUE,$AJ$7,IF(($M$10-$L$10=M11-L11),$AJ$4,IF(OR(EXACT($L$10>$M$10,L11>M11)*EXACT($L$10=$M$10,L11=M11)*EXACT($L$10<$M$10,L11<M11)),$AJ$2,0))) -> 0 | O11: 1 | P11: 0 | Q11: =IF(OR(EXACT($O$10,O11)*(EXACT($P$10,P11)))=TRUE,$AJ$7,IF(($P$10-$O$10=P11-O11),$AJ$4,IF(OR(EXACT($O$10>$P$10,O11>P11)*EXACT($O$10=$P$10,O11=P11)*EXACT($O$10<$P$10,O11<P11)),$AJ$2,0))) -> 0 | R11: 1 | S11: 1 | T11: =IF(OR(EXACT($R$10,R11)*(EXACT($S$10,S11)))=TRUE,$AJ$7,IF(($S$10-$R$10=S11-R11),$AJ$4,IF(OR(EXACT($R$10>$S$10,R11>S11)*EXACT($R$10=$S$10,R11=S11)*EXACT($R$10<$S$10,R11<S11)),$AJ$2,0))) -> 0 | U11: 2 | V11: 1 | W11: =IF(OR(EXACT($U$10,U11)*(EXACT($V$10,V11)))=TRUE,$AJ$7,IF(($V$10-$U$10=V11-U11),$AJ$4,IF(OR(EXACT($U$10>$V$10,U11>V11)*EXACT($U$10=$V$10,U11=V11)*EXACT($U$10<$V$10,U11<V11)),$AJ$2,0)))*2*2 -> 0 | X11: 2 | Y11: 0 | Z11: =IF(OR(EXACT($X$10,X11)*(EXACT($Y$10,Y11)))=TRUE,$AJ$7,IF(($Y$10-$X$10=Y11-X11),$AJ$4,IF(OR(EXACT($X$10>$Y$10,X11>Y11)*EXACT($X$10=$Y$10,X11=Y11)*EXACT($X$10<$Y$10,X11<Y11)),$AJ$2,0))) -> 2 | AA11: 1 | AB11: 2 | AC11: =IF(OR(EXACT($AA$10,AA11)*(EXACT($AB$10,AB11)))=TRUE,$AJ$7,IF(($AB$10-$AA$10=AB11-AA11),$AJ$4,IF(OR(EXACT($AA$10>$AB$10,AA11>AB11)*EXACT($AA$10=$AB$10,AA11=AB11)*EXACT($AA$10<$AB$10,AA11<AB11)),$AJ$2,0))) -> 0 | AG11: =E11+H11+K11+N11+Q11+T11+W11+Z11+AC11+AF11 -> 7 | AH11: ='3.Spieltag'!AJ11 -> 47 | AI11: ='3.Spieltag'!AK11 -> 1 | AJ11: =AG11+AH11 -> 54 | AK11: =RANK(AJ11,$AJ$11:$AJ$34) -> 1
A12: =AK12 -> 2 | B12: ='3.Spieltag'!B12 -> atschi91 | C12: 1 | D12: 1 | E12: =IF(OR(EXACT($C$10,C12)*(EXACT($D$10,D12)))=TRUE,$AJ$7,IF(($D$10-$C$10=D12-C12),$AJ$4,IF(OR(EXACT($C$10>$D$10,C12>D12)*EXACT($C$10=$D$10,C12=D12)*EXACT($C$10<$D$10,C12<D12)),$AJ$2,0))) -> 3 | F12: 2 | G12: 1 | H12: =IF(OR(EXACT($F$10,F12)*(EXACT($G$10,G12)))=TRUE,$AJ$7,IF(($G$10-$F$10=G12-F12),$AJ$4,IF(OR(EXACT($F$10>$G$10,F12>G12)*EXACT($F$10=$G$10,F12=G12)*EXACT($F$10<$G$10,F12<G12)),$AJ$2,0))) -> 0 | I12: 2 | J12: 0 | K12: =IF(OR(EXACT($I$10,I12)*(EXACT($J$10,J12)))=TRUE,$AJ$7,IF(($J$10-$I$10=J12-I12),$AJ$4,IF(OR(EXACT($I$10>$J$10,I12>J12)*EXACT($I$10=$J$10,I12=J12)*EXACT($I$10<$J$10,I12<J12)),$AJ$2,0))) -> 5 | L12: 2 | M12: 1 | N12: =IF(OR(EXACT($L$10,L12)*(EXACT($M$10,M12)))=TRUE,$AJ$7,IF(($M$10-$L$10=M12-L12),$AJ$4,IF(OR(EXACT($L$10>$M$10,L12>M12)*EXACT($L$10=$M$10,L12=M12)*EXACT($L$10<$M$10,L12<M12)),$AJ$2,0))) -> 0 | O12: 2 | P12: 1 | Q12: =IF(OR(EXACT($O$10,O12)*(EXACT($P$10,P12)))=TRUE,$AJ$7,IF(($P$10-$O$10=P12-O12),$AJ$4,IF(OR(EXACT($O$10>$P$10,O12>P12)*EXACT($O$10=$P$10,O12=P12)*EXACT($O$10<$P$10,O12<P12)),$AJ$2,0))) -> 0 | R12: 1 | S12: 3 | T12: =IF(OR(EXACT($R$10,R12)*(EXACT($S$10,S12)))=TRUE,$AJ$7,IF(($S$10-$R$10=S12-R12),$AJ$4,IF(OR(EXACT($R$10>$S$10,R12>S12)*EXACT($R$10=$S$10,R12=S12)*EXACT($R$10<$S$10,R12<S12)),$AJ$2,0))) -> 0 | U12: 2 | V12: 1 | W12: =IF(OR(EXACT($U$10,U12)*(EXACT($V$10,V12)))=TRUE,$AJ$7,IF(($V$10-$U$10=V12-U12),$AJ$4,IF(OR(EXACT($U$10>$V$10,U12>V12)*EXACT($U$10=$V$10,U12=V12)*EXACT($U$10<$V$10,U12<V12)),$AJ$2,0)))*2*2 -> 0 | X12: 2 | Y12: 1 | Z12: =IF(OR(EXACT($X$10,X12)*(EXACT($Y$10,Y12)))=TRUE,$AJ$7,IF(($Y$10-$X$10=Y12-X12),$AJ$4,IF(OR(EXACT($X$10>$Y$10,X12>Y12)*EXACT($X$10=$Y$10,X12=Y12)*EXACT($X$10<$Y$10,X12<Y12)),$AJ$2,0))) -> 3 | AA12: 2 | AB12: 1 | AC12: =IF(OR(EXACT($AA$10,AA12)*(EXACT($AB$10,AB12)))=TRUE,$AJ$7,IF(($AB$10-$AA$10=AB12-AA12),$AJ$4,IF(OR(EXACT($AA$10>$AB$10,AA12>AB12)*EXACT($AA$10=$AB$10,AA12=AB12)*EXACT($AA$10<$AB$10,AA12<AB12)),$AJ$2,0))) -> 0 | AG12: =E12+H12+K12+N12+Q12+T12+W12+Z12+AC12+AF12 -> 11 | AH12: ='3.Spieltag'!AJ12 -> 40 | AI12: ='3.Spieltag'!AK12 -> 2 | AJ12: =AG12+AH12 -> 51 | AK12: =RANK(AJ12,$AJ$11:$AJ$34) -> 2
A13: =AK13 -> 3 | B13: ='3.Spieltag'!B15 -> Lola04 | C13: 2 | D13: 1 | E13: =IF(OR(EXACT($C$10,C13)*(EXACT($D$10,D13)))=TRUE,$AJ$7,IF(($D$10-$C$10=D13-C13),$AJ$4,IF(OR(EXACT($C$10>$D$10,C13>D13)*EXACT($C$10=$D$10,C13=D13)*EXACT($C$10<$D$10,C13<D13)),$AJ$2,0))) -> 0 | F13: 2 | G13: 2 | H13: =IF(OR(EXACT($F$10,F13)*(EXACT($G$10,G13)))=TRUE,$AJ$7,IF(($G$10-$F$10=G13-F13),$AJ$4,IF(OR(EXACT($F$10>$G$10,F13>G13)*EXACT($F$10=$G$10,F13=G13)*EXACT($F$10<$G$10,F13<G13)),$AJ$2,0))) -> 3 | I13: 2 | J13: 1 | K13: =IF(OR(EXACT($I$10,I13)*(EXACT($J$10,J13)))=TRUE,$AJ$7,IF(($J$10-$I$10=J13-I13),$AJ$4,IF(OR(EXACT($I$10>$J$10,I13>J13)*EXACT($I$10=$J$10,I13=J13)*EXACT($I$10<$J$10,I13<J13)),$AJ$2,0))) -> 2 | L13: 1 | M13: 1 | N13: =IF(OR(EXACT($L$10,L13)*(EXACT($M$10,M13)))=TRUE,$AJ$7,IF(($M$10-$L$10=M13-L13),$AJ$4,IF(OR(EXACT($L$10>$M$10,L13>M13)*EXACT($L$10=$M$10,L13=M13)*EXACT($L$10<$M$10,L13<M13)),$AJ$2,0))) -> 0 | O13: 2 | P13: 0 | Q13: =IF(OR(EXACT($O$10,O13)*(EXACT($P$10,P13)))=TRUE,$AJ$7,IF(($P$10-$O$10=P13-O13),$AJ$4,IF(OR(EXACT($O$10>$P$10,O13>P13)*EXACT($O$10=$P$10,O13=P13)*EXACT($O$10<$P$10,O13<P13)),$AJ$2,0))) -> 0 | R13: 2 | S13: 1 | T13: =IF(OR(EXACT($R$10,R13)*(EXACT($S$10,S13)))=TRUE,$AJ$7,IF(($S$10-$R$10=S13-R13),$AJ$4,IF(OR(EXACT($R$10>$S$10,R13>S13)*EXACT($R$10=$S$10,R13=S13)*EXACT($R$10<$S$10,R13<S13)),$AJ$2,0))) -> 2 | U13: 2 | V13: 2 | W13: =IF(OR(EXACT($U$10,U13)*(EXACT($V$10,V13)))=TRUE,$AJ$7,IF(($V$10-$U$10=V13-U13),$AJ$4,IF(OR(EXACT($U$10>$V$10,U13>V13)*EXACT($U$10=$V$10,U13=V13)*EXACT($U$10<$V$10,U13<V13)),$AJ$2,0)))*2*2 -> 0 | X13: 3 | Y13: 1 | Z13: =IF(OR(EXACT($X$10,X13)*(EXACT($Y$10,Y13)))=TRUE,$AJ$7,IF(($Y$10-$X$10=Y13-X13),$AJ$4,IF(OR(EXACT($X$10>$Y$10,X13>Y13)*EXACT($X$10=$Y$10,X13=Y13)*EXACT($X$10<$Y$10,X13<Y13)),$AJ$2,0))) -> 2 | AA13: 2 | AB13: 2 | AC13: =IF(OR(EXACT($AA$10,AA13)*(EXACT($AB$10,AB13)))=TRUE,$AJ$7,IF(($AB$10-$AA$10=AB13-AA13),$AJ$4,IF(OR(EXACT($AA$10>$AB$10,AA13>AB13)*EXACT($AA$10=$AB$10,AA13=AB13)*EXACT($AA$10<$AB$10,AA13<AB13)),$AJ$2,0))) -> 3 | AG13: =E13+H13+K13+N13+Q13+T13+W13+Z13+AC13+AF13 -> 12 | AH13: ='3.Spieltag'!AJ15 -> 36 | AI13: ='3.Spieltag'!AK15 -> 5 | AJ13: =AG13+AH13 -> 48 | AK13: =RANK(AJ13,$AJ$11:$AJ$34) -> 3
A14: =AK14 -> 4 | B14: ='3.Spieltag'!B19 -> Hans 04 | C14: 2 | D14: 1 | E14: =IF(OR(EXACT($C$10,C14)*(EXACT($D$10,D14)))=TRUE,$AJ$7,IF(($D$10-$C$10=D14-C14),$AJ$4,IF(OR(EXACT($C$10>$D$10,C14>D14)*EXACT($C$10=$D$10,C14=D14)*EXACT($C$10<$D$10,C14<D14)),$AJ$2,0))) -> 0 | F14: 2 | G14: 2 | H14: =IF(OR(EXACT($F$10,F14)*(EXACT($G$10,G14)))=TRUE,$AJ$7,IF(($G$10-$F$10=G14-F14),$AJ$4,IF(OR(EXACT($F$10>$G$10,F14>G14)*EXACT($F$10=$G$10,F14=G14)*EXACT($F$10<$G$10,F14<G14)),$AJ$2,0))) -> 3 | I14: 2 | J14: 1 | K14: =IF(OR(EXACT($I$10,I14)*(EXACT($J$10,J14)))=TRUE,$AJ$7,IF(($J$10-$I$10=J14-I14),$AJ$4,IF(OR(EXACT($I$10>$J$10,I14>J14)*EXACT($I$10=$J$10,I14=J14)*EXACT($I$10<$J$10,I14<J14)),$AJ$2,0))) -> 2 | L14: 1 | M14: 2 | N14: =IF(OR(EXACT($L$10,L14)*(EXACT($M$10,M14)))=TRUE,$AJ$7,IF(($M$10-$L$10=M14-L14),$AJ$4,IF(OR(EXACT($L$10>$M$10,L14>M14)*EXACT($L$10=$M$10,L14=M14)*EXACT($L$10<$M$10,L14<M14)),$AJ$2,0))) -> 3 | O14: 2 | P14: 1 | Q14: =IF(OR(EXACT($O$10,O14)*(EXACT($P$10,P14)))=TRUE,$AJ$7,IF(($P$10-$O$10=P14-O14),$AJ$4,IF(OR(EXACT($O$10>$P$10,O14>P14)*EXACT($O$10=$P$10,O14=P14)*EXACT($O$10<$P$10,O14<P14)),$AJ$2,0))) -> 0 | R14: 2 | S14: 2 | T14: =IF(OR(EXACT($R$10,R14)*(EXACT($S$10,S14)))=TRUE,$AJ$7,IF(($S$10-$R$10=S14-R14),$AJ$4,IF(OR(EXACT($R$10>$S$10,R14>S14)*EXACT($R$10=$S$10,R14=S14)*EXACT($R$10<$S$10,R14<S14)),$AJ$2,0))) -> 0 | U14: 2 | V14: 2 | W14: =IF(OR(EXACT($U$10,U14)*(EXACT($V$10,V14)))=TRUE,$AJ$7,IF(($V$10-$U$10=V14-U14),$AJ$4,IF(OR(EXACT($U$10>$V$10,U14>V14)*EXACT($U$10=$V$10,U14=V14)*EXACT($U$10<$V$10,U14<V14)),$AJ$2,0)))*2*2 -> 0 | X14: 2 | Y14: 1 | Z14: =IF(OR(EXACT($X$10,X14)*(EXACT($Y$10,Y14)))=TRUE,$AJ$7,IF(($Y$10-$X$10=Y14-X14),$AJ$4,IF(OR(EXACT($X$10>$Y$10,X14>Y14)*EXACT($X$10=$Y$10,X14=Y14)*EXACT($X$10<$Y$10,X14<Y14)),$AJ$2,0))) -> 3 | AA14: 2 | AB14: 1 | AC14: =IF(OR(EXACT($AA$10,AA14)*(EXACT($AB$10,AB14)))=TRUE,$AJ$7,IF(($AB$10-$AA$10=AB14-AA14),$AJ$4,IF(OR(EXACT($AA$10>$AB$10,AA14>AB14)*EXACT($AA$10=$AB$10,AA14=AB14)*EXACT($AA$10<$AB$10,AA14<AB14)),$AJ$2,0))) -> 0 | AG14: =E14+H14+K14+N14+Q14+T14+W14+Z14+AC14+AF14 -> 11 | AH14: ='3.Spieltag'!AJ19 -> 34 | AI14: ='3.Spieltag'!AK19 -> 7 | AJ14: =AG14+AH14 -> 45 | AK14: =RANK(AJ14,$AJ$11:$AJ$34) -> 4
A15: =AK15 -> 4 | B15: ='3.Spieltag'!B13 -> UltraGE | C15: 1 | D15: 2 | E15: =IF(OR(EXACT($C$10,C15)*(EXACT($D$10,D15)))=TRUE,$AJ$7,IF(($D$10-$C$10=D15-C15),$AJ$4,IF(OR(EXACT($C$10>$D$10,C15>D15)*EXACT($C$10=$D$10,C15=D15)*EXACT($C$10<$D$10,C15<D15)),$AJ$2,0))) -> 0 | F15: 1 | G15: 3 | H15: =IF(OR(EXACT($F$10,F15)*(EXACT($G$10,G15)))=TRUE,$AJ$7,IF(($G$10-$F$10=G15-F15),$AJ$4,IF(OR(EXACT($F$10>$G$10,F15>G15)*EXACT($F$10=$G$10,F15=G15)*EXACT($F$10<$G$10,F15<G15)),$AJ$2,0))) -> 0 | I15: 2 | J15: 1 | K15: =IF(OR(EXACT($I$10,I15)*(EXACT($J$10,J15)))=TRUE,$AJ$7,IF(($J$10-$I$10=J15-I15),$AJ$4,IF(OR(EXACT($I$10>$J$10,I15>J15)*EXACT($I$10=$J$10,I15=J15)*EXACT($I$10<$J$10,I15<J15)),$AJ$2,0))) -> 2 | L15: 2 | M15: 1 | N15: =IF(OR(EXACT($L$10,L15)*(EXACT($M$10,M15)))=TRUE,$AJ$7,IF(($M$10-$L$10=M15-L15),$AJ$4,IF(OR(EXACT($L$10>$M$10,L15>M15)*EXACT($L$10=$M$10,L15=M15)*EXACT($L$10<$M$10,L15<M15)),$AJ$2,0))) -> 0 | O15: 1 | P15: 2 | Q15: =IF(OR(EXACT($O$10,O15)*(EXACT($P$10,P15)))=TRUE,$AJ$7,IF(($P$10-$O$10=P15-O15),$AJ$4,IF(OR(EXACT($O$10>$P$10,O15>P15)*EXACT($O$10=$P$10,O15=P15)*EXACT($O$10<$P$10,O15<P15)),$AJ$2,0))) -> 2 | R15: 1 | S15: 1 | T15: =IF(OR(EXACT($R$10,R15)*(EXACT($S$10,S15)))=TRUE,$AJ$7,IF(($S$10-$R$10=S15-R15),$AJ$4,IF(OR(EXACT($R$10>$S$10,R15>S15)*EXACT($R$10=$S$10,R15=S15)*EXACT($R$10<$S$10,R15<S15)),$AJ$2,0))) -> 0 | U15: 1 | V15: 1 | W15: =IF(OR(EXACT($U$10,U15)*(EXACT($V$10,V15)))=TRUE,$AJ$7,IF(($V$10-$U$10=V15-U15),$AJ$4,IF(OR(EXACT($U$10>$V$10,U15>V15)*EXACT($U$10=$V$10,U15=V15)*EXACT($U$10<$V$10,U15<V15)),$AJ$2,0)))*2*2 -> 0 | X15: 2 | Y15: 0 | Z15: =IF(OR(EXACT($X$10,X15)*(EXACT($Y$10,Y15)))=TRUE,$AJ$7,IF(($Y$10-$X$10=Y15-X15),$AJ$4,IF(OR(EXACT($X$10>$Y$10,X15>Y15)*EXACT($X$10=$Y$10,X15=Y15)*EXACT($X$10<$Y$10,X15<Y15)),$AJ$2,0))) -> 2 | AA15: 2 | AB15: 1 | AC15: =IF(OR(EXACT($AA$10,AA15)*(EXACT($AB$10,AB15)))=TRUE,$AJ$7,IF(($AB$10-$AA$10=AB15-AA15),$AJ$4,IF(OR(EXACT($AA$10>$AB$10,AA15>AB15)*EXACT($AA$10=$AB$10,AA15=AB15)*EXACT($AA$10<$AB$10,AA15<AB15)),$AJ$2,0))) -> 0 | AG15: =E15+H15+K15+N15+Q15+T15+W15+Z15+AC15+AF15 -> 6 | AH15: ='3.Spieltag'!AJ13 -> 39 | AI15: ='3.Spieltag'!AK13 -> 3 | AJ15: =AG15+AH15 -> 45 | AK15: =RANK(AJ15,$AJ$11:$AJ$34) -> 4
A16: =AK16 -> 6 | B16: ='3.Spieltag'!B16 -> schalke-willi | C16: 2 | D16: 1 | E16: =IF(OR(EXACT($C$10,C16)*(EXACT($D$10,D16)))=TRUE,$AJ$7,IF(($D$10-$C$10=D16-C16),$AJ$4,IF(OR(EXACT($C$10>$D$10,C16>D16)*EXACT($C$10=$D$10,C16=D16)*EXACT($C$10<$D$10,C16<D16)),$AJ$2,0))) -> 0 | F16: 1 | G16: 0 | H16: =IF(OR(EXACT($F$10,F16)*(EXACT($G$10,G16)))=TRUE,$AJ$7,IF(($G$10-$F$10=G16-F16),$AJ$4,IF(OR(EXACT($F$10>$G$10,F16>G16)*EXACT($F$10=$G$10,F16=G16)*EXACT($F$10<$G$10,F16<G16)),$AJ$2,0))) -> 0 | I16: 2 | J16: 1 | K16: =IF(OR(EXACT($I$10,I16)*(EXACT($J$10,J16)))=TRUE,$AJ$7,IF(($J$10-$I$10=J16-I16),$AJ$4,IF(OR(EXACT($I$10>$J$10,I16>J16)*EXACT($I$10=$J$10,I16=J16)*EXACT($I$10<$J$10,I16<J16)),$AJ$2,0))) -> 2 | L16: 1 | M16: 0 | N16: =IF(OR(EXACT($L$10,L16)*(EXACT($M$10,M16)))=TRUE,$AJ$7,IF(($M$10-$L$10=M16-L16),$AJ$4,IF(OR(EXACT($L$10>$M$10,L16>M16)*EXACT($L$10=$M$10,L16=M16)*EXACT($L$10<$M$10,L16<M16)),$AJ$2,0))) -> 0 | O16: 2 | P16: 1 | Q16: =IF(OR(EXACT($O$10,O16)*(EXACT($P$10,P16)))=TRUE,$AJ$7,IF(($P$10-$O$10=P16-O16),$AJ$4,IF(OR(EXACT($O$10>$P$10,O16>P16)*EXACT($O$10=$P$10,O16=P16)*EXACT($O$10<$P$10,O16<P16)),$AJ$2,0))) -> 0 | R16: 1 | S16: 0 | T16: =IF(OR(EXACT($R$10,R16)*(EXACT($S$10,S16)))=TRUE,$AJ$7,IF(($S$10-$R$10=S16-R16),$AJ$4,IF(OR(EXACT($R$10>$S$10,R16>S16)*EXACT($R$10=$S$10,R16=S16)*EXACT($R$10<$S$10,R16<S16)),$AJ$2,0))) -> 2 | U16: 3 | V16: 2 | W16: =IF(OR(EXACT($U$10,U16)*(EXACT($V$10,V16)))=TRUE,$AJ$7,IF(($V$10-$U$10=V16-U16),$AJ$4,IF(OR(EXACT($U$10>$V$10,U16>V16)*EXACT($U$10=$V$10,U16=V16)*EXACT($U$10<$V$10,U16<V16)),$AJ$2,0)))*2*2 -> 0 | X16: 3 | Y16: 0 | Z16: =IF(OR(EXACT($X$10,X16)*(EXACT($Y$10,Y16)))=TRUE,$AJ$7,IF(($Y$10-$X$10=Y16-X16),$AJ$4,IF(OR(EXACT($X$10>$Y$10,X16>Y16)*EXACT($X$10=$Y$10,X16=Y16)*EXACT($X$10<$Y$10,X16<Y16)),$AJ$2,0))) -> 2 | AA16: 2 | AB16: 1 | AC16: =IF(OR(EXACT($AA$10,AA16)*(EXACT($AB$10,AB16)))=TRUE,$AJ$7,IF(($AB$10-$AA$10=AB16-AA16),$AJ$4,IF(OR(EXACT($AA$10>$AB$10,AA16>AB16)*EXACT($AA$10=$AB$10,AA16=AB16)*EXACT($AA$10<$AB$10,AA16<AB16)),$AJ$2,0))) -> 0 | AG16: =E16+H16+K16+N16+Q16+T16+W16+Z16+AC16+AF16 -> 6 | AH16: ='3.Spieltag'!AJ16 -> 36 | AI16: ='3.Spieltag'!AK16 -> 5 | AJ16: =AG16+AH16 -> 42 | AK16: =RANK(AJ16,$AJ$11:$AJ$34) -> 6
A17: =AK17 -> 6 | B17: ='3.Spieltag'!B25 -> Reinhold | C17: 3 | D17: 3 | E17: =IF(OR(EXACT($C$10,C17)*(EXACT($D$10,D17)))=TRUE,$AJ$7,IF(($D$10-$C$10=D17-C17),$AJ$4,IF(OR(EXACT($C$10>$D$10,C17>D17)*EXACT($C$10=$D$10,C17=D17)*EXACT($C$10<$D$10,C17<D17)),$AJ$2,0))) -> 3 | F17: 3 | G17: 3 | H17: =IF(OR(EXACT($F$10,F17)*(EXACT($G$10,G17)))=TRUE,$AJ$7,IF(($G$10-$F$10=G17-F17),$AJ$4,IF(OR(EXACT($F$10>$G$10,F17>G17)*EXACT($F$10=$G$10,F17=G17)*EXACT($F$10<$G$10,F17<G17)),$AJ$2,0))) -> 3 | I17: 2 | J17: 1 | K17: =IF(OR(EXACT($I$10,I17)*(EXACT($J$10,J17)))=TRUE,$AJ$7,IF(($J$10-$I$10=J17-I17),$AJ$4,IF(OR(EXACT($I$10>$J$10,I17>J17)*EXACT($I$10=$J$10,I17=J17)*EXACT($I$10<$J$10,I17<J17)),$AJ$2,0))) -> 2 | L17: 1 | M17: 1 | N17: =IF(OR(EXACT($L$10,L17)*(EXACT($M$10,M17)))=TRUE,$AJ$7,IF(($M$10-$L$10=M17-L17),$AJ$4,IF(OR(EXACT($L$10>$M$10,L17>M17)*EXACT($L$10=$M$10,L17=M17)*EXACT($L$10<$M$10,L17<M17)),$AJ$2,0))) -> 0 | O17: 2 | P17: 0 | Q17: =IF(OR(EXACT($O$10,O17)*(EXACT($P$10,P17)))=TRUE,$AJ$7,IF(($P$10-$O$10=P17-O17),$AJ$4,IF(OR(EXACT($O$10>$P$10,O17>P17)*EXACT($O$10=$P$10,O17=P17)*EXACT($O$10<$P$10,O17<P17)),$AJ$2,0))) -> 0 | R17: 1 | S17: 1 | T17: =IF(OR(EXACT($R$10,R17)*(EXACT($S$10,S17)))=TRUE,$AJ$7,IF(($S$10-$R$10=S17-R17),$AJ$4,IF(OR(EXACT($R$10>$S$10,R17>S17)*EXACT($R$10=$S$10,R17=S17)*EXACT($R$10<$S$10,R17<S17)),$AJ$2,0))) -> 0 | U17: 4 | V17: 1 | W17: =IF(OR(EXACT($U$10,U17)*(EXACT($V$10,V17)))=TRUE,$AJ$7,IF(($V$10-$U$10=V17-U17),$AJ$4,IF(OR(EXACT($U$10>$V$10,U17>V17)*EXACT($U$10=$V$10,U17=V17)*EXACT($U$10<$V$10,U17<V17)),$AJ$2,0)))*2*2 -> 0 | X17: 3 | Y17: 0 | Z17: =IF(OR(EXACT($X$10,X17)*(EXACT($Y$10,Y17)))=TRUE,$AJ$7,IF(($Y$10-$X$10=Y17-X17),$AJ$4,IF(OR(EXACT($X$10>$Y$10,X17>Y17)*EXACT($X$10=$Y$10,X17=Y17)*EXACT($X$10<$Y$10,X17<Y17)),$AJ$2,0))) -> 2 | AA17: 1 | AB17: 1 | AC17: =IF(OR(EXACT($AA$10,AA17)*(EXACT($AB$10,AB17)))=TRUE,$AJ$7,IF(($AB$10-$AA$10=AB17-AA17),$AJ$4,IF(OR(EXACT($AA$10>$AB$10,AA17>AB17)*EXACT($AA$10=$AB$10,AA17=AB17)*EXACT($AA$10<$AB$10,AA17<AB17)),$AJ$2,0))) -> 5 | AG17: =E17+H17+K17+N17+Q17+T17+W17+Z17+AC17+AF17 -> 15 | AH17: ='3.Spieltag'!AJ25 -> 27 | AI17: ='3.Spieltag'!AK25 -> 15 | AJ17: =AG17+AH17 -> 42 | AK17: =RANK(AJ17,$AJ$11:$AJ$34) -> 6
A18: =AK18 -> 8 | B18: ='3.Spieltag'!B18 -> gaby04 | C18: 2 | D18: 1 | E18: =IF(OR(EXACT($C$10,C18)*(EXACT($D$10,D18)))=TRUE,$AJ$7,IF(($D$10-$C$10=D18-C18),$AJ$4,IF(OR(EXACT($C$10>$D$10,C18>D18)*EXACT($C$10=$D$10,C18=D18)*EXACT($C$10<$D$10,C18<D18)),$AJ$2,0))) -> 0 | F18: 2 | G18: 2 | H18: =IF(OR(EXACT($F$10,F18)*(EXACT($G$10,G18)))=TRUE,$AJ$7,IF(($G$10-$F$10=G18-F18),$AJ$4,IF(OR(EXACT($F$10>$G$10,F18>G18)*EXACT($F$10=$G$10,F18=G18)*EXACT($F$10<$G$10,F18<G18)),$AJ$2,0))) -> 3 | I18: 1 | J18: 1 | K18: =IF(OR(EXACT($I$10,I18)*(EXACT($J$10,J18)))=TRUE,$AJ$7,IF(($J$10-$I$10=J18-I18),$AJ$4,IF(OR(EXACT($I$10>$J$10,I18>J18)*EXACT($I$10=$J$10,I18=J18)*EXACT($I$10<$J$10,I18<J18)),$AJ$2,0))) -> 0 | L18: 3 | M18: 1 | N18: =IF(OR(EXACT($L$10,L18)*(EXACT($M$10,M18)))=TRUE,$AJ$7,IF(($M$10-$L$10=M18-L18),$AJ$4,IF(OR(EXACT($L$10>$M$10,L18>M18)*EXACT($L$10=$M$10,L18=M18)*EXACT($L$10<$M$10,L18<M18)),$AJ$2,0))) -> 0 | O18: 2 | P18: 0 | Q18: =IF(OR(EXACT($O$10,O18)*(EXACT($P$10,P18)))=TRUE,$AJ$7,IF(($P$10-$O$10=P18-O18),$AJ$4,IF(OR(EXACT($O$10>$P$10,O18>P18)*EXACT($O$10=$P$10,O18=P18)*EXACT($O$10<$P$10,O18<P18)),$AJ$2,0))) -> 0 | R18: 1 | S18: 1 | T18: =IF(OR(EXACT($R$10,R18)*(EXACT($S$10,S18)))=TRUE,$AJ$7,IF(($S$10-$R$10=S18-R18),$AJ$4,IF(OR(EXACT($R$10>$S$10,R18>S18)*EXACT($R$10=$S$10,R18=S18)*EXACT($R$10<$S$10,R18<S18)),$AJ$2,0))) -> 0 | U18: 2 | V18: 2 | W18: =IF(OR(EXACT($U$10,U18)*(EXACT($V$10,V18)))=TRUE,$AJ$7,IF(($V$10-$U$10=V18-U18),$AJ$4,IF(OR(EXACT($U$10>$V$10,U18>V18)*EXACT($U$10=$V$10,U18=V18)*EXACT($U$10<$V$10,U18<V18)),$AJ$2,0)))*2*2 -> 0 | X18: 3 | Y18: 2 | Z18: =IF(OR(EXACT($X$10,X18)*(EXACT($Y$10,Y18)))=TRUE,$AJ$7,IF(($Y$10-$X$10=Y18-X18),$AJ$4,IF(OR(EXACT($X$10>$Y$10,X18>Y18)*EXACT($X$10=$Y$10,X18=Y18)*EXACT($X$10<$Y$10,X18<Y18)),$AJ$2,0))) -> 3 | AA18: 3 | AB18: 1 | AC18: =IF(OR(EXACT($AA$10,AA18)*(EXACT($AB$10,AB18)))=TRUE,$AJ$7,IF(($AB$10-$AA$10=AB18-AA18),$AJ$4,IF(OR(EXACT($AA$10>$AB$10,AA18>AB18)*EXACT($AA$10=$AB$10,AA18=AB18)*EXACT($AA$10<$AB$10,AA18<AB18)),$AJ$2,0))) -> 0 | AG18: =E18+H18+K18+N18+Q18+T18+W18+Z18+AC18+AF18 -> 6 | AH18: ='3.Spieltag'!AJ18 -> 34 | AI18: ='3.Spieltag'!AK18 -> 7 | AJ18: =AG18+AH18 -> 40 | AK18: =RANK(AJ18,$AJ$11:$AJ$34) -> 8
A19: =AK19 -> 9 | B19: ='3.Spieltag'!B23 -> cilli37 | C19: 1 | D19: 1 | E19: =IF(OR(EXACT($C$10,C19)*(EXACT($D$10,D19)))=TRUE,$AJ$7,IF(($D$10-$C$10=D19-C19),$AJ$4,IF(OR(EXACT($C$10>$D$10,C19>D19)*EXACT($C$10=$D$10,C19=D19)*EXACT($C$10<$D$10,C19<D19)),$AJ$2,0))) -> 3 | F19: 2 | G19: 2 | H19: =IF(OR(EXACT($F$10,F19)*(EXACT($G$10,G19)))=TRUE,$AJ$7,IF(($G$10-$F$10=G19-F19),$AJ$4,IF(OR(EXACT($F$10>$G$10,F19>G19)*EXACT($F$10=$G$10,F19=G19)*EXACT($F$10<$G$10,F19<G19)),$AJ$2,0))) -> 3 | I19: 1 | J19: 2 | K19: =IF(OR(EXACT($I$10,I19)*(EXACT($J$10,J19)))=TRUE,$AJ$7,IF(($J$10-$I$10=J19-I19),$AJ$4,IF(OR(EXACT($I$10>$J$10,I19>J19)*EXACT($I$10=$J$10,I19=J19)*EXACT($I$10<$J$10,I19<J19)),$AJ$2,0))) -> 0 | L19: 1 | M19: 2 | N19: =IF(OR(EXACT($L$10,L19)*(EXACT($M$10,M19)))=TRUE,$AJ$7,IF(($M$10-$L$10=M19-L19),$AJ$4,IF(OR(EXACT($L$10>$M$10,L19>M19)*EXACT($L$10=$M$10,L19=M19)*EXACT($L$10<$M$10,L19<M19)),$AJ$2,0))) -> 3 | O19: 2 | P19: 1 | Q19: =IF(OR(EXACT($O$10,O19)*(EXACT($P$10,P19)))=TRUE,$AJ$7,IF(($P$10-$O$10=P19-O19),$AJ$4,IF(OR(EXACT($O$10>$P$10,O19>P19)*EXACT($O$10=$P$10,O19=P19)*EXACT($O$10<$P$10,O19<P19)),$AJ$2,0))) -> 0 | R19: 1 | S19: 2 | T19: =IF(OR(EXACT($R$10,R19)*(EXACT($S$10,S19)))=TRUE,$AJ$7,IF(($S$10-$R$10=S19-R19),$AJ$4,IF(OR(EXACT($R$10>$S$10,R19>S19)*EXACT($R$10=$S$10,R19=S19)*EXACT($R$10<$S$10,R19<S19)),$AJ$2,0))) -> 0 | U19: 2 | V19: 1 | W19: =IF(OR(EXACT($U$10,U19)*(EXACT($V$10,V19)))=TRUE,$AJ$7,IF(($V$10-$U$10=V19-U19),$AJ$4,IF(OR(EXACT($U$10>$V$10,U19>V19)*EXACT($U$10=$V$10,U19=V19)*EXACT($U$10<$V$10,U19<V19)),$AJ$2,0)))*2*2 -> 0 | X19: 2 | Y19: 0 | Z19: =IF(OR(EXACT($X$10,X19)*(EXACT($Y$10,Y19)))=TRUE,$AJ$7,IF(($Y$10-$X$10=Y19-X19),$AJ$4,IF(OR(EXACT($X$10>$Y$10,X19>Y19)*EXACT($X$10=$Y$10,X19=Y19)*EXACT($X$10<$Y$10,X19<Y19)),$AJ$2,0))) -> 2 | AA19: 2 | AB19: 1 | AC19: =IF(OR(EXACT($AA$10,AA19)*(EXACT($AB$10,AB19)))=TRUE,$AJ$7,IF(($AB$10-$AA$10=AB19-AA19),$AJ$4,IF(OR(EXACT($AA$10>$AB$10,AA19>AB19)*EXACT($AA$10=$AB$10,AA19=AB19)*EXACT($AA$10<$AB$10,AA19<AB19)),$AJ$2,0))) -> 0 | AG19: =E19+H19+K19+N19+Q19+T19+W19+Z19+AC19+AF19 -> 11 | AH19: ='3.Spieltag'!AJ23 -> 28 | AI19: ='3.Spieltag'!AK23 -> 13 | AJ19: =AG19+AH19 -> 39 | AK19: =RANK(AJ19,$AJ$11:$AJ$34) -> 9
A20: =AK20 -> 10 | B20: ='3.Spieltag'!B17 -> Fabian1904 | C20: 1 | D20: 2 | E20: =IF(OR(EXACT($C$10,C20)*(EXACT($D$10,D20)))=TRUE,$AJ$7,IF(($D$10-$C$10=D20-C20),$AJ$4,IF(OR(EXACT($C$10>$D$10,C20>D20)*EXACT($C$10=$D$10,C20=D20)*EXACT($C$10<$D$10,C20<D20)),$AJ$2,0))) -> 0 | F20: 1 | G20: 3 | H20: =IF(OR(EXACT($F$10,F20)*(EXACT($G$10,G20)))=TRUE,$AJ$7,IF(($G$10-$F$10=G20-F20),$AJ$4,IF(OR(EXACT($F$10>$G$10,F20>G20)*EXACT($F$10=$G$10,F20=G20)*EXACT($F$10<$G$10,F20<G20)),$AJ$2,0))) -> 0 | I20: 1 | J20: 1 | K20: =IF(OR(EXACT($I$10,I20)*(EXACT($J$10,J20)))=TRUE,$AJ$7,IF(($J$10-$I$10=J20-I20),$AJ$4,IF(OR(EXACT($I$10>$J$10,I20>J20)*EXACT($I$10=$J$10,I20=J20)*EXACT($I$10<$J$10,I20<J20)),$AJ$2,0))) -> 0 | L20: 0 | M20: 2 | N20: =IF(OR(EXACT($L$10,L20)*(EXACT($M$10,M20)))=TRUE,$AJ$7,IF(($M$10-$L$10=M20-L20),$AJ$4,IF(OR(EXACT($L$10>$M$10,L20>M20)*EXACT($L$10=$M$10,L20=M20)*EXACT($L$10<$M$10,L20<M20)),$AJ$2,0))) -> 2 | O20: 1 | P20: 0 | Q20: =IF(OR(EXACT($O$10,O20)*(EXACT($P$10,P20)))=TRUE,$AJ$7,IF(($P$10-$O$10=P20-O20),$AJ$4,IF(OR(EXACT($O$10>$P$10,O20>P20)*EXACT($O$10=$P$10,O20=P20)*EXACT($O$10<$P$10,O20<P20)),$AJ$2,0))) -> 0 | R20: 0 | S20: 1 | T20: =IF(OR(EXACT($R$10,R20)*(EXACT($S$10,S20)))=TRUE,$AJ$7,IF(($S$10-$R$10=S20-R20),$AJ$4,IF(OR(EXACT($R$10>$S$10,R20>S20)*EXACT($R$10=$S$10,R20=S20)*EXACT($R$10<$S$10,R20<S20)),$AJ$2,0))) -> 0 | U20: 1 | V20: 1 | W20: =IF(OR(EXACT($U$10,U20)*(EXACT($V$10,V20)))=TRUE,$AJ$7,IF(($V$10-$U$10=V20-U20),$AJ$4,IF(OR(EXACT($U$10>$V$10,U20>V20)*EXACT($U$10=$V$10,U20=V20)*EXACT($U$10<$V$10,U20<V20)),$AJ$2,0)))*2*2 -> 0 | X20: 2 | Y20: 0 | Z20: =IF(OR(EXACT($X$10,X20)*(EXACT($Y$10,Y20)))=TRUE,$AJ$7,IF(($Y$10-$X$10=Y20-X20),$AJ$4,IF(OR(EXACT($X$10>$Y$10,X20>Y20)*EXACT($X$10=$Y$10,X20=Y20)*EXACT($X$10<$Y$10,X20<Y20)),$AJ$2,0))) -> 2 | AA20: 2 | AB20: 1 | AC20: =IF(OR(EXACT($AA$10,AA20)*(EXACT($AB$10,AB20)))=TRUE,$AJ$7,IF(($AB$10-$AA$10=AB20-AA20),$AJ$4,IF(OR(EXACT($AA$10>$AB$10,AA20>AB20)*EXACT($AA$10=$AB$10,AA20=AB20)*EXACT($AA$10<$AB$10,AA20<AB20)),$AJ$2,0))) -> 0 | AG20: =E20+H20+K20+N20+Q20+T20+W20+Z20+AC20+AF20 -> 4 | AH20: ='3.Spieltag'!AJ17 -> 34 | AI20: ='3.Spieltag'!AK17 -> 7 | AJ20: =AG20+AH20 -> 38 | AK20: =RANK(AJ20,$AJ$11:$AJ$34) -> 10
A21: =AK21 -> 11 | B21: ='3.Spieltag'!B21 -> Franzi 04 | C21: 1 | D21: 2 | E21: =IF(OR(EXACT($C$10,C21)*(EXACT($D$10,D21)))=TRUE,$AJ$7,IF(($D$10-$C$10=D21-C21),$AJ$4,IF(OR(EXACT($C$10>$D$10,C21>D21)*EXACT($C$10=$D$10,C21=D21)*EXACT($C$10<$D$10,C21<D21)),$AJ$2,0))) -> 0 | F21: 1 | G21: 2 | H21: =IF(OR(EXACT($F$10,F21)*(EXACT($G$10,G21)))=TRUE,$AJ$7,IF(($G$10-$F$10=G21-F21),$AJ$4,IF(OR(EXACT($F$10>$G$10,F21>G21)*EXACT($F$10=$G$10,F21=G21)*EXACT($F$10<$G$10,F21<G21)),$AJ$2,0))) -> 0 | I21: 2 | J21: 2 | K21: =IF(OR(EXACT($I$10,I21)*(EXACT($J$10,J21)))=TRUE,$AJ$7,IF(($J$10-$I$10=J21-I21),$AJ$4,IF(OR(EXACT($I$10>$J$10,I21>J21)*EXACT($I$10=$J$10,I21=J21)*EXACT($I$10<$J$10,I21<J21)),$AJ$2,0))) -> 0 | L21: 2 | M21: 1 | N21: =IF(OR(EXACT($L$10,L21)*(EXACT($M$10,M21)))=TRUE,$AJ$7,IF(($M$10-$L$10=M21-L21),$AJ$4,IF(OR(EXACT($L$10>$M$10,L21>M21)*EXACT($L$10=$M$10,L21=M21)*EXACT($L$10<$M$10,L21<M21)),$AJ$2,0))) -> 0 | O21: 2 | P21: 1 | Q21: =IF(OR(EXACT($O$10,O21)*(EXACT($P$10,P21)))=TRUE,$AJ$7,IF(($P$10-$O$10=P21-O21),$AJ$4,IF(OR(EXACT($O$10>$P$10,O21>P21)*EXACT($O$10=$P$10,O21=P21)*EXACT($O$10<$P$10,O21<P21)),$AJ$2,0))) -> 0 | R21: 2 | S21: 1 | T21: =IF(OR(EXACT($R$10,R21)*(EXACT($S$10,S21)))=TRUE,$AJ$7,IF(($S$10-$R$10=S21-R21),$AJ$4,IF(OR(EXACT($R$10>$S$10,R21>S21)*EXACT($R$10=$S$10,R21=S21)*EXACT($R$10<$S$10,R21<S21)),$AJ$2,0))) -> 2 | U21: 2 | V21: 1 | W21: =IF(OR(EXACT($U$10,U21)*(EXACT($V$10,V21)))=TRUE,$AJ$7,IF(($V$10-$U$10=V21-U21),$AJ$4,IF(OR(EXACT($U$10>$V$10,U21>V21)*EXACT($U$10=$V$10,U21=V21)*EXACT($U$10<$V$10,U21<V21)),$AJ$2,0)))*2*2 -> 0 | X21: 2 | Y21: 1 | Z21: =IF(OR(EXACT($X$10,X21)*(EXACT($Y$10,Y21)))=TRUE,$AJ$7,IF(($Y$10-$X$10=Y21-X21),$AJ$4,IF(OR(EXACT($X$10>$Y$10,X21>Y21)*EXACT($X$10=$Y$10,X21=Y21)*EXACT($X$10<$Y$10,X21<Y21)),$AJ$2,0))) -> 3 | AA21: 0 | AB21: 2 | AC21: =IF(OR(EXACT($AA$10,AA21)*(EXACT($AB$10,AB21)))=TRUE,$AJ$7,IF(($AB$10-$AA$10=AB21-AA21),$AJ$4,IF(OR(EXACT($AA$10>$AB$10,AA21>AB21)*EXACT($AA$10=$AB$10,AA21=AB21)*EXACT($AA$10<$AB$10,AA21<AB21)),$AJ$2,0))) -> 0 | AG21: =E21+H21+K21+N21+Q21+T21+W21+Z21+AC21+AF21 -> 5 | AH21: ='3.Spieltag'!AJ21 -> 32 | AI21: ='3.Spieltag'!AK21 -> 11 | AJ21: =AG21+AH21 -> 37 | AK21: =RANK(AJ21,$AJ$11:$AJ$34) -> 11
A22: =AK22 -> 11 | B22: ='3.Spieltag'!B20 -> Jubby | C22: 2 | D22: 0 | E22: =IF(OR(EXACT($C$10,C22)*(EXACT($D$10,D22)))=TRUE,$AJ$7,IF(($D$10-$C$10=D22-C22),$AJ$4,IF(OR(EXACT($C$10>$D$10,C22>D22)*EXACT($C$10=$D$10,C22=D22)*EXACT($C$10<$D$10,C22<D22)),$AJ$2,0))) -> 0 | F22: 2 | G22: 1 | H22: =IF(OR(EXACT($F$10,F22)*(EXACT($G$10,G22)))=TRUE,$AJ$7,IF(($G$10-$F$10=G22-F22),$AJ$4,IF(OR(EXACT($F$10>$G$10,F22>G22)*EXACT($F$10=$G$10,F22=G22)*EXACT($F$10<$G$10,F22<G22)),$AJ$2,0))) -> 0 | I22: 2 | J22: 1 | K22: =IF(OR(EXACT($I$10,I22)*(EXACT($J$10,J22)))=TRUE,$AJ$7,IF(($J$10-$I$10=J22-I22),$AJ$4,IF(OR(EXACT($I$10>$J$10,I22>J22)*EXACT($I$10=$J$10,I22=J22)*EXACT($I$10<$J$10,I22<J22)),$AJ$2,0))) -> 2 | L22: 3 | M22: 1 | N22: =IF(OR(EXACT($L$10,L22)*(EXACT($M$10,M22)))=TRUE,$AJ$7,IF(($M$10-$L$10=M22-L22),$AJ$4,IF(OR(EXACT($L$10>$M$10,L22>M22)*EXACT($L$10=$M$10,L22=M22)*EXACT($L$10<$M$10,L22<M22)),$AJ$2,0))) -> 0 | O22: 3 | P22: 0 | Q22: =IF(OR(EXACT($O$10,O22)*(EXACT($P$10,P22)))=TRUE,$AJ$7,IF(($P$10-$O$10=P22-O22),$AJ$4,IF(OR(EXACT($O$10>$P$10,O22>P22)*EXACT($O$10=$P$10,O22=P22)*EXACT($O$10<$P$10,O22<P22)),$AJ$2,0))) -> 0 | R22: 1 | S22: 1 | T22: =IF(OR(EXACT($R$10,R22)*(EXACT($S$10,S22)))=TRUE,$AJ$7,IF(($S$10-$R$10=S22-R22),$AJ$4,IF(OR(EXACT($R$10>$S$10,R22>S22)*EXACT($R$10=$S$10,R22=S22)*EXACT($R$10<$S$10,R22<S22)),$AJ$2,0))) -> 0 | U22: 1 | V22: 0 | W22: =IF(OR(EXACT($U$10,U22)*(EXACT($V$10,V22)))=TRUE,$AJ$7,IF(($V$10-$U$10=V22-U22),$AJ$4,IF(OR(EXACT($U$10>$V$10,U22>V22)*EXACT($U$10=$V$10,U22=V22)*EXACT($U$10<$V$10,U22<V22)),$AJ$2,0)))*2*2 -> 0 | X22: 3 | Y22: 1 | Z22: =IF(OR(EXACT($X$10,X22)*(EXACT($Y$10,Y22)))=TRUE,$AJ$7,IF(($Y$10-$X$10=Y22-X22),$AJ$4,IF(OR(EXACT($X$10>$Y$10,X22>Y22)*EXACT($X$10=$Y$10,X22=Y22)*EXACT($X$10<$Y$10,X22<Y22)),$AJ$2,0))) -> 2 | AA22: 0 | AB22: 2 | AC22: =IF(OR(EXACT($AA$10,AA22)*(EXACT($AB$10,AB22)))=TRUE,$AJ$7,IF(($AB$10-$AA$10=AB22-AA22),$AJ$4,IF(OR(EXACT($AA$10>$AB$10,AA22>AB22)*EXACT($AA$10=$AB$10,AA22=AB22)*EXACT($AA$10<$AB$10,AA22<AB22)),$AJ$2,0))) -> 0 | AG22: =E22+H22+K22+N22+Q22+T22+W22+Z22+AC22+AF22 -> 4 | AH22: ='3.Spieltag'!AJ20 -> 33 | AI22: ='3.Spieltag'!AK20 -> 10 | AJ22: =AG22+AH22 -> 37 | AK22: =RANK(AJ22,$AJ$11:$AJ$34) -> 11
A23: =AK23 -> 11 | B23: ='3.Spieltag'!B14 -> Silja04 | C23: 1 | D23: 2 | E23: =IF(OR(EXACT($C$10,C23)*(EXACT($D$10,D23)))=TRUE,$AJ$7,IF(($D$10-$C$10=D23-C23),$AJ$4,IF(OR(EXACT($C$10>$D$10,C23>D23)*EXACT($C$10=$D$10,C23=D23)*EXACT($C$10<$D$10,C23<D23)),$AJ$2,0))) -> 0 | F23: 0 | G23: 3 | H23: =IF(OR(EXACT($F$10,F23)*(EXACT($G$10,G23)))=TRUE,$AJ$7,IF(($G$10-$F$10=G23-F23),$AJ$4,IF(OR(EXACT($F$10>$G$10,F23>G23)*EXACT($F$10=$G$10,F23=G23)*EXACT($F$10<$G$10,F23<G23)),$AJ$2,0))) -> 0 | I23: 2 | J23: 2 | K23: =IF(OR(EXACT($I$10,I23)*(EXACT($J$10,J23)))=TRUE,$AJ$7,IF(($J$10-$I$10=J23-I23),$AJ$4,IF(OR(EXACT($I$10>$J$10,I23>J23)*EXACT($I$10=$J$10,I23=J23)*EXACT($I$10<$J$10,I23<J23)),$AJ$2,0))) -> 0 | L23: 2 | M23: 2 | N23: =IF(OR(EXACT($L$10,L23)*(EXACT($M$10,M23)))=TRUE,$AJ$7,IF(($M$10-$L$10=M23-L23),$AJ$4,IF(OR(EXACT($L$10>$M$10,L23>M23)*EXACT($L$10=$M$10,L23=M23)*EXACT($L$10<$M$10,L23<M23)),$AJ$2,0))) -> 0 | O23: 2 | P23: 1 | Q23: =IF(OR(EXACT($O$10,O23)*(EXACT($P$10,P23)))=TRUE,$AJ$7,IF(($P$10-$O$10=P23-O23),$AJ$4,IF(OR(EXACT($O$10>$P$10,O23>P23)*EXACT($O$10=$P$10,O23=P23)*EXACT($O$10<$P$10,O23<P23)),$AJ$2,0))) -> 0 | R23: 1 | S23: 2 | T23: =IF(OR(EXACT($R$10,R23)*(EXACT($S$10,S23)))=TRUE,$AJ$7,IF(($S$10-$R$10=S23-R23),$AJ$4,IF(OR(EXACT($R$10>$S$10,R23>S23)*EXACT($R$10=$S$10,R23=S23)*EXACT($R$10<$S$10,R23<S23)),$AJ$2,0))) -> 0 | U23: 2 | V23: 2 | W23: =IF(OR(EXACT($U$10,U23)*(EXACT($V$10,V23)))=TRUE,$AJ$7,IF(($V$10-$U$10=V23-U23),$AJ$4,IF(OR(EXACT($U$10>$V$10,U23>V23)*EXACT($U$10=$V$10,U23=V23)*EXACT($U$10<$V$10,U23<V23)),$AJ$2,0)))*2*2 -> 0 | X23: 0 | Y23: 2 | Z23: =IF(OR(EXACT($X$10,X23)*(EXACT($Y$10,Y23)))=TRUE,$AJ$7,IF(($Y$10-$X$10=Y23-X23),$AJ$4,IF(OR(EXACT($X$10>$Y$10,X23>Y23)*EXACT($X$10=$Y$10,X23=Y23)*EXACT($X$10<$Y$10,X23<Y23)),$AJ$2,0))) -> 0 | AA23: 1 | AB23: 2 | AC23: =IF(OR(EXACT($AA$10,AA23)*(EXACT($AB$10,AB23)))=TRUE,$AJ$7,IF(($AB$10-$AA$10=AB23-AA23),$AJ$4,IF(OR(EXACT($AA$10>$AB$10,AA23>AB23)*EXACT($AA$10=$AB$10,AA23=AB23)*EXACT($AA$10<$AB$10,AA23<AB23)),$AJ$2,0))) -> 0 | AG23: =E23+H23+K23+N23+Q23+T23+W23+Z23+AC23+AF23 -> 0 | AH23: ='3.Spieltag'!AJ14 -> 37 | AI23: ='3.Spieltag'!AK14 -> 4 | AJ23: =AG23+AH23 -> 37 | AK23: =RANK(AJ23,$AJ$11:$AJ$34) -> 11
A24: =AK24 -> 11 | B24: ='3.Spieltag'!B22 -> SkillFailer | F24: 1 | G24: 3 | H24: =IF(OR(EXACT($F$10,F24)*(EXACT($G$10,G24)))=TRUE,$AJ$7,IF(($G$10-$F$10=G24-F24),$AJ$4,IF(OR(EXACT($F$10>$G$10,F24>G24)*EXACT($F$10=$G$10,F24=G24)*EXACT($F$10<$G$10,F24<G24)),$AJ$2,0))) -> 0 | I24: 2 | J24: 1 | K24: =IF(OR(EXACT($I$10,I24)*(EXACT($J$10,J24)))=TRUE,$AJ$7,IF(($J$10-$I$10=J24-I24),$AJ$4,IF(OR(EXACT($I$10>$J$10,I24>J24)*EXACT($I$10=$J$10,I24=J24)*EXACT($I$10<$J$10,I24<J24)),$AJ$2,0))) -> 2 | L24: 1 | M24: 2 | N24: =IF(OR(EXACT($L$10,L24)*(EXACT($M$10,M24)))=TRUE,$AJ$7,IF(($M$10-$L$10=M24-L24),$AJ$4,IF(OR(EXACT($L$10>$M$10,L24>M24)*EXACT($L$10=$M$10,L24=M24)*EXACT($L$10<$M$10,L24<M24)),$AJ$2,0))) -> 3 | O24: 2 | P24: 1 | Q24: =IF(OR(EXACT($O$10,O24)*(EXACT($P$10,P24)))=TRUE,$AJ$7,IF(($P$10-$O$10=P24-O24),$AJ$4,IF(OR(EXACT($O$10>$P$10,O24>P24)*EXACT($O$10=$P$10,O24=P24)*EXACT($O$10<$P$10,O24<P24)),$AJ$2,0))) -> 0 | R24: 1 | S24: 2 | T24: =IF(OR(EXACT($R$10,R24)*(EXACT($S$10,S24)))=TRUE,$AJ$7,IF(($S$10-$R$10=S24-R24),$AJ$4,IF(OR(EXACT($R$10>$S$10,R24>S24)*EXACT($R$10=$S$10,R24=S24)*EXACT($R$10<$S$10,R24<S24)),$AJ$2,0))) -> 0 | U24: 2 | V24: 1 | W24: =IF(OR(EXACT($U$10,U24)*(EXACT($V$10,V24)))=TRUE,$AJ$7,IF(($V$10-$U$10=V24-U24),$AJ$4,IF(OR(EXACT($U$10>$V$10,U24>V24)*EXACT($U$10=$V$10,U24=V24)*EXACT($U$10<$V$10,U24<V24)),$AJ$2,0)))*2*2 -> 0 | X24: 1 | Y24: 2 | Z24: =IF(OR(EXACT($X$10,X24)*(EXACT($Y$10,Y24)))=TRUE,$AJ$7,IF(($Y$10-$X$10=Y24-X24),$AJ$4,IF(OR(EXACT($X$10>$Y$10,X24>Y24)*EXACT($X$10=$Y$10,X24=Y24)*EXACT($X$10<$Y$10,X24<Y24)),$AJ$2,0))) -> 0 | AA24: 1 | AB24: 2 | AC24: =IF(OR(EXACT($AA$10,AA24)*(EXACT($AB$10,AB24)))=TRUE,$AJ$7,IF(($AB$10-$AA$10=AB24-AA24),$AJ$4,IF(OR(EXACT($AA$10>$AB$10,AA24>AB24)*EXACT($AA$10=$AB$10,AA24=AB24)*EXACT($AA$10<$AB$10,AA24<AB24)),$AJ$2,0))) -> 0 | AG24: =E24+H24+K24+N24+Q24+T24+W24+Z24+AC24+AF24 -> 5 | AH24: ='3.Spieltag'!AJ22 -> 32 | AI24: ='3.Spieltag'!AK22 -> 11 | AJ24: =AG24+AH24 -> 37 | AK24: =RANK(AJ24,$AJ$11:$AJ$34) -> 11
A25: =AK25 -> 15 | B25: ='3.Spieltag'!B24 -> ralle04 | C25: 2 | D25: 1 | E25: =IF(OR(EXACT($C$10,C25)*(EXACT($D$10,D25)))=TRUE,$AJ$7,IF(($D$10-$C$10=D25-C25),$AJ$4,IF(OR(EXACT($C$10>$D$10,C25>D25)*EXACT($C$10=$D$10,C25=D25)*EXACT($C$10<$D$10,C25<D25)),$AJ$2,0))) -> 0 | F25: 1 | G25: 1 | H25: =IF(OR(EXACT($F$10,F25)*(EXACT($G$10,G25)))=TRUE,$AJ$7,IF(($G$10-$F$10=G25-F25),$AJ$4,IF(OR(EXACT($F$10>$G$10,F25>G25)*EXACT($F$10=$G$10,F25=G25)*EXACT($F$10<$G$10,F25<G25)),$AJ$2,0))) -> 5 | I25: 1 | J25: 1 | K25: =IF(OR(EXACT($I$10,I25)*(EXACT($J$10,J25)))=TRUE,$AJ$7,IF(($J$10-$I$10=J25-I25),$AJ$4,IF(OR(EXACT($I$10>$J$10,I25>J25)*EXACT($I$10=$J$10,I25=J25)*EXACT($I$10<$J$10,I25<J25)),$AJ$2,0))) -> 0 | L25: 2 | M25: 2 | N25: =IF(OR(EXACT($L$10,L25)*(EXACT($M$10,M25)))=TRUE,$AJ$7,IF(($M$10-$L$10=M25-L25),$AJ$4,IF(OR(EXACT($L$10>$M$10,L25>M25)*EXACT($L$10=$M$10,L25=M25)*EXACT($L$10<$M$10,L25<M25)),$AJ$2,0))) -> 0 | O25: 2 | P25: 1 | Q25: =IF(OR(EXACT($O$10,O25)*(EXACT($P$10,P25)))=TRUE,$AJ$7,IF(($P$10-$O$10=P25-O25),$AJ$4,IF(OR(EXACT($O$10>$P$10,O25>P25)*EXACT($O$10=$P$10,O25=P25)*EXACT($O$10<$P$10,O25<P25)),$AJ$2,0))) -> 0 | R25: 1 | S25: 1 | T25: =IF(OR(EXACT($R$10,R25)*(EXACT($S$10,S25)))=TRUE,$AJ$7,IF(($S$10-$R$10=S25-R25),$AJ$4,IF(OR(EXACT($R$10>$S$10,R25>S25)*EXACT($R$10=$S$10,R25=S25)*EXACT($R$10<$S$10,R25<S25)),$AJ$2,0))) -> 0 | U25: 1 | V25: 1 | W25: =IF(OR(EXACT($U$10,U25)*(EXACT($V$10,V25)))=TRUE,$AJ$7,IF(($V$10-$U$10=V25-U25),$AJ$4,IF(OR(EXACT($U$10>$V$10,U25>V25)*EXACT($U$10=$V$10,U25=V25)*EXACT($U$10<$V$10,U25<V25)),$AJ$2,0)))*2*2 -> 0 | X25: 2 | Y25: 1 | Z25: =IF(OR(EXACT($X$10,X25)*(EXACT($Y$10,Y25)))=TRUE,$AJ$7,IF(($Y$10-$X$10=Y25-X25),$AJ$4,IF(OR(EXACT($X$10>$Y$10,X25>Y25)*EXACT($X$10=$Y$10,X25=Y25)*EXACT($X$10<$Y$10,X25<Y25)),$AJ$2,0))) -> 3 | AA25: 1 | AB25: 2 | AC25: =IF(OR(EXACT($AA$10,AA25)*(EXACT($AB$10,AB25)))=TRUE,$AJ$7,IF(($AB$10-$AA$10=AB25-AA25),$AJ$4,IF(OR(EXACT($AA$10>$AB$10,AA25>AB25)*EXACT($AA$10=$AB$10,AA25=AB25)*EXACT($AA$10<$AB$10,AA25<AB25)),$AJ$2,0))) -> 0 | AG25: =E25+H25+K25+N25+Q25+T25+W25+Z25+AC25+AF25 -> 8 | AH25: ='3.Spieltag'!AJ24 -> 28 | AI25: ='3.Spieltag'!AK24 -> 13 | AJ25: =AG25+AH25 -> 36 | AK25: =RANK(AJ25,$AJ$11:$AJ$34) -> 15
A26: =AK26 -> 16 | B26: ='3.Spieltag'!B26 -> Silfa04 | C26: 2 | D26: 1 | E26: =IF(OR(EXACT($C$10,C26)*(EXACT($D$10,D26)))=TRUE,$AJ$7,IF(($D$10-$C$10=D26-C26),$AJ$4,IF(OR(EXACT($C$10>$D$10,C26>D26)*EXACT($C$10=$D$10,C26=D26)*EXACT($C$10<$D$10,C26<D26)),$AJ$2,0))) -> 0 | F26: 3 | G26: 4 | H26: =IF(OR(EXACT($F$10,F26)*(EXACT($G$10,G26)))=TRUE,$AJ$7,IF(($G$10-$F$10=G26-F26),$AJ$4,IF(OR(EXACT($F$10>$G$10,F26>G26)*EXACT($F$10=$G$10,F26=G26)*EXACT($F$10<$G$10,F26<G26)),$AJ$2,0))) -> 0 | I26: 1 | J26: 1 | K26: =IF(OR(EXACT($I$10,I26)*(EXACT($J$10,J26)))=TRUE,$AJ$7,IF(($J$10-$I$10=J26-I26),$AJ$4,IF(OR(EXACT($I$10>$J$10,I26>J26)*EXACT($I$10=$J$10,I26=J26)*EXACT($I$10<$J$10,I26<J26)),$AJ$2,0))) -> 0 | L26: 0 | M26: 1 | N26: =IF(OR(EXACT($L$10,L26)*(EXACT($M$10,M26)))=TRUE,$AJ$7,IF(($M$10-$L$10=M26-L26),$AJ$4,IF(OR(EXACT($L$10>$M$10,L26>M26)*EXACT($L$10=$M$10,L26=M26)*EXACT($L$10<$M$10,L26<M26)),$AJ$2,0))) -> 3 | O26: 2 | P26: 1 | Q26: =IF(OR(EXACT($O$10,O26)*(EXACT($P$10,P26)))=TRUE,$AJ$7,IF(($P$10-$O$10=P26-O26),$AJ$4,IF(OR(EXACT($O$10>$P$10,O26>P26)*EXACT($O$10=$P$10,O26=P26)*EXACT($O$10<$P$10,O26<P26)),$AJ$2,0))) -> 0 | R26: 0 | S26: 3 | T26: =IF(OR(EXACT($R$10,R26)*(EXACT($S$10,S26)))=TRUE,$AJ$7,IF(($S$10-$R$10=S26-R26),$AJ$4,IF(OR(EXACT($R$10>$S$10,R26>S26)*EXACT($R$10=$S$10,R26=S26)*EXACT($R$10<$S$10,R26<S26)),$AJ$2,0))) -> 0 | U26: 2 | V26: 2 | W26: =IF(OR(EXACT($U$10,U26)*(EXACT($V$10,V26)))=TRUE,$AJ$7,IF(($V$10-$U$10=V26-U26),$AJ$4,IF(OR(EXACT($U$10>$V$10,U26>V26)*EXACT($U$10=$V$10,U26=V26)*EXACT($U$10<$V$10,U26<V26)),$AJ$2,0)))*2*2 -> 0 | X26: 1 | Y26: 0 | Z26: =IF(OR(EXACT($X$10,X26)*(EXACT($Y$10,Y26)))=TRUE,$AJ$7,IF(($Y$10-$X$10=Y26-X26),$AJ$4,IF(OR(EXACT($X$10>$Y$10,X26>Y26)*EXACT($X$10=$Y$10,X26=Y26)*EXACT($X$10<$Y$10,X26<Y26)),$AJ$2,0))) -> 5 | AA26: 0 | AB26: 3 | AC26: =IF(OR(EXACT($AA$10,AA26)*(EXACT($AB$10,AB26)))=TRUE,$AJ$7,IF(($AB$10-$AA$10=AB26-AA26),$AJ$4,IF(OR(EXACT($AA$10>$AB$10,AA26>AB26)*EXACT($AA$10=$AB$10,AA26=AB26)*EXACT($AA$10<$AB$10,AA26<AB26)),$AJ$2,0))) -> 0 | AG26: =E26+H26+K26+N26+Q26+T26+W26+Z26+AC26+AF26 -> 8 | AH26: ='3.Spieltag'!AJ26 -> 26 | AI26: ='3.Spieltag'!AK26 -> 16 | AJ26: =AG26+AH26 -> 34 | AK26: =RANK(AJ26,$AJ$11:$AJ$34) -> 16
A27: =AK27 -> 17 | B27: ='3.Spieltag'!B31 -> Schalkekalle | C27: 1 | D27: 1 | E27: =IF(OR(EXACT($C$10,C27)*(EXACT($D$10,D27)))=TRUE,$AJ$7,IF(($D$10-$C$10=D27-C27),$AJ$4,IF(OR(EXACT($C$10>$D$10,C27>D27)*EXACT($C$10=$D$10,C27=D27)*EXACT($C$10<$D$10,C27<D27)),$AJ$2,0))) -> 3 | F27: 2 | G27: 2 | H27: =IF(OR(EXACT($F$10,F27)*(EXACT($G$10,G27)))=TRUE,$AJ$7,IF(($G$10-$F$10=G27-F27),$AJ$4,IF(OR(EXACT($F$10>$G$10,F27>G27)*EXACT($F$10=$G$10,F27=G27)*EXACT($F$10<$G$10,F27<G27)),$AJ$2,0))) -> 3 | I27: 2 | J27: 1 | K27: =IF(OR(EXACT($I$10,I27)*(EXACT($J$10,J27)))=TRUE,$AJ$7,IF(($J$10-$I$10=J27-I27),$AJ$4,IF(OR(EXACT($I$10>$J$10,I27>J27)*EXACT($I$10=$J$10,I27=J27)*EXACT($I$10<$J$10,I27<J27)),$AJ$2,0))) -> 2 | L27: 1 | M27: 0 | N27: =IF(OR(EXACT($L$10,L27)*(EXACT($M$10,M27)))=TRUE,$AJ$7,IF(($M$10-$L$10=M27-L27),$AJ$4,IF(OR(EXACT($L$10>$M$10,L27>M27)*EXACT($L$10=$M$10,L27=M27)*EXACT($L$10<$M$10,L27<M27)),$AJ$2,0))) -> 0 | O27: 3 | P27: 1 | Q27: =IF(OR(EXACT($O$10,O27)*(EXACT($P$10,P27)))=TRUE,$AJ$7,IF(($P$10-$O$10=P27-O27),$AJ$4,IF(OR(EXACT($O$10>$P$10,O27>P27)*EXACT($O$10=$P$10,O27=P27)*EXACT($O$10<$P$10,O27<P27)),$AJ$2,0))) -> 0 | R27: 1 | S27: 2 | T27: =IF(OR(EXACT($R$10,R27)*(EXACT($S$10,S27)))=TRUE,$AJ$7,IF(($S$10-$R$10=S27-R27),$AJ$4,IF(OR(EXACT($R$10>$S$10,R27>S27)*EXACT($R$10=$S$10,R27=S27)*EXACT($R$10<$S$10,R27<S27)),$AJ$2,0))) -> 0 | U27: 2 | V27: 2 | W27: =IF(OR(EXACT($U$10,U27)*(EXACT($V$10,V27)))=TRUE,$AJ$7,IF(($V$10-$U$10=V27-U27),$AJ$4,IF(OR(EXACT($U$10>$V$10,U27>V27)*EXACT($U$10=$V$10,U27=V27)*EXACT($U$10<$V$10,U27<V27)),$AJ$2,0)))*2*2 -> 0 | X27: 3 | Y27: 1 | Z27: =IF(OR(EXACT($X$10,X27)*(EXACT($Y$10,Y27)))=TRUE,$AJ$7,IF(($Y$10-$X$10=Y27-X27),$AJ$4,IF(OR(EXACT($X$10>$Y$10,X27>Y27)*EXACT($X$10=$Y$10,X27=Y27)*EXACT($X$10<$Y$10,X27<Y27)),$AJ$2,0))) -> 2 | AA27: 2 | AB27: 1 | AC27: =IF(OR(EXACT($AA$10,AA27)*(EXACT($AB$10,AB27)))=TRUE,$AJ$7,IF(($AB$10-$AA$10=AB27-AA27),$AJ$4,IF(OR(EXACT($AA$10>$AB$10,AA27>AB27)*EXACT($AA$10=$AB$10,AA27=AB27)*EXACT($AA$10<$AB$10,AA27<AB27)),$AJ$2,0))) -> 0 | AG27: =E27+H27+K27+N27+Q27+T27+W27+Z27+AC27+AF27 -> 10 | AH27: ='3.Spieltag'!AJ31 -> 22 | AI27: ='3.Spieltag'!AK31 -> 19 | AJ27: =AG27+AH27 -> 32 | AK27: =RANK(AJ27,$AJ$11:$AJ$34) -> 17
A28: =AK28 -> 17 | B28: ='3.Spieltag'!B28 -> Tanja 04 | C28: 2 | D28: 0 | E28: =IF(OR(EXACT($C$10,C28)*(EXACT($D$10,D28)))=TRUE,$AJ$7,IF(($D$10-$C$10=D28-C28),$AJ$4,IF(OR(EXACT($C$10>$D$10,C28>D28)*EXACT($C$10=$D$10,C28=D28)*EXACT($C$10<$D$10,C28<D28)),$AJ$2,0))) -> 0 | F28: 1 | G28: 1 | H28: =IF(OR(EXACT($F$10,F28)*(EXACT($G$10,G28)))=TRUE,$AJ$7,IF(($G$10-$F$10=G28-F28),$AJ$4,IF(OR(EXACT($F$10>$G$10,F28>G28)*EXACT($F$10=$G$10,F28=G28)*EXACT($F$10<$G$10,F28<G28)),$AJ$2,0))) -> 5 | I28: 2 | J28: 1 | K28: =IF(OR(EXACT($I$10,I28)*(EXACT($J$10,J28)))=TRUE,$AJ$7,IF(($J$10-$I$10=J28-I28),$AJ$4,IF(OR(EXACT($I$10>$J$10,I28>J28)*EXACT($I$10=$J$10,I28=J28)*EXACT($I$10<$J$10,I28<J28)),$AJ$2,0))) -> 2 | L28: 2 | M28: 1 | N28: =IF(OR(EXACT($L$10,L28)*(EXACT($M$10,M28)))=TRUE,$AJ$7,IF(($M$10-$L$10=M28-L28),$AJ$4,IF(OR(EXACT($L$10>$M$10,L28>M28)*EXACT($L$10=$M$10,L28=M28)*EXACT($L$10<$M$10,L28<M28)),$AJ$2,0))) -> 0 | O28: 2 | P28: 0 | Q28: =IF(OR(EXACT($O$10,O28)*(EXACT($P$10,P28)))=TRUE,$AJ$7,IF(($P$10-$O$10=P28-O28),$AJ$4,IF(OR(EXACT($O$10>$P$10,O28>P28)*EXACT($O$10=$P$10,O28=P28)*EXACT($O$10<$P$10,O28<P28)),$AJ$2,0))) -> 0 | R28: 1 | S28: 1 | T28: =IF(OR(EXACT($R$10,R28)*(EXACT($S$10,S28)))=TRUE,$AJ$7,IF(($S$10-$R$10=S28-R28),$AJ$4,IF(OR(EXACT($R$10>$S$10,R28>S28)*EXACT($R$10=$S$10,R28=S28)*EXACT($R$10<$S$10,R28<S28)),$AJ$2,0))) -> 0 | U28: 1 | V28: 0 | W28: =IF(OR(EXACT($U$10,U28)*(EXACT($V$10,V28)))=TRUE,$AJ$7,IF(($V$10-$U$10=V28-U28),$AJ$4,IF(OR(EXACT($U$10>$V$10,U28>V28)*EXACT($U$10=$V$10,U28=V28)*EXACT($U$10<$V$10,U28<V28)),$AJ$2,0)))*2*2 -> 0 | X28: 2 | Y28: 0 | Z28: =IF(OR(EXACT($X$10,X28)*(EXACT($Y$10,Y28)))=TRUE,$AJ$7,IF(($Y$10-$X$10=Y28-X28),$AJ$4,IF(OR(EXACT($X$10>$Y$10,X28>Y28)*EXACT($X$10=$Y$10,X28=Y28)*EXACT($X$10<$Y$10,X28<Y28)),$AJ$2,0))) -> 2 | AA28: 2 | AB28: 1 | AC28: =IF(OR(EXACT($AA$10,AA28)*(EXACT($AB$10,AB28)))=TRUE,$AJ$7,IF(($AB$10-$AA$10=AB28-AA28),$AJ$4,IF(OR(EXACT($AA$10>$AB$10,AA28>AB28)*EXACT($AA$10=$AB$10,AA28=AB28)*EXACT($AA$10<$AB$10,AA28<AB28)),$AJ$2,0))) -> 0 | AG28: =E28+H28+K28+N28+Q28+T28+W28+Z28+AC28+AF28 -> 9 | AH28: ='3.Spieltag'!AJ28 -> 23 | AI28: ='3.Spieltag'!AK28 -> 18 | AJ28: =AG28+AH28 -> 32 | AK28: =RANK(AJ28,$AJ$11:$AJ$34) -> 17
A29: =AK29 -> 19 | B29: ='3.Spieltag'!B27 -> archie04 | C29: 1 | D29: 1 | E29: =IF(OR(EXACT($C$10,C29)*(EXACT($D$10,D29)))=TRUE,$AJ$7,IF(($D$10-$C$10=D29-C29),$AJ$4,IF(OR(EXACT($C$10>$D$10,C29>D29)*EXACT($C$10=$D$10,C29=D29)*EXACT($C$10<$D$10,C29<D29)),$AJ$2,0))) -> 3 | F29: 1 | G29: 2 | H29: =IF(OR(EXACT($F$10,F29)*(EXACT($G$10,G29)))=TRUE,$AJ$7,IF(($G$10-$F$10=G29-F29),$AJ$4,IF(OR(EXACT($F$10>$G$10,F29>G29)*EXACT($F$10=$G$10,F29=G29)*EXACT($F$10<$G$10,F29<G29)),$AJ$2,0))) -> 0 | I29: 2 | J29: 1 | K29: =IF(OR(EXACT($I$10,I29)*(EXACT($J$10,J29)))=TRUE,$AJ$7,IF(($J$10-$I$10=J29-I29),$AJ$4,IF(OR(EXACT($I$10>$J$10,I29>J29)*EXACT($I$10=$J$10,I29=J29)*EXACT($I$10<$J$10,I29<J29)),$AJ$2,0))) -> 2 | L29: 1 | M29: 1 | N29: =IF(OR(EXACT($L$10,L29)*(EXACT($M$10,M29)))=TRUE,$AJ$7,IF(($M$10-$L$10=M29-L29),$AJ$4,IF(OR(EXACT($L$10>$M$10,L29>M29)*EXACT($L$10=$M$10,L29=M29)*EXACT($L$10<$M$10,L29<M29)),$AJ$2,0))) -> 0 | O29: 1 | P29: 1 | Q29: =IF(OR(EXACT($O$10,O29)*(EXACT($P$10,P29)))=TRUE,$AJ$7,IF(($P$10-$O$10=P29-O29),$AJ$4,IF(OR(EXACT($O$10>$P$10,O29>P29)*EXACT($O$10=$P$10,O29=P29)*EXACT($O$10<$P$10,O29<P29)),$AJ$2,0))) -> 0 | R29: 2 | S29: 1 | T29: =IF(OR(EXACT($R$10,R29)*(EXACT($S$10,S29)))=TRUE,$AJ$7,IF(($S$10-$R$10=S29-R29),$AJ$4,IF(OR(EXACT($R$10>$S$10,R29>S29)*EXACT($R$10=$S$10,R29=S29)*EXACT($R$10<$S$10,R29<S29)),$AJ$2,0))) -> 2 | U29: 1 | V29: 1 | W29: =IF(OR(EXACT($U$10,U29)*(EXACT($V$10,V29)))=TRUE,$AJ$7,IF(($V$10-$U$10=V29-U29),$AJ$4,IF(OR(EXACT($U$10>$V$10,U29>V29)*EXACT($U$10=$V$10,U29=V29)*EXACT($U$10<$V$10,U29<V29)),$AJ$2,0)))*2*2 -> 0 | X29: 1 | Y29: 1 | Z29: =IF(OR(EXACT($X$10,X29)*(EXACT($Y$10,Y29)))=TRUE,$AJ$7,IF(($Y$10-$X$10=Y29-X29),$AJ$4,IF(OR(EXACT($X$10>$Y$10,X29>Y29)*EXACT($X$10=$Y$10,X29=Y29)*EXACT($X$10<$Y$10,X29<Y29)),$AJ$2,0))) -> 0 | AA29: 2 | AB29: 1 | AC29: =IF(OR(EXACT($AA$10,AA29)*(EXACT($AB$10,AB29)))=TRUE,$AJ$7,IF(($AB$10-$AA$10=AB29-AA29),$AJ$4,IF(OR(EXACT($AA$10>$AB$10,AA29>AB29)*EXACT($AA$10=$AB$10,AA29=AB29)*EXACT($AA$10<$AB$10,AA29<AB29)),$AJ$2,0))) -> 0 | AG29: =E29+H29+K29+N29+Q29+T29+W29+Z29+AC29+AF29 -> 7 | AH29: ='3.Spieltag'!AJ27 -> 24 | AI29: ='3.Spieltag'!AK27 -> 17 | AJ29: =AG29+AH29 -> 31 | AK29: =RANK(AJ29,$AJ$11:$AJ$34) -> 19
