Workbook

Sheet 1.Spieltag
B1: 1. Spieltag | AG1: PUNKTEVERTEILUNG
AG2: richtige Tendenz | AJ2: 2
C4: München | F4: Bremen | I4: Berlin | L4: Wolfsburg | O4: Freiburg | R4: Düsseldorf | U4: Gladbach | X4: Mainz | AA4: Dortmund | AG4: richtige Tendenz + | AJ4: 3
AG5: korrekter Torab
C6: Hoffenheim | F6: Hannover | I6: Nürnberg | L6: Schalke 04 | O6: Frankfurt | R6: Augsburg | U6: Leverkusen | X6: Stuttgart | AA6: Leipzig
AG7: richtiges Ergebnis | AJ7: 5
AG8: G E S A M T W E R T U N G
AG9: Punkte | AH9: Punkte | AI9: Platz | AJ9: Gesamt | AK9: Platz
A10: PLATZ | B10: ERGEBNISSE=> | C10: 3 | D10: 1 | E10: Pkt. | F10: 1 | G10: 1 | H10: Pkt. | I10: 1 | J10: 0 | K10: Pkt. | L10: 2 | M10: 1 | N10: Pkt. | O10: 0 | P10: 2 | Q10: Pkt. | R10: 1 | S10: 2 | T10: Pkt. | U10: 2 | V10: 0 | W10: Pkt. | X10: 1 | Y10: 0 | Z10: Pkt. | AA10: 4 | AB10: 1 | AC10: Pkt. | AG10: Spieltag | AH10: bisher | AI10: bisher | AJ10: Punkte
A11: =AK11 -> 1 | B11: atschi91 | C11: 2 | D11: 1 | E11: =IF(OR(EXACT($C$10,C11)*(EXACT($D$10,D11)))=TRUE,$AJ$7,IF(($D$10-$C$10=D11-C11),$AJ$4,IF(OR(EXACT($C$10>$D$10,C11>D11)*EXACT($C$10=$D$10,C11=D11)*EXACT($C$10<$D$10,C11<D11)),$AJ$2,0))) -> 2 | F11: 1 | G11: 1 | H11: =IF(OR(EXACT($F$10,F11)*(EXACT($G$10,G11)))=TRUE,$AJ$7,IF(($G$10-$F$10=G11-F11),$AJ$4,IF(OR(EXACT($F$10>$G$10,F11>G11)*EXACT($F$10=$G$10,F11=G11)*EXACT($F$10<$G$10,F11<G11)),$AJ$2,0))) -> 5 | I11: 1 | J11: 0 | K11: =IF(OR(EXACT($I$10,I11)*(EXACT($J$10,J11)))=TRUE,$AJ$7,IF(($J$10-$I$10=J11-I11),$AJ$4,IF(OR(EXACT($I$10>$J$10,I11>J11)*EXACT($I$10=$J$10,I11=J11)*EXACT($I$10<$J$10,I11<J11)),$AJ$2,0))) -> 5 | L11: 0 | M11: 2 | N11: =IF(OR(EXACT($L$10,L11)*(EXACT($M$10,M11)))=TRUE,$AJ$7,IF(($M$10-$L$10=M11-L11),$AJ$4,IF(OR(EXACT($L$10>$M$10,L11>M11)*EXACT($L$10=$M$10,L11=M11)*EXACT($L$10<$M$10,L11<M11)),$AJ$2,0)))*2*2 -> 0 | O11: 1 | P11: 0 | Q11: =IF(OR(EXACT($O$10,O11)*(EXACT($P$10,P11)))=TRUE,$AJ$7,IF(($P$10-$O$10=P11-O11),$AJ$4,IF(OR(EXACT($O$10>$P$10,O11>P11)*EXACT($O$10=$P$10,O11=P11)*EXACT($O$10<$P$10,O11<P11)),$AJ$2,0))) -> 0 | R11: 2 | S11: 1 | T11: =IF(OR(EXACT($R$10,R11)*(EXACT($S$10,S11)))=TRUE,$AJ$7,IF(($S$10-$R$10=S11-R11),$AJ$4,IF(OR(EXACT($R$10>$S$10,R11>S11)*EXACT($R$10=$S$10,R11=S11)*EXACT($R$10<$S$10,R11<S11)),$AJ$2,0))) -> 0 | U11: 1 | V11: 1 | W11: =IF(OR(EXACT($U$10,U11)*(EXACT($V$10,V11)))=TRUE,$AJ$7,IF(($V$10-$U$10=V11-U11),$AJ$4,IF(OR(EXACT($U$10>$V$10,U11>V11)*EXACT($U$10=$V$10,U11=V11)*EXACT($U$10<$V$10,U11<V11)),$AJ$2,0))) -> 0 | X11: 1 | Y11: 0 | Z11: =IF(OR(EXACT($X$10,X11)*(EXACT($Y$10,Y11)))=TRUE,$AJ$7,IF(($Y$10-$X$10=Y11-X11),$AJ$4,IF(OR(EXACT($X$10>$Y$10,X11>Y11)*EXACT($X$10=$Y$10,X11=Y11)*EXACT($X$10<$Y$10,X11<Y11)),$AJ$2,0))) -> 5 | AA11: 1 | AB11: 2 | AC11: =IF(OR(EXACT($AA$10,AA11)*(EXACT($AB$10,AB11)))=TRUE,$AJ$7,IF(($AB$10-$AA$10=AB11-AA11),$AJ$4,IF(OR(EXACT($AA$10>$AB$10,AA11>AB11)*EXACT($AA$10=$AB$10,AA11=AB11)*EXACT($AA$10<$AB$10,AA11<AB11)),$AJ$2,0))) -> 0 | AG11: =E11+K11+Q11+T11+N11+H11+W11+Z11+AC11+AF11 -> 17 | AJ11: =AG11+AH11 -> 17 | AK11: =RANK(AJ11,$AJ$11:$AJ$32) -> 1
A12: =AK12 -> 2 | B12: Silja04 | C12: 3 | D12: 1 | E12: =IF(OR(EXACT($C$10,C12)*(EXACT($D$10,D12)))=TRUE,$AJ$7,IF(($D$10-$C$10=D12-C12),$AJ$4,IF(OR(EXACT($C$10>$D$10,C12>D12)*EXACT($C$10=$D$10,C12=D12)*EXACT($C$10<$D$10,C12<D12)),$AJ$2,0))) -> 5 | F12: 1 | G12: 1 | H12: =IF(OR(EXACT($F$10,F12)*(EXACT($G$10,G12)))=TRUE,$AJ$7,IF(($G$10-$F$10=G12-F12),$AJ$4,IF(OR(EXACT($F$10>$G$10,F12>G12)*EXACT($F$10=$G$10,F12=G12)*EXACT($F$10<$G$10,F12<G12)),$AJ$2,0))) -> 5 | I12: 1 | J12: 2 | K12: =IF(OR(EXACT($I$10,I12)*(EXACT($J$10,J12)))=TRUE,$AJ$7,IF(($J$10-$I$10=J12-I12),$AJ$4,IF(OR(EXACT($I$10>$J$10,I12>J12)*EXACT($I$10=$J$10,I12=J12)*EXACT($I$10<$J$10,I12<J12)),$AJ$2,0))) -> 0 | L12: 1 | M12: 2 | N12: =IF(OR(EXACT($L$10,L12)*(EXACT($M$10,M12)))=TRUE,$AJ$7,IF(($M$10-$L$10=M12-L12),$AJ$4,IF(OR(EXACT($L$10>$M$10,L12>M12)*EXACT($L$10=$M$10,L12=M12)*EXACT($L$10<$M$10,L12<M12)),$AJ$2,0)))*2*2 -> 0 | O12: 2 | P12: 2 | Q12: =IF(OR(EXACT($O$10,O12)*(EXACT($P$10,P12)))=TRUE,$AJ$7,IF(($P$10-$O$10=P12-O12),$AJ$4,IF(OR(EXACT($O$10>$P$10,O12>P12)*EXACT($O$10=$P$10,O12=P12)*EXACT($O$10<$P$10,O12<P12)),$AJ$2,0))) -> 0 | R12: 0 | S12: 1 | T12: =IF(OR(EXACT($R$10,R12)*(EXACT($S$10,S12)))=TRUE,$AJ$7,IF(($S$10-$R$10=S12-R12),$AJ$4,IF(OR(EXACT($R$10>$S$10,R12>S12)*EXACT($R$10=$S$10,R12=S12)*EXACT($R$10<$S$10,R12<S12)),$AJ$2,0))) -> 3 | U12: 2 | V12: 2 | W12: =IF(OR(EXACT($U$10,U12)*(EXACT($V$10,V12)))=TRUE,$AJ$7,IF(($V$10-$U$10=V12-U12),$AJ$4,IF(OR(EXACT($U$10>$V$10,U12>V12)*EXACT($U$10=$V$10,U12=V12)*EXACT($U$10<$V$10,U12<V12)),$AJ$2,0))) -> 0 | X12: 1 | Y12: 1 | Z12: =IF(OR(EXACT($X$10,X12)*(EXACT($Y$10,Y12)))=TRUE,$AJ$7,IF(($Y$10-$X$10=Y12-X12),$AJ$4,IF(OR(EXACT($X$10>$Y$10,X12>Y12)*EXACT($X$10=$Y$10,X12=Y12)*EXACT($X$10<$Y$10,X12<Y12)),$AJ$2,0))) -> 0 | AA12: 3 | AB12: 2 | AC12: =IF(OR(EXACT($AA$10,AA12)*(EXACT($AB$10,AB12)))=TRUE,$AJ$7,IF(($AB$10-$AA$10=AB12-AA12),$AJ$4,IF(OR(EXACT($AA$10>$AB$10,AA12>AB12)*EXACT($AA$10=$AB$10,AA12=AB12)*EXACT($AA$10<$AB$10,AA12<AB12)),$AJ$2,0))) -> 2 | AG12: =E12+K12+Q12+T12+N12+H12+W12+Z12+AC12+AF12 -> 15 | AJ12: =AG12+AH12 -> 15 | AK12: =RANK(AJ12,$AJ$11:$AJ$32) -> 2
A13: =AK13 -> 2 | B13: SkillFailer | C13: 2 | D13: 0 | E13: =IF(OR(EXACT($C$10,C13)*(EXACT($D$10,D13)))=TRUE,$AJ$7,IF(($D$10-$C$10=D13-C13),$AJ$4,IF(OR(EXACT($C$10>$D$10,C13>D13)*EXACT($C$10=$D$10,C13=D13)*EXACT($C$10<$D$10,C13<D13)),$AJ$2,0))) -> 3 | F13: 2 | G13: 1 | H13: =IF(OR(EXACT($F$10,F13)*(EXACT($G$10,G13)))=TRUE,$AJ$7,IF(($G$10-$F$10=G13-F13),$AJ$4,IF(OR(EXACT($F$10>$G$10,F13>G13)*EXACT($F$10=$G$10,F13=G13)*EXACT($F$10<$G$10,F13<G13)),$AJ$2,0))) -> 0 | I13: 1 | J13: 2 | K13: =IF(OR(EXACT($I$10,I13)*(EXACT($J$10,J13)))=TRUE,$AJ$7,IF(($J$10-$I$10=J13-I13),$AJ$4,IF(OR(EXACT($I$10>$J$10,I13>J13)*EXACT($I$10=$J$10,I13=J13)*EXACT($I$10<$J$10,I13<J13)),$AJ$2,0))) -> 0 | L13: 1 | M13: 2 | N13: =IF(OR(EXACT($L$10,L13)*(EXACT($M$10,M13)))=TRUE,$AJ$7,IF(($M$10-$L$10=M13-L13),$AJ$4,IF(OR(EXACT($L$10>$M$10,L13>M13)*EXACT($L$10=$M$10,L13=M13)*EXACT($L$10<$M$10,L13<M13)),$AJ$2,0)))*2*2 -> 0 | O13: 2 | P13: 1 | Q13: =IF(OR(EXACT($O$10,O13)*(EXACT($P$10,P13)))=TRUE,$AJ$7,IF(($P$10-$O$10=P13-O13),$AJ$4,IF(OR(EXACT($O$10>$P$10,O13>P13)*EXACT($O$10=$P$10,O13=P13)*EXACT($O$10<$P$10,O13<P13)),$AJ$2,0))) -> 0 | R13: 1 | S13: 2 | T13: =IF(OR(EXACT($R$10,R13)*(EXACT($S$10,S13)))=TRUE,$AJ$7,IF(($S$10-$R$10=S13-R13),$AJ$4,IF(OR(EXACT($R$10>$S$10,R13>S13)*EXACT($R$10=$S$10,R13=S13)*EXACT($R$10<$S$10,R13<S13)),$AJ$2,0))) -> 5 | U13: 2 | V13: 1 | W13: =IF(OR(EXACT($U$10,U13)*(EXACT($V$10,V13)))=TRUE,$AJ$7,IF(($V$10-$U$10=V13-U13),$AJ$4,IF(OR(EXACT($U$10>$V$10,U13>V13)*EXACT($U$10=$V$10,U13=V13)*EXACT($U$10<$V$10,U13<V13)),$AJ$2,0))) -> 2 | X13: 2 | Y13: 1 | Z13: =IF(OR(EXACT($X$10,X13)*(EXACT($Y$10,Y13)))=TRUE,$AJ$7,IF(($Y$10-$X$10=Y13-X13),$AJ$4,IF(OR(EXACT($X$10>$Y$10,X13>Y13)*EXACT($X$10=$Y$10,X13=Y13)*EXACT($X$10<$Y$10,X13<Y13)),$AJ$2,0))) -> 3 | AA13: 2 | AB13: 1 | AC13: =IF(OR(EXACT($AA$10,AA13)*(EXACT($AB$10,AB13)))=TRUE,$AJ$7,IF(($AB$10-$AA$10=AB13-AA13),$AJ$4,IF(OR(EXACT($AA$10>$AB$10,AA13>AB13)*EXACT($AA$10=$AB$10,AA13=AB13)*EXACT($AA$10<$AB$10,AA13<AB13)),$AJ$2,0))) -> 2 | AG13: =E13+K13+Q13+T13+N13+H13+W13+Z13+AC13+AF13 -> 15 | AJ13: =AG13+AH13 -> 15 | AK13: =RANK(AJ13,$AJ$11:$AJ$32) -> 2
A14: =AK14 -> 4 | B14: shiny | C14: 2 | D14: 1 | E14: =IF(OR(EXACT($C$10,C14)*(EXACT($D$10,D14)))=TRUE,$AJ$7,IF(($D$10-$C$10=D14-C14),$AJ$4,IF(OR(EXACT($C$10>$D$10,C14>D14)*EXACT($C$10=$D$10,C14=D14)*EXACT($C$10<$D$10,C14<D14)),$AJ$2,0))) -> 2 | F14: 1 | G14: 1 | H14: =IF(OR(EXACT($F$10,F14)*(EXACT($G$10,G14)))=TRUE,$AJ$7,IF(($G$10-$F$10=G14-F14),$AJ$4,IF(OR(EXACT($F$10>$G$10,F14>G14)*EXACT($F$10=$G$10,F14=G14)*EXACT($F$10<$G$10,F14<G14)),$AJ$2,0))) -> 5 | I14: 1 | J14: 0 | K14: =IF(OR(EXACT($I$10,I14)*(EXACT($J$10,J14)))=TRUE,$AJ$7,IF(($J$10-$I$10=J14-I14),$AJ$4,IF(OR(EXACT($I$10>$J$10,I14>J14)*EXACT($I$10=$J$10,I14=J14)*EXACT($I$10<$J$10,I14<J14)),$AJ$2,0))) -> 5 | L14: 0 | M14: 1 | N14: =IF(OR(EXACT($L$10,L14)*(EXACT($M$10,M14)))=TRUE,$AJ$7,IF(($M$10-$L$10=M14-L14),$AJ$4,IF(OR(EXACT($L$10>$M$10,L14>M14)*EXACT($L$10=$M$10,L14=M14)*EXACT($L$10<$M$10,L14<M14)),$AJ$2,0)))*2*2 -> 0 | O14: 1 | P14: 1 | Q14: =IF(OR(EXACT($O$10,O14)*(EXACT($P$10,P14)))=TRUE,$AJ$7,IF(($P$10-$O$10=P14-O14),$AJ$4,IF(OR(EXACT($O$10>$P$10,O14>P14)*EXACT($O$10=$P$10,O14=P14)*EXACT($O$10<$P$10,O14<P14)),$AJ$2,0))) -> 0 | R14: 1 | S14: 0 | T14: =IF(OR(EXACT($R$10,R14)*(EXACT($S$10,S14)))=TRUE,$AJ$7,IF(($S$10-$R$10=S14-R14),$AJ$4,IF(OR(EXACT($R$10>$S$10,R14>S14)*EXACT($R$10=$S$10,R14=S14)*EXACT($R$10<$S$10,R14<S14)),$AJ$2,0))) -> 0 | U14: 1 | V14: 0 | W14: =IF(OR(EXACT($U$10,U14)*(EXACT($V$10,V14)))=TRUE,$AJ$7,IF(($V$10-$U$10=V14-U14),$AJ$4,IF(OR(EXACT($U$10>$V$10,U14>V14)*EXACT($U$10=$V$10,U14=V14)*EXACT($U$10<$V$10,U14<V14)),$AJ$2,0))) -> 2 | X14: 0 | Y14: 1 | Z14: =IF(OR(EXACT($X$10,X14)*(EXACT($Y$10,Y14)))=TRUE,$AJ$7,IF(($Y$10-$X$10=Y14-X14),$AJ$4,IF(OR(EXACT($X$10>$Y$10,X14>Y14)*EXACT($X$10=$Y$10,X14=Y14)*EXACT($X$10<$Y$10,X14<Y14)),$AJ$2,0))) -> 0 | AA14: 1 | AB14: 2 | AC14: =IF(OR(EXACT($AA$10,AA14)*(EXACT($AB$10,AB14)))=TRUE,$AJ$7,IF(($AB$10-$AA$10=AB14-AA14),$AJ$4,IF(OR(EXACT($AA$10>$AB$10,AA14>AB14)*EXACT($AA$10=$AB$10,AA14=AB14)*EXACT($AA$10<$AB$10,AA14<AB14)),$AJ$2,0))) -> 0 | AG14: =E14+K14+Q14+T14+N14+H14+W14+Z14+AC14+AF14 -> 14 | AJ14: =AG14+AH14 -> 14 | AK14: =RANK(AJ14,$AJ$11:$AJ$32) -> 4
A15: =AK15 -> 5 | B15: Franzi 04 | C15: 2 | D15: 0 | E15: =IF(OR(EXACT($C$10,C15)*(EXACT($D$10,D15)))=TRUE,$AJ$7,IF(($D$10-$C$10=D15-C15),$AJ$4,IF(OR(EXACT($C$10>$D$10,C15>D15)*EXACT($C$10=$D$10,C15=D15)*EXACT($C$10<$D$10,C15<D15)),$AJ$2,0))) -> 3 | F15: 2 | G15: 1 | H15: =IF(OR(EXACT($F$10,F15)*(EXACT($G$10,G15)))=TRUE,$AJ$7,IF(($G$10-$F$10=G15-F15),$AJ$4,IF(OR(EXACT($F$10>$G$10,F15>G15)*EXACT($F$10=$G$10,F15=G15)*EXACT($F$10<$G$10,F15<G15)),$AJ$2,0))) -> 0 | I15: 2 | J15: 1 | K15: =IF(OR(EXACT($I$10,I15)*(EXACT($J$10,J15)))=TRUE,$AJ$7,IF(($J$10-$I$10=J15-I15),$AJ$4,IF(OR(EXACT($I$10>$J$10,I15>J15)*EXACT($I$10=$J$10,I15=J15)*EXACT($I$10<$J$10,I15<J15)),$AJ$2,0))) -> 3 | L15: 0 | M15: 2 | N15: =IF(OR(EXACT($L$10,L15)*(EXACT($M$10,M15)))=TRUE,$AJ$7,IF(($M$10-$L$10=M15-L15),$AJ$4,IF(OR(EXACT($L$10>$M$10,L15>M15)*EXACT($L$10=$M$10,L15=M15)*EXACT($L$10<$M$10,L15<M15)),$AJ$2,0)))*2*2 -> 0 | O15: 2 | P15: 1 | Q15: =IF(OR(EXACT($O$10,O15)*(EXACT($P$10,P15)))=TRUE,$AJ$7,IF(($P$10-$O$10=P15-O15),$AJ$4,IF(OR(EXACT($O$10>$P$10,O15>P15)*EXACT($O$10=$P$10,O15=P15)*EXACT($O$10<$P$10,O15<P15)),$AJ$2,0))) -> 0 | R15: 1 | S15: 2 | T15: =IF(OR(EXACT($R$10,R15)*(EXACT($S$10,S15)))=TRUE,$AJ$7,IF(($S$10-$R$10=S15-R15),$AJ$4,IF(OR(EXACT($R$10>$S$10,R15>S15)*EXACT($R$10=$S$10,R15=S15)*EXACT($R$10<$S$10,R15<S15)),$AJ$2,0))) -> 5 | U15: 1 | V15: 2 | W15: =IF(OR(EXACT($U$10,U15)*(EXACT($V$10,V15)))=TRUE,$AJ$7,IF(($V$10-$U$10=V15-U15),$AJ$4,IF(OR(EXACT($U$10>$V$10,U15>V15)*EXACT($U$10=$V$10,U15=V15)*EXACT($U$10<$V$10,U15<V15)),$AJ$2,0))) -> 0 | X15: 2 | Y15: 2 | Z15: =IF(OR(EXACT($X$10,X15)*(EXACT($Y$10,Y15)))=TRUE,$AJ$7,IF(($Y$10-$X$10=Y15-X15),$AJ$4,IF(OR(EXACT($X$10>$Y$10,X15>Y15)*EXACT($X$10=$Y$10,X15=Y15)*EXACT($X$10<$Y$10,X15<Y15)),$AJ$2,0))) -> 0 | AA15: 2 | AB15: 1 | AC15: =IF(OR(EXACT($AA$10,AA15)*(EXACT($AB$10,AB15)))=TRUE,$AJ$7,IF(($AB$10-$AA$10=AB15-AA15),$AJ$4,IF(OR(EXACT($AA$10>$AB$10,AA15>AB15)*EXACT($AA$10=$AB$10,AA15=AB15)*EXACT($AA$10<$AB$10,AA15<AB15)),$AJ$2,0))) -> 2 | AG15: =E15+K15+Q15+T15+N15+H15+W15+Z15+AC15+AF15 -> 13 | AJ15: =AG15+AH15 -> 13 | AK15: =RANK(AJ15,$AJ$11:$AJ$32) -> 5
A16: =AK16 -> 6 | B16: Silfa04 | C16: 1 | D16: 2 | E16: =IF(OR(EXACT($C$10,C16)*(EXACT($D$10,D16)))=TRUE,$AJ$7,IF(($D$10-$C$10=D16-C16),$AJ$4,IF(OR(EXACT($C$10>$D$10,C16>D16)*EXACT($C$10=$D$10,C16=D16)*EXACT($C$10<$D$10,C16<D16)),$AJ$2,0))) -> 0 | F16: 1 | G16: 1 | H16: =IF(OR(EXACT($F$10,F16)*(EXACT($G$10,G16)))=TRUE,$AJ$7,IF(($G$10-$F$10=G16-F16),$AJ$4,IF(OR(EXACT($F$10>$G$10,F16>G16)*EXACT($F$10=$G$10,F16=G16)*EXACT($F$10<$G$10,F16<G16)),$AJ$2,0))) -> 5 | I16: 0 | J16: 3 | K16: =IF(OR(EXACT($I$10,I16)*(EXACT($J$10,J16)))=TRUE,$AJ$7,IF(($J$10-$I$10=J16-I16),$AJ$4,IF(OR(EXACT($I$10>$J$10,I16>J16)*EXACT($I$10=$J$10,I16=J16)*EXACT($I$10<$J$10,I16<J16)),$AJ$2,0))) -> 0 | L16: 0 | M16: 2 | N16: =IF(OR(EXACT($L$10,L16)*(EXACT($M$10,M16)))=TRUE,$AJ$7,IF(($M$10-$L$10=M16-L16),$AJ$4,IF(OR(EXACT($L$10>$M$10,L16>M16)*EXACT($L$10=$M$10,L16=M16)*EXACT($L$10<$M$10,L16<M16)),$AJ$2,0)))*2*2 -> 0 | O16: 0 | P16: 1 | Q16: =IF(OR(EXACT($O$10,O16)*(EXACT($P$10,P16)))=TRUE,$AJ$7,IF(($P$10-$O$10=P16-O16),$AJ$4,IF(OR(EXACT($O$10>$P$10,O16>P16)*EXACT($O$10=$P$10,O16=P16)*EXACT($O$10<$P$10,O16<P16)),$AJ$2,0))) -> 2 | R16: 2 | S16: 2 | T16: =IF(OR(EXACT($R$10,R16)*(EXACT($S$10,S16)))=TRUE,$AJ$7,IF(($S$10-$R$10=S16-R16),$AJ$4,IF(OR(EXACT($R$10>$S$10,R16>S16)*EXACT($R$10=$S$10,R16=S16)*EXACT($R$10<$S$10,R16<S16)),$AJ$2,0))) -> 0 | U16: 2 | V16: 1 | W16: =IF(OR(EXACT($U$10,U16)*(EXACT($V$10,V16)))=TRUE,$AJ$7,IF(($V$10-$U$10=V16-U16),$AJ$4,IF(OR(EXACT($U$10>$V$10,U16>V16)*EXACT($U$10=$V$10,U16=V16)*EXACT($U$10<$V$10,U16<V16)),$AJ$2,0))) -> 2 | X16: 0 | Y16: 1 | Z16: =IF(OR(EXACT($X$10,X16)*(EXACT($Y$10,Y16)))=TRUE,$AJ$7,IF(($Y$10-$X$10=Y16-X16),$AJ$4,IF(OR(EXACT($X$10>$Y$10,X16>Y16)*EXACT($X$10=$Y$10,X16=Y16)*EXACT($X$10<$Y$10,X16<Y16)),$AJ$2,0))) -> 0 | AA16: 2 | AB16: 1 | AC16: =IF(OR(EXACT($AA$10,AA16)*(EXACT($AB$10,AB16)))=TRUE,$AJ$7,IF(($AB$10-$AA$10=AB16-AA16),$AJ$4,IF(OR(EXACT($AA$10>$AB$10,AA16>AB16)*EXACT($AA$10=$AB$10,AA16=AB16)*EXACT($AA$10<$AB$10,AA16<AB16)),$AJ$2,0))) -> 2 | AG16: =E16+K16+Q16+T16+N16+H16+W16+Z16+AC16+AF16 -> 11 | AJ16: =AG16+AH16 -> 11 | AK16: =RANK(AJ16,$AJ$11:$AJ$32) -> 6
A17: =AK17 -> 7 | B17: schalke-willi | C17: 1 | D17: 2 | E17: =IF(OR(EXACT($C$10,C17)*(EXACT($D$10,D17)))=TRUE,$AJ$7,IF(($D$10-$C$10=D17-C17),$AJ$4,IF(OR(EXACT($C$10>$D$10,C17>D17)*EXACT($C$10=$D$10,C17=D17)*EXACT($C$10<$D$10,C17<D17)),$AJ$2,0))) -> 0 | F17: 3 | G17: 1 | H17: =IF(OR(EXACT($F$10,F17)*(EXACT($G$10,G17)))=TRUE,$AJ$7,IF(($G$10-$F$10=G17-F17),$AJ$4,IF(OR(EXACT($F$10>$G$10,F17>G17)*EXACT($F$10=$G$10,F17=G17)*EXACT($F$10<$G$10,F17<G17)),$AJ$2,0))) -> 0 | I17: 2 | J17: 1 | K17: =IF(OR(EXACT($I$10,I17)*(EXACT($J$10,J17)))=TRUE,$AJ$7,IF(($J$10-$I$10=J17-I17),$AJ$4,IF(OR(EXACT($I$10>$J$10,I17>J17)*EXACT($I$10=$J$10,I17=J17)*EXACT($I$10<$J$10,I17<J17)),$AJ$2,0))) -> 3 | L17: 1 | M17: 2 | N17: =IF(OR(EXACT($L$10,L17)*(EXACT($M$10,M17)))=TRUE,$AJ$7,IF(($M$10-$L$10=M17-L17),$AJ$4,IF(OR(EXACT($L$10>$M$10,L17>M17)*EXACT($L$10=$M$10,L17=M17)*EXACT($L$10<$M$10,L17<M17)),$AJ$2,0)))*2*2 -> 0 | O17: 1 | P17: 0 | Q17: =IF(OR(EXACT($O$10,O17)*(EXACT($P$10,P17)))=TRUE,$AJ$7,IF(($P$10-$O$10=P17-O17),$AJ$4,IF(OR(EXACT($O$10>$P$10,O17>P17)*EXACT($O$10=$P$10,O17=P17)*EXACT($O$10<$P$10,O17<P17)),$AJ$2,0))) -> 0 | R17: 1 | S17: 1 | T17: =IF(OR(EXACT($R$10,R17)*(EXACT($S$10,S17)))=TRUE,$AJ$7,IF(($S$10-$R$10=S17-R17),$AJ$4,IF(OR(EXACT($R$10>$S$10,R17>S17)*EXACT($R$10=$S$10,R17=S17)*EXACT($R$10<$S$10,R17<S17)),$AJ$2,0))) -> 0 | U17: 3 | V17: 2 | W17: =IF(OR(EXACT($U$10,U17)*(EXACT($V$10,V17)))=TRUE,$AJ$7,IF(($V$10-$U$10=V17-U17),$AJ$4,IF(OR(EXACT($U$10>$V$10,U17>V17)*EXACT($U$10=$V$10,U17=V17)*EXACT($U$10<$V$10,U17<V17)),$AJ$2,0))) -> 2 | X17: 1 | Y17: 0 | Z17: =IF(OR(EXACT($X$10,X17)*(EXACT($Y$10,Y17)))=TRUE,$AJ$7,IF(($Y$10-$X$10=Y17-X17),$AJ$4,IF(OR(EXACT($X$10>$Y$10,X17>Y17)*EXACT($X$10=$Y$10,X17=Y17)*EXACT($X$10<$Y$10,X17<Y17)),$AJ$2,0))) -> 5 | AA17: 1 | AB17: 2 | AC17: =IF(OR(EXACT($AA$10,AA17)*(EXACT($AB$10,AB17)))=TRUE,$AJ$7,IF(($AB$10-$AA$10=AB17-AA17),$AJ$4,IF(OR(EXACT($AA$10>$AB$10,AA17>AB17)*EXACT($AA$10=$AB$10,AA17=AB17)*EXACT($AA$10<$AB$10,AA17<AB17)),$AJ$2,0))) -> 0 | AG17: =E17+K17+Q17+T17+N17+H17+W17+Z17+AC17+AF17 -> 10 | AJ17: =AG17+AH17 -> 10 | AK17: =RANK(AJ17,$AJ$11:$AJ$32) -> 7
A18: =AK18 -> 8 | B18: Tanja 04 | C18: 3 | D18: 1 | E18: =IF(OR(EXACT($C$10,C18)*(EXACT($D$10,D18)))=TRUE,$AJ$7,IF(($D$10-$C$10=D18-C18),$AJ$4,IF(OR(EXACT($C$10>$D$10,C18>D18)*EXACT($C$10=$D$10,C18=D18)*EXACT($C$10<$D$10,C18<D18)),$AJ$2,0))) -> 5 | F18: 2 | G18: 0 | H18: =IF(OR(EXACT($F$10,F18)*(EXACT($G$10,G18)))=TRUE,$AJ$7,IF(($G$10-$F$10=G18-F18),$AJ$4,IF(OR(EXACT($F$10>$G$10,F18>G18)*EXACT($F$10=$G$10,F18=G18)*EXACT($F$10<$G$10,F18<G18)),$AJ$2,0))) -> 0 | I18: 1 | J18: 2 | K18: =IF(OR(EXACT($I$10,I18)*(EXACT($J$10,J18)))=TRUE,$AJ$7,IF(($J$10-$I$10=J18-I18),$AJ$4,IF(OR(EXACT($I$10>$J$10,I18>J18)*EXACT($I$10=$J$10,I18=J18)*EXACT($I$10<$J$10,I18<J18)),$AJ$2,0))) -> 0 | L18: 1 | M18: 2 | N18: =IF(OR(EXACT($L$10,L18)*(EXACT($M$10,M18)))=TRUE,$AJ$7,IF(($M$10-$L$10=M18-L18),$AJ$4,IF(OR(EXACT($L$10>$M$10,L18>M18)*EXACT($L$10=$M$10,L18=M18)*EXACT($L$10<$M$10,L18<M18)),$AJ$2,0)))*2*2 -> 0 | O18: 2 | P18: 0 | Q18: =IF(OR(EXACT($O$10,O18)*(EXACT($P$10,P18)))=TRUE,$AJ$7,IF(($P$10-$O$10=P18-O18),$AJ$4,IF(OR(EXACT($O$10>$P$10,O18>P18)*EXACT($O$10=$P$10,O18=P18)*EXACT($O$10<$P$10,O18<P18)),$AJ$2,0))) -> 0 | R18: 1 | S18: 1 | T18: =IF(OR(EXACT($R$10,R18)*(EXACT($S$10,S18)))=TRUE,$AJ$7,IF(($S$10-$R$10=S18-R18),$AJ$4,IF(OR(EXACT($R$10>$S$10,R18>S18)*EXACT($R$10=$S$10,R18=S18)*EXACT($R$10<$S$10,R18<S18)),$AJ$2,0))) -> 0 | U18: 2 | V18: 1 | W18: =IF(OR(EXACT($U$10,U18)*(EXACT($V$10,V18)))=TRUE,$AJ$7,IF(($V$10-$U$10=V18-U18),$AJ$4,IF(OR(EXACT($U$10>$V$10,U18>V18)*EXACT($U$10=$V$10,U18=V18)*EXACT($U$10<$V$10,U18<V18)),$AJ$2,0))) -> 2 | X18: 1 | Y18: 1 | Z18: =IF(OR(EXACT($X$10,X18)*(EXACT($Y$10,Y18)))=TRUE,$AJ$7,IF(($Y$10-$X$10=Y18-X18),$AJ$4,IF(OR(EXACT($X$10>$Y$10,X18>Y18)*EXACT($X$10=$Y$10,X18=Y18)*EXACT($X$10<$Y$10,X18<Y18)),$AJ$2,0))) -> 0 | AA18: 3 | AB18: 1 | AC18: =IF(OR(EXACT($AA$10,AA18)*(EXACT($AB$10,AB18)))=TRUE,$AJ$7,IF(($AB$10-$AA$10=AB18-AA18),$AJ$4,IF(OR(EXACT($AA$10>$AB$10,AA18>AB18)*EXACT($AA$10=$AB$10,AA18=AB18)*EXACT($AA$10<$AB$10,AA18<AB18)),$AJ$2,0))) -> 2 | AG18: =E18+K18+Q18+T18+N18+H18+W18+Z18+AC18+AF18 -> 9 | AJ18: =AG18+AH18 -> 9 | AK18: =RANK(AJ18,$AJ$11:$AJ$32) -> 8
A19: =AK19 -> 8 | B19: UltraGE | C19: 3 | D19: 1 | E19: =IF(OR(EXACT($C$10,C19)*(EXACT($D$10,D19)))=TRUE,$AJ$7,IF(($D$10-$C$10=D19-C19),$AJ$4,IF(OR(EXACT($C$10>$D$10,C19>D19)*EXACT($C$10=$D$10,C19=D19)*EXACT($C$10<$D$10,C19<D19)),$AJ$2,0))) -> 5 | F19: 2 | G19: 1 | H19: =IF(OR(EXACT($F$10,F19)*(EXACT($G$10,G19)))=TRUE,$AJ$7,IF(($G$10-$F$10=G19-F19),$AJ$4,IF(OR(EXACT($F$10>$G$10,F19>G19)*EXACT($F$10=$G$10,F19=G19)*EXACT($F$10<$G$10,F19<G19)),$AJ$2,0))) -> 0 | I19: 1 | J19: 2 | K19: =IF(OR(EXACT($I$10,I19)*(EXACT($J$10,J19)))=TRUE,$AJ$7,IF(($J$10-$I$10=J19-I19),$AJ$4,IF(OR(EXACT($I$10>$J$10,I19>J19)*EXACT($I$10=$J$10,I19=J19)*EXACT($I$10<$J$10,I19<J19)),$AJ$2,0))) -> 0 | L19: 0 | M19: 2 | N19: =IF(OR(EXACT($L$10,L19)*(EXACT($M$10,M19)))=TRUE,$AJ$7,IF(($M$10-$L$10=M19-L19),$AJ$4,IF(OR(EXACT($L$10>$M$10,L19>M19)*EXACT($L$10=$M$10,L19=M19)*EXACT($L$10<$M$10,L19<M19)),$AJ$2,0)))*2*2 -> 0 | O19: 1 | P19: 2 | Q19: =IF(OR(EXACT($O$10,O19)*(EXACT($P$10,P19)))=TRUE,$AJ$7,IF(($P$10-$O$10=P19-O19),$AJ$4,IF(OR(EXACT($O$10>$P$10,O19>P19)*EXACT($O$10=$P$10,O19=P19)*EXACT($O$10<$P$10,O19<P19)),$AJ$2,0))) -> 2 | R19: 2 | S19: 1 | T19: =IF(OR(EXACT($R$10,R19)*(EXACT($S$10,S19)))=TRUE,$AJ$7,IF(($S$10-$R$10=S19-R19),$AJ$4,IF(OR(EXACT($R$10>$S$10,R19>S19)*EXACT($R$10=$S$10,R19=S19)*EXACT($R$10<$S$10,R19<S19)),$AJ$2,0))) -> 0 | U19: 1 | V19: 1 | W19: =IF(OR(EXACT($U$10,U19)*(EXACT($V$10,V19)))=TRUE,$AJ$7,IF(($V$10-$U$10=V19-U19),$AJ$4,IF(OR(EXACT($U$10>$V$10,U19>V19)*EXACT($U$10=$V$10,U19=V19)*EXACT($U$10<$V$10,U19<V19)),$AJ$2,0))) -> 0 | X19: 1 | Y19: 2 | Z19: =IF(OR(EXACT($X$10,X19)*(EXACT($Y$10,Y19)))=TRUE,$AJ$7,IF(($Y$10-$X$10=Y19-X19),$AJ$4,IF(OR(EXACT($X$10>$Y$10,X19>Y19)*EXACT($X$10=$Y$10,X19=Y19)*EXACT($X$10<$Y$10,X19<Y19)),$AJ$2,0))) -> 0 | AA19: 3 | AB19: 1 | AC19: =IF(OR(EXACT($AA$10,AA19)*(EXACT($AB$10,AB19)))=TRUE,$AJ$7,IF(($AB$10-$AA$10=AB19-AA19),$AJ$4,IF(OR(EXACT($AA$10>$AB$10,AA19>AB19)*EXACT($AA$10=$AB$10,AA19=AB19)*EXACT($AA$10<$AB$10,AA19<AB19)),$AJ$2,0))) -> 2 | AG19: =E19+K19+Q19+T19+N19+H19+W19+Z19+AC19+AF19 -> 9 | AJ19: =AG19+AH19 -> 9 | AK19: =RANK(AJ19,$AJ$11:$AJ$32) -> 8
A20: =AK20 -> 10 | B20: cilli37 | C20: 2 | D20: 2 | E20: =IF(OR(EXACT($C$10,C20)*(EXACT($D$10,D20)))=TRUE,$AJ$7,IF(($D$10-$C$10=D20-C20),$AJ$4,IF(OR(EXACT($C$10>$D$10,C20>D20)*EXACT($C$10=$D$10,C20=D20)*EXACT($C$10<$D$10,C20<D20)),$AJ$2,0))) -> 0 | F20: 2 | G20: 1 | H20: =IF(OR(EXACT($F$10,F20)*(EXACT($G$10,G20)))=TRUE,$AJ$7,IF(($G$10-$F$10=G20-F20),$AJ$4,IF(OR(EXACT($F$10>$G$10,F20>G20)*EXACT($F$10=$G$10,F20=G20)*EXACT($F$10<$G$10,F20<G20)),$AJ$2,0))) -> 0 | I20: 1 | J20: 1 | K20: =IF(OR(EXACT($I$10,I20)*(EXACT($J$10,J20)))=TRUE,$AJ$7,IF(($J$10-$I$10=J20-I20),$AJ$4,IF(OR(EXACT($I$10>$J$10,I20>J20)*EXACT($I$10=$J$10,I20=J20)*EXACT($I$10<$J$10,I20<J20)),$AJ$2,0))) -> 0 | L20: 1 | M20: 3 | N20: =IF(OR(EXACT($L$10,L20)*(EXACT($M$10,M20)))=TRUE,$AJ$7,IF(($M$10-$L$10=M20-L20),$AJ$4,IF(OR(EXACT($L$10>$M$10,L20>M20)*EXACT($L$10=$M$10,L20=M20)*EXACT($L$10<$M$10,L20<M20)),$AJ$2,0)))*2*2 -> 0 | O20: 1 | P20: 1 | Q20: =IF(OR(EXACT($O$10,O20)*(EXACT($P$10,P20)))=TRUE,$AJ$7,IF(($P$10-$O$10=P20-O20),$AJ$4,IF(OR(EXACT($O$10>$P$10,O20>P20)*EXACT($O$10=$P$10,O20=P20)*EXACT($O$10<$P$10,O20<P20)),$AJ$2,0))) -> 0 | R20: 1 | S20: 2 | T20: =IF(OR(EXACT($R$10,R20)*(EXACT($S$10,S20)))=TRUE,$AJ$7,IF(($S$10-$R$10=S20-R20),$AJ$4,IF(OR(EXACT($R$10>$S$10,R20>S20)*EXACT($R$10=$S$10,R20=S20)*EXACT($R$10<$S$10,R20<S20)),$AJ$2,0))) -> 5 | U20: 2 | V20: 2 | W20: =IF(OR(EXACT($U$10,U20)*(EXACT($V$10,V20)))=TRUE,$AJ$7,IF(($V$10-$U$10=V20-U20),$AJ$4,IF(OR(EXACT($U$10>$V$10,U20>V20)*EXACT($U$10=$V$10,U20=V20)*EXACT($U$10<$V$10,U20<V20)),$AJ$2,0))) -> 0 | X20: 2 | Y20: 1 | Z20: =IF(OR(EXACT($X$10,X20)*(EXACT($Y$10,Y20)))=TRUE,$AJ$7,IF(($Y$10-$X$10=Y20-X20),$AJ$4,IF(OR(EXACT($X$10>$Y$10,X20>Y20)*EXACT($X$10=$Y$10,X20=Y20)*EXACT($X$10<$Y$10,X20<Y20)),$AJ$2,0))) -> 3 | AA20: 1 | AB20: 2 | AC20: =IF(OR(EXACT($AA$10,AA20)*(EXACT($AB$10,AB20)))=TRUE,$AJ$7,IF(($AB$10-$AA$10=AB20-AA20),$AJ$4,IF(OR(EXACT($AA$10>$AB$10,AA20>AB20)*EXACT($AA$10=$AB$10,AA20=AB20)*EXACT($AA$10<$AB$10,AA20<AB20)),$AJ$2,0))) -> 0 | AG20: =E20+K20+Q20+T20+N20+H20+W20+Z20+AC20+AF20 -> 8 | AJ20: =AG20+AH20 -> 8 | AK20: =RANK(AJ20,$AJ$11:$AJ$32) -> 10
A21: =AK21 -> 10 | B21: Jubby | C21: 3 | D21: 1 | E21: =IF(OR(EXACT($C$10,C21)*(EXACT($D$10,D21)))=TRUE,$AJ$7,IF(($D$10-$C$10=D21-C21),$AJ$4,IF(OR(EXACT($C$10>$D$10,C21>D21)*EXACT($C$10=$D$10,C21=D21)*EXACT($C$10<$D$10,C21<D21)),$AJ$2,0))) -> 5 | F21: 2 | G21: 1 | H21: =IF(OR(EXACT($F$10,F21)*(EXACT($G$10,G21)))=TRUE,$AJ$7,IF(($G$10-$F$10=G21-F21),$AJ$4,IF(OR(EXACT($F$10>$G$10,F21>G21)*EXACT($F$10=$G$10,F21=G21)*EXACT($F$10<$G$10,F21<G21)),$AJ$2,0))) -> 0 | I21: 1 | J21: 2 | K21: =IF(OR(EXACT($I$10,I21)*(EXACT($J$10,J21)))=TRUE,$AJ$7,IF(($J$10-$I$10=J21-I21),$AJ$4,IF(OR(EXACT($I$10>$J$10,I21>J21)*EXACT($I$10=$J$10,I21=J21)*EXACT($I$10<$J$10,I21<J21)),$AJ$2,0))) -> 0 | L21: 1 | M21: 3 | N21: =IF(OR(EXACT($L$10,L21)*(EXACT($M$10,M21)))=TRUE,$AJ$7,IF(($M$10-$L$10=M21-L21),$AJ$4,IF(OR(EXACT($L$10>$M$10,L21>M21)*EXACT($L$10=$M$10,L21=M21)*EXACT($L$10<$M$10,L21<M21)),$AJ$2,0)))*2*2 -> 0 | O21: 2 | P21: 1 | Q21: =IF(OR(EXACT($O$10,O21)*(EXACT($P$10,P21)))=TRUE,$AJ$7,IF(($P$10-$O$10=P21-O21),$AJ$4,IF(OR(EXACT($O$10>$P$10,O21>P21)*EXACT($O$10=$P$10,O21=P21)*EXACT($O$10<$P$10,O21<P21)),$AJ$2,0))) -> 0 | R21: 0 | S21: 1 | T21: =IF(OR(EXACT($R$10,R21)*(EXACT($S$10,S21)))=TRUE,$AJ$7,IF(($S$10-$R$10=S21-R21),$AJ$4,IF(OR(EXACT($R$10>$S$10,R21>S21)*EXACT($R$10=$S$10,R21=S21)*EXACT($R$10<$S$10,R21<S21)),$AJ$2,0))) -> 3 | U21: 1 | V21: 1 | W21: =IF(OR(EXACT($U$10,U21)*(EXACT($V$10,V21)))=TRUE,$AJ$7,IF(($V$10-$U$10=V21-U21),$AJ$4,IF(OR(EXACT($U$10>$V$10,U21>V21)*EXACT($U$10=$V$10,U21=V21)*EXACT($U$10<$V$10,U21<V21)),$AJ$2,0))) -> 0 | X21: 1 | Y21: 1 | Z21: =IF(OR(EXACT($X$10,X21)*(EXACT($Y$10,Y21)))=TRUE,$AJ$7,IF(($Y$10-$X$10=Y21-X21),$AJ$4,IF(OR(EXACT($X$10>$Y$10,X21>Y21)*EXACT($X$10=$Y$10,X21=Y21)*EXACT($X$10<$Y$10,X21<Y21)),$AJ$2,0))) -> 0 | AA21: 2 | AB21: 3 | AC21: =IF(OR(EXACT($AA$10,AA21)*(EXACT($AB$10,AB21)))=TRUE,$AJ$7,IF(($AB$10-$AA$10=AB21-AA21),$AJ$4,IF(OR(EXACT($AA$10>$AB$10,AA21>AB21)*EXACT($AA$10=$AB$10,AA21=AB21)*EXACT($AA$10<$AB$10,AA21<AB21)),$AJ$2,0))) -> 0 | AG21: =E21+K21+Q21+T21+N21+H21+W21+Z21+AC21+AF21 -> 8 | AJ21: =AG21+AH21 -> 8 | AK21: =RANK(AJ21,$AJ$11:$AJ$32) -> 10
A22: =AK22 -> 10 | B22: Master1 | C22: 2 | D22: 1 | E22: =IF(OR(EXACT($C$10,C22)*(EXACT($D$10,D22)))=TRUE,$AJ$7,IF(($D$10-$C$10=D22-C22),$AJ$4,IF(OR(EXACT($C$10>$D$10,C22>D22)*EXACT($C$10=$D$10,C22=D22)*EXACT($C$10<$D$10,C22<D22)),$AJ$2,0))) -> 2 | F22: 2 | G22: 2 | H22: =IF(OR(EXACT($F$10,F22)*(EXACT($G$10,G22)))=TRUE,$AJ$7,IF(($G$10-$F$10=G22-F22),$AJ$4,IF(OR(EXACT($F$10>$G$10,F22>G22)*EXACT($F$10=$G$10,F22=G22)*EXACT($F$10<$G$10,F22<G22)),$AJ$2,0))) -> 3 | I22: 1 | J22: 1 | K22: =IF(OR(EXACT($I$10,I22)*(EXACT($J$10,J22)))=TRUE,$AJ$7,IF(($J$10-$I$10=J22-I22),$AJ$4,IF(OR(EXACT($I$10>$J$10,I22>J22)*EXACT($I$10=$J$10,I22=J22)*EXACT($I$10<$J$10,I22<J22)),$AJ$2,0))) -> 0 | L22: 1 | M22: 2 | N22: =IF(OR(EXACT($L$10,L22)*(EXACT($M$10,M22)))=TRUE,$AJ$7,IF(($M$10-$L$10=M22-L22),$AJ$4,IF(OR(EXACT($L$10>$M$10,L22>M22)*EXACT($L$10=$M$10,L22=M22)*EXACT($L$10<$M$10,L22<M22)),$AJ$2,0)))*2*2 -> 0 | O22: 2 | P22: 1 | Q22: =IF(OR(EXACT($O$10,O22)*(EXACT($P$10,P22)))=TRUE,$AJ$7,IF(($P$10-$O$10=P22-O22),$AJ$4,IF(OR(EXACT($O$10>$P$10,O22>P22)*EXACT($O$10=$P$10,O22=P22)*EXACT($O$10<$P$10,O22<P22)),$AJ$2,0))) -> 0 | R22: 1 | S22: 1 | T22: =IF(OR(EXACT($R$10,R22)*(EXACT($S$10,S22)))=TRUE,$AJ$7,IF(($S$10-$R$10=S22-R22),$AJ$4,IF(OR(EXACT($R$10>$S$10,R22>S22)*EXACT($R$10=$S$10,R22=S22)*EXACT($R$10<$S$10,R22<S22)),$AJ$2,0))) -> 0 | U22: 1 | V22: 3 | W22: =IF(OR(EXACT($U$10,U22)*(EXACT($V$10,V22)))=TRUE,$AJ$7,IF(($V$10-$U$10=V22-U22),$AJ$4,IF(OR(EXACT($U$10>$V$10,U22>V22)*EXACT($U$10=$V$10,U22=V22)*EXACT($U$10<$V$10,U22<V22)),$AJ$2,0))) -> 0 | X22: 2 | Y22: 1 | Z22: =IF(OR(EXACT($X$10,X22)*(EXACT($Y$10,Y22)))=TRUE,$AJ$7,IF(($Y$10-$X$10=Y22-X22),$AJ$4,IF(OR(EXACT($X$10>$Y$10,X22>Y22)*EXACT($X$10=$Y$10,X22=Y22)*EXACT($X$10<$Y$10,X22<Y22)),$AJ$2,0))) -> 3 | AA22: 2 | AB22: 2 | AC22: =IF(OR(EXACT($AA$10,AA22)*(EXACT($AB$10,AB22)))=TRUE,$AJ$7,IF(($AB$10-$AA$10=AB22-AA22),$AJ$4,IF(OR(EXACT($AA$10>$AB$10,AA22>AB22)*EXACT($AA$10=$AB$10,AA22=AB22)*EXACT($AA$10<$AB$10,AA22<AB22)),$AJ$2,0))) -> 0 | AG22: =E22+K22+Q22+T22+N22+H22+W22+Z22+AC22+AF22 -> 8 | AJ22: =AG22+AH22 -> 8 | AK22: =RANK(AJ22,$AJ$11:$AJ$32) -> 10
... A25: =AK25 -> 15 | B25: gaby04 | C25: 2 | D25: 2 | E25: =IF(OR(EXACT($C$10,C25)*(EXACT($D$10,D25)))=TRUE,$AJ$7,IF(($D$10-$C$10=D25-C25),$AJ$4,IF(OR(EXACT($C$10>$D$10,C25>D25)*EXACT($C$10=$D$10,C25=D25)*EXACT($C$10<$D$10,C25<D25)),$AJ$2,0))) -> 0 | F25: 2 | G25: 1 | H25: =IF(OR(EXACT($F$10,F25)*(EXACT($G$10,G25)))=TRUE,$AJ$7,IF(($G$10-$F$10=G25-F25),$AJ$4,IF(OR(EXACT($F$10>$G$10,F25>G25)*EXACT($F$10=$G$10,F25=G25)*EXACT($F$10<$G$10,F25<G25)),$AJ$2,0))) -> 0 | I25: 2 | J25: 1 | K25: =IF(OR(EXACT($I$10,I25)*(EXACT($J$10,J25)))=TRUE,$AJ$7,IF(($J$10-$I$10=J25-I25),$AJ$4,IF(OR(EXACT($I$10>$J$10,I25>J25)*EXACT($I$10=$J$10,I25=J25)*EXACT($I$10<$J$10,I25<J25)),$AJ$2,0))) -> 3 | L25: 1 | M25: 2 | N25: =IF(OR(EXACT($L$10,L25)*(EXACT($M$10,M25)))=TRUE,$AJ$7,IF(($M$10-$L$10=M25-L25),$AJ$4,IF(OR(EXACT($L$10>$M$10,L25>M25)*EXACT($L$10=$M$10,L25=M25)*EXACT($L$10<$M$10,L25<M25)),$AJ$2,0)))*2*2 -> 0 | O25: 2 | P25: 1 | Q25: =IF(OR(EXACT($O$10,O25)*(EXACT($P$10,P25)))=TRUE,$AJ$7,IF(($P$10-$O$10=P25-O25),$AJ$4,IF(OR(EXACT($O$10>$P$10,O25>P25)*EXACT($O$10=$P$10,O25=P25)*EXACT($O$10<$P$10,O25<P25)),$AJ$2,0))) -> 0 | R25: 1 | S25: 1 | T25: =IF(OR(EXACT($R$10,R25)*(EXACT($S$10,S25)))=TRUE,$AJ$7,IF(($S$10-$R$10=S25-R25),$AJ$4,IF(OR(EXACT($R$10>$S$10,R25>S25)*EXACT($R$10=$S$10,R25=S25)*EXACT($R$10<$S$10,R25<S25)),$AJ$2,0))) -> 0 | U25: 2 | V25: 2 | W25: =IF(OR(EXACT($U$10,U25)*(EXACT($V$10,V25)))=TRUE,$AJ$7,IF(($V$10-$U$10=V25-U25),$AJ$4,IF(OR(EXACT($U$10>$V$10,U25>V25)*EXACT($U$10=$V$10,U25=V25)*EXACT($U$10<$V$10,U25<V25)),$AJ$2,0))) -> 0 | X25: 2 | Y25: 1 | Z25: =IF(OR(EXACT($X$10,X25)*(EXACT($Y$10,Y25)))=TRUE,$AJ$7,IF(($Y$10-$X$10=Y25-X25),$AJ$4,IF(OR(EXACT($X$10>$Y$10,X25>Y25)*EXACT($X$10=$Y$10,X25=Y25)*EXACT($X$10<$Y$10,X25<Y25)),$AJ$2,0))) -> 3 | AA25: 2 | AB25: 2 | AC25: =IF(OR(EXACT($AA$10,AA25)*(EXACT($AB$10,AB25)))=TRUE,$AJ$7,IF(($AB$10-$AA$10=AB25-AA25),$AJ$4,IF(OR(EXACT($AA$10>$AB$10,AA25>AB25)*EXACT($AA$10=$AB$10,AA25=AB25)*EXACT($AA$10<$AB$10,AA25<AB25)),$AJ$2,0))) -> 0 | AG25: =E25+K25+Q25+T25+N25+H25+W25+Z25+AC25+AF25 -> 6 | AJ25: =AG25+AH25 -> 6 | AK25: =RANK(AJ25,$AJ$11:$AJ$32) -> 15
A26: =AK26 -> 15 | B26: Gudrun | F26: 2 | G26: 1 | H26: =IF(OR(EXACT($F$10,F26)*(EXACT($G$10,G26)))=TRUE,$AJ$7,IF(($G$10-$F$10=G26-F26),$AJ$4,IF(OR(EXACT($F$10>$G$10,F26>G26)*EXACT($F$10=$G$10,F26=G26)*EXACT($F$10<$G$10,F26<G26)),$AJ$2,0))) -> 0 | I26: 2 | J26: 1 | K26: =IF(OR(EXACT($I$10,I26)*(EXACT($J$10,J26)))=TRUE,$AJ$7,IF(($J$10-$I$10=J26-I26),$AJ$4,IF(OR(EXACT($I$10>$J$10,I26>J26)*EXACT($I$10=$J$10,I26=J26)*EXACT($I$10<$J$10,I26<J26)),$AJ$2,0))) -> 3 | L26: 0 | M26: 1 | N26: =IF(OR(EXACT($L$10,L26)*(EXACT($M$10,M26)))=TRUE,$AJ$7,IF(($M$10-$L$10=M26-L26),$AJ$4,IF(OR(EXACT($L$10>$M$10,L26>M26)*EXACT($L$10=$M$10,L26=M26)*EXACT($L$10<$M$10,L26<M26)),$AJ$2,0)))*2*2 -> 0 | O26: 2 | P26: 1 | Q26: =IF(OR(EXACT($O$10,O26)*(EXACT($P$10,P26)))=TRUE,$AJ$7,IF(($P$10-$O$10=P26-O26),$AJ$4,IF(OR(EXACT($O$10>$P$10,O26>P26)*EXACT($O$10=$P$10,O26=P26)*EXACT($O$10<$P$10,O26<P26)),$AJ$2,0))) -> 0 | R26: 1 | S26: 1 | T26: =IF(OR(EXACT($R$10,R26)*(EXACT($S$10,S26)))=TRUE,$AJ$7,IF(($S$10-$R$10=S26-R26),$AJ$4,IF(OR(EXACT($R$10>$S$10,R26>S26)*EXACT($R$10=$S$10,R26=S26)*EXACT($R$10<$S$10,R26<S26)),$AJ$2,0))) -> 0 | U26: 1 | V26: 1 | W26: =IF(OR(EXACT($U$10,U26)*(EXACT($V$10,V26)))=TRUE,$AJ$7,IF(($V$10-$U$10=V26-U26),$AJ$4,IF(OR(EXACT($U$10>$V$10,U26>V26)*EXACT($U$10=$V$10,U26=V26)*EXACT($U$10<$V$10,U26<V26)),$AJ$2,0))) -> 0 | X26: 2 | Y26: 1 | Z26: =IF(OR(EXACT($X$10,X26)*(EXACT($Y$10,Y26)))=TRUE,$AJ$7,IF(($Y$10-$X$10=Y26-X26),$AJ$4,IF(OR(EXACT($X$10>$Y$10,X26>Y26)*EXACT($X$10=$Y$10,X26=Y26)*EXACT($X$10<$Y$10,X26<Y26)),$AJ$2,0))) -> 3 | AA26: 0 | AB26: 1 | AC26: =IF(OR(EXACT($AA$10,AA26)*(EXACT($AB$10,AB26)))=TRUE,$AJ$7,IF(($AB$10-$AA$10=AB26-AA26),$AJ$4,IF(OR(EXACT($AA$10>$AB$10,AA26>AB26)*EXACT($AA$10=$AB$10,AA26=AB26)*EXACT($AA$10<$AB$10,AA26<AB26)),$AJ$2,0))) -> 0 | AG26: =E26+K26+Q26+T26+N26+H26+W26+Z26+AC26+AF26 -> 6 | AJ26: =AG26+AH26 -> 6 | AK26: =RANK(AJ26,$AJ$11:$AJ$32) -> 15
A27: =AK27 -> 15 | B27: Mike04 | C27: 2 | D27: 0 | E27: =IF(OR(EXACT($C$10,C27)*(EXACT($D$10,D27)))=TRUE,$AJ$7,IF(($D$10-$C$10=D27-C27),$AJ$4,IF(OR(EXACT($C$10>$D$10,C27>D27)*EXACT($C$10=$D$10,C27=D27)*EXACT($C$10<$D$10,C27<D27)),$AJ$2,0))) -> 3 | F27: 2 | G27: 0 | H27: =IF(OR(EXACT($F$10,F27)*(EXACT($G$10,G27)))=TRUE,$AJ$7,IF(($G$10-$F$10=G27-F27),$AJ$4,IF(OR(EXACT($F$10>$G$10,F27>G27)*EXACT($F$10=$G$10,F27=G27)*EXACT($F$10<$G$10,F27<G27)),$AJ$2,0))) -> 0 | I27: 2 | J27: 1 | K27: =IF(OR(EXACT($I$10,I27)*(EXACT($J$10,J27)))=TRUE,$AJ$7,IF(($J$10-$I$10=J27-I27),$AJ$4,IF(OR(EXACT($I$10>$J$10,I27>J27)*EXACT($I$10=$J$10,I27=J27)*EXACT($I$10<$J$10,I27<J27)),$AJ$2,0))) -> 3 | L27: 0 | M27: 2 | N27: =IF(OR(EXACT($L$10,L27)*(EXACT($M$10,M27)))=TRUE,$AJ$7,IF(($M$10-$L$10=M27-L27),$AJ$4,IF(OR(EXACT($L$10>$M$10,L27>M27)*EXACT($L$10=$M$10,L27=M27)*EXACT($L$10<$M$10,L27<M27)),$AJ$2,0)))*2*2 -> 0 | O27: 1 | P27: 0 | Q27: =IF(OR(EXACT($O$10,O27)*(EXACT($P$10,P27)))=TRUE,$AJ$7,IF(($P$10-$O$10=P27-O27),$AJ$4,IF(OR(EXACT($O$10>$P$10,O27>P27)*EXACT($O$10=$P$10,O27=P27)*EXACT($O$10<$P$10,O27<P27)),$AJ$2,0))) -> 0 | R27: 2 | S27: 1 | T27: =IF(OR(EXACT($R$10,R27)*(EXACT($S$10,S27)))=TRUE,$AJ$7,IF(($S$10-$R$10=S27-R27),$AJ$4,IF(OR(EXACT($R$10>$S$10,R27>S27)*EXACT($R$10=$S$10,R27=S27)*EXACT($R$10<$S$10,R27<S27)),$AJ$2,0))) -> 0 | U27: 1 | V27: 1 | W27: =IF(OR(EXACT($U$10,U27)*(EXACT($V$10,V27)))=TRUE,$AJ$7,IF(($V$10-$U$10=V27-U27),$AJ$4,IF(OR(EXACT($U$10>$V$10,U27>V27)*EXACT($U$10=$V$10,U27=V27)*EXACT($U$10<$V$10,U27<V27)),$AJ$2,0))) -> 0 | X27: 0 | Y27: 2 | Z27: =IF(OR(EXACT($X$10,X27)*(EXACT($Y$10,Y27)))=TRUE,$AJ$7,IF(($Y$10-$X$10=Y27-X27),$AJ$4,IF(OR(EXACT($X$10>$Y$10,X27>Y27)*EXACT($X$10=$Y$10,X27=Y27)*EXACT($X$10<$Y$10,X27<Y27)),$AJ$2,0))) -> 0 | AA27: 1 | AB27: 2 | AC27: =IF(OR(EXACT($AA$10,AA27)*(EXACT($AB$10,AB27)))=TRUE,$AJ$7,IF(($AB$10-$AA$10=AB27-AA27),$AJ$4,IF(OR(EXACT($AA$10>$AB$10,AA27>AB27)*EXACT($AA$10=$AB$10,AA27=AB27)*EXACT($AA$10<$AB$10,AA27<AB27)),$AJ$2,0))) -> 0 | AG27: =E27+K27+Q27+T27+N27+H27+W27+Z27+AC27+AF27 -> 6 | AJ27: =AG27+AH27 -> 6 | AK27: =RANK(AJ27,$AJ$11:$AJ$32) -> 15
A28: =AK28 -> 15 | B28: ralle04 | C28: 1 | D28: 2 | E28: =IF(OR(EXACT($C$10,C28)*(EXACT($D$10,D28)))=TRUE,$AJ$7,IF(($D$10-$C$10=D28-C28),$AJ$4,IF(OR(EXACT($C$10>$D$10,C28>D28)*EXACT($C$10=$D$10,C28=D28)*EXACT($C$10<$D$10,C28<D28)),$AJ$2,0))) -> 0 | F28: 2 | G28: 1 | H28: =IF(OR(EXACT($F$10,F28)*(EXACT($G$10,G28)))=TRUE,$AJ$7,IF(($G$10-$F$10=G28-F28),$AJ$4,IF(OR(EXACT($F$10>$G$10,F28>G28)*EXACT($F$10=$G$10,F28=G28)*EXACT($F$10<$G$10,F28<G28)),$AJ$2,0))) -> 0 | I28: 2 | J28: 1 | K28: =IF(OR(EXACT($I$10,I28)*(EXACT($J$10,J28)))=TRUE,$AJ$7,IF(($J$10-$I$10=J28-I28),$AJ$4,IF(OR(EXACT($I$10>$J$10,I28>J28)*EXACT($I$10=$J$10,I28=J28)*EXACT($I$10<$J$10,I28<J28)),$AJ$2,0))) -> 3 | L28: 0 | M28: 1 | N28: =IF(OR(EXACT($L$10,L28)*(EXACT($M$10,M28)))=TRUE,$AJ$7,IF(($M$10-$L$10=M28-L28),$AJ$4,IF(OR(EXACT($L$10>$M$10,L28>M28)*EXACT($L$10=$M$10,L28=M28)*EXACT($L$10<$M$10,L28<M28)),$AJ$2,0)))*2*2 -> 0 | O28: 2 | P28: 1 | Q28: =IF(OR(EXACT($O$10,O28)*(EXACT($P$10,P28)))=TRUE,$AJ$7,IF(($P$10-$O$10=P28-O28),$AJ$4,IF(OR(EXACT($O$10>$P$10,O28>P28)*EXACT($O$10=$P$10,O28=P28)*EXACT($O$10<$P$10,O28<P28)),$AJ$2,0))) -> 0 | R28: 1 | S28: 1 | T28: =IF(OR(EXACT($R$10,R28)*(EXACT($S$10,S28)))=TRUE,$AJ$7,IF(($S$10-$R$10=S28-R28),$AJ$4,IF(OR(EXACT($R$10>$S$10,R28>S28)*EXACT($R$10=$S$10,R28=S28)*EXACT($R$10<$S$10,R28<S28)),$AJ$2,0))) -> 0 | U28: 2 | V28: 2 | W28: =IF(OR(EXACT($U$10,U28)*(EXACT($V$10,V28)))=TRUE,$AJ$7,IF(($V$10-$U$10=V28-U28),$AJ$4,IF(OR(EXACT($U$10>$V$10,U28>V28)*EXACT($U$10=$V$10,U28=V28)*EXACT($U$10<$V$10,U28<V28)),$AJ$2,0))) -> 0 | X28: 2 | Y28: 1 | Z28: =IF(OR(EXACT($X$10,X28)*(EXACT($Y$10,Y28)))=TRUE,$AJ$7,IF(($Y$10-$X$10=Y28-X28),$AJ$4,IF(OR(EXACT($X$10>$Y$10,X28>Y28)*EXACT($X$10=$Y$10,X28=Y28)*EXACT($X$10<$Y$10,X28<Y28)),$AJ$2,0))) -> 3 | AA28: 2 | AB28: 2 | AC28: =IF(OR(EXACT($AA$10,AA28)*(EXACT($AB$10,AB28)))=TRUE,$AJ$7,IF(($AB$10-$AA$10=AB28-AA28),$AJ$4,IF(OR(EXACT($AA$10>$AB$10,AA28>AB28)*EXACT($AA$10=$AB$10,AA28=AB28)*EXACT($AA$10<$AB$10,AA28<AB28)),$AJ$2,0))) -> 0 | AG28: =E28+K28+Q28+T28+N28+H28+W28+Z28+AC28+AF28 -> 6 | AJ28: =AG28+AH28 -> 6 | AK28: =RANK(AJ28,$AJ$11:$AJ$32) -> 15
A29: =AK29 -> 19 | B29: Fabian1904 | C29: 2 | D29: 0 | E29: =IF(OR(EXACT($C$10,C29)*(EXACT($D$10,D29)))=TRUE,$AJ$7,IF(($D$10-$C$10=D29-C29),$AJ$4,IF(OR(EXACT($C$10>$D$10,C29>D29)*EXACT($C$10=$D$10,C29=D29)*EXACT($C$10<$D$10,C29<D29)),$AJ$2,0))) -> 3 | F29: 2 | G29: 0 | H29: =IF(OR(EXACT($F$10,F29)*(EXACT($G$10,G29)))=TRUE,$AJ$7,IF(($G$10-$F$10=G29-F29),$AJ$4,IF(OR(EXACT($F$10>$G$10,F29>G29)*EXACT($F$10=$G$10,F29=G29)*EXACT($F$10<$G$10,F29<G29)),$AJ$2,0))) -> 0 | I29: 1 | J29: 2 | K29: =IF(OR(EXACT($I$10,I29)*(EXACT($J$10,J29)))=TRUE,$AJ$7,IF(($J$10-$I$10=J29-I29),$AJ$4,IF(OR(EXACT($I$10>$J$10,I29>J29)*EXACT($I$10=$J$10,I29=J29)*EXACT($I$10<$J$10,I29<J29)),$AJ$2,0))) -> 0 | L29: 0 | M29: 2 | N29: =IF(OR(EXACT($L$10,L29)*(EXACT($M$10,M29)))=TRUE,$AJ$7,IF(($M$10-$L$10=M29-L29),$AJ$4,IF(OR(EXACT($L$10>$M$10,L29>M29)*EXACT($L$10=$M$10,L29=M29)*EXACT($L$10<$M$10,L29<M29)),$AJ$2,0)))*2*2 -> 0 | O29: 3 | P29: 0 | Q29: =IF(OR(EXACT($O$10,O29)*(EXACT($P$10,P29)))=TRUE,$AJ$7,IF(($P$10-$O$10=P29-O29),$AJ$4,IF(OR(EXACT($O$10>$P$10,O29>P29)*EXACT($O$10=$P$10,O29=P29)*EXACT($O$10<$P$10,O29<P29)),$AJ$2,0))) -> 0 | R29: 0 | S29: 0 | T29: =IF(OR(EXACT($R$10,R29)*(EXACT($S$10,S29)))=TRUE,$AJ$7,IF(($S$10-$R$10=S29-R29),$AJ$4,IF(OR(EXACT($R$10>$S$10,R29>S29)*EXACT($R$10=$S$10,R29=S29)*EXACT($R$10<$S$10,R29<S29)),$AJ$2,0))) -> 0 | U29: 2 | V29: 2 | W29: =IF(OR(EXACT($U$10,U29)*(EXACT($V$10,V29)))=TRUE,$AJ$7,IF(($V$10-$U$10=V29-U29),$AJ$4,IF(OR(EXACT($U$10>$V$10,U29>V29)*EXACT($U$10=$V$10,U29=V29)*EXACT($U$10<$V$10,U29<V29)),$AJ$2,0))) -> 0 | X29: 1 | Y29: 1 | Z29: =IF(OR(EXACT($X$10,X29)*(EXACT($Y$10,Y29)))=TRUE,$AJ$7,IF(($Y$10-$X$10=Y29-X29),$AJ$4,IF(OR(EXACT($X$10>$Y$10,X29>Y29)*EXACT($X$10=$Y$10,X29=Y29)*EXACT($X$10<$Y$10,X29<Y29)),$AJ$2,0))) -> 0 | AA29: 2 | AB29: 0 | AC29: =IF(OR(EXACT($AA$10,AA29)*(EXACT($AB$10,AB29)))=TRUE,$AJ$7,IF(($AB$10-$AA$10=AB29-AA29),$AJ$4,IF(OR(EXACT($AA$10>$AB$10,AA29>AB29)*EXACT($AA$10=$AB$10,AA29=AB29)*EXACT($AA$10<$AB$10,AA29<AB29)),$AJ$2,0))) -> 2 | AG29: =E29+K29+Q29+T29+N29+H29+W29+Z29+AC29+AF29 -> 5 | AJ29: =AG29+AH29 -> 5 | AK29: =RANK(AJ29,$AJ$11:$AJ$32) -> 19
A30: =AK30 -> 19 | B30: Schalkekalle | F30: 2 | G30: 2 | H30: =IF(OR(EXACT($F$10,F30)*(EXACT($G$10,G30)))=TRUE,$AJ$7,IF(($G$10-$F$10=G30-F30),$AJ$4,IF(OR(EXACT($F$10>$G$10,F30>G30)*EXACT($F$10=$G$10,F30=G30)*EXACT($F$10<$G$10,F30<G30)),$AJ$2,0))) -> 3 | I30: 0 | J30: 1 | K30: =IF(OR(EXACT($I$10,I30)*(EXACT($J$10,J30)))=TRUE,$AJ$7,IF(($J$10-$I$10=J30-I30),$AJ$4,IF(OR(EXACT($I$10>$J$10,I30>J30)*EXACT($I$10=$J$10,I30=J30)*EXACT($I$10<$J$10,I30<J30)),$AJ$2,0))) -> 0 | L30: 0 | M30: 1 | N30: =IF(OR(EXACT($L$10,L30)*(EXACT($M$10,M30)))=TRUE,$AJ$7,IF(($M$10-$L$10=M30-L30),$AJ$4,IF(OR(EXACT($L$10>$M$10,L30>M30)*EXACT($L$10=$M$10,L30=M30)*EXACT($L$10<$M$10,L30<M30)),$AJ$2,0)))*2*2 -> 0 | O30: 1 | P30: 1 | Q30: =IF(OR(EXACT($O$10,O30)*(EXACT($P$10,P30)))=TRUE,$AJ$7,IF(($P$10-$O$10=P30-O30),$AJ$4,IF(OR(EXACT($O$10>$P$10,O30>P30)*EXACT($O$10=$P$10,O30=P30)*EXACT($O$10<$P$10,O30<P30)),$AJ$2,0))) -> 0 | R30: 1 | S30: 1 | T30: =IF(OR(EXACT($R$10,R30)*(EXACT($S$10,S30)))=TRUE,$AJ$7,IF(($S$10-$R$10=S30-R30),$AJ$4,IF(OR(EXACT($R$10>$S$10,R30>S30)*EXACT($R$10=$S$10,R30=S30)*EXACT($R$10<$S$10,R30<S30)),$AJ$2,0))) -> 0 | U30: 1 | V30: 1 | W30: =IF(OR(EXACT($U$10,U30)*(EXACT($V$10,V30)))=TRUE,$AJ$7,IF(($V$10-$U$10=V30-U30),$AJ$4,IF(OR(EXACT($U$10>$V$10,U30>V30)*EXACT($U$10=$V$10,U30=V30)*EXACT($U$10<$V$10,U30<V30)),$AJ$2,0))) -> 0 | X30: 1 | Y30: 2 | Z30: =IF(OR(EXACT($X$10,X30)*(EXACT($Y$10,Y30)))=TRUE,$AJ$7,IF(($Y$10-$X$10=Y30-X30),$AJ$4,IF(OR(EXACT($X$10>$Y$10,X30>Y30)*EXACT($X$10=$Y$10,X30=Y30)*EXACT($X$10<$Y$10,X30<Y30)),$AJ$2,0))) -> 0 | AA30: 2 | AB30: 1 | AC30: =IF(OR(EXACT($AA$10,AA30)*(EXACT($AB$10,AB30)))=TRUE,$AJ$7,IF(($AB$10-$AA$10=AB30-AA30),$AJ$4,IF(OR(EXACT($AA$10>$AB$10,AA30>AB30)*EXACT($AA$10=$AB$10,AA30=AB30)*EXACT($AA$10<$AB$10,AA30<AB30)),$AJ$2,0))) -> 2 | AG30: =E30+K30+Q30+T30+N30+H30+W30+Z30+AC30+AF30 -> 5 | AJ30: =AG30+AH30 -> 5 | AK30: =RANK(AJ30,$AJ$11:$AJ$32) -> 19
A31: =AK31 -> 21 | B31: Hans 04 | C31: 2 | D31: 2 | E31: =IF(OR(EXACT($C$10,C31)*(EXACT($D$10,D31)))=TRUE,$AJ$7,IF(($D$10-$C$10=D31-C31),$AJ$4,IF(OR(EXACT($C$10>$D$10,C31>D31)*EXACT($C$10=$D$10,C31=D31)*EXACT($C$10<$D$10,C31<D31)),$AJ$2,0))) -> 0 | F31: 3 | G31: 1 | H31: =IF(OR(EXACT($F$10,F31)*(EXACT($G$10,G31)))=TRUE,$AJ$7,IF(($G$10-$F$10=G31-F31),$AJ$4,IF(OR(EXACT($F$10>$G$10,F31>G31)*EXACT($F$10=$G$10,F31=G31)*EXACT($F$10<$G$10,F31<G31)),$AJ$2,0))) -> 0 | I31: 2 | J31: 0 | K31: =IF(OR(EXACT($I$10,I31)*(EXACT($J$10,J31)))=TRUE,$AJ$7,IF(($J$10-$I$10=J31-I31),$AJ$4,IF(OR(EXACT($I$10>$J$10,I31>J31)*EXACT($I$10=$J$10,I31=J31)*EXACT($I$10<$J$10,I31<J31)),$AJ$2,0))) -> 2 | L31: 1 | M31: 2 | N31: =IF(OR(EXACT($L$10,L31)*(EXACT($M$10,M31)))=TRUE,$AJ$7,IF(($M$10-$L$10=M31-L31),$AJ$4,IF(OR(EXACT($L$10>$M$10,L31>M31)*EXACT($L$10=$M$10,L31=M31)*EXACT($L$10<$M$10,L31<M31)),$AJ$2,0)))*2*2 -> 0 | O31: 2 | P31: 1 | Q31: =IF(OR(EXACT($O$10,O31)*(EXACT($P$10,P31)))=TRUE,$AJ$7,IF(($P$10-$O$10=P31-O31),$AJ$4,IF(OR(EXACT($O$10>$P$10,O31>P31)*EXACT($O$10=$P$10,O31=P31)*EXACT($O$10<$P$10,O31<P31)),$AJ$2,0))) -> 0 | R31: 1 | S31: 1 | T31: =IF(OR(EXACT($R$10,R31)*(EXACT($S$10,S31)))=TRUE,$AJ$7,IF(($S$10-$R$10=S31-R31),$AJ$4,IF(OR(EXACT($R$10>$S$10,R31>S31)*EXACT($R$10=$S$10,R31=S31)*EXACT($R$10<$S$10,R31<S31)),$AJ$2,0))) -> 0 | U31: 1 | V31: 2 | W31: =IF(OR(EXACT($U$10,U31)*(EXACT($V$10,V31)))=TRUE,$AJ$7,IF(($V$10-$U$10=V31-U31),$AJ$4,IF(OR(EXACT($U$10>$V$10,U31>V31)*EXACT($U$10=$V$10,U31=V31)*EXACT($U$10<$V$10,U31<V31)),$AJ$2,0))) -> 0 | X31: 3 | Y31: 1 | Z31: =IF(OR(EXACT($X$10,X31)*(EXACT($Y$10,Y31)))=TRUE,$AJ$7,IF(($Y$10-$X$10=Y31-X31),$AJ$4,IF(OR(EXACT($X$10>$Y$10,X31>Y31)*EXACT($X$10=$Y$10,X31=Y31)*EXACT($X$10<$Y$10,X31<Y31)),$AJ$2,0))) -> 2 | AA31: 2 | AB31: 2 | AC31: =IF(OR(EXACT($AA$10,AA31)*(EXACT($AB$10,AB31)))=TRUE,$AJ$7,IF(($AB$10-$AA$10=AB31-AA31),$AJ$4,IF(OR(EXACT($AA$10>$AB$10,AA31>AB31)*EXACT($AA$10=$AB$10,AA31=AB31)*EXACT($AA$10<$AB$10,AA31<AB31)),$AJ$2,0))) -> 0 | AG31: =E31+K31+Q31+T31+N31+H31+W31+Z31+AC31+AF31 -> 4 | AJ31: =AG31+AH31 -> 4 | AK31: =RANK(AJ31,$AJ$11:$AJ$32) -> 21
A32: =AK32 -> 22 | B32: archie04 | C32: 2 | D32: 2 | E32: =IF(OR(EXACT($C$10,C32)*(EXACT($D$10,D32)))=TRUE,$AJ$7,IF(($D$10-$C$10=D32-C32),$AJ$4,IF(OR(EXACT($C$10>$D$10,C32>D32)*EXACT($C$10=$D$10,C32=D32)*EXACT($C$10<$D$10,C32<D32)),$AJ$2,0))) -> 0 | F32: 3 | G32: 1 | H32: =IF(OR(EXACT($F$10,F32)*(EXACT($G$10,G32)))=TRUE,$AJ$7,IF(($G$10-$F$10=G32-F32),$AJ$4,IF(OR(EXACT($F$10>$G$10,F32>G32)*EXACT($F$10=$G$10,F32=G32)*EXACT($F$10<$G$10,F32<G32)),$AJ$2,0))) -> 0 | I32: 1 | J32: 2 | K32: =IF(OR(EXACT($I$10,I32)*(EXACT($J$10,J32)))=TRUE,$AJ$7,IF(($J$10-$I$10=J32-I32),$AJ$4,IF(OR(EXACT($I$10>$J$10,I32>J32)*EXACT($I$10=$J$10,I32=J32)*EXACT($I$10<$J$10,I32<J32)),$AJ$2,0))) -> 0 | L32: 0 | M32: 3 | N32: =IF(OR(EXACT($L$10,L32)*(EXACT($M$10,M32)))=TRUE,$AJ$7,IF(($M$10-$L$10=M32-L32),$AJ$4,IF(OR(EXACT($L$10>$M$10,L32>M32)*EXACT($L$10=$M$10,L32=M32)*EXACT($L$10<$M$10,L32<M32)),$AJ$2,0)))*2*2 -> 0 | O32: 2 | P32: 1 | Q32: =IF(OR(EXACT($O$10,O32)*(EXACT($P$10,P32)))=TRUE,$AJ$7,IF(($P$10-$O$10=P32-O32),$AJ$4,IF(OR(EXACT($O$10>$P$10,O32>P32)*EXACT($O$10=$P$10,O32=P32)*EXACT($O$10<$P$10,O32<P32)),$AJ$2,0))) -> 0 | R32: 2 | S32: 0 | T32: =IF(OR(EXACT($R$10,R32)*(EXACT($S$10,S32)))=TRUE,$AJ$7,IF(($S$10-$R$10=S32-R32),$AJ$4,IF(OR(EXACT($R$10>$S$10,R32>S32)*EXACT($R$10=$S$10,R32=S32)*EXACT($R$10<$S$10,R32<S32)),$AJ$2,0))) -> 0 | U32: 1 | V32: 2 | W32: =IF(OR(EXACT($U$10,U32)*(EXACT($V$10,V32)))=TRUE,$AJ$7,IF(($V$10-$U$10=V32-U32),$AJ$4,IF(OR(EXACT($U$10>$V$10,U32>V32)*EXACT($U$10=$V$10,U32=V32)*EXACT($U$10<$V$10,U32<V32)),$AJ$2,0))) -> 0 | X32: 1 | Y32: 3 | Z32: =IF(OR(EXACT($X$10,X32)*(EXACT($Y$10,Y32)))=TRUE,$AJ$7,IF(($Y$10-$X$10=Y32-X32),$AJ$4,IF(OR(EXACT($X$10>$Y$10,X32>Y32)*EXACT($X$10=$Y$10,X32=Y32)*EXACT($X$10<$Y$10,X32<Y32)),$AJ$2,0))) -> 0 | AA32: 3 | AB32: 1 | AC32: =IF(OR(EXACT($AA$10,AA32)*(EXACT($AB$10,AB32)))=TRUE,$AJ$7,IF(($AB$10-$AA$10=AB32-AA32),$AJ$4,IF(OR(EXACT($AA$10>$AB$10,AA32>AB32)*EXACT($AA$10=$AB$10,AA32=AB32)*EXACT($AA$10<$AB$10,AA32<AB32)),$AJ$2,0))) -> 2 | AG32: =E32+K32+Q32+T32+N32+H32+W32+Z32+AC32+AF32 -> 2 | AJ32: =AG32+AH32 -> 2 | AK32: =RANK(AJ32,$AJ$11:$AJ$32) -> 22
A33: =AK33 -> 0 | B33: schalt04
A34: =AK34 -> 0 | B34: Ricardo04

Sheet 2.Spieltag
C1: 2. Spieltag | AH1: PUNKTEVERTEILUNG
AH2: richtige Tendenz | AK2: 2
D4: Hannover | G4: Leverkusen | J4: Hoffenheim | M4: Augsburg | P4: Frankfurt | S4: Nürnberg | V4: Stuttgart | Y4: Leipzig | AB4: Schalke 04 | AH4: richtige Tendenz + | AK4: 3
AH5: korrekter Torab
D6: Dortmund | G6: Wolfsburg | J6: Freiburg | M6: Gladbach | P6: Bremen | S6: Mainz | V6: München | Y6: Düsseldorf | AB6: Berlin
AH7: richtiges Ergebnis | AK7: 5
AH8: G E S A M T W E R T U N G
AH9: Punkte | AI9: Punkte | AJ9: Platz | AK9: Gesamt | AL9: Platz
A10: PLATZ | B10: PLATZ | C10: ERGEBNISSE=> | D10: 0 | E10: 0 | F10: Pkt. | G10: 1 | H10: 3 | I10: Pkt. | J10: 3 | K10: 1 | L10: Pkt. | M10: 1 | N10: 1 | O10: Pkt. | P10: 1 | Q10: 2 | R10: Pkt. | S10: 1 | T10: 1 | U10: Pkt. | V10: 0 | W10: 3 | X10: Pkt. | Y10: 1 | Z10: 1 | AA10: Pkt. | AB10: 0 | AC10: 2 | AD10: Pkt. | AH10: Spieltag | AI10: bisher | AJ10: bisher | AK10: Punkte
A11: =AL11 -> 1 | B11: =AL11 -> 1 | C11: ='1.Spieltag'!B14 -> shiny | D11: 1 | E11: 3 | F11: =IF(OR(EXACT($D$10,D11)*(EXACT($E$10,E11)))=TRUE,$AK$7,IF(($E$10-$D$10=E11-D11),$AK$4,IF(OR(EXACT($D$10>$E$10,D11>E11)*EXACT($D$10=$E$10,D11=E11)*EXACT($D$10<$E$10,D11<E11)),$AK$2,0))) -> 0 | G11: 2 | H11: 0 | I11: =IF(OR(EXACT($G$10,G11)*(EXACT($H$10,H11)))=TRUE,$AK$7,IF(($H$10-$G$10=H11-G11),$AK$4,IF(OR(EXACT($G$10>$H$10,G11>H11)*EXACT($G$10=$H$10,G11=H11)*EXACT($G$10<$H$10,G11<H11)),$AK$2,0))) -> 0 | J11: 2 | K11: 0 | L11: =IF(OR(EXACT($J$10,J11)*(EXACT($K$10,K11)))=TRUE,$AK$7,IF(($K$10-$J$10=K11-J11),$AK$4,IF(OR(EXACT($J$10>$K$10,J11>K11)*EXACT($J$10=$K$10,J11=K11)*EXACT($J$10<$K$10,J11<K11)),$AK$2,0))) -> 3 | M11: 1 | N11: 1 | O11: =IF(OR(EXACT($M$10,M11)*(EXACT($N$10,N11)))=TRUE,$AK$7,IF(($N$10-$M$10=N11-M11),$AK$4,IF(OR(EXACT($M$10>$N$10,M11>N11)*EXACT($M$10=$N$10,M11=N11)*EXACT($M$10<$N$10,M11<N11)),$AK$2,0))) -> 5 | P11: 2 | Q11: 1 | R11: =IF(OR(EXACT($P$10,P11)*(EXACT($Q$10,Q11)))=TRUE,$AK$7,IF(($Q$10-$P$10=Q11-P11),$AK$4,IF(OR(EXACT($P$10>$Q$10,P11>Q11)*EXACT($P$10=$Q$10,P11=Q11)*EXACT($P$10<$Q$10,P11<Q11)),$AK$2,0))) -> 0 | S11: 1 | T11: 1 | U11: =IF(OR(EXACT($S$10,S11)*(EXACT($T$10,T11)))=TRUE,$AK$7,IF(($T$10-$S$10=T11-S11),$AK$4,IF(OR(EXACT($S$10>$T$10,S11>T11)*EXACT($S$10=$T$10,S11=T11)*EXACT($S$10<$T$10,S11<T11)),$AK$2,0))) -> 5 | V11: 1 | W11: 2 | X11: =IF(OR(EXACT($V$10,V11)*(EXACT($W$10,W11)))=TRUE,$AK$7,IF(($W$10-$V$10=W11-V11),$AK$4,IF(OR(EXACT($V$10>$W$10,V11>W11)*EXACT($V$10=$W$10,V11=W11)*EXACT($V$10<$W$10,V11<W11)),$AK$2,0))) -> 2 | Y11: 2 | Z11: 0 | AA11: =IF(OR(EXACT($Y$10,Y11)*(EXACT($Z$10,Z11)))=TRUE,$AK$7,IF(($Z$10-$Y$10=Z11-Y11),$AK$4,IF(OR(EXACT($Y$10>$Z$10,Y11>Z11)*EXACT($Y$10=$Z$10,Y11=Z11)*EXACT($Y$10<$Z$10,Y11<Z11)),$AK$2,0))) -> 0 | AB11: 2 | AC11: 0 | AD11: =IF(OR(EXACT($AB$10,AB11)*(EXACT($AC$10,AC11)))=TRUE,$AK$7,IF(($AC$10-$AB$10=AC11-AB11),$AK$4,IF(OR(EXACT($AB$10>$AC$10,AB11>AC11)*EXACT($AB$10=$AC$10,AB11=AC11)*EXACT($AB$10<$AC$10,AB11<AC11)),$AK$2,0)))*2*2 -> 0 | AH11: =AD11+L11+I11+AA11+X11+R11+O11+F11+U11+AG11 -> 15 | AI11: ='1.Spieltag'!AJ14 -> 14 | AJ11: ='1.Spieltag'!AK14 -> 4 | AK11: =AH11+AI11 -> 29 | AL11: =RANK(AK11,$AK$11:$AK$33) -> 1
A12: =AL12 -> 2 | B12: =AL12 -> 2 | C12: ='1.Spieltag'!B19 -> UltraGE | D12: 1 | E12: 1 | F12: =IF(OR(EXACT($D$10,D12)*(EXACT($E$10,E12)))=TRUE,$AK$7,IF(($E$10-$D$10=E12-D12),$AK$4,IF(OR(EXACT($D$10>$E$10,D12>E12)*EXACT($D$10=$E$10,D12=E12)*EXACT($D$10<$E$10,D12<E12)),$AK$2,0))) -> 3 | G12: 2 | H12: 0 | I12: =IF(OR(EXACT($G$10,G12)*(EXACT($H$10,H12)))=TRUE,$AK$7,IF(($H$10-$G$10=H12-G12),$AK$4,IF(OR(EXACT($G$10>$H$10,G12>H12)*EXACT($G$10=$H$10,G12=H12)*EXACT($G$10<$H$10,G12<H12)),$AK$2,0))) -> 0 | J12: 2 | K12: 0 | L12: =IF(OR(EXACT($J$10,J12)*(EXACT($K$10,K12)))=TRUE,$AK$7,IF(($K$10-$J$10=K12-J12),$AK$4,IF(OR(EXACT($J$10>$K$10,J12>K12)*EXACT($J$10=$K$10,J12=K12)*EXACT($J$10<$K$10,J12<K12)),$AK$2,0))) -> 3 | M12: 1 | N12: 2 | O12: =IF(OR(EXACT($M$10,M12)*(EXACT($N$10,N12)))=TRUE,$AK$7,IF(($N$10-$M$10=N12-M12),$AK$4,IF(OR(EXACT($M$10>$N$10,M12>N12)*EXACT($M$10=$N$10,M12=N12)*EXACT($M$10<$N$10,M12<N12)),$AK$2,0))) -> 0 | P12: 1 | Q12: 2 | R12: =IF(OR(EXACT($P$10,P12)*(EXACT($Q$10,Q12)))=TRUE,$AK$7,IF(($Q$10-$P$10=Q12-P12),$AK$4,IF(OR(EXACT($P$10>$Q$10,P12>Q12)*EXACT($P$10=$Q$10,P12=Q12)*EXACT($P$10<$Q$10,P12<Q12)),$AK$2,0))) -> 5 | S12: 2 | T12: 0 | U12: =IF(OR(EXACT($S$10,S12)*(EXACT($T$10,T12)))=TRUE,$AK$7,IF(($T$10-$S$10=T12-S12),$AK$4,IF(OR(EXACT($S$10>$T$10,S12>T12)*EXACT($S$10=$T$10,S12=T12)*EXACT($S$10<$T$10,S12<T12)),$AK$2,0))) -> 0 | V12: 0 | W12: 3 | X12: =IF(OR(EXACT($V$10,V12)*(EXACT($W$10,W12)))=TRUE,$AK$7,IF(($W$10-$V$10=W12-V12),$AK$4,IF(OR(EXACT($V$10>$W$10,V12>W12)*EXACT($V$10=$W$10,V12=W12)*EXACT($V$10<$W$10,V12<W12)),$AK$2,0))) -> 5 | Y12: 3 | Z12: 0 | AA12: =IF(OR(EXACT($Y$10,Y12)*(EXACT($Z$10,Z12)))=TRUE,$AK$7,IF(($Z$10-$Y$10=Z12-Y12),$AK$4,IF(OR(EXACT($Y$10>$Z$10,Y12>Z12)*EXACT($Y$10=$Z$10,Y12=Z12)*EXACT($Y$10<$Z$10,Y12<Z12)),$AK$2,0))) -> 0 | AB12: 3 | AC12: 0 | AD12: =IF(OR(EXACT($AB$10,AB12)*(EXACT($AC$10,AC12)))=TRUE,$AK$7,IF(($AC$10-$AB$10=AC12-AB12),$AK$4,IF(OR(EXACT($AB$10>$AC$10,AB12>AC12)*EXACT($AB$10=$AC$10,AB12=AC12)*EXACT($AB$10<$AC$10,AB12<AC12)),$AK$2,0)))*2*2 -> 0 | AH12: =AD12+L12+I12+AA12+X12+R12+O12+F12+U12+AG12 -> 16 | AI12: ='1.Spieltag'!AJ19 -> 9 | AJ12: ='1.Spieltag'!AK18 -> 8 | AK12: =AH12+AI12 -> 25 | AL12: =RANK(AK12,$AK$11:$AK$33) -> 2
A13: =AL13 -> 3 | B13: =AL13 -> 3 | C13: ='1.Spieltag'!B11 -> atschi91 | D13: 0 | E13: 2 | F13: =IF(OR(EXACT($D$10,D13)*(EXACT($E$10,E13)))=TRUE,$AK$7,IF(($E$10-$D$10=E13-D13),$AK$4,IF(OR(EXACT($D$10>$E$10,D13>E13)*EXACT($D$10=$E$10,D13=E13)*EXACT($D$10<$E$10,D13<E13)),$AK$2,0))) -> 0 | G13: 1 | H13: 0 | I13: =IF(OR(EXACT($G$10,G13)*(EXACT($H$10,H13)))=TRUE,$AK$7,IF(($H$10-$G$10=H13-G13),$AK$4,IF(OR(EXACT($G$10>$H$10,G13>H13)*EXACT($G$10=$H$10,G13=H13)*EXACT($G$10<$H$10,G13<H13)),$AK$2,0))) -> 0 | J13: 2 | K13: 1 | L13: =IF(OR(EXACT($J$10,J13)*(EXACT($K$10,K13)))=TRUE,$AK$7,IF(($K$10-$J$10=K13-J13),$AK$4,IF(OR(EXACT($J$10>$K$10,J13>K13)*EXACT($J$10=$K$10,J13=K13)*EXACT($J$10<$K$10,J13<K13)),$AK$2,0))) -> 2 | M13: 1 | N13: 0 | O13: =IF(OR(EXACT($M$10,M13)*(EXACT($N$10,N13)))=TRUE,$AK$7,IF(($N$10-$M$10=N13-M13),$AK$4,IF(OR(EXACT($M$10>$N$10,M13>N13)*EXACT($M$10=$N$10,M13=N13)*EXACT($M$10<$N$10,M13<N13)),$AK$2,0))) -> 0 | P13: 1 | Q13: 1 | R13: =IF(OR(EXACT($P$10,P13)*(EXACT($Q$10,Q13)))=TRUE,$AK$7,IF(($Q$10-$P$10=Q13-P13),$AK$4,IF(OR(EXACT($P$10>$Q$10,P13>Q13)*EXACT($P$10=$Q$10,P13=Q13)*EXACT($P$10<$Q$10,P13<Q13)),$AK$2,0))) -> 0 | S13: 1 | T13: 1 | U13: =IF(OR(EXACT($S$10,S13)*(EXACT($T$10,T13)))=TRUE,$AK$7,IF(($T$10-$S$10=T13-S13),$AK$4,IF(OR(EXACT($S$10>$T$10,S13>T13)*EXACT($S$10=$T$10,S13=T13)*EXACT($S$10<$T$10,S13<T13)),$AK$2,0))) -> 5 | V13: 1 | W13: 0 | X13: =IF(OR(EXACT($V$10,V13)*(EXACT($W$10,W13)))=TRUE,$AK$7,IF(($W$10-$V$10=W13-V13),$AK$4,IF(OR(EXACT($V$10>$W$10,V13>W13)*EXACT($V$10=$W$10,V13=W13)*EXACT($V$10<$W$10,V13<W13)),$AK$2,0))) -> 0 | Y13: 2 | Z13: 0 | AA13: =IF(OR(EXACT($Y$10,Y13)*(EXACT($Z$10,Z13)))=TRUE,$AK$7,IF(($Z$10-$Y$10=Z13-Y13),$AK$4,IF(OR(EXACT($Y$10>$Z$10,Y13>Z13)*EXACT($Y$10=$Z$10,Y13=Z13)*EXACT($Y$10<$Z$10,Y13<Z13)),$AK$2,0))) -> 0 | AB13: 3 | AC13: 0 | AD13: =IF(OR(EXACT($AB$10,AB13)*(EXACT($AC$10,AC13)))=TRUE,$AK$7,IF(($AC$10-$AB$10=AC13-AB13),$AK$4,IF(OR(EXACT($AB$10>$AC$10,AB13>AC13)*EXACT($AB$10=$AC$10,AB13=AC13)*EXACT($AB$10<$AC$10,AB13<AC13)),$AK$2,0)))*2*2 -> 0 | AH13: =AD13+L13+I13+AA13+X13+R13+O13+F13+U13+AG13 -> 7 | AI13: ='1.Spieltag'!AJ11 -> 17 | AJ13: ='1.Spieltag'!AK11 -> 1 | AK13: =AH13+AI13 -> 24 | AL13: =RANK(AK13,$AK$11:$AK$33) -> 3
A14: =AL14 -> 4 | B14: =AL14 -> 4 | C14: ='1.Spieltag'!B21 -> Jubby | D14: 0 | E14: 3 | F14: =IF(OR(EXACT($D$10,D14)*(EXACT($E$10,E14)))=TRUE,$AK$7,IF(($E$10-$D$10=E14-D14),$AK$4,IF(OR(EXACT($D$10>$E$10,D14>E14)*EXACT($D$10=$E$10,D14=E14)*EXACT($D$10<$E$10,D14<E14)),$AK$2,0))) -> 0 | G14: 2 | H14: 2 | I14: =IF(OR(EXACT($G$10,G14)*(EXACT($H$10,H14)))=TRUE,$AK$7,IF(($H$10-$G$10=H14-G14),$AK$4,IF(OR(EXACT($G$10>$H$10,G14>H14)*EXACT($G$10=$H$10,G14=H14)*EXACT($G$10<$H$10,G14<H14)),$AK$2,0))) -> 0 | J14: 3 | K14: 1 | L14: =IF(OR(EXACT($J$10,J14)*(EXACT($K$10,K14)))=TRUE,$AK$7,IF(($K$10-$J$10=K14-J14),$AK$4,IF(OR(EXACT($J$10>$K$10,J14>K14)*EXACT($J$10=$K$10,J14=K14)*EXACT($J$10<$K$10,J14<K14)),$AK$2,0))) -> 5 | M14: 1 | N14: 2 | O14: =IF(OR(EXACT($M$10,M14)*(EXACT($N$10,N14)))=TRUE,$AK$7,IF(($N$10-$M$10=N14-M14),$AK$4,IF(OR(EXACT($M$10>$N$10,M14>N14)*EXACT($M$10=$N$10,M14=N14)*EXACT($M$10<$N$10,M14<N14)),$AK$2,0))) -> 0 | P14: 1 | Q14: 2 | R14: =IF(OR(EXACT($P$10,P14)*(EXACT($Q$10,Q14)))=TRUE,$AK$7,IF(($Q$10-$P$10=Q14-P14),$AK$4,IF(OR(EXACT($P$10>$Q$10,P14>Q14)*EXACT($P$10=$Q$10,P14=Q14)*EXACT($P$10<$Q$10,P14<Q14)),$AK$2,0))) -> 5 | S14: 2 | T14: 2 | U14: =IF(OR(EXACT($S$10,S14)*(EXACT($T$10,T14)))=TRUE,$AK$7,IF(($T$10-$S$10=T14-S14),$AK$4,IF(OR(EXACT($S$10>$T$10,S14>T14)*EXACT($S$10=$T$10,S14=T14)*EXACT($S$10<$T$10,S14<T14)),$AK$2,0))) -> 3 | V14: 0 | W14: 4 | X14: =IF(OR(EXACT($V$10,V14)*(EXACT($W$10,W14)))=TRUE,$AK$7,IF(($W$10-$V$10=W14-V14),$AK$4,IF(OR(EXACT($V$10>$W$10,V14>W14)*EXACT($V$10=$W$10,V14=W14)*EXACT($V$10<$W$10,V14<W14)),$AK$2,0))) -> 2 | Y14: 2 | Z14: 0 | AA14: =IF(OR(EXACT($Y$10,Y14)*(EXACT($Z$10,Z14)))=TRUE,$AK$7,IF(($Z$10-$Y$10=Z14-Y14),$AK$4,IF(OR(EXACT($Y$10>$Z$10,Y14>Z14)*EXACT($Y$10=$Z$10,Y14=Z14)*EXACT($Y$10<$Z$10,Y14<Z14)),$AK$2,0))) -> 0 | AB14: 2 | AC14: 1 | AD14: =IF(OR(EXACT($AB$10,AB14)*(EXACT($AC$10,AC14)))=TRUE,$AK$7,IF(($AC$10-$AB$10=AC14-AB14),$AK$4,IF(OR(EXACT($AB$10>$AC$10,AB14>AC14)*EXACT($AB$10=$AC$10,AB14=AC14)*EXACT($AB$10<$AC$10,AB14<AC14)),$AK$2,0)))*2*2 -> 0 | AH14: =AD14+L14+I14+AA14+X14+R14+O14+F14+U14+AG14 -> 15 | AI14: ='1.Spieltag'!AJ21 -> 8 | AJ14: ='1.Spieltag'!AK22 -> 10 | AK14: =AH14+AI14 -> 23 | AL14: =RANK(AK14,$AK$11:$AK$33) -> 4
A15: =AL15 -> 5 | B15: =AL15 -> 5 | C15: ='1.Spieltag'!B29 -> Fabian1904 | D15: 0 | E15: 4 | F15: =IF(OR(EXACT($D$10,D15)*(EXACT($E$10,E15)))=TRUE,$AK$7,IF(($E$10-$D$10=E15-D15),$AK$4,IF(OR(EXACT($D$10>$E$10,D15>E15)*EXACT($D$10=$E$10,D15=E15)*EXACT($D$10<$E$10,D15<E15)),$AK$2,0))) -> 0 | G15: 1 | H15: 0 | I15: =IF(OR(EXACT($G$10,G15)*(EXACT($H$10,H15)))=TRUE,$AK$7,IF(($H$10-$G$10=H15-G15),$AK$4,IF(OR(EXACT($G$10>$H$10,G15>H15)*EXACT($G$10=$H$10,G15=H15)*EXACT($G$10<$H$10,G15<H15)),$AK$2,0))) -> 0 | J15: 2 | K15: 0 | L15: =IF(OR(EXACT($J$10,J15)*(EXACT($K$10,K15)))=TRUE,$AK$7,IF(($K$10-$J$10=K15-J15),$AK$4,IF(OR(EXACT($J$10>$K$10,J15>K15)*EXACT($J$10=$K$10,J15=K15)*EXACT($J$10<$K$10,J15<K15)),$AK$2,0))) -> 3 | M15: 1 | N15: 3 | O15: =IF(OR(EXACT($M$10,M15)*(EXACT($N$10,N15)))=TRUE,$AK$7,IF(($N$10-$M$10=N15-M15),$AK$4,IF(OR(EXACT($M$10>$N$10,M15>N15)*EXACT($M$10=$N$10,M15=N15)*EXACT($M$10<$N$10,M15<N15)),$AK$2,0))) -> 0 | P15: 0 | Q15: 2 | R15: =IF(OR(EXACT($P$10,P15)*(EXACT($Q$10,Q15)))=TRUE,$AK$7,IF(($Q$10-$P$10=Q15-P15),$AK$4,IF(OR(EXACT($P$10>$Q$10,P15>Q15)*EXACT($P$10=$Q$10,P15=Q15)*EXACT($P$10<$Q$10,P15<Q15)),$AK$2,0))) -> 2 | S15: 1 | T15: 2 | U15: =IF(OR(EXACT($S$10,S15)*(EXACT($T$10,T15)))=TRUE,$AK$7,IF(($T$10-$S$10=T15-S15),$AK$4,IF(OR(EXACT($S$10>$T$10,S15>T15)*EXACT($S$10=$T$10,S15=T15)*EXACT($S$10<$T$10,S15<T15)),$AK$2,0))) -> 0 | V15: 0 | W15: 3 | X15: =IF(OR(EXACT($V$10,V15)*(EXACT($W$10,W15)))=TRUE,$AK$7,IF(($W$10-$V$10=W15-V15),$AK$4,IF(OR(EXACT($V$10>$W$10,V15>W15)*EXACT($V$10=$W$10,V15=W15)*EXACT($V$10<$W$10,V15<W15)),$AK$2,0))) -> 5 | Y15: 1 | Z15: 1 | AA15: =IF(OR(EXACT($Y$10,Y15)*(EXACT($Z$10,Z15)))=TRUE,$AK$7,IF(($Z$10-$Y$10=Z15-Y15),$AK$4,IF(OR(EXACT($Y$10>$Z$10,Y15>Z15)*EXACT($Y$10=$Z$10,Y15=Z15)*EXACT($Y$10<$Z$10,Y15<Z15)),$AK$2,0))) -> 5 | AB15: 2 | AC15: 0 | AD15: =IF(OR(EXACT($AB$10,AB15)*(EXACT($AC$10,AC15)))=TRUE,$AK$7,IF(($AC$10-$AB$10=AC15-AB15),$AK$4,IF(OR(EXACT($AB$10>$AC$10,AB15>AC15)*EXACT($AB$10=$AC$10,AB15=AC15)*EXACT($AB$10<$AC$10,AB15<AC15)),$AK$2,0)))*2*2 -> 0 | AH15: =AD15+I15+X15+R15+AA15+L15+O15+F15+U15+AG15 -> 15 | AI15: ='1.Spieltag'!AJ29 -> 5 | AJ15: ='1.Spieltag'!AK29 -> 19 | AK15: =AH15+AI15 -> 20 | AL15: =RANK(AK15,$AK$11:$AK$33) -> 5
A16: =AL16 -> 5 | B16: =AL16 -> 5 | C16: ='1.Spieltag'!B17 -> schalke-willi | D16: 1 | E16: 3 | F16: =IF(OR(EXACT($D$10,D16)*(EXACT($E$10,E16)))=TRUE,$AK$7,IF(($E$10-$D$10=E16-D16),$AK$4,IF(OR(EXACT($D$10>$E$10,D16>E16)*EXACT($D$10=$E$10,D16=E16)*EXACT($D$10<$E$10,D16<E16)),$AK$2,0))) -> 0 | G16: 2 | H16: 0 | I16: =IF(OR(EXACT($G$10,G16)*(EXACT($H$10,H16)))=TRUE,$AK$7,IF(($H$10-$G$10=H16-G16),$AK$4,IF(OR(EXACT($G$10>$H$10,G16>H16)*EXACT($G$10=$H$10,G16=H16)*EXACT($G$10<$H$10,G16<H16)),$AK$2,0))) -> 0 | J16: 3 | K16: 1 | L16: =IF(OR(EXACT($J$10,J16)*(EXACT($K$10,K16)))=TRUE,$AK$7,IF(($K$10-$J$10=K16-J16),$AK$4,IF(OR(EXACT($J$10>$K$10,J16>K16)*EXACT($J$10=$K$10,J16=K16)*EXACT($J$10<$K$10,J16<K16)),$AK$2,0))) -> 5 | M16: 2 | N16: 1 | O16: =IF(OR(EXACT($M$10,M16)*(EXACT($N$10,N16)))=TRUE,$AK$7,IF(($N$10-$M$10=N16-M16),$AK$4,IF(OR(EXACT($M$10>$N$10,M16>N16)*EXACT($M$10=$N$10,M16=N16)*EXACT($M$10<$N$10,M16<N16)),$AK$2,0))) -> 0 | P16: 1 | Q16: 1 | R16: =IF(OR(EXACT($P$10,P16)*(EXACT($Q$10,Q16)))=TRUE,$AK$7,IF(($Q$10-$P$10=Q16-P16),$AK$4,IF(OR(EXACT($P$10>$Q$10,P16>Q16)*EXACT($P$10=$Q$10,P16=Q16)*EXACT($P$10<$Q$10,P16<Q16)),$AK$2,0))) -> 0 | S16: 1 | T16: 1 | U16: =IF(OR(EXACT($S$10,S16)*(EXACT($T$10,T16)))=TRUE,$AK$7,IF(($T$10-$S$10=T16-S16),$AK$4,IF(OR(EXACT($S$10>$T$10,S16>T16)*EXACT($S$10=$T$10,S16=T16)*EXACT($S$10<$T$10,S16<T16)),$AK$2,0))) -> 5 | V16: 2 | W16: 2 | X16: =IF(OR(EXACT($V$10,V16)*(EXACT($W$10,W16)))=TRUE,$AK$7,IF(($W$10-$V$10=W16-V16),$AK$4,IF(OR(EXACT($V$10>$W$10,V16>W16)*EXACT($V$10=$W$10,V16=W16)*EXACT($V$10<$W$10,V16<W16)),$AK$2,0))) -> 0 | Y16: 4 | Z16: 0 | AA16: =IF(OR(EXACT($Y$10,Y16)*(EXACT($Z$10,Z16)))=TRUE,$AK$7,IF(($Z$10-$Y$10=Z16-Y16),$AK$4,IF(OR(EXACT($Y$10>$Z$10,Y16>Z16)*EXACT($Y$10=$Z$10,Y16=Z16)*EXACT($Y$10<$Z$10,Y16<Z16)),$AK$2,0))) -> 0 | AB16: 4 | AC16: 1 | AD16: =IF(OR(EXACT($AB$10,AB16)*(EXACT($AC$10,AC16)))=TRUE,$AK$7,IF(($AC$10-$AB$10=AC16-AB16),$AK$4,IF(OR(EXACT($AB$10>$AC$10,AB16>AC16)*EXACT($AB$10=$AC$10,AB16=AC16)*EXACT($AB$10<$AC$10,AB16<AC16)),$AK$2,0)))*2*2 -> 0 | AH16: =AD16+L16+I16+AA16+X16+R16+O16+F16+U16+AG16 -> 10 | AI16: ='1.Spieltag'!AJ17 -> 10 | AJ16: ='1.Spieltag'!AK17 -> 7 | AK16: =AH16+AI16 -> 20 | AL16: =RANK(AK16,$AK$11:$AK$33) -> 5
A17: =AL17 -> 7 | B17: =AL17 -> 7 | C17: ='1.Spieltag'!B31 -> Hans 04 | D17: 1 | E17: 3 | F17: =IF(OR(EXACT($D$10,D17)*(EXACT($E$10,E17)))=TRUE,$AK$7,IF(($E$10-$D$10=E17-D17),$AK$4,IF(OR(EXACT($D$10>$E$10,D17>E17)*EXACT($D$10=$E$10,D17=E17)*EXACT($D$10<$E$10,D17<E17)),$AK$2,0))) -> 0 | G17: 2 | H17: 1 | I17: =IF(OR(EXACT($G$10,G17)*(EXACT($H$10,H17)))=TRUE,$AK$7,IF(($H$10-$G$10=H17-G17),$AK$4,IF(OR(EXACT($G$10>$H$10,G17>H17)*EXACT($G$10=$H$10,G17=H17)*EXACT($G$10<$H$10,G17<H17)),$AK$2,0))) -> 0 | J17: 3 | K17: 1 | L17: =IF(OR(EXACT($J$10,J17)*(EXACT($K$10,K17)))=TRUE,$AK$7,IF(($K$10-$J$10=K17-J17),$AK$4,IF(OR(EXACT($J$10>$K$10,J17>K17)*EXACT($J$10=$K$10,J17=K17)*EXACT($J$10<$K$10,J17<K17)),$AK$2,0))) -> 5 | M17: 1 | N17: 2 | O17: =IF(OR(EXACT($M$10,M17)*(EXACT($N$10,N17)))=TRUE,$AK$7,IF(($N$10-$M$10=N17-M17),$AK$4,IF(OR(EXACT($M$10>$N$10,M17>N17)*EXACT($M$10=$N$10,M17=N17)*EXACT($M$10<$N$10,M17<N17)),$AK$2,0))) -> 0 | P17: 2 | Q17: 2 | R17: =IF(OR(EXACT($P$10,P17)*(EXACT($Q$10,Q17)))=TRUE,$AK$7,IF(($Q$10-$P$10=Q17-P17),$AK$4,IF(OR(EXACT($P$10>$Q$10,P17>Q17)*EXACT($P$10=$Q$10,P17=Q17)*EXACT($P$10<$Q$10,P17<Q17)),$AK$2,0))) -> 0 | S17: 1 | T17: 1 | U17: =IF(OR(EXACT($S$10,S17)*(EXACT($T$10,T17)))=TRUE,$AK$7,IF(($T$10-$S$10=T17-S17),$AK$4,IF(OR(EXACT($S$10>$T$10,S17>T17)*EXACT($S$10=$T$10,S17=T17)*EXACT($S$10<$T$10,S17<T17)),$AK$2,0))) -> 5 | V17: 0 | W17: 3 | X17: =IF(OR(EXACT($V$10,V17)*(EXACT($W$10,W17)))=TRUE,$AK$7,IF(($W$10-$V$10=W17-V17),$AK$4,IF(OR(EXACT($V$10>$W$10,V17>W17)*EXACT($V$10=$W$10,V17=W17)*EXACT($V$10<$W$10,V17<W17)),$AK$2,0))) -> 5 | Y17: 2 | Z17: 0 | AA17: =IF(OR(EXACT($Y$10,Y17)*(EXACT($Z$10,Z17)))=TRUE,$AK$7,IF(($Z$10-$Y$10=Z17-Y17),$AK$4,IF(OR(EXACT($Y$10>$Z$10,Y17>Z17)*EXACT($Y$10=$Z$10,Y17=Z17)*EXACT($Y$10<$Z$10,Y17<Z17)),$AK$2,0))) -> 0 | AB17: 3 | AC17: 1 | AD17: =IF(OR(EXACT($AB$10,AB17)*(EXACT($AC$10,AC17)))=TRUE,$AK$7,IF(($AC$10-$AB$10=AC17-AB17),$AK$4,IF(OR(EXACT($AB$10>$AC$10,AB17>AC17)*EXACT($AB$10=$AC$10,AB17=AC17)*EXACT($AB$10<$AC$10,AB17<AC17)),$AK$2,0)))*2*2 -> 0 | AH17: =AD17+I17+X17+R17+AA17+L17+O17+F17+U17+AG17 -> 15 | AI17: ='1.Spieltag'!AJ31 -> 4 | AJ17: ='1.Spieltag'!AK31 -> 21 | AK17: =AH17+AI17 -> 19 | AL17: =RANK(AK17,$AK$11:$AK$33) -> 7
