Workbook

Sheet 1.Spieltag
A4: 1. Spieltag | C4: Schalke 04 | F4: Bremen | I4: Darmstadt | L4: Heidenheim | O4: St. Pauli | R4: Nürnberg | U4: Sandhausen | X4: Dresden | AA4: Rostock
AG5: G E S A M T W E R T U N G
C6: Hamburg | F6: Hannover | I6: Regensburg | L6: Paderborn | O6: Kiel | R6: Aue | U6: Düsseldorf | X6: Ingolstadt | AA6: Karlsruhe | AG6: Punkte | AH6: Punkte | AI6: Platz | AJ6: Gesamt | AK6: Platz | AL6: PUNKTEVERTEILUNG
A7: PLATZ | B7: ERGEBNISSE=> | C7: 1 | D7: 3 | E7: Pkt. | F7: 1 | G7: 1 | H7: Pkt. | I7: 0 | J7: 2 | K7: Pkt. | L7: 0 | M7: 0 | N7: Pkt. | O7: 3 | P7: 0 | Q7: Pkt. | R7: 0 | S7: 0 | T7: Pkt. | U7: 0 | V7: 2 | W7: Pkt. | X7: 3 | Y7: 0 | Z7: Pkt. | AA7: 1 | AB7: 3 | AC7: Pkt. | AG7: Spieltag | AH7: bisher | AI7: bisher | AJ7: Punkte | AL7: richtige Tendenz | AO7: 2
A8: =AK8 -> 7 | B8: Franzi04 | C8: 2 | D8: 1 | E8: =IF(OR(EXACT($C$7,C8)*(EXACT($D$7,D8)))=TRUE,$AO$9,IF(($D$7-$C$7=D8-C8),$AO$8,IF(OR(EXACT($C$7>$D$7,C8>D8)*EXACT($C$7=$D$7,C8=D8)*EXACT($C$7<$D$7,C8<D8)),$AO$7,0))) -> 0 | F8: 2 | G8: 1 | H8: =IF(OR(EXACT($F$7,F8)*(EXACT($G$7,G8)))=TRUE,$AO$9,IF(($G$7-$F$7=G8-F8),$AO$8,IF(OR(EXACT($F$7>$G$7,F8>G8)*EXACT($F$7=$G$7,F8=G8)*EXACT($F$7<$G$7,F8<G8)),$AO$7,0))) -> 0 | I8: 2 | J8: 1 | K8: =IF(OR(EXACT($I$7,I8)*(EXACT($J$7,J8)))=TRUE,$AO$9,IF(($J$7-$I$7=J8-I8),$AO$8,IF(OR(EXACT($I$7>$J$7,I8>J8)*EXACT($I$7=$J$7,I8=J8)*EXACT($I$7<$J$7,I8<J8)),$AO$7,0))) -> 0 | L8: 2 | M8: 1 | N8: =IF(OR(EXACT($L$7,L8)*(EXACT($M$7,M8)))=TRUE,$AO$9,IF(($M$7-$L$7=M8-L8),$AO$8,IF(OR(EXACT($L$7>$M$7,L8>M8)*EXACT($L$7=$M$7,L8=M8)*EXACT($L$7<$M$7,L8<M8)),$AO$7,0))) -> 0 | O8: 2 | P8: 2 | Q8: =IF(OR(EXACT($O$7,O8)*(EXACT($P$7,P8)))=TRUE,$AO$9,IF(($P$7-$O$7=P8-O8),$AO$8,IF(OR(EXACT($O$7>$P$7,O8>P8)*EXACT($O$7=$P$7,O8=P8)*EXACT($O$7<$P$7,O8<P8)),$AO$7,0))) -> 0 | R8: 3 | S8: 1 | T8: =IF(OR(EXACT($R$7,R8)*(EXACT($S$7,S8)))=TRUE,$AO$9,IF(($S$7-$R$7=S8-R8),$AO$8,IF(OR(EXACT($R$7>$S$7,R8>S8)*EXACT($R$7=$S$7,R8=S8)*EXACT($R$7<$S$7,R8<S8)),$AO$7,0))) -> 0 | U8: 1 | V8: 2 | W8: =IF(OR(EXACT($U$7,U8)*(EXACT($V$7,V8)))=TRUE,$AO$9,IF(($V$7-$U$7=V8-U8),$AO$8,IF(OR(EXACT($U$7>$V$7,U8>V8)*EXACT($U$7=$V$7,U8=V8)*EXACT($U$7<$V$7,U8<V8)),$AO$7,0))) -> 2 | X8: 1 | Y8: 2 | Z8: =IF(OR(EXACT($X$7,X8)*(EXACT($Y$7,Y8)))=TRUE,$AO$9,IF(($Y$7-$X$7=Y8-X8),$AO$8,IF(OR(EXACT($X$7>$Y$7,X8>Y8)*EXACT($X$7=$Y$7,X8=Y8)*EXACT($X$7<$Y$7,X8<Y8)),$AO$7,0))) -> 0 | AA8: 2 | AB8: 1 | AC8: =IF(OR(EXACT($AA$7,AA8)*(EXACT($AB$7,AB8)))=TRUE,$AO$9,IF(($AB$7-$AA$7=AB8-AA8),$AO$8,IF(OR(EXACT($AA$7>$AB$7,AA8>AB8)*EXACT($AA$7=$AB$7,AA8=AB8)*EXACT($AA$7<$AB$7,AA8<AB8)),$AO$7,0))) -> 0 | AG8: =E8+K8+Q8+T8+N8+H8+W8+Z8+AC8+AF8 -> 2 | AJ8: =AG8+AH8 -> 2 | AK8: =RANK(AJ8,$AJ$8:$AJ$27) -> 7 | AL8: richtige Tend. + korr. Torabst. | AO8: 3
A9: =AK9 -> 7 | B9: jupp04 | C9: 2 | D9: 1 | E9: =IF(OR(EXACT($C$7,C9)*(EXACT($D$7,D9)))=TRUE,$AO$9,IF(($D$7-$C$7=D9-C9),$AO$8,IF(OR(EXACT($C$7>$D$7,C9>D9)*EXACT($C$7=$D$7,C9=D9)*EXACT($C$7<$D$7,C9<D9)),$AO$7,0))) -> 0 | F9: 2 | G9: 1 | H9: =IF(OR(EXACT($F$7,F9)*(EXACT($G$7,G9)))=TRUE,$AO$9,IF(($G$7-$F$7=G9-F9),$AO$8,IF(OR(EXACT($F$7>$G$7,F9>G9)*EXACT($F$7=$G$7,F9=G9)*EXACT($F$7<$G$7,F9<G9)),$AO$7,0))) -> 0 | I9: 2 | J9: 1 | K9: =IF(OR(EXACT($I$7,I9)*(EXACT($J$7,J9)))=TRUE,$AO$9,IF(($J$7-$I$7=J9-I9),$AO$8,IF(OR(EXACT($I$7>$J$7,I9>J9)*EXACT($I$7=$J$7,I9=J9)*EXACT($I$7<$J$7,I9<J9)),$AO$7,0))) -> 0 | L9: 1 | M9: 2 | N9: =IF(OR(EXACT($L$7,L9)*(EXACT($M$7,M9)))=TRUE,$AO$9,IF(($M$7-$L$7=M9-L9),$AO$8,IF(OR(EXACT($L$7>$M$7,L9>M9)*EXACT($L$7=$M$7,L9=M9)*EXACT($L$7<$M$7,L9<M9)),$AO$7,0))) -> 0 | O9: 1 | P9: 2 | Q9: =IF(OR(EXACT($O$7,O9)*(EXACT($P$7,P9)))=TRUE,$AO$9,IF(($P$7-$O$7=P9-O9),$AO$8,IF(OR(EXACT($O$7>$P$7,O9>P9)*EXACT($O$7=$P$7,O9=P9)*EXACT($O$7<$P$7,O9<P9)),$AO$7,0))) -> 0 | R9: 2 | S9: 1 | T9: =IF(OR(EXACT($R$7,R9)*(EXACT($S$7,S9)))=TRUE,$AO$9,IF(($S$7-$R$7=S9-R9),$AO$8,IF(OR(EXACT($R$7>$S$7,R9>S9)*EXACT($R$7=$S$7,R9=S9)*EXACT($R$7<$S$7,R9<S9)),$AO$7,0))) -> 0 | U9: 1 | V9: 2 | W9: =IF(OR(EXACT($U$7,U9)*(EXACT($V$7,V9)))=TRUE,$AO$9,IF(($V$7-$U$7=V9-U9),$AO$8,IF(OR(EXACT($U$7>$V$7,U9>V9)*EXACT($U$7=$V$7,U9=V9)*EXACT($U$7<$V$7,U9<V9)),$AO$7,0))) -> 2 | X9: 2 | Y9: 2 | Z9: =IF(OR(EXACT($X$7,X9)*(EXACT($Y$7,Y9)))=TRUE,$AO$9,IF(($Y$7-$X$7=Y9-X9),$AO$8,IF(OR(EXACT($X$7>$Y$7,X9>Y9)*EXACT($X$7=$Y$7,X9=Y9)*EXACT($X$7<$Y$7,X9<Y9)),$AO$7,0))) -> 0 | AA9: 1 | AB9: 1 | AC9: =IF(OR(EXACT($AA$7,AA9)*(EXACT($AB$7,AB9)))=TRUE,$AO$9,IF(($AB$7-$AA$7=AB9-AA9),$AO$8,IF(OR(EXACT($AA$7>$AB$7,AA9>AB9)*EXACT($AA$7=$AB$7,AA9=AB9)*EXACT($AA$7<$AB$7,AA9<AB9)),$AO$7,0))) -> 0 | AG9: =E9+K9+Q9+T9+N9+H9+W9+Z9+AC9+AF9 -> 2 | AJ9: =AG9+AH9 -> 2 | AK9: =RANK(AJ9,$AJ$8:$AJ$27) -> 7 | AL9: richtiges Ergebnis | AO9: 5
A10: =AK10 -> 7 | B10: Master1 | C10: 3 | D10: 2 | E10: =IF(OR(EXACT($C$7,C10)*(EXACT($D$7,D10)))=TRUE,$AO$9,IF(($D$7-$C$7=D10-C10),$AO$8,IF(OR(EXACT($C$7>$D$7,C10>D10)*EXACT($C$7=$D$7,C10=D10)*EXACT($C$7<$D$7,C10<D10)),$AO$7,0))) -> 0 | F10: 2 | G10: 1 | H10: =IF(OR(EXACT($F$7,F10)*(EXACT($G$7,G10)))=TRUE,$AO$9,IF(($G$7-$F$7=G10-F10),$AO$8,IF(OR(EXACT($F$7>$G$7,F10>G10)*EXACT($F$7=$G$7,F10=G10)*EXACT($F$7<$G$7,F10<G10)),$AO$7,0))) -> 0 | I10: 1 | J10: 1 | K10: =IF(OR(EXACT($I$7,I10)*(EXACT($J$7,J10)))=TRUE,$AO$9,IF(($J$7-$I$7=J10-I10),$AO$8,IF(OR(EXACT($I$7>$J$7,I10>J10)*EXACT($I$7=$J$7,I10=J10)*EXACT($I$7<$J$7,I10<J10)),$AO$7,0))) -> 0 | L10: 2 | M10: 1 | N10: =IF(OR(EXACT($L$7,L10)*(EXACT($M$7,M10)))=TRUE,$AO$9,IF(($M$7-$L$7=M10-L10),$AO$8,IF(OR(EXACT($L$7>$M$7,L10>M10)*EXACT($L$7=$M$7,L10=M10)*EXACT($L$7<$M$7,L10<M10)),$AO$7,0))) -> 0 | O10: 1 | P10: 2 | Q10: =IF(OR(EXACT($O$7,O10)*(EXACT($P$7,P10)))=TRUE,$AO$9,IF(($P$7-$O$7=P10-O10),$AO$8,IF(OR(EXACT($O$7>$P$7,O10>P10)*EXACT($O$7=$P$7,O10=P10)*EXACT($O$7<$P$7,O10<P10)),$AO$7,0))) -> 0 | R10: 3 | S10: 1 | T10: =IF(OR(EXACT($R$7,R10)*(EXACT($S$7,S10)))=TRUE,$AO$9,IF(($S$7-$R$7=S10-R10),$AO$8,IF(OR(EXACT($R$7>$S$7,R10>S10)*EXACT($R$7=$S$7,R10=S10)*EXACT($R$7<$S$7,R10<S10)),$AO$7,0))) -> 0 | U10: 1 | V10: 1 | W10: =IF(OR(EXACT($U$7,U10)*(EXACT($V$7,V10)))=TRUE,$AO$9,IF(($V$7-$U$7=V10-U10),$AO$8,IF(OR(EXACT($U$7>$V$7,U10>V10)*EXACT($U$7=$V$7,U10=V10)*EXACT($U$7<$V$7,U10<V10)),$AO$7,0))) -> 0 | X10: 2 | Y10: 1 | Z10: =IF(OR(EXACT($X$7,X10)*(EXACT($Y$7,Y10)))=TRUE,$AO$9,IF(($Y$7-$X$7=Y10-X10),$AO$8,IF(OR(EXACT($X$7>$Y$7,X10>Y10)*EXACT($X$7=$Y$7,X10=Y10)*EXACT($X$7<$Y$7,X10<Y10)),$AO$7,0))) -> 2 | AA10: 3 | AB10: 2 | AC10: =IF(OR(EXACT($AA$7,AA10)*(EXACT($AB$7,AB10)))=TRUE,$AO$9,IF(($AB$7-$AA$7=AB10-AA10),$AO$8,IF(OR(EXACT($AA$7>$AB$7,AA10>AB10)*EXACT($AA$7=$AB$7,AA10=AB10)*EXACT($AA$7<$AB$7,AA10<AB10)),$AO$7,0))) -> 0 | AG10: =E10+K10+Q10+T10+N10+H10+W10+Z10+AC10+AF10 -> 2 | AJ10: =AG10+AH10 -> 2 | AK10: =RANK(AJ10,$AJ$8:$AJ$27) -> 7
A11: =AK11 -> 4 | B11: Mike04 | C11: 2 | D11: 0 | E11: =IF(OR(EXACT($C$7,C11)*(EXACT($D$7,D11)))=TRUE,$AO$9,IF(($D$7-$C$7=D11-C11),$AO$8,IF(OR(EXACT($C$7>$D$7,C11>D11)*EXACT($C$7=$D$7,C11=D11)*EXACT($C$7<$D$7,C11<D11)),$AO$7,0))) -> 0 | F11: 1 | G11: 2 | H11: =IF(OR(EXACT($F$7,F11)*(EXACT($G$7,G11)))=TRUE,$AO$9,IF(($G$7-$F$7=G11-F11),$AO$8,IF(OR(EXACT($F$7>$G$7,F11>G11)*EXACT($F$7=$G$7,F11=G11)*EXACT($F$7<$G$7,F11<G11)),$AO$7,0))) -> 0 | I11: 2 | J11: 0 | K11: =IF(OR(EXACT($I$7,I11)*(EXACT($J$7,J11)))=TRUE,$AO$9,IF(($J$7-$I$7=J11-I11),$AO$8,IF(OR(EXACT($I$7>$J$7,I11>J11)*EXACT($I$7=$J$7,I11=J11)*EXACT($I$7<$J$7,I11<J11)),$AO$7,0))) -> 0 | L11: 2 | M11: 1 | N11: =IF(OR(EXACT($L$7,L11)*(EXACT($M$7,M11)))=TRUE,$AO$9,IF(($M$7-$L$7=M11-L11),$AO$8,IF(OR(EXACT($L$7>$M$7,L11>M11)*EXACT($L$7=$M$7,L11=M11)*EXACT($L$7<$M$7,L11<M11)),$AO$7,0))) -> 0 | O11: 1 | P11: 1 | Q11: =IF(OR(EXACT($O$7,O11)*(EXACT($P$7,P11)))=TRUE,$AO$9,IF(($P$7-$O$7=P11-O11),$AO$8,IF(OR(EXACT($O$7>$P$7,O11>P11)*EXACT($O$7=$P$7,O11=P11)*EXACT($O$7<$P$7,O11<P11)),$AO$7,0))) -> 0 | R11: 2 | S11: 0 | T11: =IF(OR(EXACT($R$7,R11)*(EXACT($S$7,S11)))=TRUE,$AO$9,IF(($S$7-$R$7=S11-R11),$AO$8,IF(OR(EXACT($R$7>$S$7,R11>S11)*EXACT($R$7=$S$7,R11=S11)*EXACT($R$7<$S$7,R11<S11)),$AO$7,0))) -> 0 | U11: 0 | V11: 2 | W11: =IF(OR(EXACT($U$7,U11)*(EXACT($V$7,V11)))=TRUE,$AO$9,IF(($V$7-$U$7=V11-U11),$AO$8,IF(OR(EXACT($U$7>$V$7,U11>V11)*EXACT($U$7=$V$7,U11=V11)*EXACT($U$7<$V$7,U11<V11)),$AO$7,0))) -> 5 | X11: 2 | Y11: 0 | Z11: =IF(OR(EXACT($X$7,X11)*(EXACT($Y$7,Y11)))=TRUE,$AO$9,IF(($Y$7-$X$7=Y11-X11),$AO$8,IF(OR(EXACT($X$7>$Y$7,X11>Y11)*EXACT($X$7=$Y$7,X11=Y11)*EXACT($X$7<$Y$7,X11<Y11)),$AO$7,0))) -> 2 | AA11: 2 | AB11: 1 | AC11: =IF(OR(EXACT($AA$7,AA11)*(EXACT($AB$7,AB11)))=TRUE,$AO$9,IF(($AB$7-$AA$7=AB11-AA11),$AO$8,IF(OR(EXACT($AA$7>$AB$7,AA11>AB11)*EXACT($AA$7=$AB$7,AA11=AB11)*EXACT($AA$7<$AB$7,AA11<AB11)),$AO$7,0))) -> 0 | AG11: =E11+K11+Q11+T11+N11+H11+W11+Z11+AC11+AF11 -> 7 | AJ11: =AG11+AH11 -> 7 | AK11: =RANK(AJ11,$AJ$8:$AJ$27) -> 4
A12: =AK12 -> 1 | B12: Reinhold | C12: 3 | D12: 1 | E12: =IF(OR(EXACT($C$7,C12)*(EXACT($D$7,D12)))=TRUE,$AO$9,IF(($D$7-$C$7=D12-C12),$AO$8,IF(OR(EXACT($C$7>$D$7,C12>D12)*EXACT($C$7=$D$7,C12=D12)*EXACT($C$7<$D$7,C12<D12)),$AO$7,0))) -> 0 | F12: 2 | G12: 2 | H12: =IF(OR(EXACT($F$7,F12)*(EXACT($G$7,G12)))=TRUE,$AO$9,IF(($G$7-$F$7=G12-F12),$AO$8,IF(OR(EXACT($F$7>$G$7,F12>G12)*EXACT($F$7=$G$7,F12=G12)*EXACT($F$7<$G$7,F12<G12)),$AO$7,0))) -> 3 | I12: 1 | J12: 0 | K12: =IF(OR(EXACT($I$7,I12)*(EXACT($J$7,J12)))=TRUE,$AO$9,IF(($J$7-$I$7=J12-I12),$AO$8,IF(OR(EXACT($I$7>$J$7,I12>J12)*EXACT($I$7=$J$7,I12=J12)*EXACT($I$7<$J$7,I12<J12)),$AO$7,0))) -> 0 | L12: 3 | M12: 2 | N12: =IF(OR(EXACT($L$7,L12)*(EXACT($M$7,M12)))=TRUE,$AO$9,IF(($M$7-$L$7=M12-L12),$AO$8,IF(OR(EXACT($L$7>$M$7,L12>M12)*EXACT($L$7=$M$7,L12=M12)*EXACT($L$7<$M$7,L12<M12)),$AO$7,0))) -> 0 | O12: 1 | P12: 0 | Q12: =IF(OR(EXACT($O$7,O12)*(EXACT($P$7,P12)))=TRUE,$AO$9,IF(($P$7-$O$7=P12-O12),$AO$8,IF(OR(EXACT($O$7>$P$7,O12>P12)*EXACT($O$7=$P$7,O12=P12)*EXACT($O$7<$P$7,O12<P12)),$AO$7,0))) -> 2 | R12: 2 | S12: 0 | T12: =IF(OR(EXACT($R$7,R12)*(EXACT($S$7,S12)))=TRUE,$AO$9,IF(($S$7-$R$7=S12-R12),$AO$8,IF(OR(EXACT($R$7>$S$7,R12>S12)*EXACT($R$7=$S$7,R12=S12)*EXACT($R$7<$S$7,R12<S12)),$AO$7,0))) -> 0 | U12: 1 | V12: 3 | W12: =IF(OR(EXACT($U$7,U12)*(EXACT($V$7,V12)))=TRUE,$AO$9,IF(($V$7-$U$7=V12-U12),$AO$8,IF(OR(EXACT($U$7>$V$7,U12>V12)*EXACT($U$7=$V$7,U12=V12)*EXACT($U$7<$V$7,U12<V12)),$AO$7,0))) -> 3 | X12: 2 | Y12: 0 | Z12: =IF(OR(EXACT($X$7,X12)*(EXACT($Y$7,Y12)))=TRUE,$AO$9,IF(($Y$7-$X$7=Y12-X12),#REF!,IF(OR(EXACT($X$7>$Y$7,X12>Y12)*EXACT($X$7=$Y$7,X12=Y12)*EXACT($X$7<$Y$7,X12<Y12)),$AO$7,0))) -> 2 | AA12: 1 | AB12: 3 | AC12: =IF(OR(EXACT($AA$7,AA12)*(EXACT($AB$7,AB12)))=TRUE,$AO$9,IF(($AB$7-$AA$7=AB12-AA12),$AO$8,IF(OR(EXACT($AA$7>$AB$7,AA12>AB12)*EXACT($AA$7=$AB$7,AA12=AB12)*EXACT($AA$7<$AB$7,AA12<AB12)),$AO$7,0))) -> 5 | AG12: =E12+K12+Q12+T12+N12+H12+W12+Z12+AC12+AF12 -> 15 | AJ12: =AG12+AH12 -> 15 | AK12: =RANK(AJ12,$AJ$8:$AJ$27) -> 1
A13: =AK13 -> 2 | B13: Ricardo04 | C13: 3 | D13: 0 | E13: =IF(OR(EXACT($C$7,C13)*(EXACT($D$7,D13)))=TRUE,$AO$9,IF(($D$7-$C$7=D13-C13),$AO$8,IF(OR(EXACT($C$7>$D$7,C13>D13)*EXACT($C$7=$D$7,C13=D13)*EXACT($C$7<$D$7,C13<D13)),$AO$7,0))) -> 0 | F13: 1 | G13: 1 | H13: =IF(OR(EXACT($F$7,F13)*(EXACT($G$7,G13)))=TRUE,$AO$9,IF(($G$7-$F$7=G13-F13),$AO$8,IF(OR(EXACT($F$7>$G$7,F13>G13)*EXACT($F$7=$G$7,F13=G13)*EXACT($F$7<$G$7,F13<G13)),$AO$7,0))) -> 5 | I13: 2 | J13: 1 | K13: =IF(OR(EXACT($I$7,I13)*(EXACT($J$7,J13)))=TRUE,$AO$9,IF(($J$7-$I$7=J13-I13),$AO$8,IF(OR(EXACT($I$7>$J$7,I13>J13)*EXACT($I$7=$J$7,I13=J13)*EXACT($I$7<$J$7,I13<J13)),$AO$7,0))) -> 0 | L13: 2 | M13: 1 | N13: =IF(OR(EXACT($L$7,L13)*(EXACT($M$7,M13)))=TRUE,$AO$9,IF(($M$7-$L$7=M13-L13),$AO$8,IF(OR(EXACT($L$7>$M$7,L13>M13)*EXACT($L$7=$M$7,L13=M13)*EXACT($L$7<$M$7,L13<M13)),$AO$7,0))) -> 0 | O13: 1 | P13: 2 | Q13: =IF(OR(EXACT($O$7,O13)*(EXACT($P$7,P13)))=TRUE,$AO$9,IF(($P$7-$O$7=P13-O13),$AO$8,IF(OR(EXACT($O$7>$P$7,O13>P13)*EXACT($O$7=$P$7,O13=P13)*EXACT($O$7<$P$7,O13<P13)),$AO$7,0))) -> 0 | R13: 2 | S13: 1 | T13: =IF(OR(EXACT($R$7,R13)*(EXACT($S$7,S13)))=TRUE,$AO$9,IF(($S$7-$R$7=S13-R13),$AO$8,IF(OR(EXACT($R$7>$S$7,R13>S13)*EXACT($R$7=$S$7,R13=S13)*EXACT($R$7<$S$7,R13<S13)),$AO$7,0))) -> 0 | U13: 0 | V13: 2 | W13: =IF(OR(EXACT($U$7,U13)*(EXACT($V$7,V13)))=TRUE,$AO$9,IF(($V$7-$U$7=V13-U13),$AO$8,IF(OR(EXACT($U$7>$V$7,U13>V13)*EXACT($U$7=$V$7,U13=V13)*EXACT($U$7<$V$7,U13<V13)),$AO$7,0))) -> 5 | X13: 1 | Y13: 2 | Z13: =IF(OR(EXACT($X$7,X13)*(EXACT($Y$7,Y13)))=TRUE,$AO$9,IF(($Y$7-$X$7=Y13-X13),$AO$8,IF(OR(EXACT($X$7>$Y$7,X13>Y13)*EXACT($X$7=$Y$7,X13=Y13)*EXACT($X$7<$Y$7,X13<Y13)),$AO$7,0))) -> 0 | AA13: 2 | AB13: 0 | AC13: =IF(OR(EXACT($AA$7,AA13)*(EXACT($AB$7,AB13)))=TRUE,$AO$9,IF(($AB$7-$AA$7=AB13-AA13),$AO$8,IF(OR(EXACT($AA$7>$AB$7,AA13>AB13)*EXACT($AA$7=$AB$7,AA13=AB13)*EXACT($AA$7<$AB$7,AA13<AB13)),$AO$7,0))) -> 0 | AG13: =E13+K13+Q13+T13+N13+H13+W13+Z13+AC13+AF13 -> 10 | AJ13: =AG13+AH13 -> 10 | AK13: =RANK(AJ13,$AJ$8:$AJ$27) -> 2
A14: =AK14 -> 3 | B14: schmiddi04 | C14: 3 | D14: 0 | E14: =IF(OR(EXACT($C$7,C14)*(EXACT($D$7,D14)))=TRUE,$AO$9,IF(($D$7-$C$7=D14-C14),$AO$8,IF(OR(EXACT($C$7>$D$7,C14>D14)*EXACT($C$7=$D$7,C14=D14)*EXACT($C$7<$D$7,C14<D14)),$AO$7,0))) -> 0 | F14: 1 | G14: 1 | H14: =IF(OR(EXACT($F$7,F14)*(EXACT($G$7,G14)))=TRUE,$AO$9,IF(($G$7-$F$7=G14-F14),$AO$8,IF(OR(EXACT($F$7>$G$7,F14>G14)*EXACT($F$7=$G$7,F14=G14)*EXACT($F$7<$G$7,F14<G14)),$AO$7,0))) -> 5 | I14: 1 | J14: 0 | K14: =IF(OR(EXACT($I$7,I14)*(EXACT($J$7,J14)))=TRUE,$AO$9,IF(($J$7-$I$7=J14-I14),$AO$8,IF(OR(EXACT($I$7>$J$7,I14>J14)*EXACT($I$7=$J$7,I14=J14)*EXACT($I$7<$J$7,I14<J14)),$AO$7,0))) -> 0 | L14: 0 | M14: 2 | N14: =IF(OR(EXACT($L$7,L14)*(EXACT($M$7,M14)))=TRUE,$AO$9,IF(($M$7-$L$7=M14-L14),$AO$8,IF(OR(EXACT($L$7>$M$7,L14>M14)*EXACT($L$7=$M$7,L14=M14)*EXACT($L$7<$M$7,L14<M14)),$AO$7,0))) -> 0 | O14: 1 | P14: 2 | Q14: =IF(OR(EXACT($O$7,O14)*(EXACT($P$7,P14)))=TRUE,$AO$9,IF(($P$7-$O$7=P14-O14),$AO$8,IF(OR(EXACT($O$7>$P$7,O14>P14)*EXACT($O$7=$P$7,O14=P14)*EXACT($O$7<$P$7,O14<P14)),$AO$7,0))) -> 0 | R14: 1 | S14: 0 | T14: =IF(OR(EXACT($R$7,R14)*(EXACT($S$7,S14)))=TRUE,$AO$9,IF(($S$7-$R$7=S14-R14),$AO$8,IF(OR(EXACT($R$7>$S$7,R14>S14)*EXACT($R$7=$S$7,R14=S14)*EXACT($R$7<$S$7,R14<S14)),$AO$7,0))) -> 0 | U14: 0 | V14: 0 | W14: =IF(OR(EXACT($U$7,U14)*(EXACT($V$7,V14)))=TRUE,$AO$9,IF(($V$7-$U$7=V14-U14),$AO$8,IF(OR(EXACT($U$7>$V$7,U14>V14)*EXACT($U$7=$V$7,U14=V14)*EXACT($U$7<$V$7,U14<V14)),$AO$7,0))) -> 0 | X14: 1 | Y14: 2 | Z14: =IF(OR(EXACT($X$7,X14)*(EXACT($Y$7,Y14)))=TRUE,$AO$9,IF(($Y$7-$X$7=Y14-X14),#REF!,IF(OR(EXACT($X$7>$Y$7,X14>Y14)*EXACT($X$7=$Y$7,X14=Y14)*EXACT($X$7<$Y$7,X14<Y14)),$AO$7,0))) -> 0 | AA14: 0 | AB14: 2 | AC14: =IF(OR(EXACT($AA$7,AA14)*(EXACT($AB$7,AB14)))=TRUE,$AO$9,IF(($AB$7-$AA$7=AB14-AA14),$AO$8,IF(OR(EXACT($AA$7>$AB$7,AA14>AB14)*EXACT($AA$7=$AB$7,AA14=AB14)*EXACT($AA$7<$AB$7,AA14<AB14)),$AO$7,0))) -> 3 | AG14: =E14+K14+Q14+T14+N14+H14+W14+Z14+AC14+AF14 -> 8 | AJ14: =AG14+AH14 -> 8 | AK14: =RANK(AJ14,$AJ$8:$AJ$27) -> 3
A15: =AK15 -> 7 | B15: shiny | C15: 2 | D15: 1 | E15: =IF(OR(EXACT($C$7,C15)*(EXACT($D$7,D15)))=TRUE,$AO$9,IF(($D$7-$C$7=D15-C15),$AO$8,IF(OR(EXACT($C$7>$D$7,C15>D15)*EXACT($C$7=$D$7,C15=D15)*EXACT($C$7<$D$7,C15<D15)),$AO$7,0))) -> 0 | F15: 2 | G15: 0 | H15: =IF(OR(EXACT($F$7,F15)*(EXACT($G$7,G15)))=TRUE,$AO$9,IF(($G$7-$F$7=G15-F15),$AO$8,IF(OR(EXACT($F$7>$G$7,F15>G15)*EXACT($F$7=$G$7,F15=G15)*EXACT($F$7<$G$7,F15<G15)),$AO$7,0))) -> 0 | I15: 2 | J15: 1 | K15: =IF(OR(EXACT($I$7,I15)*(EXACT($J$7,J15)))=TRUE,$AO$9,IF(($J$7-$I$7=J15-I15),$AO$8,IF(OR(EXACT($I$7>$J$7,I15>J15)*EXACT($I$7=$J$7,I15=J15)*EXACT($I$7<$J$7,I15<J15)),$AO$7,0))) -> 0 | L15: 1 | M15: 2 | N15: =IF(OR(EXACT($L$7,L15)*(EXACT($M$7,M15)))=TRUE,$AO$9,IF(($M$7-$L$7=M15-L15),$AO$8,IF(OR(EXACT($L$7>$M$7,L15>M15)*EXACT($L$7=$M$7,L15=M15)*EXACT($L$7<$M$7,L15<M15)),$AO$7,0))) -> 0 | O15: 1 | P15: 1 | Q15: =IF(OR(EXACT($O$7,O15)*(EXACT($P$7,P15)))=TRUE,$AO$9,IF(($P$7-$O$7=P15-O15),$AO$8,IF(OR(EXACT($O$7>$P$7,O15>P15)*EXACT($O$7=$P$7,O15=P15)*EXACT($O$7<$P$7,O15<P15)),$AO$7,0))) -> 0 | R15: 2 | S15: 1 | T15: =IF(OR(EXACT($R$7,R15)*(EXACT($S$7,S15)))=TRUE,$AO$9,IF(($S$7-$R$7=S15-R15),$AO$8,IF(OR(EXACT($R$7>$S$7,R15>S15)*EXACT($R$7=$S$7,R15=S15)*EXACT($R$7<$S$7,R15<S15)),$AO$7,0))) -> 0 | U15: 1 | V15: 2 | W15: =IF(OR(EXACT($U$7,U15)*(EXACT($V$7,V15)))=TRUE,$AO$9,IF(($V$7-$U$7=V15-U15),$AO$8,IF(OR(EXACT($U$7>$V$7,U15>V15)*EXACT($U$7=$V$7,U15=V15)*EXACT($U$7<$V$7,U15<V15)),$AO$7,0))) -> 2 | X15: 1 | Y15: 1 | Z15: =IF(OR(EXACT($X$7,X15)*(EXACT($Y$7,Y15)))=TRUE,$AO$9,IF(($Y$7-$X$7=Y15-X15),$AO9,IF(OR(EXACT($X$7>$Y$7,X15>Y15)*EXACT($X$7=$Y$7,X15=Y15)*EXACT($X$7<$Y$7,X15<Y15)),$AO$7,0))) -> 0 | AA15: 1 | AB15: 1 | AC15: =IF(OR(EXACT($AA$7,AA15)*(EXACT($AB$7,AB15)))=TRUE,$AO$9,IF(($AB$7-$AA$7=AB15-AA15),$AO$8,IF(OR(EXACT($AA$7>$AB$7,AA15>AB15)*EXACT($AA$7=$AB$7,AA15=AB15)*EXACT($AA$7<$AB$7,AA15<AB15)),$AO$7,0))) -> 0 | AG15: =E15+K15+Q15+T15+N15+H15+W15+Z15+AC15+AF15 -> 2 | AJ15: =AG15+AH15 -> 2 | AK15: =RANK(AJ15,$AJ$8:$AJ$27) -> 7
A16: =AK16 -> 7 | B16: Skopp04 | C16: 2 | D16: 1 | E16: =IF(OR(EXACT($C$7,C16)*(EXACT($D$7,D16)))=TRUE,$AO$9,IF(($D$7-$C$7=D16-C16),$AO$8,IF(OR(EXACT($C$7>$D$7,C16>D16)*EXACT($C$7=$D$7,C16=D16)*EXACT($C$7<$D$7,C16<D16)),$AO$7,0))) -> 0 | F16: 2 | G16: 0 | H16: =IF(OR(EXACT($F$7,F16)*(EXACT($G$7,G16)))=TRUE,$AO$9,IF(($G$7-$F$7=G16-F16),$AO$8,IF(OR(EXACT($F$7>$G$7,F16>G16)*EXACT($F$7=$G$7,F16=G16)*EXACT($F$7<$G$7,F16<G16)),$AO$7,0))) -> 0 | I16: 1 | J16: 0 | K16: =IF(OR(EXACT($I$7,I16)*(EXACT($J$7,J16)))=TRUE,$AO$9,IF(($J$7-$I$7=J16-I16),$AO$8,IF(OR(EXACT($I$7>$J$7,I16>J16)*EXACT($I$7=$J$7,I16=J16)*EXACT($I$7<$J$7,I16<J16)),$AO$7,0))) -> 0 | L16: 3 | M16: 2 | N16: =IF(OR(EXACT($L$7,L16)*(EXACT($M$7,M16)))=TRUE,$AO$9,IF(($M$7-$L$7=M16-L16),$AO$8,IF(OR(EXACT($L$7>$M$7,L16>M16)*EXACT($L$7=$M$7,L16=M16)*EXACT($L$7<$M$7,L16<M16)),$AO$7,0))) -> 0 | O16: 1 | P16: 2 | Q16: =IF(OR(EXACT($O$7,O16)*(EXACT($P$7,P16)))=TRUE,$AO$9,IF(($P$7-$O$7=P16-O16),$AO$8,IF(OR(EXACT($O$7>$P$7,O16>P16)*EXACT($O$7=$P$7,O16=P16)*EXACT($O$7<$P$7,O16<P16)),$AO$7,0))) -> 0 | R16: 1 | S16: 0 | T16: =IF(OR(EXACT($R$7,R16)*(EXACT($S$7,S16)))=TRUE,$AO$9,IF(($S$7-$R$7=S16-R16),$AO$8,IF(OR(EXACT($R$7>$S$7,R16>S16)*EXACT($R$7=$S$7,R16=S16)*EXACT($R$7<$S$7,R16<S16)),$AO$7,0))) -> 0 | U16: 1 | V16: 0 | W16: =IF(OR(EXACT($U$7,U16)*(EXACT($V$7,V16)))=TRUE,$AO$9,IF(($V$7-$U$7=V16-U16),$AO$8,IF(OR(EXACT($U$7>$V$7,U16>V16)*EXACT($U$7=$V$7,U16=V16)*EXACT($U$7<$V$7,U16<V16)),$AO$7,0))) -> 0 | X16: 2 | Y16: 0 | Z16: =IF(OR(EXACT($X$7,X16)*(EXACT($Y$7,Y16)))=TRUE,$AO$9,IF(($Y$7-$X$7=Y16-X16),#REF!,IF(OR(EXACT($X$7>$Y$7,X16>Y16)*EXACT($X$7=$Y$7,X16=Y16)*EXACT($X$7<$Y$7,X16<Y16)),$AO$7,0))) -> 2 | AA16: 1 | AB16: 1 | AC16: =IF(OR(EXACT($AA$7,AA16)*(EXACT($AB$7,AB16)))=TRUE,$AO$9,IF(($AB$7-$AA$7=AB16-AA16),$AO$8,IF(OR(EXACT($AA$7>$AB$7,AA16>AB16)*EXACT($AA$7=$AB$7,AA16=AB16)*EXACT($AA$7<$AB$7,AA16<AB16)),$AO$7,0))) -> 0 | AG16: =E16+K16+Q16+T16+N16+H16+W16+Z16+AC16+AF16 -> 2 | AJ16: =AG16+AH16 -> 2 | AK16: =RANK(AJ16,$AJ$8:$AJ$27) -> 7
A17: =AK17 -> 6 | B17: Tanja04 | C17: 3 | D17: 1 | E17: =IF(OR(EXACT($C$7,C17)*(EXACT($D$7,D17)))=TRUE,$AO$9,IF(($D$7-$C$7=D17-C17),$AO$8,IF(OR(EXACT($C$7>$D$7,C17>D17)*EXACT($C$7=$D$7,C17=D17)*EXACT($C$7<$D$7,C17<D17)),$AO$7,0))) -> 0 | F17: 2 | G17: 1 | H17: =IF(OR(EXACT($F$7,F17)*(EXACT($G$7,G17)))=TRUE,$AO$9,IF(($G$7-$F$7=G17-F17),$AO$8,IF(OR(EXACT($F$7>$G$7,F17>G17)*EXACT($F$7=$G$7,F17=G17)*EXACT($F$7<$G$7,F17<G17)),$AO$7,0))) -> 0 | I17: 2 | J17: 0 | K17: =IF(OR(EXACT($I$7,I17)*(EXACT($J$7,J17)))=TRUE,$AO$9,IF(($J$7-$I$7=J17-I17),$AO$8,IF(OR(EXACT($I$7>$J$7,I17>J17)*EXACT($I$7=$J$7,I17=J17)*EXACT($I$7<$J$7,I17<J17)),$AO$7,0))) -> 0 | L17: 2 | M17: 1 | N17: =IF(OR(EXACT($L$7,L17)*(EXACT($M$7,M17)))=TRUE,$AO$9,IF(($M$7-$L$7=M17-L17),$AO$8,IF(OR(EXACT($L$7>$M$7,L17>M17)*EXACT($L$7=$M$7,L17=M17)*EXACT($L$7<$M$7,L17<M17)),$AO$7,0))) -> 0 | O17: 2 | P17: 0 | Q17: =IF(OR(EXACT($O$7,O17)*(EXACT($P$7,P17)))=TRUE,$AO$9,IF(($P$7-$O$7=P17-O17),$AO$8,IF(OR(EXACT($O$7>$P$7,O17>P17)*EXACT($O$7=$P$7,O17=P17)*EXACT($O$7<$P$7,O17<P17)),$AO$7,0))) -> 2 | R17: 3 | S17: 1 | T17: =IF(OR(EXACT($R$7,R17)*(EXACT($S$7,S17)))=TRUE,$AO$9,IF(($S$7-$R$7=S17-R17),$AO$8,IF(OR(EXACT($R$7>$S$7,R17>S17)*EXACT($R$7=$S$7,R17=S17)*EXACT($R$7<$S$7,R17<S17)),$AO$7,0))) -> 0 | U17: 1 | V17: 1 | W17: =IF(OR(EXACT($U$7,U17)*(EXACT($V$7,V17)))=TRUE,$AO$9,IF(($V$7-$U$7=V17-U17),$AO$8,IF(OR(EXACT($U$7>$V$7,U17>V17)*EXACT($U$7=$V$7,U17=V17)*EXACT($U$7<$V$7,U17<V17)),$AO$7,0))) -> 0 | X17: 2 | Y17: 0 | Z17: =IF(OR(EXACT($X$7,X17)*(EXACT($Y$7,Y17)))=TRUE,$AO$9,IF(($Y$7-$X$7=Y17-X17),$AO$8,IF(OR(EXACT($X$7>$Y$7,X17>Y17)*EXACT($X$7=$Y$7,X17=Y17)*EXACT($X$7<$Y$7,X17<Y17)),$AO$7,0))) -> 2 | AA17: 1 | AB17: 1 | AC17: =IF(OR(EXACT($AA$7,AA17)*(EXACT($AB$7,AB17)))=TRUE,$AO$9,IF(($AB$7-$AA$7=AB17-AA17),$AO$8,IF(OR(EXACT($AA$7>$AB$7,AA17>AB17)*EXACT($AA$7=$AB$7,AA17=AB17)*EXACT($AA$7<$AB$7,AA17<AB17)),$AO$7,0))) -> 0 | AG17: =E17+K17+Q17+T17+N17+H17+W17+Z17+AC17+AF17 -> 4 | AJ17: =AG17+AH17 -> 4 | AK17: =RANK(AJ17,$AJ$8:$AJ$27) -> 6
A18: =AK18 -> 4 | B18: UltraGE | C18: 2 | D18: 1 | E18: =IF(OR(EXACT($C$7,C18)*(EXACT($D$7,D18)))=TRUE,$AO$9,IF(($D$7-$C$7=D18-C18),$AO$8,IF(OR(EXACT($C$7>$D$7,C18>D18)*EXACT($C$7=$D$7,C18=D18)*EXACT($C$7<$D$7,C18<D18)),$AO$7,0))) -> 0 | F18: 2 | G18: 1 | H18: =IF(OR(EXACT($F$7,F18)*(EXACT($G$7,G18)))=TRUE,$AO$9,IF(($G$7-$F$7=G18-F18),$AO$8,IF(OR(EXACT($F$7>$G$7,F18>G18)*EXACT($F$7=$G$7,F18=G18)*EXACT($F$7<$G$7,F18<G18)),$AO$7,0))) -> 0 | I18: 2 | J18: 1 | K18: =IF(OR(EXACT($I$7,I18)*(EXACT($J$7,J18)))=TRUE,$AO$9,IF(($J$7-$I$7=J18-I18),$AO$8,IF(OR(EXACT($I$7>$J$7,I18>J18)*EXACT($I$7=$J$7,I18=J18)*EXACT($I$7<$J$7,I18<J18)),$AO$7,0))) -> 0 | L18: 1 | M18: 1 | N18: =IF(OR(EXACT($L$7,L18)*(EXACT($M$7,M18)))=TRUE,$AO$9,IF(($M$7-$L$7=M18-L18),$AO$8,IF(OR(EXACT($L$7>$M$7,L18>M18)*EXACT($L$7=$M$7,L18=M18)*EXACT($L$7<$M$7,L18<M18)),$AO$7,0))) -> 3 | O18: 2 | P18: 1 | Q18: =IF(OR(EXACT($O$7,O18)*(EXACT($P$7,P18)))=TRUE,$AO$9,IF(($P$7-$O$7=P18-O18),$AO$8,IF(OR(EXACT($O$7>$P$7,O18>P18)*EXACT($O$7=$P$7,O18=P18)*EXACT($O$7<$P$7,O18<P18)),$AO$7,0))) -> 2 | R18: 3 | S18: 1 | T18: =IF(OR(EXACT($R$7,R18)*(EXACT($S$7,S18)))=TRUE,$AO$9,IF(($S$7-$R$7=S18-R18),$AO$8,IF(OR(EXACT($R$7>$S$7,R18>S18)*EXACT($R$7=$S$7,R18=S18)*EXACT($R$7<$S$7,R18<S18)),$AO$7,0))) -> 0 | U18: 1 | V18: 2 | W18: =IF(OR(EXACT($U$7,U18)*(EXACT($V$7,V18)))=TRUE,$AO$9,IF(($V$7-$U$7=V18-U18),$AO$8,IF(OR(EXACT($U$7>$V$7,U18>V18)*EXACT($U$7=$V$7,U18=V18)*EXACT($U$7<$V$7,U18<V18)),$AO$7,0))) -> 2 | X18: 2 | Y18: 2 | Z18: =IF(OR(EXACT($X$7,X18)*(EXACT($Y$7,Y18)))=TRUE,$AO$9,IF(($Y$7-$X$7=Y18-X18),$AO$8,IF(OR(EXACT($X$7>$Y$7,X18>Y18)*EXACT($X$7=$Y$7,X18=Y18)*EXACT($X$7<$Y$7,X18<Y18)),$AO$7,0))) -> 0 | AA18: 3 | AB18: 1 | AC18: =IF(OR(EXACT($AA$7,AA18)*(EXACT($AB$7,AB18)))=TRUE,$AO$9,IF(($AB$7-$AA$7=AB18-AA18),$AO$8,IF(OR(EXACT($AA$7>$AB$7,AA18>AB18)*EXACT($AA$7=$AB$7,AA18=AB18)*EXACT($AA$7<$AB$7,AA18<AB18)),$AO$7,0))) -> 0 | AG18: =E18+K18+Q18+T18+N18+H18+W18+Z18+AC18+AF18 -> 7 | AJ18: =AG18+AH18 -> 7 | AK18: =RANK(AJ18,$AJ$8:$AJ$27) -> 4
A19: =AK19 -> 12 | B19: Rainer04 | AG19: =E19+K19+Q19+T19+N19+H19+W19+Z19+AC19+AF19 -> 0 | AJ19: =AG19+AH19 -> 0 | AK19: =RANK(AJ19,$AJ$8:$AJ$27) -> 12
A20: =AK20 -> 12 | B20: Lola04 | AG20: =E20+K20+Q20+T20+N20+H20+W20+Z20+AC20+AF20 -> 0 | AJ20: =AG20+AH20 -> 0 | AK20: =RANK(AJ20,$AJ$8:$AJ$27) -> 12
A21: =AK21 -> 12 | AG21: =E21+K21+Q21+T21+N21+H21+W21+Z21+AC21+AF21 -> 0 | AJ21: =AG21+AH21 -> 0 | AK21: =RANK(AJ21,$AJ$8:$AJ$27) -> 12
A22: =AK22 -> 12 | AG22: =E22+K22+Q22+T22+N22+H22+W22+Z22+AC22+AF22 -> 0 | AJ22: =AG22+AH22 -> 0 | AK22: =RANK(AJ22,$AJ$8:$AJ$27) -> 12
A23: =AK23 -> 12 | AG23: =E23+K23+Q23+T23+N23+H23+W23+Z23+AC23+AF23 -> 0 | AJ23: =AG23+AH23 -> 0 | AK23: =RANK(AJ23,$AJ$8:$AJ$27) -> 12
A24: =AK24 -> 12 | AG24: =E24+K24+Q24+T24+N24+H24+W24+Z24+AC24+AF24 -> 0 | AJ24: =AG24+AH24 -> 0 | AK24: =RANK(AJ24,$AJ$8:$AJ$27) -> 12
A25: =AK25 -> 12 | AG25: =E25+K25+Q25+T25+N25+H25+W25+Z25+AC25+AF25 -> 0 | AJ25: =AG25+AH25 -> 0 | AK25: =RANK(AJ25,$AJ$8:$AJ$27) -> 12
A26: =AK26 -> 12 | AG26: =E26+K26+Q26+T26+N26+H26+W26+Z26+AC26+AF26 -> 0 | AJ26: =AG26+AH26 -> 0 | AK26: =RANK(AJ26,$AJ$8:$AJ$27) -> 12
A27: =AK27 -> 12 | AG27: =E27+K27+Q27+T27+N27+H27+W27+Z27+AC27+AF27 -> 0 | AJ27: =AG27+AH27 -> 0 | AK27: =RANK(AJ27,$AJ$8:$AJ$27) -> 12

Sheet 2.Spieltag 
A4: 2. Spieltag | C4: Kiel | F4: Hamburg | I4: Düsseldorf | L4: Karlsruhe | O4: Paderborn | R4: Aue | U4: Hannover | X4: Regensburg | AA4: Ingolstadt
AG5: G E S A M T W E R T U N G
C6: Schalke 04 | F6: Dresden | I6: Bremen | L6: Darmstadt | O6: Nürnberg | R6: St. Pauli | U6: Rostock | X6: Sandhausen | AA6: Heidenheim | AG6: Punkte | AH6: Punkte | AI6: Platz | AJ6: Gesamt | AK6: Platz | AL6: PUNKTEVERTEILUNG
A7: PLATZ | B7: ERGEBNISSE=> | C7: 0 | D7: 3 | E7: Pkt. | F7: 1 | G7: 1 | H7: Pkt. | I7: 2 | J7: 3 | K7: Pkt. | L7: 3 | M7: 0 | N7: Pkt. | O7: 2 | P7: 2 | Q7: Pkt. | R7: 0 | S7: 0 | T7: Pkt. | U7: 0 | V7: 3 | W7: Pkt. | X7: 3 | Y7: 0 | Z7: Pkt. | AA7: 1 | AB7: 2 | AC7: Pkt. | AG7: Spieltag | AH7: bisher | AI7: bisher | AJ7: Punkte | AL7: richtige Tendenz | AO7: 2
A8: =AK8 -> 6 | B8: ='1.Spieltag'!B8 -> Franzi04 | C8: 1 | D8: 2 | E8: =IF(OR(EXACT($C$7,C8)*(EXACT($D$7,D8)))=TRUE,$AO$9,IF(($D$7-$C$7=D8-C8),$AO$8,IF(OR(EXACT($C$7>$D$7,C8>D8)*EXACT($C$7=$D$7,C8=D8)*EXACT($C$7<$D$7,C8<D8)),$AO$7,0)))*4 -> 8 | F8: 2 | G8: 1 | H8: =IF(OR(EXACT($F$7,F8)*(EXACT($G$7,G8)))=TRUE,$AO$9,IF(($G$7-$F$7=G8-F8),$AO$8,IF(OR(EXACT($F$7>$G$7,F8>G8)*EXACT($F$7=$G$7,F8=G8)*EXACT($F$7<$G$7,F8<G8)),$AO$7,0))) -> 0 | I8: 2 | J8: 1 | K8: =IF(OR(EXACT($I$7,I8)*(EXACT($J$7,J8)))=TRUE,$AO$9,IF(($J$7-$I$7=J8-I8),$AO$8,IF(OR(EXACT($I$7>$J$7,I8>J8)*EXACT($I$7=$J$7,I8=J8)*EXACT($I$7<$J$7,I8<J8)),$AO$7,0))) -> 0 | L8: 2 | M8: 1 | N8: =IF(OR(EXACT($L$7,L8)*(EXACT($M$7,M8)))=TRUE,$AO$9,IF(($M$7-$L$7=M8-L8),$AO$8,IF(OR(EXACT($L$7>$M$7,L8>M8)*EXACT($L$7=$M$7,L8=M8)*EXACT($L$7<$M$7,L8<M8)),$AO$7,0))) -> 2 | O8: 1 | P8: 1 | Q8: =IF(OR(EXACT($O$7,O8)*(EXACT($P$7,P8)))=TRUE,$AO$9,IF(($P$7-$O$7=P8-O8),$AO$8,IF(OR(EXACT($O$7>$P$7,O8>P8)*EXACT($O$7=$P$7,O8=P8)*EXACT($O$7<$P$7,O8<P8)),$AO$7,0))) -> 3 | R8: 2 | S8: 1 | T8: =IF(OR(EXACT($R$7,R8)*(EXACT($S$7,S8)))=TRUE,$AO$9,IF(($S$7-$R$7=S8-R8),$AO$8,IF(OR(EXACT($R$7>$S$7,R8>S8)*EXACT($R$7=$S$7,R8=S8)*EXACT($R$7<$S$7,R8<S8)),$AO$7,0))) -> 0 | U8: 2 | V8: 1 | W8: =IF(OR(EXACT($U$7,U8)*(EXACT($V$7,V8)))=TRUE,$AO$9,IF(($V$7-$U$7=V8-U8),$AO$8,IF(OR(EXACT($U$7>$V$7,U8>V8)*EXACT($U$7=$V$7,U8=V8)*EXACT($U$7<$V$7,U8<V8)),$AO$7,0))) -> 0 | X8: 2 | Y8: 1 | Z8: =IF(OR(EXACT($X$7,X8)*(EXACT($Y$7,Y8)))=TRUE,$AO$9,IF(($Y$7-$X$7=Y8-X8),$AO$8,IF(OR(EXACT($X$7>$Y$7,X8>Y8)*EXACT($X$7=$Y$7,X8=Y8)*EXACT($X$7<$Y$7,X8<Y8)),$AO$7,0))) -> 2 | AA8: 2 | AB8: 1 | AC8: =IF(OR(EXACT($AA$7,AA8)*(EXACT($AB$7,AB8)))=TRUE,$AO$9,IF(($AB$7-$AA$7=AB8-AA8),$AO$8,IF(OR(EXACT($AA$7>$AB$7,AA8>AB8)*EXACT($AA$7=$AB$7,AA8=AB8)*EXACT($AA$7<$AB$7,AA8<AB8)),$AO$7,0))) -> 0 | AG8: =E8+H8+K8+N8+Q8+T8+W8+Z8+AC8+AF8 -> 15 | AH8: ='1.Spieltag'!AJ8 -> 2 | AI8: ='1.Spieltag'!AK8 -> 7 | AJ8: =AG8+AH8 -> 17 | AK8: =RANK(AJ8,$AJ$8:$AJ$27) -> 6 | AL8: richtige Tend. + korr. Torabst. | AO8: 3
A9: =AK9 -> 11 | B9: ='1.Spieltag'!B9 -> jupp04 | C9: 2 | D9: 2 | E9: =IF(OR(EXACT($C$7,C9)*(EXACT($D$7,D9)))=TRUE,$AO$9,IF(($D$7-$C$7=D9-C9),$AO$8,IF(OR(EXACT($C$7>$D$7,C9>D9)*EXACT($C$7=$D$7,C9=D9)*EXACT($C$7<$D$7,C9<D9)),$AO$7,0)))*4 -> 0 | F9: 2 | G9: 1 | H9: =IF(OR(EXACT($F$7,F9)*(EXACT($G$7,G9)))=TRUE,$AO$9,IF(($G$7-$F$7=G9-F9),$AO$8,IF(OR(EXACT($F$7>$G$7,F9>G9)*EXACT($F$7=$G$7,F9=G9)*EXACT($F$7<$G$7,F9<G9)),$AO$7,0))) -> 0 | I9: 2 | J9: 1 | K9: =IF(OR(EXACT($I$7,I9)*(EXACT($J$7,J9)))=TRUE,$AO$9,IF(($J$7-$I$7=J9-I9),$AO$8,IF(OR(EXACT($I$7>$J$7,I9>J9)*EXACT($I$7=$J$7,I9=J9)*EXACT($I$7<$J$7,I9<J9)),$AO$7,0))) -> 0 | L9: 2 | M9: 1 | N9: =IF(OR(EXACT($L$7,L9)*(EXACT($M$7,M9)))=TRUE,$AO$9,IF(($M$7-$L$7=M9-L9),$AO$8,IF(OR(EXACT($L$7>$M$7,L9>M9)*EXACT($L$7=$M$7,L9=M9)*EXACT($L$7<$M$7,L9<M9)),$AO$7,0))) -> 2 | O9: 2 | P9: 2 | Q9: =IF(OR(EXACT($O$7,O9)*(EXACT($P$7,P9)))=TRUE,$AO$9,IF(($P$7-$O$7=P9-O9),$AO$8,IF(OR(EXACT($O$7>$P$7,O9>P9)*EXACT($O$7=$P$7,O9=P9)*EXACT($O$7<$P$7,O9<P9)),$AO$7,0))) -> 5 | R9: 1 | S9: 2 | T9: =IF(OR(EXACT($R$7,R9)*(EXACT($S$7,S9)))=TRUE,$AO$9,IF(($S$7-$R$7=S9-R9),$AO$8,IF(OR(EXACT($R$7>$S$7,R9>S9)*EXACT($R$7=$S$7,R9=S9)*EXACT($R$7<$S$7,R9<S9)),$AO$7,0))) -> 0 | U9: 2 | V9: 1 | W9: =IF(OR(EXACT($U$7,U9)*(EXACT($V$7,V9)))=TRUE,$AO$9,IF(($V$7-$U$7=V9-U9),$AO$8,IF(OR(EXACT($U$7>$V$7,U9>V9)*EXACT($U$7=$V$7,U9=V9)*EXACT($U$7<$V$7,U9<V9)),$AO$7,0))) -> 0 | X9: 2 | Y9: 1 | Z9: =IF(OR(EXACT($X$7,X9)*(EXACT($Y$7,Y9)))=TRUE,$AO$9,IF(($Y$7-$X$7=Y9-X9),AO8,IF(OR(EXACT($X$7>$Y$7,X9>Y9)*EXACT($X$7=$Y$7,X9=Y9)*EXACT($X$7<$Y$7,X9<Y9)),$AO$7,0))) -> 2 | AA9: 2 | AB9: 1 | AC9: =IF(OR(EXACT($AA$7,AA9)*(EXACT($AB$7,AB9)))=TRUE,$AO$9,IF(($AB$7-$AA$7=AB9-AA9),$AO$8,IF(OR(EXACT($AA$7>$AB$7,AA9>AB9)*EXACT($AA$7=$AB$7,AA9=AB9)*EXACT($AA$7<$AB$7,AA9<AB9)),$AO$7,0))) -> 0 | AG9: =E9+H9+K9+N9+Q9+T9+W9+Z9+AC9+AF9 -> 9 | AH9: ='1.Spieltag'!AJ9 -> 2 | AI9: ='1.Spieltag'!AK9 -> 7 | AJ9: =AG9+AH9 -> 11 | AK9: =RANK(AJ9,$AJ$8:$AJ$27) -> 11 | AL9: richtiges Ergebnis | AO9: 5
A10: =AK10 -> 6 | B10: ='1.Spieltag'!B10 -> Master1 | C10: 1 | D10: 2 | E10: =IF(OR(EXACT($C$7,C10)*(EXACT($D$7,D10)))=TRUE,$AO$9,IF(($D$7-$C$7=D10-C10),$AO$8,IF(OR(EXACT($C$7>$D$7,C10>D10)*EXACT($C$7=$D$7,C10=D10)*EXACT($C$7<$D$7,C10<D10)),$AO$7,0)))*4 -> 8 | F10: 2 | G10: 3 | H10: =IF(OR(EXACT($F$7,F10)*(EXACT($G$7,G10)))=TRUE,$AO$9,IF(($G$7-$F$7=G10-F10),$AO$8,IF(OR(EXACT($F$7>$G$7,F10>G10)*EXACT($F$7=$G$7,F10=G10)*EXACT($F$7<$G$7,F10<G10)),$AO$7,0))) -> 0 | I10: 1 | J10: 1 | K10: =IF(OR(EXACT($I$7,I10)*(EXACT($J$7,J10)))=TRUE,$AO$9,IF(($J$7-$I$7=J10-I10),$AO$8,IF(OR(EXACT($I$7>$J$7,I10>J10)*EXACT($I$7=$J$7,I10=J10)*EXACT($I$7<$J$7,I10<J10)),$AO$7,0))) -> 0 | L10: 3 | M10: 1 | N10: =IF(OR(EXACT($L$7,L10)*(EXACT($M$7,M10)))=TRUE,$AO$9,IF(($M$7-$L$7=M10-L10),$AO$8,IF(OR(EXACT($L$7>$M$7,L10>M10)*EXACT($L$7=$M$7,L10=M10)*EXACT($L$7<$M$7,L10<M10)),$AO$7,0))) -> 2 | O10: 1 | P10: 1 | Q10: =IF(OR(EXACT($O$7,O10)*(EXACT($P$7,P10)))=TRUE,$AO$9,IF(($P$7-$O$7=P10-O10),$AO$8,IF(OR(EXACT($O$7>$P$7,O10>P10)*EXACT($O$7=$P$7,O10=P10)*EXACT($O$7<$P$7,O10<P10)),$AO$7,0))) -> 3 | R10: 1 | S10: 2 | T10: =IF(OR(EXACT($R$7,R10)*(EXACT($S$7,S10)))=TRUE,$AO$9,IF(($S$7-$R$7=S10-R10),$AO$8,IF(OR(EXACT($R$7>$S$7,R10>S10)*EXACT($R$7=$S$7,R10=S10)*EXACT($R$7<$S$7,R10<S10)),$AO$7,0))) -> 0 | U10: 2 | V10: 0 | W10: =IF(OR(EXACT($U$7,U10)*(EXACT($V$7,V10)))=TRUE,$AO$9,IF(($V$7-$U$7=V10-U10),$AO$8,IF(OR(EXACT($U$7>$V$7,U10>V10)*EXACT($U$7=$V$7,U10=V10)*EXACT($U$7<$V$7,U10<V10)),$AO$7,0))) -> 0 | X10: 2 | Y10: 1 | Z10: =IF(OR(EXACT($X$7,X10)*(EXACT($Y$7,Y10)))=TRUE,$AO$9,IF(($Y$7-$X$7=Y10-X10),$AO$8,IF(OR(EXACT($X$7>$Y$7,X10>Y10)*EXACT($X$7=$Y$7,X10=Y10)*EXACT($X$7<$Y$7,X10<Y10)),$AO$7,0))) -> 2 | AA10: 2 | AB10: 2 | AC10: =IF(OR(EXACT($AA$7,AA10)*(EXACT($AB$7,AB10)))=TRUE,$AO$9,IF(($AB$7-$AA$7=AB10-AA10),$AO$8,IF(OR(EXACT($AA$7>$AB$7,AA10>AB10)*EXACT($AA$7=$AB$7,AA10=AB10)*EXACT($AA$7<$AB$7,AA10<AB10)),$AO$7,0))) -> 0 | AG10: =E10+H10+K10+N10+Q10+T10+W10+Z10+AC10+AF10 -> 15 | AH10: ='1.Spieltag'!AJ10 -> 2 | AI10: ='1.Spieltag'!AK10 -> 7 | AJ10: =AG10+AH10 -> 17 | AK10: =RANK(AJ10,$AJ$8:$AJ$27) -> 6
A11: =AK11 -> 1 | B11: ='1.Spieltag'!B11 -> Mike04 | C11: 1 | D11: 3 | E11: =IF(OR(EXACT($C$7,C11)*(EXACT($D$7,D11)))=TRUE,$AO$9,IF(($D$7-$C$7=D11-C11),$AO$8,IF(OR(EXACT($C$7>$D$7,C11>D11)*EXACT($C$7=$D$7,C11=D11)*EXACT($C$7<$D$7,C11<D11)),$AO$7,0)))*4 -> 8 | F11: 1 | G11: 1 | H11: =IF(OR(EXACT($F$7,F11)*(EXACT($G$7,G11)))=TRUE,$AO$9,IF(($G$7-$F$7=G11-F11),$AO$8,IF(OR(EXACT($F$7>$G$7,F11>G11)*EXACT($F$7=$G$7,F11=G11)*EXACT($F$7<$G$7,F11<G11)),$AO$7,0))) -> 5 | I11: 1 | J11: 2 | K11: =IF(OR(EXACT($I$7,I11)*(EXACT($J$7,J11)))=TRUE,$AO$9,IF(($J$7-$I$7=J11-I11),$AO$8,IF(OR(EXACT($I$7>$J$7,I11>J11)*EXACT($I$7=$J$7,I11=J11)*EXACT($I$7<$J$7,I11<J11)),$AO$7,0))) -> 3 | L11: 2 | M11: 0 | N11: =IF(OR(EXACT($L$7,L11)*(EXACT($M$7,M11)))=TRUE,$AO$9,IF(($M$7-$L$7=M11-L11),$AO$8,IF(OR(EXACT($L$7>$M$7,L11>M11)*EXACT($L$7=$M$7,L11=M11)*EXACT($L$7<$M$7,L11<M11)),$AO$7,0))) -> 2 | O11: 1 | P11: 2 | Q11: =IF(OR(EXACT($O$7,O11)*(EXACT($P$7,P11)))=TRUE,$AO$9,IF(($P$7-$O$7=P11-O11),$AO$8,IF(OR(EXACT($O$7>$P$7,O11>P11)*EXACT($O$7=$P$7,O11=P11)*EXACT($O$7<$P$7,O11<P11)),$AO$7,0))) -> 0 | R11: 0 | S11: 2 | T11: =IF(OR(EXACT($R$7,R11)*(EXACT($S$7,S11)))=TRUE,$AO$9,IF(($S$7-$R$7=S11-R11),$AO$8,IF(OR(EXACT($R$7>$S$7,R11>S11)*EXACT($R$7=$S$7,R11=S11)*EXACT($R$7<$S$7,R11<S11)),$AO$7,0))) -> 0 | U11: 2 | V11: 0 | W11: =IF(OR(EXACT($U$7,U11)*(EXACT($V$7,V11)))=TRUE,$AO$9,IF(($V$7-$U$7=V11-U11),$AO$8,IF(OR(EXACT($U$7>$V$7,U11>V11)*EXACT($U$7=$V$7,U11=V11)*EXACT($U$7<$V$7,U11<V11)),$AO$7,0))) -> 0 | X11: 1 | Y11: 0 | Z11: =IF(OR(EXACT($X$7,X11)*(EXACT($Y$7,Y11)))=TRUE,$AO$9,IF(($Y$7-$X$7=Y11-X11),#REF!,IF(OR(EXACT($X$7>$Y$7,X11>Y11)*EXACT($X$7=$Y$7,X11=Y11)*EXACT($X$7<$Y$7,X11<Y11)),$AO$7,0))) -> 2 | AA11: 1 | AB11: 2 | AC11: =IF(OR(EXACT($AA$7,AA11)*(EXACT($AB$7,AB11)))=TRUE,$AO$9,IF(($AB$7-$AA$7=AB11-AA11),$AO$8,IF(OR(EXACT($AA$7>$AB$7,AA11>AB11)*EXACT($AA$7=$AB$7,AA11=AB11)*EXACT($AA$7<$AB$7,AA11<AB11)),$AO$7,0))) -> 5 | AG11: =E11+H11+K11+N11+Q11+T11+W11+Z11+AC11+AF11 -> 25 | AH11: ='1.Spieltag'!AJ11 -> 7 | AI11: ='1.Spieltag'!AK11 -> 4 | AJ11: =AG11+AH11 -> 32 | AK11: =RANK(AJ11,$AJ$8:$AJ$27) -> 1
A12: =AK12 -> 2 | B12: ='1.Spieltag'!B12 -> Reinhold | C12: 1 | D12: 5 | E12: =IF(OR(EXACT($C$7,C12)*(EXACT($D$7,D12)))=TRUE,$AO$9,IF(($D$7-$C$7=D12-C12),$AO$8,IF(OR(EXACT($C$7>$D$7,C12>D12)*EXACT($C$7=$D$7,C12=D12)*EXACT($C$7<$D$7,C12<D12)),$AO$7,0)))*4 -> 8 | F12: 2 | G12: 3 | H12: =IF(OR(EXACT($F$7,F12)*(EXACT($G$7,G12)))=TRUE,$AO$9,IF(($G$7-$F$7=G12-F12),$AO$8,IF(OR(EXACT($F$7>$G$7,F12>G12)*EXACT($F$7=$G$7,F12=G12)*EXACT($F$7<$G$7,F12<G12)),$AO$7,0))) -> 0 | I12: 2 | J12: 2 | K12: =IF(OR(EXACT($I$7,I12)*(EXACT($J$7,J12)))=TRUE,$AO$9,IF(($J$7-$I$7=J12-I12),$AO$8,IF(OR(EXACT($I$7>$J$7,I12>J12)*EXACT($I$7=$J$7,I12=J12)*EXACT($I$7<$J$7,I12<J12)),$AO$7,0))) -> 0 | L12: 2 | M12: 0 | N12: =IF(OR(EXACT($L$7,L12)*(EXACT($M$7,M12)))=TRUE,$AO$9,IF(($M$7-$L$7=M12-L12),$AO$8,IF(OR(EXACT($L$7>$M$7,L12>M12)*EXACT($L$7=$M$7,L12=M12)*EXACT($L$7<$M$7,L12<M12)),$AO$7,0))) -> 2 | O12: 1 | P12: 2 | Q12: =IF(OR(EXACT($O$7,O12)*(EXACT($P$7,P12)))=TRUE,$AO$9,IF(($P$7-$O$7=P12-O12),$AO$8,IF(OR(EXACT($O$7>$P$7,O12>P12)*EXACT($O$7=$P$7,O12=P12)*EXACT($O$7<$P$7,O12<P12)),$AO$7,0))) -> 0 | R12: 0 | S12: 2 | T12: =IF(OR(EXACT($R$7,R12)*(EXACT($S$7,S12)))=TRUE,$AO$9,IF(($S$7-$R$7=S12-R12),$AO$8,IF(OR(EXACT($R$7>$S$7,R12>S12)*EXACT($R$7=$S$7,R12=S12)*EXACT($R$7<$S$7,R12<S12)),$AO$7,0))) -> 0 | U12: 2 | V12: 2 | W12: =IF(OR(EXACT($U$7,U12)*(EXACT($V$7,V12)))=TRUE,$AO$9,IF(($V$7-$U$7=V12-U12),$AO$8,IF(OR(EXACT($U$7>$V$7,U12>V12)*EXACT($U$7=$V$7,U12=V12)*EXACT($U$7<$V$7,U12<V12)),$AO$7,0))) -> 0 | X12: 2 | Y12: 1 | Z12: =IF(OR(EXACT($X$7,X12)*(EXACT($Y$7,Y12)))=TRUE,$AO$9,IF(($Y$7-$X$7=Y12-X12),#REF!,IF(OR(EXACT($X$7>$Y$7,X12>Y12)*EXACT($X$7=$Y$7,X12=Y12)*EXACT($X$7<$Y$7,X12<Y12)),$AO$7,0))) -> 2 | AA12: 3 | AB12: 2 | AC12: =IF(OR(EXACT($AA$7,AA12)*(EXACT($AB$7,AB12)))=TRUE,$AO$9,IF(($AB$7-$AA$7=AB12-AA12),$AO$8,IF(OR(EXACT($AA$7>$AB$7,AA12>AB12)*EXACT($AA$7=$AB$7,AA12=AB12)*EXACT($AA$7<$AB$7,AA12<AB12)),$AO$7,0))) -> 0 | AG12: =E12+H12+K12+N12+Q12+T12+W12+Z12+AC12+AF12 -> 12 | AH12: ='1.Spieltag'!AJ12 -> 15 | AI12: ='1.Spieltag'!AK12 -> 1 | AJ12: =AG12+AH12 -> 27 | AK12: =RANK(AJ12,$AJ$8:$AJ$27) -> 2
A13: =AK13 -> 4 | B13: ='1.Spieltag'!B13 -> Ricardo04 | C13: 1 | D13: 2 | E13: =IF(OR(EXACT($C$7,C13)*(EXACT($D$7,D13)))=TRUE,$AO$9,IF(($D$7-$C$7=D13-C13),$AO$8,IF(OR(EXACT($C$7>$D$7,C13>D13)*EXACT($C$7=$D$7,C13=D13)*EXACT($C$7<$D$7,C13<D13)),$AO$7,0)))*4 -> 8 | F13: 2 | G13: 1 | H13: =IF(OR(EXACT($F$7,F13)*(EXACT($G$7,G13)))=TRUE,$AO$9,IF(($G$7-$F$7=G13-F13),$AO$8,IF(OR(EXACT($F$7>$G$7,F13>G13)*EXACT($F$7=$G$7,F13=G13)*EXACT($F$7<$G$7,F13<G13)),$AO$7,0))) -> 0 | R13: 0 | S13: 1 | T13: =IF(OR(EXACT($R$7,R13)*(EXACT($S$7,S13)))=TRUE,$AO$9,IF(($S$7-$R$7=S13-R13),$AO$8,IF(OR(EXACT($R$7>$S$7,R13>S13)*EXACT($R$7=$S$7,R13=S13)*EXACT($R$7<$S$7,R13<S13)),$AO$7,0))) -> 0 | AG13: =E13+H13+K13+N13+Q13+T13+W13+Z13+AC13+AF13 -> 8 | AH13: ='1.Spieltag'!AJ13 -> 10 | AI13: ='1.Spieltag'!AK13 -> 2 | AJ13: =AG13+AH13 -> 18 | AK13: =RANK(AJ13,$AJ$8:$AJ$27) -> 4
A14: =AK14 -> 4 | B14: ='1.Spieltag'!B14 -> schmiddi04 | C14: 0 | D14: 1 | E14: =IF(OR(EXACT($C$7,C14)*(EXACT($D$7,D14)))=TRUE,$AO$9,IF(($D$7-$C$7=D14-C14),$AO$8,IF(OR(EXACT($C$7>$D$7,C14>D14)*EXACT($C$7=$D$7,C14=D14)*EXACT($C$7<$D$7,C14<D14)),$AO$7,0)))*4 -> 8 | F14: 2 | G14: 0 | H14: =IF(OR(EXACT($F$7,F14)*(EXACT($G$7,G14)))=TRUE,$AO$9,IF(($G$7-$F$7=G14-F14),$AO$8,IF(OR(EXACT($F$7>$G$7,F14>G14)*EXACT($F$7=$G$7,F14=G14)*EXACT($F$7<$G$7,F14<G14)),$AO$7,0))) -> 0 | I14: 0 | J14: 2 | K14: =IF(OR(EXACT($I$7,I14)*(EXACT($J$7,J14)))=TRUE,$AO$9,IF(($J$7-$I$7=J14-I14),$AO$8,IF(OR(EXACT($I$7>$J$7,I14>J14)*EXACT($I$7=$J$7,I14=J14)*EXACT($I$7<$J$7,I14<J14)),$AO$7,0))) -> 2 | L14: 1 | M14: 1 | N14: =IF(OR(EXACT($L$7,L14)*(EXACT($M$7,M14)))=TRUE,$AO$9,IF(($M$7-$L$7=M14-L14),$AO$8,IF(OR(EXACT($L$7>$M$7,L14>M14)*EXACT($L$7=$M$7,L14=M14)*EXACT($L$7<$M$7,L14<M14)),$AO$7,0))) -> 0 | O14: 0 | P14: 1 | Q14: =IF(OR(EXACT($O$7,O14)*(EXACT($P$7,P14)))=TRUE,$AO$9,IF(($P$7-$O$7=P14-O14),$AO$8,IF(OR(EXACT($O$7>$P$7,O14>P14)*EXACT($O$7=$P$7,O14=P14)*EXACT($O$7<$P$7,O14<P14)),$AO$7,0))) -> 0 | R14: 3 | S14: 2 | T14: =IF(OR(EXACT($R$7,R14)*(EXACT($S$7,S14)))=TRUE,$AO$9,IF(($S$7-$R$7=S14-R14),$AO$8,IF(OR(EXACT($R$7>$S$7,R14>S14)*EXACT($R$7=$S$7,R14=S14)*EXACT($R$7<$S$7,R14<S14)),$AO$7,0))) -> 0 | U14: 2 | V14: 0 | W14: =IF(OR(EXACT($U$7,U14)*(EXACT($V$7,V14)))=TRUE,$AO$9,IF(($V$7-$U$7=V14-U14),$AO$8,IF(OR(EXACT($U$7>$V$7,U14>V14)*EXACT($U$7=$V$7,U14=V14)*EXACT($U$7<$V$7,U14<V14)),$AO$7,0))) -> 0 | X14: 0 | Y14: 0 | Z14: =IF(OR(EXACT($X$7,X14)*(EXACT($Y$7,Y14)))=TRUE,$AO$9,IF(($Y$7-$X$7=Y14-X14),$AO8,IF(OR(EXACT($X$7>$Y$7,X14>Y14)*EXACT($X$7=$Y$7,X14=Y14)*EXACT($X$7<$Y$7,X14<Y14)),$AO$7,0))) -> 0 | AA14: 1 | AB14: 0 | AC14: =IF(OR(EXACT($AA$7,AA14)*(EXACT($AB$7,AB14)))=TRUE,$AO$9,IF(($AB$7-$AA$7=AB14-AA14),$AO$8,IF(OR(EXACT($AA$7>$AB$7,AA14>AB14)*EXACT($AA$7=$AB$7,AA14=AB14)*EXACT($AA$7<$AB$7,AA14<AB14)),$AO$7,0))) -> 0 | AG14: =E14+H14+K14+N14+Q14+T14+W14+Z14+AC14+AF14 -> 10 | AH14: ='1.Spieltag'!AJ14 -> 8 | AI14: ='1.Spieltag'!AK14 -> 3 | AJ14: =AG14+AH14 -> 18 | AK14: =RANK(AJ14,$AJ$8:$AJ$27) -> 4
A15: =AK15 -> 9 | B15: ='1.Spieltag'!B15 -> shiny | C15: 1 | D15: 2 | E15: =IF(OR(EXACT($C$7,C15)*(EXACT($D$7,D15)))=TRUE,$AO$9,IF(($D$7-$C$7=D15-C15),$AO$8,IF(OR(EXACT($C$7>$D$7,C15>D15)*EXACT($C$7=$D$7,C15=D15)*EXACT($C$7<$D$7,C15<D15)),$AO$7,0)))*4 -> 8 | F15: 3 | G15: 1 | H15: =IF(OR(EXACT($F$7,F15)*(EXACT($G$7,G15)))=TRUE,$AO$9,IF(($G$7-$F$7=G15-F15),$AO$8,IF(OR(EXACT($F$7>$G$7,F15>G15)*EXACT($F$7=$G$7,F15=G15)*EXACT($F$7<$G$7,F15<G15)),$AO$7,0))) -> 0 | I15: 2 | J15: 1 | K15: =IF(OR(EXACT($I$7,I15)*(EXACT($J$7,J15)))=TRUE,$AO$9,IF(($J$7-$I$7=J15-I15),$AO$8,IF(OR(EXACT($I$7>$J$7,I15>J15)*EXACT($I$7=$J$7,I15=J15)*EXACT($I$7<$J$7,I15<J15)),$AO$7,0))) -> 0 | L15: 2 | M15: 1 | N15: =IF(OR(EXACT($L$7,L15)*(EXACT($M$7,M15)))=TRUE,$AO$9,IF(($M$7-$L$7=M15-L15),$AO$8,IF(OR(EXACT($L$7>$M$7,L15>M15)*EXACT($L$7=$M$7,L15=M15)*EXACT($L$7<$M$7,L15<M15)),$AO$7,0))) -> 2 | O15: 1 | P15: 2 | Q15: =IF(OR(EXACT($O$7,O15)*(EXACT($P$7,P15)))=TRUE,$AO$9,IF(($P$7-$O$7=P15-O15),$AO$8,IF(OR(EXACT($O$7>$P$7,O15>P15)*EXACT($O$7=$P$7,O15=P15)*EXACT($O$7<$P$7,O15<P15)),$AO$7,0))) -> 0 | R15: 0 | S15: 2 | T15: =IF(OR(EXACT($R$7,R15)*(EXACT($S$7,S15)))=TRUE,$AO$9,IF(($S$7-$R$7=S15-R15),$AO$8,IF(OR(EXACT($R$7>$S$7,R15>S15)*EXACT($R$7=$S$7,R15=S15)*EXACT($R$7<$S$7,R15<S15)),$AO$7,0))) -> 0 | U15: 3 | V15: 1 | W15: =IF(OR(EXACT($U$7,U15)*(EXACT($V$7,V15)))=TRUE,$AO$9,IF(($V$7-$U$7=V15-U15),$AO$8,IF(OR(EXACT($U$7>$V$7,U15>V15)*EXACT($U$7=$V$7,U15=V15)*EXACT($U$7<$V$7,U15<V15)),$AO$7,0))) -> 0 | X15: 2 | Y15: 1 | Z15: =IF(OR(EXACT($X$7,X15)*(EXACT($Y$7,Y15)))=TRUE,$AO$9,IF(($Y$7-$X$7=Y15-X15),$AO$8,IF(OR(EXACT($X$7>$Y$7,X15>Y15)*EXACT($X$7=$Y$7,X15=Y15)*EXACT($X$7<$Y$7,X15<Y15)),$AO$7,0))) -> 2 | AA15: 1 | AB15: 1 | AC15: =IF(OR(EXACT($AA$7,AA15)*(EXACT($AB$7,AB15)))=TRUE,$AO$9,IF(($AB$7-$AA$7=AB15-AA15),$AO$8,IF(OR(EXACT($AA$7>$AB$7,AA15>AB15)*EXACT($AA$7=$AB$7,AA15=AB15)*EXACT($AA$7<$AB$7,AA15<AB15)),$AO$7,0))) -> 0 | AG15: =E15+H15+K15+N15+Q15+T15+W15+Z15+AC15+AF15 -> 12 | AH15: ='1.Spieltag'!AJ15 -> 2 | AI15: ='1.Spieltag'!AK15 -> 7 | AJ15: =AG15+AH15 -> 14 | AK15: =RANK(AJ15,$AJ$8:$AJ$27) -> 9
A16: =AK16 -> 12 | B16: ='1.Spieltag'!B16 -> Skopp04 | C16: 1 | D16: 2 | E16: =IF(OR(EXACT($C$7,C16)*(EXACT($D$7,D16)))=TRUE,$AO$9,IF(($D$7-$C$7=D16-C16),$AO$8,IF(OR(EXACT($C$7>$D$7,C16>D16)*EXACT($C$7=$D$7,C16=D16)*EXACT($C$7<$D$7,C16<D16)),$AO$7,0)))*4 -> 8 | F16: 2 | G16: 1 | H16: =IF(OR(EXACT($F$7,F16)*(EXACT($G$7,G16)))=TRUE,$AO$9,IF(($G$7-$F$7=G16-F16),$AO$8,IF(OR(EXACT($F$7>$G$7,F16>G16)*EXACT($F$7=$G$7,F16=G16)*EXACT($F$7<$G$7,F16<G16)),$AO$7,0))) -> 0 | I16: 1 | J16: 1 | K16: =IF(OR(EXACT($I$7,I16)*(EXACT($J$7,J16)))=TRUE,$AO$9,IF(($J$7-$I$7=J16-I16),$AO$8,IF(OR(EXACT($I$7>$J$7,I16>J16)*EXACT($I$7=$J$7,I16=J16)*EXACT($I$7<$J$7,I16<J16)),$AO$7,0))) -> 0 | L16: 0 | M16: 0 | N16: =IF(OR(EXACT($L$7,L16)*(EXACT($M$7,M16)))=TRUE,$AO$9,IF(($M$7-$L$7=M16-L16),$AO$8,IF(OR(EXACT($L$7>$M$7,L16>M16)*EXACT($L$7=$M$7,L16=M16)*EXACT($L$7<$M$7,L16<M16)),$AO$7,0))) -> 0 | O16: 0 | P16: 1 | Q16: =IF(OR(EXACT($O$7,O16)*(EXACT($P$7,P16)))=TRUE,$AO$9,IF(($P$7-$O$7=P16-O16),$AO$8,IF(OR(EXACT($O$7>$P$7,O16>P16)*EXACT($O$7=$P$7,O16=P16)*EXACT($O$7<$P$7,O16<P16)),$AO$7,0))) -> 0 | R16: 0 | S16: 2 | T16: =IF(OR(EXACT($R$7,R16)*(EXACT($S$7,S16)))=TRUE,$AO$9,IF(($S$7-$R$7=S16-R16),$AO$8,IF(OR(EXACT($R$7>$S$7,R16>S16)*EXACT($R$7=$S$7,R16=S16)*EXACT($R$7<$S$7,R16<S16)),$AO$7,0))) -> 0 | U16: 1 | V16: 0 | W16: =IF(OR(EXACT($U$7,U16)*(EXACT($V$7,V16)))=TRUE,$AO$9,IF(($V$7-$U$7=V16-U16),$AO$8,IF(OR(EXACT($U$7>$V$7,U16>V16)*EXACT($U$7=$V$7,U16=V16)*EXACT($U$7<$V$7,U16<V16)),$AO$7,0))) -> 0 | X16: 2 | Y16: 2 | Z16: =IF(OR(EXACT($X$7,X16)*(EXACT($Y$7,Y16)))=TRUE,$AO$9,IF(($Y$7-$X$7=Y16-X16),$AO$8,IF(OR(EXACT($X$7>$Y$7,X16>Y16)*EXACT($X$7=$Y$7,X16=Y16)*EXACT($X$7<$Y$7,X16<Y16)),$AO$7,0))) -> 0 | AA16: 0 | AB16: 0 | AC16: =IF(OR(EXACT($AA$7,AA16)*(EXACT($AB$7,AB16)))=TRUE,$AO$9,IF(($AB$7-$AA$7=AB16-AA16),$AO$8,IF(OR(EXACT($AA$7>$AB$7,AA16>AB16)*EXACT($AA$7=$AB$7,AA16=AB16)*EXACT($AA$7<$AB$7,AA16<AB16)),$AO$7,0))) -> 0 | AG16: =E16+H16+K16+N16+Q16+T16+W16+Z16+AC16+AF16 -> 8 | AH16: ='1.Spieltag'!AJ16 -> 2 | AI16: ='1.Spieltag'!AK16 -> 7 | AJ16: =AG16+AH16 -> 10 | AK16: =RANK(AJ16,$AJ$8:$AJ$27) -> 12
A17: =AK17 -> 8 | B17: ='1.Spieltag'!B17 -> Tanja04 | C17: 0 | D17: 2 | E17: =IF(OR(EXACT($C$7,C17)*(EXACT($D$7,D17)))=TRUE,$AO$9,IF(($D$7-$C$7=D17-C17),$AO$8,IF(OR(EXACT($C$7>$D$7,C17>D17)*EXACT($C$7=$D$7,C17=D17)*EXACT($C$7<$D$7,C17<D17)),$AO$7,0)))*4 -> 8 | F17: 2 | G17: 1 | H17: =IF(OR(EXACT($F$7,F17)*(EXACT($G$7,G17)))=TRUE,$AO$9,IF(($G$7-$F$7=G17-F17),$AO$8,IF(OR(EXACT($F$7>$G$7,F17>G17)*EXACT($F$7=$G$7,F17=G17)*EXACT($F$7<$G$7,F17<G17)),$AO$7,0))) -> 0 | I17: 1 | J17: 0 | K17: =IF(OR(EXACT($I$7,I17)*(EXACT($J$7,J17)))=TRUE,$AO$9,IF(($J$7-$I$7=J17-I17),$AO$8,IF(OR(EXACT($I$7>$J$7,I17>J17)*EXACT($I$7=$J$7,I17=J17)*EXACT($I$7<$J$7,I17<J17)),$AO$7,0))) -> 0 | L17: 2 | M17: 0 | N17: =IF(OR(EXACT($L$7,L17)*(EXACT($M$7,M17)))=TRUE,$AO$9,IF(($M$7-$L$7=M17-L17),$AO$8,IF(OR(EXACT($L$7>$M$7,L17>M17)*EXACT($L$7=$M$7,L17=M17)*EXACT($L$7<$M$7,L17<M17)),$AO$7,0))) -> 2 | O17: 2 | P17: 1 | Q17: =IF(OR(EXACT($O$7,O17)*(EXACT($P$7,P17)))=TRUE,$AO$9,IF(($P$7-$O$7=P17-O17),$AO$8,IF(OR(EXACT($O$7>$P$7,O17>P17)*EXACT($O$7=$P$7,O17=P17)*EXACT($O$7<$P$7,O17<P17)),$AO$7,0))) -> 0 | R17: 0 | S17: 2 | T17: =IF(OR(EXACT($R$7,R17)*(EXACT($S$7,S17)))=TRUE,$AO$9,IF(($S$7-$R$7=S17-R17),$AO$8,IF(OR(EXACT($R$7>$S$7,R17>S17)*EXACT($R$7=$S$7,R17=S17)*EXACT($R$7<$S$7,R17<S17)),$AO$7,0))) -> 0 | U17: 2 | V17: 0 | W17: =IF(OR(EXACT($U$7,U17)*(EXACT($V$7,V17)))=TRUE,$AO$9,IF(($V$7-$U$7=V17-U17),$AO$8,IF(OR(EXACT($U$7>$V$7,U17>V17)*EXACT($U$7=$V$7,U17=V17)*EXACT($U$7<$V$7,U17<V17)),$AO$7,0))) -> 0 | X17: 2 | Y17: 0 | Z17: =IF(OR(EXACT($X$7,X17)*(EXACT($Y$7,Y17)))=TRUE,$AO$9,IF(($Y$7-$X$7=Y17-X17),$AO$8,IF(OR(EXACT($X$7>$Y$7,X17>Y17)*EXACT($X$7=$Y$7,X17=Y17)*EXACT($X$7<$Y$7,X17<Y17)),$AO$7,0))) -> 2 | AA17: 1 | AB17: 1 | AC17: =IF(OR(EXACT($AA$7,AA17)*(EXACT($AB$7,AB17)))=TRUE,$AO$9,IF(($AB$7-$AA$7=AB17-AA17),$AO$8,IF(OR(EXACT($AA$7>$AB$7,AA17>AB17)*EXACT($AA$7=$AB$7,AA17=AB17)*EXACT($AA$7<$AB$7,AA17<AB17)),$AO$7,0))) -> 0 | AG17: =E17+H17+K17+N17+Q17+T17+W17+Z17+AC17+AF17 -> 12 | AH17: ='1.Spieltag'!AJ17 -> 4 | AI17: ='1.Spieltag'!AK17 -> 6 | AJ17: =AG17+AH17 -> 16 | AK17: =RANK(AJ17,$AJ$8:$AJ$27) -> 8
A18: =AK18 -> 3 | B18: ='1.Spieltag'!B18 -> UltraGE | C18: 1 | D18: 2 | E18: =IF(OR(EXACT($C$7,C18)*(EXACT($D$7,D18)))=TRUE,$AO$9,IF(($D$7-$C$7=D18-C18),$AO$8,IF(OR(EXACT($C$7>$D$7,C18>D18)*EXACT($C$7=$D$7,C18=D18)*EXACT($C$7<$D$7,C18<D18)),$AO$7,0)))*4 -> 8 | F18: 2 | G18: 1 | H18: =IF(OR(EXACT($F$7,F18)*(EXACT($G$7,G18)))=TRUE,$AO$9,IF(($G$7-$F$7=G18-F18),$AO$8,IF(OR(EXACT($F$7>$G$7,F18>G18)*EXACT($F$7=$G$7,F18=G18)*EXACT($F$7<$G$7,F18<G18)),$AO$7,0))) -> 0 | I18: 2 | J18: 1 | K18: =IF(OR(EXACT($I$7,I18)*(EXACT($J$7,J18)))=TRUE,$AO$9,IF(($J$7-$I$7=J18-I18),$AO$8,IF(OR(EXACT($I$7>$J$7,I18>J18)*EXACT($I$7=$J$7,I18=J18)*EXACT($I$7<$J$7,I18<J18)),$AO$7,0))) -> 0 | L18: 2 | M18: 0 | N18: =IF(OR(EXACT($L$7,L18)*(EXACT($M$7,M18)))=TRUE,$AO$9,IF(($M$7-$L$7=M18-L18),$AO$8,IF(OR(EXACT($L$7>$M$7,L18>M18)*EXACT($L$7=$M$7,L18=M18)*EXACT($L$7<$M$7,L18<M18)),$AO$7,0))) -> 2 | O18: 1 | P18: 2 | Q18: =IF(OR(EXACT($O$7,O18)*(EXACT($P$7,P18)))=TRUE,$AO$9,IF(($P$7-$O$7=P18-O18),$AO$8,IF(OR(EXACT($O$7>$P$7,O18>P18)*EXACT($O$7=$P$7,O18=P18)*EXACT($O$7<$P$7,O18<P18)),$AO$7,0))) -> 0 | R18: 1 | S18: 2 | T18: =IF(OR(EXACT($R$7,R18)*(EXACT($S$7,S18)))=TRUE,$AO$9,IF(($S$7-$R$7=S18-R18),$AO$8,IF(OR(EXACT($R$7>$S$7,R18>S18)*EXACT($R$7=$S$7,R18=S18)*EXACT($R$7<$S$7,R18<S18)),$AO$7,0))) -> 0 | U18: 2 | V18: 0 | W18: =IF(OR(EXACT($U$7,U18)*(EXACT($V$7,V18)))=TRUE,$AO$9,IF(($V$7-$U$7=V18-U18),$AO$8,IF(OR(EXACT($U$7>$V$7,U18>V18)*EXACT($U$7=$V$7,U18=V18)*EXACT($U$7<$V$7,U18<V18)),$AO$7,0))) -> 0 | X18: 2 | Y18: 1 | Z18: =IF(OR(EXACT($X$7,X18)*(EXACT($Y$7,Y18)))=TRUE,$AO$9,IF(($Y$7-$X$7=Y18-X18),$AO$8,IF(OR(EXACT($X$7>$Y$7,X18>Y18)*EXACT($X$7=$Y$7,X18=Y18)*EXACT($X$7<$Y$7,X18<Y18)),$AO$7,0))) -> 2 | AA18: 1 | AB18: 2 | AC18: =IF(OR(EXACT($AA$7,AA18)*(EXACT($AB$7,AB18)))=TRUE,$AO$9,IF(($AB$7-$AA$7=AB18-AA18),$AO$8,IF(OR(EXACT($AA$7>$AB$7,AA18>AB18)*EXACT($AA$7=$AB$7,AA18=AB18)*EXACT($AA$7<$AB$7,AA18<AB18)),$AO$7,0))) -> 5 | AG18: =E18+K18+Q18+T18+N18+H18+W18+Z18+AC18+AF18 -> 17 | AH18: ='1.Spieltag'!AJ18 -> 7 | AI18: ='1.Spieltag'!AK18 -> 4 | AJ18: =AG18+AH18 -> 24 | AK18: =RANK(AJ18,$AJ$8:$AJ$27) -> 3
A19: =AK19 -> 9 | B19: ='1.Spieltag'!B19 -> Rainer04 | C19: 1 | D19: 2 | E19: =IF(OR(EXACT($C$7,C19)*(EXACT($D$7,D19)))=TRUE,$AO$9,IF(($D$7-$C$7=D19-C19),$AO$8,IF(OR(EXACT($C$7>$D$7,C19>D19)*EXACT($C$7=$D$7,C19=D19)*EXACT($C$7<$D$7,C19<D19)),$AO$7,0)))*4 -> 8 | F19: 2 | G19: 0 | H19: =IF(OR(EXACT($F$7,F19)*(EXACT($G$7,G19)))=TRUE,$AO$9,IF(($G$7-$F$7=G19-F19),$AO$8,IF(OR(EXACT($F$7>$G$7,F19>G19)*EXACT($F$7=$G$7,F19=G19)*EXACT($F$7<$G$7,F19<G19)),$AO$7,0))) -> 0 | I19: 1 | J19: 1 | K19: =IF(OR(EXACT($I$7,I19)*(EXACT($J$7,J19)))=TRUE,$AO$9,IF(($J$7-$I$7=J19-I19),$AO$8,IF(OR(EXACT($I$7>$J$7,I19>J19)*EXACT($I$7=$J$7,I19=J19)*EXACT($I$7<$J$7,I19<J19)),$AO$7,0))) -> 0 | L19: 2 | M19: 0 | N19: =IF(OR(EXACT($L$7,L19)*(EXACT($M$7,M19)))=TRUE,$AO$9,IF(($M$7-$L$7=M19-L19),$AO$8,IF(OR(EXACT($L$7>$M$7,L19>M19)*EXACT($L$7=$M$7,L19=M19)*EXACT($L$7<$M$7,L19<M19)),$AO$7,0))) -> 2 | O19: 2 | P19: 1 | Q19: =IF(OR(EXACT($O$7,O19)*(EXACT($P$7,P19)))=TRUE,$AO$9,IF(($P$7-$O$7=P19-O19),$AO$8,IF(OR(EXACT($O$7>$P$7,O19>P19)*EXACT($O$7=$P$7,O19=P19)*EXACT($O$7<$P$7,O19<P19)),$AO$7,0))) -> 0 | R19: 1 | S19: 3 | T19: =IF(OR(EXACT($R$7,R19)*(EXACT($S$7,S19)))=TRUE,$AO$9,IF(($S$7-$R$7=S19-R19),$AO$8,IF(OR(EXACT($R$7>$S$7,R19>S19)*EXACT($R$7=$S$7,R19=S19)*EXACT($R$7<$S$7,R19<S19)),$AO$7,0))) -> 0 | U19: 3 | V19: 1 | W19: =IF(OR(EXACT($U$7,U19)*(EXACT($V$7,V19)))=TRUE,$AO$9,IF(($V$7-$U$7=V19-U19),$AO$8,IF(OR(EXACT($U$7>$V$7,U19>V19)*EXACT($U$7=$V$7,U19=V19)*EXACT($U$7<$V$7,U19<V19)),$AO$7,0))) -> 0 | X19: 2 | Y19: 0 | Z19: =IF(OR(EXACT($X$7,X19)*(EXACT($Y$7,Y19)))=TRUE,$AO$9,IF(($Y$7-$X$7=Y19-X19),$AO$8,IF(OR(EXACT($X$7>$Y$7,X19>Y19)*EXACT($X$7=$Y$7,X19=Y19)*EXACT($X$7<$Y$7,X19<Y19)),$AO$7,0))) -> 2 | AA19: 0 | AB19: 2 | AC19: =IF(OR(EXACT($AA$7,AA19)*(EXACT($AB$7,AB19)))=TRUE,$AO$9,IF(($AB$7-$AA$7=AB19-AA19),$AO$8,IF(OR(EXACT($AA$7>$AB$7,AA19>AB19)*EXACT($AA$7=$AB$7,AA19=AB19)*EXACT($AA$7<$AB$7,AA19<AB19)),$AO$7,0))) -> 2 | AG19: =E19+H19+K19+N19+Q19+T19+W19+Z19+AC19+AF19 -> 14 | AH19: ='1.Spieltag'!AJ19 -> 0 | AI19: ='1.Spieltag'!AK19 -> 12 | AJ19: =AG19+AH19 -> 14 | AK19: =RANK(AJ19,$AJ$8:$AJ$27) -> 9
A20: =AK20 -> 13 | B20: ='1.Spieltag'!B20 -> Lola04 | AG20: =E20+H20+K20+N20+Q20+T20+W20+Z20+AC20+AF20 -> 0 | AH20: ='1.Spieltag'!AJ20 -> 0 | AI20: ='1.Spieltag'!AK20 -> 12 | AJ20: =AG20+AH20 -> 0 | AK20: =RANK(AJ20,$AJ$8:$AJ$27) -> 13
A21: =AK21 -> 13 | AG21: =E21+K21+Q21+T21+N21+H21+W21+Z21+AC21+AF21 -> 0 | AH21: ='1.Spieltag'!AJ21 -> 0 | AI21: ='1.Spieltag'!AK21 -> 12 | AJ21: =AG21+AH21 -> 0 | AK21: =RANK(AJ21,$AJ$8:$AJ$27) -> 13
A22: =AK22 -> 13 | AG22: =E22+K22+Q22+T22+N22+H22+W22+Z22+AC22+AF22 -> 0 | AH22: ='1.Spieltag'!AJ22 -> 0 | AI22: ='1.Spieltag'!AK22 -> 12 | AJ22: =AG22+AH22 -> 0 | AK22: =RANK(AJ22,$AJ$8:$AJ$27) -> 13
A23: =AK23 -> 13 | AG23: =E23+H23+K23+N23+Q23+T23+W23+Z23+AC23+AF23 -> 0 | AH23: ='1.Spieltag'!AJ23 -> 0 | AI23: ='1.Spieltag'!AK23 -> 12 | AJ23: =AG23+AH23 -> 0 | AK23: =RANK(AJ23,$AJ$8:$AJ$27) -> 13
A24: =AK24 -> 13 | AG24: =E24+H24+K24+N24+Q24+T24+W24+Z24+AC24+AF24 -> 0 | AH24: ='1.Spieltag'!AJ24 -> 0 | AI24: ='1.Spieltag'!AK24 -> 12 | AJ24: =AG24+AH24 -> 0 | AK24: =RANK(AJ24,$AJ$8:$AJ$27) -> 13
A25: =AK25 -> 13 | AG25: =E25+K25+Q25+T25+N25+H25+W25+Z25+AC25+AF25 -> 0 | AH25: ='1.Spieltag'!AJ25 -> 0 | AI25: ='1.Spieltag'!AK25 -> 12 | AJ25: =AG25+AH25 -> 0 | AK25: =RANK(AJ25,$AJ$8:$AJ$27) -> 13
A26: =AK26 -> 13 | AG26: =E26+K26+Q26+T26+N26+H26+W26+Z26+AC26+AF26 -> 0 | AH26: ='1.Spieltag'!AJ26 -> 0 | AI26: ='1.Spieltag'!AK26 -> 12 | AJ26: =AG26+AH26 -> 0 | AK26: =RANK(AJ26,$AJ$8:$AJ$27) -> 13
A27: =AK27 -> 13 | AG27: =E27+K27+Q27+T27+N27+H27+W27+Z27+AC27+AF27 -> 0 | AH27: ='1.Spieltag'!AJ27 -> 0 | AI27: ='1.Spieltag'!AK27 -> 12 | AJ27: =AG27+AH27 -> 0 | AK27: =RANK(AJ27,$AJ$8:$AJ$27) -> 13

Sheet 3.Spieltag
A4: 3. Spieltag | C4: Bremen | F4: Schalke 04 | I4: Kiel | L4: Darmstadt | O4: Heidenheim | R4: St. Pauli | U4: Nürnberg | X4: Sandhausen | AA4: Dresden
AG5: G E S A M T W E R T U N G
C6: Paderborn | F6: Aue | I6: Regensburg | L6: Ingolstadt | O6: Rostock | R6: Hamburg | U6: Düsseldorf | X6: Karlsruhe | AA6: Hannover | AG6: Punkte | AH6: Punkte | AI6: Platz | AJ6: Gesamt | AK6: Platz | AL6: PUNKTEVERTEILUNG
A7: PLATZ | B7: ERGEBNISSE=> | C7: 1 | D7: 4 | E7: Pkt. | F7: 1 | G7: 1 | H7: Pkt. | I7: 0 | J7: 3 | K7: Pkt. | L7: 6 | M7: 1 | N7: Pkt. | O7: 1 | P7: 1 | Q7: Pkt. | R7: 3 | S7: 2 | T7: Pkt. | U7: 2 | V7: 0 | W7: Pkt. | X7: 0 | Y7: 0 | Z7: Pkt. | AA7: 2 | AB7: 0 | AC7: Pkt. | AG7: Spieltag | AH7: bisher | AI7: bisher | AJ7: Punkte | AL7: richtige Tendenz | AO7: 2
A8: =AK8 -> 4 | B8: ='2.Spieltag '!B8 -> Franzi04 | C8: 2 | D8: 1 | E8: =IF(OR(EXACT($C$7,C8)*(EXACT($D$7,D8)))=TRUE,$AO$9,IF(($D$7-$C$7=D8-C8),$AO$8,IF(OR(EXACT($C$7>$D$7,C8>D8)*EXACT($C$7=$D$7,C8=D8)*EXACT($C$7<$D$7,C8<D8)),$AO$7,0))) -> 0 | F8: 2 | G8: 1 | H8: =IF(OR(EXACT($F$7,F8)*(EXACT($G$7,G8)))=TRUE,$AO$9,IF(($G$7-$F$7=G8-F8),$AO$8,IF(OR(EXACT($F$7>$G$7,F8>G8)*EXACT($F$7=$G$7,F8=G8)*EXACT($F$7<$G$7,F8<G8)),$AO$7,0)))*4 -> 0 | I8: 0 | J8: 2 | K8: =IF(OR(EXACT($I$7,I8)*(EXACT($J$7,J8)))=TRUE,$AO$9,IF(($J$7-$I$7=J8-I8),$AO$8,IF(OR(EXACT($I$7>$J$7,I8>J8)*EXACT($I$7=$J$7,I8=J8)*EXACT($I$7<$J$7,I8<J8)),$AO$7,0))) -> 2 | L8: 1 | M8: 1 | N8: =IF(OR(EXACT($L$7,L8)*(EXACT($M$7,M8)))=TRUE,$AO$9,IF(($M$7-$L$7=M8-L8),$AO$8,IF(OR(EXACT($L$7>$M$7,L8>M8)*EXACT($L$7=$M$7,L8=M8)*EXACT($L$7<$M$7,L8<M8)),$AO$7,0))) -> 0 | O8: 2 | P8: 1 | Q8: =IF(OR(EXACT($O$7,O8)*(EXACT($P$7,P8)))=TRUE,$AO$9,IF(($P$7-$O$7=P8-O8),$AO$8,IF(OR(EXACT($O$7>$P$7,O8>P8)*EXACT($O$7=$P$7,O8=P8)*EXACT($O$7<$P$7,O8<P8)),$AO$7,0))) -> 0 | R8: 2 | S8: 1 | T8: =IF(OR(EXACT($R$7,R8)*(EXACT($S$7,S8)))=TRUE,$AO$9,IF(($S$7-$R$7=S8-R8),$AO$8,IF(OR(EXACT($R$7>$S$7,R8>S8)*EXACT($R$7=$S$7,R8=S8)*EXACT($R$7<$S$7,R8<S8)),$AO$7,0))) -> 3 | U8: 2 | V8: 1 | W8: =IF(OR(EXACT($U$7,U8)*(EXACT($V$7,V8)))=TRUE,$AO$9,IF(($V$7-$U$7=V8-U8),$AO$8,IF(OR(EXACT($U$7>$V$7,U8>V8)*EXACT($U$7=$V$7,U8=V8)*EXACT($U$7<$V$7,U8<V8)),$AO$7,0))) -> 2 | X8: 0 | Y8: 3 | Z8: =IF(OR(EXACT($X$7,X8)*(EXACT($Y$7,Y8)))=TRUE,$AO$9,IF(($Y$7-$X$7=Y8-X8),$AO$8,IF(OR(EXACT($X$7>$Y$7,X8>Y8)*EXACT($X$7=$Y$7,X8=Y8)*EXACT($X$7<$Y$7,X8<Y8)),$AO$7,0))) -> 0 | AA8: 2 | AB8: 1 | AC8: =IF(OR(EXACT($AA$7,AA8)*(EXACT($AB$7,AB8)))=TRUE,$AO$9,IF(($AB$7-$AA$7=AB8-AA8),$AO$8,IF(OR(EXACT($AA$7>$AB$7,AA8>AB8)*EXACT($AA$7=$AB$7,AA8=AB8)*EXACT($AA$7<$AB$7,AA8<AB8)),$AO$7,0))) -> 2 | AG8: =E8+H8+K8+N8+Q8+T8+W8+Z8+AC8+AF8 -> 9 | AH8: ='2.Spieltag '!AJ8 -> 17 | AI8: ='2.Spieltag '!AK8 -> 6 | AJ8: =AG8+AH8 -> 26 | AK8: =RANK(AJ8,$AJ$8:$AJ$27) -> 4 | AL8: richtige Tend. + korr. Torabst. | AO8: 3
A9: =AK9 -> 10 | B9: ='2.Spieltag '!B9 -> jupp04 | C9: 2 | D9: 1 | E9: =IF(OR(EXACT($C$7,C9)*(EXACT($D$7,D9)))=TRUE,$AO$9,IF(($D$7-$C$7=D9-C9),$AO$8,IF(OR(EXACT($C$7>$D$7,C9>D9)*EXACT($C$7=$D$7,C9=D9)*EXACT($C$7<$D$7,C9<D9)),$AO$7,0))) -> 0 | F9: 2 | G9: 1 | H9: =IF(OR(EXACT($F$7,F9)*(EXACT($G$7,G9)))=TRUE,$AO$9,IF(($G$7-$F$7=G9-F9),$AO$8,IF(OR(EXACT($F$7>$G$7,F9>G9)*EXACT($F$7=$G$7,F9=G9)*EXACT($F$7<$G$7,F9<G9)),$AO$7,0)))*4 -> 0 | I9: 2 | J9: 1 | K9: =IF(OR(EXACT($I$7,I9)*(EXACT($J$7,J9)))=TRUE,$AO$9,IF(($J$7-$I$7=J9-I9),$AO$8,IF(OR(EXACT($I$7>$J$7,I9>J9)*EXACT($I$7=$J$7,I9=J9)*EXACT($I$7<$J$7,I9<J9)),$AO$7,0))) -> 0 | L9: 2 | M9: 2 | N9: =IF(OR(EXACT($L$7,L9)*(EXACT($M$7,M9)))=TRUE,$AO$9,IF(($M$7-$L$7=M9-L9),$AO$8,IF(OR(EXACT($L$7>$M$7,L9>M9)*EXACT($L$7=$M$7,L9=M9)*EXACT($L$7<$M$7,L9<M9)),$AO$7,0))) -> 0 | O9: 2 | P9: 2 | Q9: =IF(OR(EXACT($O$7,O9)*(EXACT($P$7,P9)))=TRUE,$AO$9,IF(($P$7-$O$7=P9-O9),$AO$8,IF(OR(EXACT($O$7>$P$7,O9>P9)*EXACT($O$7=$P$7,O9=P9)*EXACT($O$7<$P$7,O9<P9)),$AO$7,0))) -> 3 | R9: 2 | S9: 2 | T9: =IF(OR(EXACT($R$7,R9)*(EXACT($S$7,S9)))=TRUE,$AO$9,IF(($S$7-$R$7=S9-R9),$AO$8,IF(OR(EXACT($R$7>$S$7,R9>S9)*EXACT($R$7=$S$7,R9=S9)*EXACT($R$7<$S$7,R9<S9)),$AO$7,0))) -> 0 | U9: 2 | V9: 2 | W9: =IF(OR(EXACT($U$7,U9)*(EXACT($V$7,V9)))=TRUE,$AO$9,IF(($V$7-$U$7=V9-U9),$AO$8,IF(OR(EXACT($U$7>$V$7,U9>V9)*EXACT($U$7=$V$7,U9=V9)*EXACT($U$7<$V$7,U9<V9)),$AO$7,0))) -> 0 | X9: 1 | Y9: 1 | Z9: =IF(OR(EXACT($X$7,X9)*(EXACT($Y$7,Y9)))=TRUE,$AO$9,IF(($Y$7-$X$7=Y9-X9),AO8,IF(OR(EXACT($X$7>$Y$7,X9>Y9)*EXACT($X$7=$Y$7,X9=Y9)*EXACT($X$7<$Y$7,X9<Y9)),$AO$7,0))) -> 3 | AA9: 1 | AB9: 1 | AC9: =IF(OR(EXACT($AA$7,AA9)*(EXACT($AB$7,AB9)))=TRUE,$AO$9,IF(($AB$7-$AA$7=AB9-AA9),$AO$8,IF(OR(EXACT($AA$7>$AB$7,AA9>AB9)*EXACT($AA$7=$AB$7,AA9=AB9)*EXACT($AA$7<$AB$7,AA9<AB9)),$AO$7,0))) -> 0 | AG9: =E9+H9+K9+N9+Q9+T9+W9+Z9+AC9+AF9 -> 6 | AH9: ='2.Spieltag '!AJ9 -> 11 | AI9: ='2.Spieltag '!AK9 -> 11 | AJ9: =AG9+AH9 -> 17 | AK9: =RANK(AJ9,$AJ$8:$AJ$27) -> 10 | AL9: richtiges Ergebnis | AO9: 5
A10: =AK10 -> 13 | B10: ='2.Spieltag '!B20 -> Lola04 | C10: 2 | D10: 1 | E10: =IF(OR(EXACT($C$7,C10)*(EXACT($D$7,D10)))=TRUE,$AO$9,IF(($D$7-$C$7=D10-C10),$AO$8,IF(OR(EXACT($C$7>$D$7,C10>D10)*EXACT($C$7=$D$7,C10=D10)*EXACT($C$7<$D$7,C10<D10)),$AO$7,0))) -> 0 | F10: 3 | G10: 1 | H10: =IF(OR(EXACT($F$7,F10)*(EXACT($G$7,G10)))=TRUE,$AO$9,IF(($G$7-$F$7=G10-F10),$AO$8,IF(OR(EXACT($F$7>$G$7,F10>G10)*EXACT($F$7=$G$7,F10=G10)*EXACT($F$7<$G$7,F10<G10)),$AO$7,0)))*4 -> 0 | I10: 1 | J10: 1 | K10: =IF(OR(EXACT($I$7,I10)*(EXACT($J$7,J10)))=TRUE,$AO$9,IF(($J$7-$I$7=J10-I10),$AO$8,IF(OR(EXACT($I$7>$J$7,I10>J10)*EXACT($I$7=$J$7,I10=J10)*EXACT($I$7<$J$7,I10<J10)),$AO$7,0))) -> 0 | L10: 2 | M10: 2 | N10: =IF(OR(EXACT($L$7,L10)*(EXACT($M$7,M10)))=TRUE,$AO$9,IF(($M$7-$L$7=M10-L10),$AO$8,IF(OR(EXACT($L$7>$M$7,L10>M10)*EXACT($L$7=$M$7,L10=M10)*EXACT($L$7<$M$7,L10<M10)),$AO$7,0))) -> 0 | O10: 2 | P10: 1 | Q10: =IF(OR(EXACT($O$7,O10)*(EXACT($P$7,P10)))=TRUE,$AO$9,IF(($P$7-$O$7=P10-O10),$AO$8,IF(OR(EXACT($O$7>$P$7,O10>P10)*EXACT($O$7=$P$7,O10=P10)*EXACT($O$7<$P$7,O10<P10)),$AO$7,0))) -> 0 | R10: 2 | S10: 2 | T10: =IF(OR(EXACT($R$7,R10)*(EXACT($S$7,S10)))=TRUE,$AO$9,IF(($S$7-$R$7=S10-R10),$AO$8,IF(OR(EXACT($R$7>$S$7,R10>S10)*EXACT($R$7=$S$7,R10=S10)*EXACT($R$7<$S$7,R10<S10)),$AO$7,0))) -> 0 | U10: 2 | V10: 0 | W10: =IF(OR(EXACT($U$7,U10)*(EXACT($V$7,V10)))=TRUE,$AO$9,IF(($V$7-$U$7=V10-U10),$AO$8,IF(OR(EXACT($U$7>$V$7,U10>V10)*EXACT($U$7=$V$7,U10=V10)*EXACT($U$7<$V$7,U10<V10)),$AO$7,0))) -> 5 | X10: 1 | Y10: 2 | Z10: =IF(OR(EXACT($X$7,X10)*(EXACT($Y$7,Y10)))=TRUE,$AO$9,IF(($Y$7-$X$7=Y10-X10),$AO$8,IF(OR(EXACT($X$7>$Y$7,X10>Y10)*EXACT($X$7=$Y$7,X10=Y10)*EXACT($X$7<$Y$7,X10<Y10)),$AO$7,0))) -> 0 | AA10: 3 | AB10: 1 | AC10: =IF(OR(EXACT($AA$7,AA10)*(EXACT($AB$7,AB10)))=TRUE,$AO$9,IF(($AB$7-$AA$7=AB10-AA10),$AO$8,IF(OR(EXACT($AA$7>$AB$7,AA10>AB10)*EXACT($AA$7=$AB$7,AA10=AB10)*EXACT($AA$7<$AB$7,AA10<AB10)),$AO$7,0))) -> 3 | AG10: =E10+H10+K10+N10+Q10+T10+W10+Z10+AC10+AF10 -> 8 | AH10: ='2.Spieltag '!AJ20 -> 0 | AI10: ='2.Spieltag '!AK20 -> 13 | AJ10: =AG10+AH10 -> 8 | AK10: =RANK(AJ10,$AJ$8:$AJ$27) -> 13
A11: =AK11 -> 6 | B11: ='2.Spieltag '!B10 -> Master1 | C11: 2 | D11: 1 | E11: =IF(OR(EXACT($C$7,C11)*(EXACT($D$7,D11)))=TRUE,$AO$9,IF(($D$7-$C$7=D11-C11),$AO$8,IF(OR(EXACT($C$7>$D$7,C11>D11)*EXACT($C$7=$D$7,C11=D11)*EXACT($C$7<$D$7,C11<D11)),$AO$7,0))) -> 0 | F11: 3 | G11: 1 | H11: =IF(OR(EXACT($F$7,F11)*(EXACT($G$7,G11)))=TRUE,$AO$9,IF(($G$7-$F$7=G11-F11),$AO$8,IF(OR(EXACT($F$7>$G$7,F11>G11)*EXACT($F$7=$G$7,F11=G11)*EXACT($F$7<$G$7,F11<G11)),$AO$7,0)))*4 -> 0 | I11: 2 | J11: 1 | K11: =IF(OR(EXACT($I$7,I11)*(EXACT($J$7,J11)))=TRUE,$AO$9,IF(($J$7-$I$7=J11-I11),$AO$8,IF(OR(EXACT($I$7>$J$7,I11>J11)*EXACT($I$7=$J$7,I11=J11)*EXACT($I$7<$J$7,I11<J11)),$AO$7,0))) -> 0 | L11: 1 | M11: 3 | N11: =IF(OR(EXACT($L$7,L11)*(EXACT($M$7,M11)))=TRUE,$AO$9,IF(($M$7-$L$7=M11-L11),$AO$8,IF(OR(EXACT($L$7>$M$7,L11>M11)*EXACT($L$7=$M$7,L11=M11)*EXACT($L$7<$M$7,L11<M11)),$AO$7,0))) -> 0 | O11: 2 | P11: 2 | Q11: =IF(OR(EXACT($O$7,O11)*(EXACT($P$7,P11)))=TRUE,$AO$9,IF(($P$7-$O$7=P11-O11),$AO$8,IF(OR(EXACT($O$7>$P$7,O11>P11)*EXACT($O$7=$P$7,O11=P11)*EXACT($O$7<$P$7,O11<P11)),$AO$7,0))) -> 3 | R11: 2 | S11: 2 | T11: =IF(OR(EXACT($R$7,R11)*(EXACT($S$7,S11)))=TRUE,$AO$9,IF(($S$7-$R$7=S11-R11),$AO$8,IF(OR(EXACT($R$7>$S$7,R11>S11)*EXACT($R$7=$S$7,R11=S11)*EXACT($R$7<$S$7,R11<S11)),$AO$7,0))) -> 0 | U11: 1 | V11: 1 | W11: =IF(OR(EXACT($U$7,U11)*(EXACT($V$7,V11)))=TRUE,$AO$9,IF(($V$7-$U$7=V11-U11),$AO$8,IF(OR(EXACT($U$7>$V$7,U11>V11)*EXACT($U$7=$V$7,U11=V11)*EXACT($U$7<$V$7,U11<V11)),$AO$7,0))) -> 0 | X11: 1 | Y11: 3 | Z11: =IF(OR(EXACT($X$7,X11)*(EXACT($Y$7,Y11)))=TRUE,$AO$9,IF(($Y$7-$X$7=Y11-X11),$AO$8,IF(OR(EXACT($X$7>$Y$7,X11>Y11)*EXACT($X$7=$Y$7,X11=Y11)*EXACT($X$7<$Y$7,X11<Y11)),$AO$7,0))) -> 0 | AA11: 2 | AB11: 1 | AC11: =IF(OR(EXACT($AA$7,AA11)*(EXACT($AB$7,AB11)))=TRUE,$AO$9,IF(($AB$7-$AA$7=AB11-AA11),$AO$8,IF(OR(EXACT($AA$7>$AB$7,AA11>AB11)*EXACT($AA$7=$AB$7,AA11=AB11)*EXACT($AA$7<$AB$7,AA11<AB11)),$AO$7,0))) -> 2 | AG11: =E11+H11+K11+N11+Q11+T11+W11+Z11+AC11+AF11 -> 5 | AH11: ='2.Spieltag '!AJ10 -> 17 | AI11: ='2.Spieltag '!AK10 -> 6 | AJ11: =AG11+AH11 -> 22 | AK11: =RANK(AJ11,$AJ$8:$AJ$27) -> 6
